{"text_format":"1","workbook":"xlsx","n_sheets":11,"sheets":["Erhebungsbogen","Haftungsausschluß","Leibungshöhe","Kalkulation 1","HWS Experten","HWS-Stückliste-Kalk-1","HWS-Stückliste-Kalk-Komplett","Statik 1-Zusatzberechnungen-1","HWS-Stückliste-Statik-1","Preisliste","Sprachindex"],"not_rendered":{"charts":0,"images":57,"macros":1,"external_links":1,"defined_names":17,"comments":1,"pivot_tables":5},"unopened":[],"bounds":{"document_bytes":16777216,"sheet_cells":100000,"rows_first":2000,"rows_last":500,"rows_between":2000,"halvings":0,"cell_chars":16384,"cell_head_chars":4096},"cells_cut":0,"cells_raw":0,"read":"whole","date_system":"1900"}

{"sheet":"Erhebungsbogen","index":0,"n_rows":67,"n_cols":16,"rows_kept":67,"cut":false,"hidden":false,"merged":[[66,5,66,6],[66,11,66,12],[59,2,59,12],[61,2,61,12],[36,2,36,3],[48,9,48,12],[45,1,54,7],[55,1,55,5],[2,2,2,12],[25,9,25,12],[17,2,17,7],[19,9,19,12],[27,9,27,12],[7,2,7,7],[9,2,9,7],[11,2,11,7],[13,2,13,7],[15,2,15,7],[19,5,19,7],[7,9,7,11],[5,5,5,7]]}
[]
[]
[null,null,{"$f":"VLOOKUP(\"PREFA HWS ERHEBUNGSBOGEN\",Sprachindex!A:Z,$O$6,FALSE)","v":"PREFA HWS ERHEBUNGSBOGEN"}]
[]
[]
[null,null,"PROJEKTDATEN",null,null,{"$f":"IF('HWS Experten'!C14>0,\"HWS Experten Sonderrabatt\",\"HWS\")","v":"HWS"},null,null,null,null,null,null,null,null,{"$f":"Haftungsausschluß!O6","v":1}]
[]
[null,"Name:"]
[]
[null,"Straße:"]
[]
[null,"Ort:"]
[]
[null,"Tel.:"]
[]
[null,"E-Mail:"]
[]
[null,"Kommission:"]
[]
[null,"ANSTAUHÖHE:",null,null,null,"MONTAGE:",null,null,null,"ABDECKUNG:"]
[null,null,null,"[mm]",null,null,null,null,null,null,null,null,null,null,1,3]
[]
[null,"LICHTE BREITE:"]
[null,null,null,"[mm]"]
[null,null,null,null,null,null,null,null,null,"gerade",null,"Winkelabdeckung"]
[null,null,"lichte Breite",null,null,null,"vor der Laibung",null,null,"keine"]
[]
[null,null,null,null,null,null,null,null,null,"SPANNER"]
[null,null,null,null,null,null,null,null,null,null,null,null,null,null,null,1]
[null,null,null,null,null,null,null,null,null,"mit Sterngriff",null,"mit 6kt-Schraube"]
[null,"MENGE:",null,"[Stk.]"]
[]
[]
[null,"BESCHICHTUNG:",null,null,null,null,"in der Laibung"]
[null,"ja",null,null,null,null,null,null,null,null,null,null,null,null,false]
[]
[null,"Farbe:"]
[null,null,null,null,null,null,null,null,null,null,"DAMMBALKENHALTERUNG"]
[null,"Abdeckung:",null,null,null,null,null,null,null,null,"(FÜR LAGERUNG)",null,null,null,false,false]
[null,"Wandprofil:",null,null,null,null,null,null,null,null,null,null,null,null,false]
[null,"Dammbalken: (≤ 3 m)",null,null,null,null,null,null,null,null,null,null,null,null,false]
[null,"Lagerabdeckung:",null,null,null,null,"bündig",null,null,null,null,null,null,null,false]
[null,null,null,null,null,null,null,null,null,null,"LAGERABDECKUNG"]
[]
[]
[null,"Der Untergrund für das System sollte eben sein, um eine optimale Anpassung der Bodendichtung gewährleisten zu können. Weiters ist bei Pflasterstein auf eine adäquate Fundamentierung und Befestigung zu achten, um eine Unterspülung zu vermeiden.\nBevor das PREFA Hochwasser-Dammbalkensystem montiert wird, muss zunächst geklärt werden, ob das Bauwerk in statischer Hinsicht für die Montage geeignet ist.\n\nAlle PREFA Hochwasserschutzprodukte sind bei unseren PREFA Partnern erhältlich.\nAnfragen bitte an: technik.ch@prefa.com",null,null,null,null,null,null,null,null,"DAMMBALKENHAKEN",null,null,null,null,false]
[null,null,null,null,null,null,null,null,null,null,null,null,null,null,null,true]
[]
[null,null,null,null,null,null,null,null,null,"DAUERBODENDICHTUNG"]
[null,null,null,null,null,null,null,null,null,"(diese ist bei dauerhaftem Aufbau des"]
[null,null,null,null,null,null,null,null,null,"Hochwasserschutzes erforderlich)"]
[]
[null,null,null,null,null,null,null,null,null,{"$f":"VLOOKUP(\"zusätzlicher Randabstand:\",Sprachindex!$A:$Z,Haftungsausschluß!$O$6,FALSE)","v":"zusätzlicher Randabstand:"}]
[null,null,null,null,null,null,null,null,null,null,"[mm]",null,null,null,null,false]
[]
[null,"Erhebungsbogen bitte als Excel zurücksenden"]
[]
[null,"NOTIZEN:"]
[]
[]
[]
[]
[]
[]
[null,null,null,null,null,null,null,null,null,null,null,null,"WWW.PREFA.COM"]
[]
[{"$f":"VLOOKUP(\"Anwendungstechnik\",Sprachindex!A:Z,$O$6,FALSE)","v":"Anwendungstechnik"},null,null,null,{"$f":"VLOOKUP(\"Stand:\",Sprachindex!A:Z,$O$6,FALSE)","v":"Stand:"},"2022-07-01",null,null,null,null,{"$f":"VLOOKUP(\"Version:\",Sprachindex!A:Z,$O$6,FALSE)","v":"Version:"},"01.07.2022"]

{"sheet":"Haftungsausschluß","index":1,"n_rows":56,"n_cols":18,"rows_kept":56,"cut":false,"hidden":true,"merged":[[29,9,29,11],[30,9,30,11],[2,1,2,11],[3,1,3,11],[6,1,7,7],[55,10,55,12],[5,9,5,11],[42,6,42,11],[43,6,43,11],[29,2,29,4],[30,2,30,4],[31,2,31,4],[32,2,32,4],[33,2,33,4],[55,5,55,6],[37,6,38,11],[10,1,26,7],[5,1,5,7]]}
[]
[]
[null,{"$f":"VLOOKUP(\"PREFA HWS BERECHNUNGSTOOL\",Sprachindex!A:Z,$O$6,FALSE)","v":"PREFA HWS BERECHNUNGSTOOL"}]
[null,{"$f":"VLOOKUP(\"Einverständniserklärung\",Sprachindex!A:Z,$O$6,FALSE)","v":"Einverständniserklärung"}]
[]
[null,{"$f":"VLOOKUP(\"PREFA bietet dem Anwender ein kostenloses Berechnungstool für PREFA Hochwasserschutzsysteme.\",Sprachindex!A:Z,$O$6,FALSE)","v":"PREFA bietet dem Anwender ein kostenloses Berechnungstool für PREFA Hochwasserschutzsysteme."},null,null,null,null,null,null,null,{"$f":"VLOOKUP(\"Sprache\",Sprachindex!A:Z,$O$6,FALSE)","v":"Sprache"},null,null,null,null,1]
[null,{"$f":"VLOOKUP(\"Das Berechnungstool berücksichtigt die Anforderungen des Merkblattes 6/BWK Ausgabe Dezember 2005:\",Sprachindex!A:Z,$O$6,FALSE)","v":"Das Berechnungstool berücksichtigt die Anforderungen des Merkblattes 6/BWK Ausgabe Dezember 2005:"},null,null,null,null,null,null,null,null,null,"Deutsch"]
[null,null,null,null,null,null,null,null,null,null,null,"English"]
[null,null,null,null,null,null,null,null,null,null,null,"français"]
[null,null,null,null,null,null,null,null,null,null,null,"italiano"]
[null,{"$f":"VLOOKUP(\"Die vom Anwender eingegebenen Daten werden vom Berechnungstool automatisch verarbeitet ohne auf deren Richtigkeit überprüft werden zu können.\",Sprachindex!A:Z,$O$6,FALSE) & \" \" & VLOOKUP(\"Die Berechnungsergebnisse sind nur für das von den Eingabedaten erfassten Hochwasserschutzsystem heranzuziehen.\",Sprachindex!A:Z,$O$6,FALSE) & \" \" & VLOOKUP(\"Das Berechnungstool bezieht sich ausschließlich auf PREFA Hochwasserschutzsysteme.\",Sprachindex!A:Z,$O$6,FALSE) & \" \" & VLOOKUP(\"Die Berechnungsergebnisse sind nicht auf andere Produkte oder Einsätze anwendbar.\",Sprachindex!A:Z,$O$6,FALSE) & \" \" & VLOOKUP(\"Obwohl das Berechnungstool von PREFA mit größtmöglicher Sorgfalt erstellt wurde,\",Sprachindex!A:Z,$O$6,FALSE) & \" \" & VLOOKUP(\"können die Berechnungsergebnisse zufolge der individuellen konstruktiven Besonderheiten jedes\",Sprachindex!A:Z,$O$6,FALSE) & \" \" & VLOOKUP(\"Hochwasser-schutzsystemes und möglicher fehlerhafter Eingabe der Berechnungsgrundlagen nur unverbindliche Empfehlungen darstellen.\",Sprachindex!A:Z,$O$6,FALSE) & \" \" & VLOOKUP(\"PREFA versteht das Berechnungstool als Hilfestellung an den Fachmann, die diesen aber nicht von der Pflicht zur eigenständigen Prüfung im Einzelfall entbindet.\",Sprachindex!A:Z,$O$6,FALSE) & \" \" & VLOOKUP(\"PREFA übernimmt im Hinblick hierauf keinerlei Haftung für die Richtigkeit oder Vollständigkeit der Berechnungsergebnisse oder für hieraus abgeleitete Schadenersatzansprüche.\",Sprachindex!A:Z,$O$6,FALSE) & \" \" & VLOOKUP(\"Bei nicht fachgerechter Montage und/oder Wartung oder bei Benutzung von nicht originalem Zubehör übernimmt PREFA keinerlei Haftung.\",Sprachindex!A:Z,$O$6,FALSE) & \" \" & VLOOKUP(\"Ebenso sind bauliche Mängel, insbesondere nicht entsprechend wasserdichte Bausubstanz des Bauwerks, hydrostatische Krafteinwirkung und unsachgemäße Handhabung der Bauteile,\",Sprachindex!A:Z,$O$6,FALSE) & \" \" & VLOOKUP(\"darunter auch Beschädigung durch mechanische Einwirkung von Personen oder Gegenständen, ausschlussgebend für eine Haftung seitens PREFA.\",Sprachindex!A:Z,$O$6,FALSE) & \" \" & VLOOKUP(\"PREFA übernimmt keine Garantie für absolute Schadensverhinderung.\",Sprachindex!A:Z,$O$6,FALSE)","v":"Die vom Anwender eingegebenen Daten werden vom Berechnungstool automatisch verarbeitet ohne auf deren Richtigkeit überprüft werden zu können. Die Berechnungsergebnisse sind nur für das von den Eingabedaten erfassten Hochwasserschutzsystem heranzuziehen. Das Berechnungstool bezieht sich ausschließlich auf PREFA Hochwasserschutzsysteme. Die Berechnungsergebnisse sind nicht auf andere Produkte oder Einsätze anwendbar. Obwohl das Berechnungstool von PREFA mit größtmöglicher Sorgfalt erstellt wurde, können die Berechnungsergebnisse zufolge der individuellen konstruktiven Besonderheiten jedes Hochwasser-schutzsystemes und möglicher fehlerhafter Eingabe der Berechnungsgrundlagen nur unverbindliche Empfehlungen darstellen. PREFA versteht das Berechnungstool als Hilfestellung an den Fachmann, die diesen aber nicht von der Pflicht zur eigenständigen Prüfung im Einzelfall entbindet. PREFA übernimmt im Hinblick hierauf keinerlei Haftung für die Richtigkeit oder Vollständigkeit der Berechnungsergebnisse oder für hieraus abgeleitete Schadenersatzansprüche. Bei nicht fachgerechter Montage und/oder Wartung oder bei Benutzung von nicht originalem Zubehör übernimmt PREFA keinerlei Haftung. Ebenso sind bauliche Mängel, insbesondere nicht entsprechend wasserdichte Bausubstanz des Bauwerks, hydrostatische Krafteinwirkung und unsachgemäße Handhabung der Bauteile, darunter auch Beschädigung durch mechanische Einwirkung von Personen oder Gegenständen, ausschlussgebend für eine Haftung seitens PREFA. PREFA übernimmt keine Garantie für absolute Schadensverhinderung."},null,null,null,null,null,null,null,null,null,"český"]
[null,null,null,null,null,null,null,null,null,null,null,"polski"]
[null,null,null,null,null,null,null,null,null,null,null,"magyar"]
[null,null,null,null,null,null,null,null,null,null,null,"slovenský"]
[null,null,null,null,null,null,null,null,null,null,null,"Nederlands"]
[null,null,null,null,null,null,null,null,null,null,null,"Slovenski"]
[null,null,null,null,null,null,null,null,null,null,null,"svenska"]
[null,null,null,null,null,null,null,null,null,null,null,"dansk"]
[null,null,null,null,null,null,null,null,null,null,null,"norsk"]
[null,null,null,null,null,null,null,null,null,null,null,"hrvatski"]
[null,null,null,null,null,null,null,null,null,null,null,1]
[]
[null,null,null,null,null,null,null,null,null,null,null,3,null,null,{"$f":"TODAY()","v":44789},null,{"$f":"Q24","v":44926},{"$f":"Q23-O23","v":137}]
[null,null,null,null,null,null,null,null,null,null,null,null,null,null,null,null,"2022-12-31"]
[]
[]
[]
[]
[null,{"$f":"VLOOKUP(\"Vorannahmen für den statischen Nachweis (bei Bedarf änderbar):\",Sprachindex!A:Z,$O$6,FALSE)","v":"Vorannahmen für den statischen Nachweis (bei Bedarf änderbar):"}]
[null,null,{"$f":"VLOOKUP(\"Dichte Wasser inkl. Geschiebe:  rw\",Sprachindex!A:Z,$O$6,FALSE)","v":"Dichte Wasser inkl. Geschiebe:  rw"},null,null,1000,{"$f":"VLOOKUP(\"kg/m³\",Sprachindex!A:Z,$O$6,FALSE)","v":"kg/m³"},null,null,{"$f":"VLOOKUP(\"MwSt.\",Sprachindex!A:Z,$O$6,FALSE)","v":"MwSt."}]
[null,null,{"$f":"VLOOKUP(\"Fließgeschwindigkeit: v\",Sprachindex!A:Z,$O$6,FALSE)","v":"Fließgeschwindigkeit: v"},null,null,4,{"$f":"VLOOKUP(\"m/s\",Sprachindex!A:Z,$O$6,FALSE)","v":"m/s"},null,null,7.7]
[null,null,{"$f":"VLOOKUP(\"anprallende Treibgutmasse: m\",Sprachindex!A:Z,$O$6,FALSE)","v":"anprallende Treibgutmasse: m"},null,null,0.4,{"$f":"VLOOKUP(\"t\",Sprachindex!A:Z,$O$6,FALSE)","v":"t"}]
[null,null,{"$f":"VLOOKUP(\"Maximale Durchbiegung Dammbalken (1/150 = Standard)\",Sprachindex!A:Z,$O$6,FALSE)","v":"Maximale Durchbiegung Dammbalken (1/150 = Standard)"},null,null,150,null,null,1]
[null,null,{"$f":"VLOOKUP(\"Maximale Durchbiegung Rundsteher (1/150 = Standard)\",Sprachindex!A:Z,$O$6,FALSE)","v":"Maximale Durchbiegung Rundsteher (1/150 = Standard)"},null,null,150]
[]
[]
[null,{"$f":"VLOOKUP(\"Folgende Nachweise werden berechnet bzw berücksichtigt:\",Sprachindex!A:Z,$O$6,FALSE)","v":"Folgende Nachweise werden berechnet bzw berücksichtigt:"},null,null,null,null,{"$f":"VLOOKUP(\"Die Gültigkeit dieses Dokumentes endet mit 31.12.2022\",Sprachindex!A:Z,$O$6,FALSE)","v":"Die Gültigkeit dieses Dokumentes endet mit 31.12.2022"}]
[null,null,{"$f":"VLOOKUP(\"Hydrostatische Einwirkung\",Sprachindex!A:Z,$O$6,FALSE)","v":"Hydrostatische Einwirkung"},null,null,null,{"$f":"VLOOKUP(\"Die hinterlegten Preise gelten bis Neuauflage der Preisliste vorbehaltlich vorgezogener Preisanpassungen\",Sprachindex!A:Z,$O$6,FALSE)","v":"Die hinterlegten Preise gelten bis Neuauflage der Preisliste vorbehaltlich vorgezogener Preisanpassungen"}]
[null,null,{"$f":"VLOOKUP(\"Hydrodynamische Einwirkung\",Sprachindex!A:Z,$O$6,FALSE)","v":"Hydrodynamische Einwirkung"}]
[null,null,{"$f":"VLOOKUP(\"Anprall von Treibgut (nur bei Eingabe von Anströmwinkel)\",Sprachindex!A:Z,$O$6,FALSE)","v":"Anprall von Treibgut (nur bei Eingabe von Anströmwinkel)"}]
[]
[]
[null,null,null,null,null,null,{"$f":"VLOOKUP(\"Nach Ablauf des Datums (noch\",Sprachindex!A:Z,$O$6,FALSE) & \" \" & Q23-O23 & \" \" & VLOOKUP(\"Tage)\",Sprachindex!A:Z,$O$6,FALSE)","v":"Nach Ablauf des Datums (noch 137 Tage)"}]
[null,null,null,null,null,null,{"$f":"VLOOKUP(\"verliert die Excel seine Funktionsfähigkeit\",Sprachindex!A:Z,$O$6,FALSE)","v":"verliert die Excel seine Funktionsfähigkeit"}]
[]
[]
[]
[]
[]
[]
[null,null,null,null,{"$f":"VLOOKUP(\"BHW = Bemessungshochwasser\",Sprachindex!A:Z,$O$6,FALSE)","v":"BHW = Bemessungshochwasser"}]
[null,null,null,null,{"$f":"VLOOKUP(\"FB = Freibord\",Sprachindex!A:Z,$O$6,FALSE)","v":"FB = Freibord"}]
[null,null,null,null,{"$f":"VLOOKUP(\"VS = Volleinstau\",Sprachindex!A:Z,$O$6,FALSE)","v":"VS = Volleinstau"}]
[null,null,{"$f":"VLOOKUP(\"Abbildung 1\",Sprachindex!A:Z,$O$6,FALSE)","v":"Abbildung 1"}]
[]
[{"$f":"VLOOKUP(\"Anwendungstechnik\",Sprachindex!A:Z,$O$6,FALSE)","v":"Anwendungstechnik"},null,null,null,{"$f":"VLOOKUP(\"Stand:\",Sprachindex!A:Z,$O$6,FALSE)","v":"Stand:"},"2022-07-01",null,null,null,{"$f":"VLOOKUP(\"Version:\",Sprachindex!A:Z,$O$6,FALSE)","v":"Version:"},"01.07.2022"]

{"sheet":"Leibungshöhe","index":2,"n_rows":48,"n_cols":21,"rows_kept":48,"cut":false,"hidden":true,"merged":[[0,0,0,3],[12,0,12,3],[2,1,2,3],[3,16,3,19]]}
[{"$f":"VLOOKUP(\"Berechnung U-Profilhöhe bei Montage in Leibung zum Einfädeln\",Sprachindex!$A:$Z,Haftungsausschluß!$O$6,FALSE)","v":"Berechnung U-Profilhöhe bei Montage in Leibung zum Einfädeln"},null,null,null,null,null,null,null,"HWS","Berechnung der erforderlichen Überstände (Kippmaß)"]
[null,null,null,null,null,null,null,null,"Stand:","2022-02-08"]
[{"$f":"VLOOKUP(\"Lichteweite [mm]:\",Sprachindex!$A:$Z,Haftungsausschluß!$O$6,FALSE)","v":"Lichteweite [mm]:"},1000,null,null,null,null,null,null,"Bearbeiter:","HAD"]
[null,null,null,null,null,null,null,null,null,null,null,null,null,null,null,null,"Dammbalken"]
[null,{"$f":"VLOOKUP(\"System 25:\",Sprachindex!$A:$Z,Haftungsausschluß!$O$6,FALSE)","v":"System 25:"},null,{"$f":"VLOOKUP(\"System 50:\",Sprachindex!$A:$Z,Haftungsausschluß!$O$6,FALSE)","v":"System 50:"},null,{"$f":"VLOOKUP(\"System 50 + 80:\",Sprachindex!$A:$Z,Haftungsausschluß!$O$6,FALSE)","v":"System 50 + 80:"},null,null,"Eingabedaten",null,null,null,null,"25/200",null,"Maß [mm]","25/200","50/150","50/200","80/200"]
[null,200,null,150,null,200,null,null,"Lichte Breite","l =",{"$f":"B3","v":1000},"mm",null,null,null,"hDS",200,150,200,200]
[{"$f":"VLOOKUP(\"Dammbalkenlänge:\",Sprachindex!$A:$Z,Haftungsausschluß!$O$6,FALSE)","v":"Dammbalkenlänge:"},{"$f":"+($B$3+B15)","v":1065},null,{"$f":"+($B$3+D15)","v":1076},null,{"$f":"+($B$3+F15)","v":1076},null,null,"Dammbalken",null,"25/200",null,null,null,null,"hN",19,15,15,15]
[null,null,null,null,null,null,null,null,"Länge Dammbalken","lD =",{"$f":"K6+2*HLOOKUP(K7,$Q$5:$T$9,5,)","v":1065},"mm",null,null,null,"hDG",{"$f":"Q7+Q6","v":219},{"$f":"R7+R6","v":165},215,215]
[null,{"$f":"K17","v":311},null,{"$f":"K32","v":307},null,{"$f":"K47","v":324},null,null,"Gesamthöhe Dammbalken","hDG =",{"$f":"HLOOKUP(K7,$Q$5:$T$9,4,)","v":219},"mm",null,null,null,"Einstand",32.5,38,38,38,"in Wandprofil"]
[null,null,null,null,null,null,null,null,"Nuthöhe Dammbalken","hN =",{"$f":"HLOOKUP(K7,$Q$5:$T$9,3,)","v":19},"mm",null,null,null,"Profiltiefe t",42,47,47,47]
[null,{"$f":"K18","v":615},null,{"$f":"K33","v":585},null,{"$f":"K48","v":625},null,null,"Profiltiefe Wandprofil","t =",{"$f":"HLOOKUP(K7,$Q$5:$T$10,6,)","v":42},"mm"]
[null,null,null,null,null,null,null,null,"Toleranz Lichte (für Dichtung etc..)","Dl =",5,"mm","Festlegung"]
["Berechnungsparameter aus Profilgeometrien:"]
[null,null,null,null,null,null,null,null,null,"alphaD1 =",{"$f":"ACOS((K6+K11)/(K8^2+K9^2)^0.5)/PI()*180","v":16.594204070746304},"°"]
["Dammbalkenlänge über Lichte:",65,null,76,null,76,null,null,null,"alpha1 =",{"$f":"K14+ATAN(K9/K8)/PI()*180","v":28.21417561556693},"°"]
["Mögliche Eintauchtiefe von Dammb. in Steher beidseitig:",42,null,47.3,null,47.3,null,null,null,"üP =",{"$f":"SIN(K15/180*PI())*K8-K9+K10","v":303.4987663744472}]
[null,null,null,null,null,null,null,null,"Überstand Profil","üP =",{"$f":"ROUNDUP(SIN(ACOS((K6+K11-K12/2)/(K8^2+K9^2)^0.5)+ATAN(K9/K8))*K8-K9+K10,0)","v":311},"mm"]
[null,null,null,null,null,null,null,null,"Überstand Sturz","üST =",{"$f":"ROUNDUP(SIN(ACOS((K6-K12)/(K8^2+K9^2)^0.5)+ATAN(K9/K8))*K8-K9+K10+COS(ACOS((K6-K12)/(K8^2+K9^2)^0.5)+ATAN(K9/K8))*K9+K10,0)","v":615},"mm"]
[]
[null,null,null,null,null,null,null,null,"Eingabedaten",null,null,null,null,"50/150"]
[null,null,null,null,null,null,null,null,"Lichte Breite","l =",{"$f":"B3","v":1000},"mm"]
[null,null,null,null,null,null,null,null,"Dammbalken",null,"50/150"]
[null,null,null,null,null,null,null,null,"Länge Dammbalken","lD =",{"$f":"K21+2*HLOOKUP(K22,$Q$5:$T$9,5,)","v":1076},"mm"]
[null,null,null,null,null,null,null,null,"Gesamthöhe Dammbalken","hDG =",{"$f":"HLOOKUP(K22,$Q$5:$T$9,4,)","v":165},"mm"]
[null,null,null,null,null,null,null,null,"Nuthöhe Dammbalken","hN =",{"$f":"HLOOKUP(K22,$Q$5:$T$9,3,)","v":15},"mm"]
[null,null,null,null,null,null,null,null,"Profiltiefe Wandprofil","t =",{"$f":"HLOOKUP(K22,$Q$5:$T$10,6,)","v":47},"mm"]
[null,null,null,null,null,null,null,null,"Toleranz Lichte (für Dichtung etc..)","Dl =",5,"mm","Festlegung"]
[]
[null,null,null,null,null,null,null,null,null,"alphaD1 =",{"$f":"ACOS((K21+K26)/(K23^2+K24^2)^0.5)/PI()*180","v":15.886538619015383},"°"]
[null,null,null,null,null,null,null,null,null,"alpha1 =",{"$f":"K29+ATAN(K24/K23)/PI()*180","v":24.604689258114998},"°"]
[null,null,null,null,null,null,null,null,null,"üP =",{"$f":"SIN(K30/180*PI())*K23-K24+K25","v":297.99820108698339}]
[null,null,null,null,null,null,null,null,"Überstand Profil","üP =",{"$f":"ROUNDUP(SIN(ACOS((K21+K26-K27/2)/(K23^2+K24^2)^0.5)+ATAN(K24/K23))*K23-K24+K25,0)","v":307},"mm"]
[null,null,null,null,null,null,null,null,"Überstand Sturz","üST =",{"$f":"ROUNDUP(SIN(ACOS((K21-K27)/(K23^2+K24^2)^0.5)+ATAN(K24/K23))*K23-K24+K25+COS(ACOS((K21-K27)/(K23^2+K24^2)^0.5)+ATAN(K24/K23))*K24+K25,0)","v":585},"mm"]
[]
[null,null,null,null,null,null,null,null,"Eingabedaten",null,null,null,null,"50+80/200"]
[null,null,null,null,null,null,null,null,"Lichte Breite","l =",{"$f":"B3","v":1000},"mm"]
[null,null,null,null,null,null,null,null,"Dammbalken",null,"50/200"]
[null,null,null,null,null,null,null,null,"Länge Dammbalken","lD =",{"$f":"K36+2*HLOOKUP(K37,$Q$5:$T$9,5,)","v":1076},"mm"]
[null,null,null,null,null,null,null,null,"Gesamthöhe Dammbalken","hDG =",{"$f":"HLOOKUP(K37,$Q$5:$T$9,4,)","v":215},"mm"]
[null,null,null,null,null,null,null,null,"Nuthöhe Dammbalken","hN =",{"$f":"HLOOKUP(K37,$Q$5:$T$9,3,)","v":15},"mm"]
[null,null,null,null,null,null,null,null,"Profiltiefe Wandprofil","t =",{"$f":"HLOOKUP(K37,$Q$5:$T$10,6,)","v":47},"mm"]
[null,null,null,null,null,null,null,null,"Toleranz Lichte (für Dichtung etc..)","Dl =",5,"mm","Festlegung"]
[]
[null,null,null,null,null,null,null,null,null,"alphaD1 =",{"$f":"ACOS((K36+K41)/(K38^2+K39^2)^0.5)/PI()*180","v":17.41031468175176},"°"]
[null,null,null,null,null,null,null,null,null,"alpha1 =",{"$f":"K44+ATAN(K39/K38)/PI()*180","v":28.710006623349635},"°"]
[null,null,null,null,null,null,null,null,null,"üP =",{"$f":"SIN(K45/180*PI())*K38-K39+K40","v":316.88531026425187}]
[null,null,null,null,null,null,null,null,"Überstand Profil","üP =",{"$f":"ROUNDUP(SIN(ACOS((K36+K41-K42/2)/(K38^2+K39^2)^0.5)+ATAN(K39/K38))*K38-K39+K40,0)","v":324},"mm"]
[null,null,null,null,null,null,null,null,"Überstand Sturz","üST =",{"$f":"ROUNDUP(SIN(ACOS((K36-K42)/(K38^2+K39^2)^0.5)+ATAN(K39/K38))*K38-K39+K40+COS(ACOS((K36-K42)/(K38^2+K39^2)^0.5)+ATAN(K39/K38))*K39+K40,0)","v":625},"mm"]

{"sheet":"Kalkulation 1","index":3,"n_rows":242,"n_cols":747,"rows_kept":242,"cut":false,"hidden":true,"merged":[[3,17,3,20],[3,29,3,30],[198,23,198,24],[198,27,198,28],[198,29,198,30],[199,23,199,24],[199,27,199,28],[199,29,199,30],[195,23,195,24],[195,27,195,28],[195,29,195,30],[196,23,196,24],[196,27,196,28],[196,29,196,30],[197,23,197,24],[197,27,197,28],[197,29,197,30],[192,23,192,24],[192,27,192,28],[192,29,192,30],[193,23,193,24],[193,27,193,28],[193,29,193,30],[194,23,194,24],[194,27,194,28],[194,29,194,30],[189,23,189,24],[189,27,189,28],[189,29,189,30],[190,23,190,24],[190,27,190,28],[190,29,190,30],[191,23,191,24],[191,27,191,28],[191,29,191,30],[186,23,186,24],[186,27,186,28],[186,29,186,30],[187,23,187,24],[187,27,187,28],[187,29,187,30],[188,23,188,24],[188,27,188,28],[188,29,188,30],[183,23,183,24],[183,27,183,28],[183,29,183,30],[184,23,184,24],[184,27,184,28],[184,29,184,30],[185,23,185,24],[185,27,185,28],[185,29,185,30],[180,23,180,24],[180,27,180,28],[180,29,180,30],[181,23,181,24],[181,27,181,28],[181,29,181,30],[182,23,182,24],[182,27,182,28],[182,29,182,30],[177,23,177,24],[177,27,177,28],[177,29,177,30],[178,23,178,24],[178,27,178,28],[178,29,178,30],[179,23,179,24],[179,27,179,28],[179,29,179,30],[174,23,174,24],[174,27,174,28],[174,29,174,30],[175,23,175,24],[175,27,175,28],[175,29,175,30],[176,23,176,24],[176,27,176,28],[176,29,176,30],[171,23,171,24],[171,27,171,28],[171,29,171,30],[172,23,172,24],[172,27,172,28],[172,29,172,30],[173,23,173,24],[173,27,173,28],[173,29,173,30],[168,23,168,24],[168,27,168,28],[168,29,168,30],[169,23,169,24],[169,27,169,28],[169,29,169,30],[170,23,170,24],[170,27,170,28],[170,29,170,30],[165,23,165,24],[165,27,165,28],[165,29,165,30],[166,23,166,24],[166,27,166,28],[166,29,166,30],[167,23,167,24],[167,27,167,28],[167,29,167,30],[162,23,162,24],[162,27,162,28],[162,29,162,30],[163,23,163,24],[163,27,163,28],[163,29,163,30],[164,23,164,24],[164,27,164,28],[164,29,164,30],[159,23,159,24],[159,27,159,28],[159,29,159,30],[160,23,160,24],[160,27,160,28],[160,29,160,30],[161,23,161,24],[161,27,161,28],[161,29,161,30],[156,23,156,24],[156,27,156,28],[156,29,156,30],[157,23,157,24],[157,27,157,28],[157,29,157,30],[158,23,158,24],[158,27,158,28],[158,29,158,30],[153,23,153,24],[153,27,153,28],[153,29,153,30],[154,23,154,24],[154,27,154,28],[154,29,154,30],[155,23,155,24],[155,27,155,28],[155,29,155,30],[150,23,150,24],[150,27,150,28],[150,29,150,30],[151,23,151,24],[151,27,151,28],[151,29,151,30],[152,23,152,24],[152,27,152,28],[152,29,152,30],[147,23,147,24],[147,27,147,28],[147,29,147,30],[148,23,148,24],[148,27,148,28],[148,29,148,30],[149,23,149,24],[149,27,149,28],[149,29,149,30],[144,23,144,24],[144,27,144,28],[144,29,144,30],[145,23,145,24],[145,27,145,28],[145,29,145,30],[146,23,146,24],[146,27,146,28],[146,29,146,30],[141,23,141,24],[141,27,141,28],[141,29,141,30],[142,23,142,24],[142,27,142,28],[142,29,142,30],[143,23,143,24],[143,27,143,28],[143,29,143,30],[138,23,138,24],[138,27,138,28],[138,29,138,30],[139,23,139,24],[139,27,139,28],[139,29,139,30],[140,23,140,24],[140,27,140,28],[140,29,140,30],[135,23,135,24],[135,27,135,28],[135,29,135,30],[136,23,136,24],[136,27,136,28],[136,29,136,30],[137,23,137,24],[137,27,137,28],[137,29,137,30],[132,23,132,24],[132,27,132,28],[132,29,132,30],[133,23,133,24],[133,27,133,28],[133,29,133,30],[134,23,134,24],[134,27,134,28],[134,29,134,30],[129,23,129,24],[129,27,129,28],[129,29,129,30],[130,23,130,24],[130,27,130,28],[130,29,130,30],[131,23,131,24],[131,27,131,28],[131,29,131,30],[126,23,126,24],[126,27,126,28],[126,29,126,30],[127,23,127,24],[127,27,127,28],[127,29,127,30],[128,23,128,24],[128,27,128,28],[128,29,128,30],[123,23,123,24],[123,27,123,28],[123,29,123,30],[124,23,124,24],[124,27,124,28],[124,29,124,30],[125,23,125,24],[125,27,125,28],[125,29,125,30],[120,23,120,24],[120,27,120,28],[120,29,120,30],[121,23,121,24],[121,27,121,28],[121,29,121,30],[122,23,122,24],[122,27,122,28],[122,29,122,30],[117,23,117,24],[117,27,117,28],[117,29,117,30],[118,23,118,24],[118,27,118,28],[118,29,118,30],[119,23,119,24],[119,27,119,28],[119,29,119,30],[114,23,114,24],[114,27,114,28],[114,29,114,30],[115,23,115,24],[115,27,115,28],[115,29,115,30],[116,23,116,24],[116,27,116,28],[116,29,116,30],[111,23,111,24],[111,27,111,28],[111,29,111,30],[112,23,112,24],[112,27,112,28],[112,29,112,30],[113,23,113,24],[113,27,113,28],[113,29,113,30],[108,23,108,24],[108,27,108,28],[108,29,108,30],[109,23,109,24],[109,27,109,28],[109,29,109,30],[110,23,110,24],[110,27,110,28],[110,29,110,30],[105,23,105,24],[105,27,105,28],[105,29,105,30],[106,23,106,24],[106,27,106,28],[106,29,106,30],[107,23,107,24],[107,27,107,28],[107,29,107,30],[102,23,102,24],[102,27,102,28],[102,29,102,30],[103,23,103,24],[103,27,103,28],[103,29,103,30],[104,23,104,24],[104,27,104,28],[104,29,104,30],[99,23,99,24],[99,27,99,28],[99,29,99,30],[100,23,100,24],[100,27,100,28],[100,29,100,30],[101,23,101,24],[101,27,101,28],[101,29,101,30],[96,23,96,24],[96,27,96,28],[96,29,96,30],[97,23,97,24],[97,27,97,28],[97,29,97,30],[98,23,98,24],[98,27,98,28],[98,29,98,30],[93,23,93,24],[93,27,93,28],[93,29,93,30],[94,23,94,24],[94,27,94,28],[94,29,94,30],[95,23,95,24],[95,27,95,28],[95,29,95,30],[90,23,90,24],[90,27,90,28],[90,29,90,30],[91,23,91,24],[91,27,91,28],[91,29,91,30],[92,23,92,24],[92,27,92,28],[92,29,92,30],[87,23,87,24],[87,27,87,28],[87,29,87,30],[88,23,88,24],[88,27,88,28],[88,29,88,30],[89,23,89,24],[89,27,89,28],[89,29,89,30],[84,23,84,24],[84,27,84,28],[84,29,84,30],[85,23,85,24],[85,27,85,28],[85,29,85,30],[86,23,86,24],[86,27,86,28],[86,29,86,30],[81,23,81,24],[81,27,81,28],[81,29,81,30],[82,23,82,24],[82,27,82,28],[82,29,82,30],[83,23,83,24],[83,27,83,28],[83,29,83,30],[78,23,78,24],[78,27,78,28],[78,29,78,30],[79,23,79,24],[79,27,79,28],[79,29,79,30],[80,23,80,24],[80,27,80,28],[80,29,80,30],[75,23,75,24],[75,27,75,28],[75,29,75,30],[76,23,76,24],[76,27,76,28],[76,29,76,30],[77,23,77,24],[77,27,77,28],[77,29,77,30],[72,23,72,24],[72,27,72,28],[72,29,72,30],[73,23,73,24],[73,27,73,28],[73,29,73,30],[74,23,74,24],[74,27,74,28],[74,29,74,30],[69,23,69,24],[69,27,69,28],[69,29,69,30],[70,23,70,24],[70,27,70,28],[70,29,70,30],[71,23,71,24],[71,27,71,28],[71,29,71,30],[66,23,66,24],[66,27,66,28],[66,29,66,30],[67,23,67,24],[67,27,67,28],[67,29,67,30],[68,23,68,24],[68,27,68,28],[68,29,68,30],[199,2,199,3],[199,4,199,6],[199,7,199,9],[199,13,199,14],[199,17,199,18],[199,19,199,20],[60,23,60,24],[60,27,60,28],[60,29,60,30],[61,23,61,24],[61,27,61,28],[61,29,61,30],[62,23,62,24],[62,27,62,28],[62,29,62,30],[63,23,63,24],[63,27,63,28],[63,29,63,30],[64,23,64,24],[64,27,64,28],[64,29,64,30],[65,23,65,24],[65,27,65,28],[65,29,65,30],[197,2,197,3],[197,4,197,6],[197,7,197,9],[197,13,197,14],[197,17,197,18],[197,19,197,20],[198,2,198,3],[198,4,198,6],[198,7,198,9],[198,13,198,14],[198,17,198,18],[198,19,198,20],[195,2,195,3],[195,4,195,6],[195,7,195,9],[195,13,195,14],[195,17,195,18],[195,19,195,20],[196,2,196,3],[196,4,196,6],[196,7,196,9],[196,13,196,14],[196,17,196,18],[196,19,196,20],[193,2,193,3],[193,4,193,6],[193,7,193,9],[193,13,193,14],[193,17,193,18],[193,19,193,20],[194,2,194,3],[194,4,194,6],[194,7,194,9],[194,13,194,14],[194,17,194,18],[194,19,194,20],[191,2,191,3],[191,4,191,6],[191,7,191,9],[191,13,191,14],[191,17,191,18],[191,19,191,20],[192,2,192,3],[192,4,192,6],[192,7,192,9],[192,13,192,14],[192,17,192,18],[192,19,192,20],[189,2,189,3],[189,4,189,6],[189,7,189,9],[189,13,189,14],[189,17,189,18],[189,19,189,20],[190,2,190,3],[190,4,190,6],[190,7,190,9],[190,13,190,14],[190,17,190,18],[190,19,190,20],[187,2,187,3],[187,4,187,6],[187,7,187,9],[187,13,187,14],[187,17,187,18],[187,19,187,20],[188,2,188,3],[188,4,188,6],[188,7,188,9],[188,13,188,14],[188,17,188,18],[188,19,188,20],[185,2,185,3],[185,4,185,6],[185,7,185,9],[185,13,185,14],[185,17,185,18],[185,19,185,20],[186,2,186,3],[186,4,186,6],[186,7,186,9],[186,13,186,14],[186,17,186,18],[186,19,186,20],[183,2,183,3],[183,4,183,6],[183,7,183,9],[183,13,183,14],[183,17,183,18],[183,19,183,20],[184,2,184,3],[184,4,184,6],[184,7,184,9],[184,13,184,14],[184,17,184,18],[184,19,184,20],[181,2,181,3],[181,4,181,6],[181,7,181,9],[181,13,181,14],[181,17,181,18],[181,19,181,20],[182,2,182,3],[182,4,182,6],[182,7,182,9],[182,13,182,14],[182,17,182,18],[182,19,182,20],[179,2,179,3],[179,4,179,6],[179,7,179,9],[179,13,179,14],[179,17,179,18],[179,19,179,20],[180,2,180,3],[180,4,180,6],[180,7,180,9],[180,13,180,14],[180,17,180,18],[180,19,180,20],[177,2,177,3],[177,4,177,6],[177,7,177,9],[177,13,177,14],[177,17,177,18],[177,19,177,20],[178,2,178,3],[178,4,178,6],[178,7,178,9],[178,13,178,14],[178,17,178,18],[178,19,178,20],[175,2,175,3],[175,4,175,6],[175,7,175,9],[175,13,175,14],[175,17,175,18],[175,19,175,20],[176,2,176,3],[176,4,176,6],[176,7,176,9],[176,13,176,14],[176,17,176,18],[176,19,176,20],[173,2,173,3],[173,4,173,6],[173,7,173,9],[173,13,173,14],[173,17,173,18],[173,19,173,20],[174,2,174,3],[174,4,174,6],[174,7,174,9],[174,13,174,14],[174,17,174,18],[174,19,174,20],[171,2,171,3],[171,4,171,6],[171,7,171,9],[171,13,171,14],[171,17,171,18],[171,19,171,20],[172,2,172,3],[172,4,172,6],[172,7,172,9],[172,13,172,14],[172,17,172,18],[172,19,172,20],[169,2,169,3],[169,4,169,6],[169,7,169,9],[169,13,169,14],[169,17,169,18],[169,19,169,20],[170,2,170,3],[170,4,170,6],[170,7,170,9],[170,13,170,14],[170,17,170,18],[170,19,170,20],[167,2,167,3],[167,4,167,6],[167,7,167,9],[167,13,167,14],[167,17,167,18],[167,19,167,20],[168,2,168,3],[168,4,168,6],[168,7,168,9],[168,13,168,14],[168,17,168,18],[168,19,168,20],[165,2,165,3],[165,4,165,6],[165,7,165,9],[165,13,165,14],[165,17,165,18],[165,19,165,20],[166,2,166,3],[166,4,166,6],[166,7,166,9],[166,13,166,14],[166,17,166,18],[166,19,166,20],[163,2,163,3],[163,4,163,6],[163,7,163,9],[163,13,163,14],[163,17,163,18],[163,19,163,20],[164,2,164,3],[164,4,164,6],[164,7,164,9],[164,13,164,14],[164,17,164,18],[164,19,164,20],[161,2,161,3],[161,4,161,6],[161,7,161,9],[161,13,161,14],[161,17,161,18],[161,19,161,20],[162,2,162,3],[162,4,162,6],[162,7,162,9],[162,13,162,14],[162,17,162,18],[162,19,162,20],[159,2,159,3],[159,4,159,6],[159,7,159,9],[159,13,159,14],[159,17,159,18],[159,19,159,20],[160,2,160,3],[160,4,160,6],[160,7,160,9],[160,13,160,14],[160,17,160,18],[160,19,160,20],[157,2,157,3],[157,4,157,6],[157,7,157,9],[157,13,157,14],[157,17,157,18],[157,19,157,20],[158,2,158,3],[158,4,158,6],[158,7,158,9],[158,13,158,14],[158,17,158,18],[158,19,158,20],[155,2,155,3],[155,4,155,6],[155,7,155,9],[155,13,155,14],[155,17,155,18],[155,19,155,20],[156,2,156,3],[156,4,156,6],[156,7,156,9],[156,13,156,14],[156,17,156,18],[156,19,156,20],[153,2,153,3],[153,4,153,6],[153,7,153,9],[153,13,153,14],[153,17,153,18],[153,19,153,20],[154,2,154,3],[154,4,154,6],[154,7,154,9],[154,13,154,14],[154,17,154,18],[154,19,154,20],[151,2,151,3],[151,4,151,6],[151,7,151,9],[151,13,151,14],[151,17,151,18],[151,19,151,20],[152,2,152,3],[152,4,152,6],[152,7,152,9],[152,13,152,14],[152,17,152,18],[152,19,152,20],[149,2,149,3],[149,4,149,6],[149,7,149,9],[149,13,149,14],[149,17,149,18],[149,19,149,20],[150,2,150,3],[150,4,150,6],[150,7,150,9],[150,13,150,14],[150,17,150,18],[150,19,150,20],[147,2,147,3],[147,4,147,6],[147,7,147,9],[147,13,147,14],[147,17,147,18],[147,19,147,20],[148,2,148,3],[148,4,148,6],[148,7,148,9],[148,13,148,14],[148,17,148,18],[148,19,148,20],[145,2,145,3],[145,4,145,6],[145,7,145,9],[145,13,145,14],[145,17,145,18],[145,19,145,20],[146,2,146,3],[146,4,146,6],[146,7,146,9],[146,13,146,14],[146,17,146,18],[146,19,146,20],[143,2,143,3],[143,4,143,6],[143,7,143,9],[143,13,143,14],[143,17,143,18],[143,19,143,20],[144,2,144,3],[144,4,144,6],[144,7,144,9],[144,13,144,14],[144,17,144,18],[144,19,144,20],[141,2,141,3],[141,4,141,6],[141,7,141,9],[141,13,141,14],[141,17,141,18],[141,19,141,20],[142,2,142,3],[142,4,142,6],[142,7,142,9],[142,13,142,14],[142,17,142,18],[142,19,142,20],[139,2,139,3],[139,4,139,6],[139,7,139,9],[139,13,139,14],[139,17,139,18],[139,19,139,20],[140,2,140,3],[140,4,140,6],[140,7,140,9],[140,13,140,14],[140,17,140,18],[140,19,140,20],[137,2,137,3],[137,4,137,6],[137,7,137,9],[137,13,137,14],[137,17,137,18],[137,19,137,20],[138,2,138,3],[138,4,138,6],[138,7,138,9],[138,13,138,14],[138,17,138,18],[138,19,138,20],[135,2,135,3],[135,4,135,6],[135,7,135,9],[135,13,135,14],[135,17,135,18],[135,19,135,20],[136,2,136,3],[136,4,136,6],[136,7,136,9],[136,13,136,14],[136,17,136,18],[136,19,136,20],[133,2,133,3],[133,4,133,6],[133,7,133,9],[133,13,133,14],[133,17,133,18],[133,19,133,20],[134,2,134,3],[134,4,134,6],[134,7,134,9],[134,13,134,14],[134,17,134,18],[134,19,134,20],[131,2,131,3],[131,4,131,6],[131,7,131,9],[131,13,131,14],[131,17,131,18],[131,19,131,20],[132,2,132,3],[132,4,132,6],[132,7,132,9],[132,13,132,14],[132,17,132,18],[132,19,132,20],[129,2,129,3],[129,4,129,6],[129,7,129,9],[129,13,129,14],[129,17,129,18],[129,19,129,20],[130,2,130,3],[130,4,130,6],[130,7,130,9],[130,13,130,14],[130,17,130,18],[130,19,130,20],[127,2,127,3],[127,4,127,6],[127,7,127,9],[127,13,127,14],[127,17,127,18],[127,19,127,20],[128,2,128,3],[128,4,128,6],[128,7,128,9],[128,13,128,14],[128,17,128,18],[128,19,128,20],[125,2,125,3],[125,4,125,6],[125,7,125,9],[125,13,125,14],[125,17,125,18],[125,19,125,20],[126,2,126,3],[126,4,126,6],[126,7,126,9],[126,13,126,14],[126,17,126,18],[126,19,126,20],[123,2,123,3],[123,4,123,6],[123,7,123,9],[123,13,123,14],[123,17,123,18],[123,19,123,20],[124,2,124,3],[124,4,124,6],[124,7,124,9],[124,13,124,14],[124,17,124,18],[124,19,124,20],[121,2,121,3],[121,4,121,6],[121,7,121,9],[121,13,121,14],[121,17,121,18],[121,19,121,20],[122,2,122,3],[122,4,122,6],[122,7,122,9],[122,13,122,14],[122,17,122,18],[122,19,122,20],[119,2,119,3],[119,4,119,6],[119,7,119,9],[119,13,119,14],[119,17,119,18],[119,19,119,20],[120,2,120,3],[120,4,120,6],[120,7,120,9],[120,13,120,14],[120,17,120,18],[120,19,120,20],[117,2,117,3],[117,4,117,6],[117,7,117,9],[117,13,117,14],[117,17,117,18],[117,19,117,20],[118,2,118,3],[118,4,118,6],[118,7,118,9],[118,13,118,14],[118,17,118,18],[118,19,118,20],[115,2,115,3],[115,4,115,6],[115,7,115,9],[115,13,115,14],[115,17,115,18],[115,19,115,20],[116,2,116,3],[116,4,116,6],[116,7,116,9],[116,13,116,14],[116,17,116,18],[116,19,116,20],[113,2,113,3],[113,4,113,6],[113,7,113,9],[113,13,113,14],[113,17,113,18],[113,19,113,20],[114,2,114,3],[114,4,114,6],[114,7,114,9],[114,13,114,14],[114,17,114,18],[114,19,114,20],[111,2,111,3],[111,4,111,6],[111,7,111,9],[111,13,111,14],[111,17,111,18],[111,19,111,20],[112,2,112,3],[112,4,112,6],[112,7,112,9],[112,13,112,14],[112,17,112,18],[112,19,112,20],[109,2,109,3],[109,4,109,6],[109,7,109,9],[109,13,109,14],[109,17,109,18],[109,19,109,20],[110,2,110,3],[110,4,110,6],[110,7,110,9],[110,13,110,14],[110,17,110,18],[110,19,110,20],[107,2,107,3],[107,4,107,6],[107,7,107,9],[107,13,107,14],[107,17,107,18],[107,19,107,20],[108,2,108,3],[108,4,108,6],[108,7,108,9],[108,13,108,14],[108,17,108,18],[108,19,108,20],[105,2,105,3],[105,4,105,6],[105,7,105,9],[105,13,105,14],[105,17,105,18],[105,19,105,20],[106,2,106,3],[106,4,106,6],[106,7,106,9],[106,13,106,14],[106,17,106,18],[106,19,106,20],[103,2,103,3],[103,4,103,6],[103,7,103,9],[103,13,103,14],[103,17,103,18],[103,19,103,20],[104,2,104,3],[104,4,104,6]],"merged_total":1505,"flags":["merged_cut"]}
[null,null,null,null,null,null,null,null,null,null,null,null,null,null,null,null,null,null,null,null,null,null,null,null,null,null,null,null,null,null,{"$f":"VLOOKUP(\"PREFA HOCHWASSERSCHUTZ SYSTEM\",Sprachindex!$A:$Z,Haftungsausschluß!$O$6,FALSE)","v":"PREFA HOCHWASSERSCHUTZ SYSTEM"},null,null,1]
[null,null,null,null,null,null,null,null,null,null,null,null,null,null,null,null,null,null,null,null,null,null,null,null,null,null,null,null,null,null,{"$f":"VLOOKUP(\"KALKULATION\",Sprachindex!$A:$Z,Haftungsausschluß!$O$6,FALSE) &\" \" & AH1","v":"KALKULATION 1"}]
[]
[null,null,null,null,{"$f":"VLOOKUP(\"Firma / Besteller:\",Sprachindex!$A:$Z,Haftungsausschluß!$O$6,FALSE)","v":"Firma / Besteller:"},null,null,null,null,null,null,null,null,null,null,null,{"$f":"VLOOKUP(\"Bearbeiter:\",Sprachindex!A:Z,Haftungsausschluß!$O$6,FALSE)","v":"Bearbeiter:"},{"$f":"\"\"","v":""},null,null,null,null,null,null,null,null,null,null,{"$f":"VLOOKUP(\"Kundennummer:\",Sprachindex!A:Z,Haftungsausschluß!$O$6,FALSE)","v":"Kundennummer:"},{"$f":"\"\"","v":""}]
[null,null,null,{"$f":"VLOOKUP(\"Name:\",Sprachindex!$A:$Z,Haftungsausschluß!$O$6,FALSE)","v":"Name:"},{"$f":"IF(Erhebungsbogen!C8>0,Erhebungsbogen!C8,\"\")","v":""},null,null,null,null,null,null,null,null,{"$f":"VLOOKUP(\"Service:\",Sprachindex!A:Z,Haftungsausschluß!$O$6,FALSE)","v":"Service:"},null,{"$f":"VLOOKUP(\"Mengenermittlung/Anfrage\",Sprachindex!A:Z,Haftungsausschluß!$O$6,FALSE)","v":"Mengenermittlung/Anfrage"}]
[null,null,null,{"$f":"VLOOKUP(\"Straße:\",Sprachindex!$A:$Z,Haftungsausschluß!$O$6,FALSE)","v":"Straße:"},{"$f":"IF(Erhebungsbogen!C10>0,Erhebungsbogen!C10,\"\")","v":""},null,null,null,null,null,null,null,null,null,null,{"$f":"VLOOKUP(\"Bestellung\",Sprachindex!A:Z,Haftungsausschluß!$O$6,FALSE)","v":"Bestellung"}]
[null,null,null,{"$f":"VLOOKUP(\"Ort:\",Sprachindex!$A:$Z,Haftungsausschluß!$O$6,FALSE)","v":"Ort:"},{"$f":"IF(Erhebungsbogen!C12>0,Erhebungsbogen!C12,\"\")","v":""}]
[null,null,null,{"$f":"VLOOKUP(\"Telefon:\",Sprachindex!$A:$Z,Haftungsausschluß!$O$6,FALSE)","v":"Telefon:"},{"$f":"IF(Erhebungsbogen!C14>0,Erhebungsbogen!C14,\"\")","v":""},null,null,null,null,null,null,null,null,{"$f":"VLOOKUP(\"Farbe:\",Sprachindex!A:Z,Haftungsausschluß!$O$6,FALSE)","v":"Farbe:"},null,null,{"$f":"VLOOKUP(\"blank\",Sprachindex!A:Z,Haftungsausschluß!$O$6,FALSE)","v":"blank"},null,{"$f":"VLOOKUP(\"beschichtet\",Sprachindex!A:Z,Haftungsausschluß!$O$6,FALSE)","v":"beschichtet"},null,null,null,{"$f":"VLOOKUP(\"Multiplikator\",Sprachindex!$A:$Z,Haftungsausschluß!$O$6,FALSE)","v":"Multiplikator"}]
[null,null,null,{"$f":"VLOOKUP(\"eMail:\",Sprachindex!$A:$Z,Haftungsausschluß!$O$6,FALSE)","v":"eMail:"},{"$f":"IF(Erhebungsbogen!C16>0,Erhebungsbogen!C16,\"\")","v":""},null,null,null,null,null,null,null,null,null,null,null,"RAL oder PREFA Farbe:",{"$f":"Erhebungsbogen!C37","v":0},null,null,null,null,{"$f":"VLOOKUP(\"Anzahl der gleichen Systeme:\",Sprachindex!$A:$Z,Haftungsausschluß!$O$6,FALSE)","v":"Anzahl der gleichen Systeme:"},null,null,null,null,null,null,null,{"$f":"IF(Erhebungsbogen!C31=0,1,Erhebungsbogen!C31)","v":1},null,null,{"$f":"VLOOKUP(\"Bodenhülse\",Sprachindex!$A:$Z,Haftungsausschluß!$O$6,FALSE)","v":"Bodenhülse"}]
[null,null,null,{"$f":"VLOOKUP(\"Kommission:\",Sprachindex!$A:$Z,Haftungsausschluß!$O$6,FALSE)","v":"Kommission:"},{"$f":"IF(Erhebungsbogen!C18>0,Erhebungsbogen!C18,\"\")","v":""},null,null,null,null,null,null,null,{"$f":"VLOOKUP(\"Beschichtung\",Sprachindex!$A:$Z,Haftungsausschluß!$O$6,FALSE)","v":"Beschichtung"},null,null,null,null,{"$f":"\"     \" &VLOOKUP(\"Abdeckung\",Sprachindex!$A:$Z,Haftungsausschluß!$O$6,FALSE)","v":"     Abdeckung"},null,null,null,null,{"$f":"VLOOKUP(\"Ausführungsart\",Sprachindex!$A:$Z,Haftungsausschluß!$O$6,FALSE)","v":"Ausführungsart"},null,null,null,null,null,null,null,null,null,null,1]
[null,null,{"$f":"VLOOKUP(\"Montageart\",Sprachindex!$A:$Z,Haftungsausschluß!$O$6,FALSE)","v":"Montageart"},null,null,null,null,null,null,null,null,null,null,null,null,null,null,{"$f":"\"     \" &VLOOKUP(\"Wandprofil\",Sprachindex!$A:$Z,Haftungsausschluß!$O$6,FALSE)","v":"     Wandprofil"},null,null,null,null,{"$f":"VLOOKUP(\"Bodenhülsendeckel\",Sprachindex!$A:$Z,Haftungsausschluß!$O$6,FALSE)","v":"Bodenhülsendeckel"},null,null,null,null,{"$f":"\"     \" &VLOOKUP(\"Aluminium\",Sprachindex!$A:$Z,Haftungsausschluß!$O$6,FALSE)","v":"     Aluminium"}]
[null,null,{"$f":"VLOOKUP(\"Links\",Sprachindex!$A:$Z,Haftungsausschluß!$O$6,FALSE)","v":"Links"},null,null,null,{"$f":"VLOOKUP(\"Rechts\",Sprachindex!$A:$Z,Haftungsausschluß!$O$6,FALSE)","v":"Rechts"},null,null,null,null,null,null,null,null,null,null,{"$f":"\"     \" &VLOOKUP(\"Dammbalken\",Sprachindex!$A:$Z,Haftungsausschluß!$O$6,FALSE)","v":"     Dammbalken"},null,null,null,null,null,null,null,null,null,{"$f":"\"     \" &VLOOKUP(\"Edelstahl (verriegelbar)\",Sprachindex!$A:$Z,Haftungsausschluß!$O$6,FALSE)","v":"     Edelstahl (verriegelbar)"},null,null,null,null,null,{"$f":"VLOOKUP(\"Abdeckung\",Sprachindex!$A:$Z,Haftungsausschluß!$O$6,FALSE)","v":"Abdeckung"}]
[null,null,null,null,null,null,null,null,null,null,null,null,null,null,null,null,null,{"$f":"\"     \" &VLOOKUP(\"Lagerabdeckung\",Sprachindex!$A:$Z,Haftungsausschluß!$O$6,FALSE)","v":"     Lagerabdeckung"},null,null,null,null,{"$f":"VLOOKUP(\"Abdeckung\",Sprachindex!$A:$Z,Haftungsausschluß!$O$6,FALSE)","v":"Abdeckung"},null,null,null,null,{"$f":"\"     \" &VLOOKUP(\"keine\",Sprachindex!$A:$Z,Haftungsausschluß!$O$6,FALSE)","v":"     keine"},null,null,null,null,null,{"$f":"IF(Erhebungsbogen!$P$21=1,2,IF(Erhebungsbogen!$P$21=2,3,1))","v":1}]
[null,null,null,null,null,null,null,null,null,null,null,null,null,null,null,null,null,null,null,null,null,null,null,null,null,null,null,{"$f":"\"     \" &VLOOKUP(\"Gerade V\",Sprachindex!$A:$Z,Haftungsausschluß!$O$6,FALSE)","v":"     Gerade V"}]
[null,null,null,null,null,null,null,null,null,null,null,null,{"$f":"VLOOKUP(\"System 25:\",Sprachindex!$A:$Z,Haftungsausschluß!$O$6,FALSE)","v":"System 25:"},null,null,{"$f":"VLOOKUP(\"System 50:\",Sprachindex!$A:$Z,Haftungsausschluß!$O$6,FALSE)","v":"System 50:"},null,null,{"$f":"VLOOKUP(\"System 80:\",Sprachindex!$A:$Z,Haftungsausschluß!$O$6,FALSE)","v":"System 80:"},null,null,null,null,null,null,null,null,{"$f":"\"     \" &VLOOKUP(\"Winkelabdeckung VO\",Sprachindex!$A:$Z,Haftungsausschluß!$O$6,FALSE)","v":"     Winkelabdeckung VO"},null,null,null,null,null,{"$f":"VLOOKUP(\"Zubehör\",Sprachindex!$A:$Z,Haftungsausschluß!$O$6,FALSE)","v":"Zubehör"}]
[null,null,{"$f":"VLOOKUP(\"Vor der Leibung\",Sprachindex!$A:$Z,Haftungsausschluß!$O$6,FALSE)","v":"Vor der Leibung"},null,null,null,{"$f":"VLOOKUP(\"Vor der Leibung\",Sprachindex!$A:$Z,Haftungsausschluß!$O$6,FALSE)","v":"Vor der Leibung"},null,null,null,null,null,"-",null,null,{"$f":"VLOOKUP(\"50/150mm\",Sprachindex!$A:$Z,Haftungsausschluß!$O$6,FALSE)","v":"50/150mm"},null,null,"-",null,null,null,null,null,null,null,null,null,null,null,null,null,null,false,{"$f":"VLOOKUP(\"Sicherungsschraube Abdeckung:\",Sprachindex!$A:$Z,Haftungsausschluß!$O$6,FALSE)","v":"Sicherungsschraube Abdeckung:"},null,"Links","Rechts","System","Rundprofil normal/gr","Service","Besch",null,null,null,null,null,"(Objekt od. Landsch.)"]
[null,null,{"$f":"VLOOKUP(\"In der Leibung\",Sprachindex!$A:$Z,Haftungsausschluß!$O$6,FALSE)","v":"In der Leibung"},null,null,null,{"$f":"VLOOKUP(\"In der Leibung\",Sprachindex!$A:$Z,Haftungsausschluß!$O$6,FALSE)","v":"In der Leibung"},null,null,null,null,null,{"$f":"VLOOKUP(\"25/200mm\",Sprachindex!$A:$Z,Haftungsausschluß!$O$6,FALSE)","v":"25/200mm"},null,null,{"$f":"VLOOKUP(\"50/200mm\",Sprachindex!$A:$Z,Haftungsausschluß!$O$6,FALSE)","v":"50/200mm"},null,null,{"$f":"VLOOKUP(\"80/200mm\",Sprachindex!$A:$Z,Haftungsausschluß!$O$6,FALSE)","v":"80/200mm"},null,null,null,{"$f":"VLOOKUP(\"Zubehör\",Sprachindex!$A:$Z,Haftungsausschluß!$O$6,FALSE)","v":"Zubehör"},null,null,null,null,null,null,null,null,null,null,false,{"$f":"VLOOKUP(\"Niederhalter Dammbalken:max.1750\",Sprachindex!$A:$Z,Haftungsausschluß!$O$6,FALSE)","v":"Niederhalter Dammbalken:max.1750"},null,{"$f":"Erhebungsbogen!$O$21","v":1},{"$f":"Erhebungsbogen!$O$21","v":1},3,1,2,1,null,null,null,null,null,1]
[null,null,{"$f":"VLOOKUP(\"Bündig\",Sprachindex!$A:$Z,Haftungsausschluß!$O$6,FALSE)","v":"Bündig"},null,null,null,{"$f":"VLOOKUP(\"Bündig\",Sprachindex!$A:$Z,Haftungsausschluß!$O$6,FALSE)","v":"Bündig"},null,null,null,null,null,null,null,null,null,null,null,null,null,null,null,{"$f":"\"     \" &VLOOKUP(\"Sicherungsschraube Abdeckung:\",Sprachindex!$A:$Z,Haftungsausschluß!$O$6,FALSE)","v":"     Sicherungsschraube Abdeckung:"},null,null,null,null,null,null,null,null,null,null,{"$f":"IF(Erhebungsbogen!P29=1,TRUE,FALSE)","v":true},{"$f":"VLOOKUP(\"Spannstück mit Sterngriff:\",Sprachindex!$A:$Z,Haftungsausschluß!$O$6,FALSE)","v":"Spannstück mit Sterngriff:"}]
[null,null,null,null,null,null,null,null,null,null,null,null,{"$f":"VLOOKUP(\"Rundprofil\",Sprachindex!$A:$Z,Haftungsausschluß!$O$6,FALSE)","v":"Rundprofil"},null,null,null,null,null,null,null,null,null,{"$f":"\"     \" &VLOOKUP(\"Niederhalter Dammbalken:max.1750\",Sprachindex!$A:$Z,Haftungsausschluß!$O$6,FALSE)","v":"     Niederhalter Dammbalken:max.1750"},null,null,null,null,null,null,{"$f":"VLOOKUP(\"Stk\",Sprachindex!$A:$Z,Haftungsausschluß!$O$6,FALSE)","v":"Stk"},null,null,null,{"$f":"IF(Erhebungsbogen!P29=2,TRUE,FALSE)","v":false},{"$f":"VLOOKUP(\"Spannstück mit 6-Kantschraube:\",Sprachindex!$A:$Z,Haftungsausschluß!$O$6,FALSE)","v":"Spannstück mit 6-Kantschraube:"},null,"MontageartLinks1"]
[null,null,{"$f":"VLOOKUP(\"Dateneingabe\",Sprachindex!$A:$Z,Haftungsausschluß!$O$6,FALSE)","v":"Dateneingabe"},null,null,null,null,null,null,null,null,null,null,{"$f":"VLOOKUP(\"Rundprofil\",Sprachindex!$A:$Z,Haftungsausschluß!$O$6,FALSE)","v":"Rundprofil"},null,null,null,null,null,null,null,null,{"$f":"\"     \" &VLOOKUP(\"Spannstück mit Sterngriff:\",Sprachindex!$A:$Z,Haftungsausschluß!$O$6,FALSE)","v":"     Spannstück mit Sterngriff:"},null,null,null,null,null,null,null,null,null,null,{"$f":"Erhebungsbogen!P54","v":false},{"$f":"VLOOKUP(\"Dauerbodendichtung:\",Sprachindex!$A:$Z,Haftungsausschluß!$O$6,FALSE)","v":"Dauerbodendichtung:"}]
[null,null,{"$f":"VLOOKUP(\"Lichteweite [mm]:\",Sprachindex!$A:$Z,Haftungsausschluß!$O$6,FALSE)","v":"Lichteweite [mm]:"},null,null,null,null,null,0,null,null,null,null,{"$f":"VLOOKUP(\"Rundprofil Groß\",Sprachindex!$A:$Z,Haftungsausschluß!$O$6,FALSE)","v":"Rundprofil Groß"},null,null,{"$f":"VLOOKUP(\"Stk\",Sprachindex!$A:$Z,Haftungsausschluß!$O$6,FALSE)","v":"Stk"},null,null,null,null,null,{"$f":"\"     \" &VLOOKUP(\"Spannstück mit 6-Kantschraube:\",Sprachindex!$A:$Z,Haftungsausschluß!$O$6,FALSE)","v":"     Spannstück mit 6-Kantschraube:"},null,null,null,null,null,null,null,null,null,null,{"$f":"Erhebungsbogen!P39","v":false},{"$f":"VLOOKUP(\"Halterungen Dammbalken:\",Sprachindex!$A:$Z,Haftungsausschluß!$O$6,FALSE)","v":"Halterungen Dammbalken:"}]
[null,null,{"$f":"IF(OR(AK17=1,AL17=1),VLOOKUP(\"zusätzlicher Randabstand:\",Sprachindex!$A:$Z,Haftungsausschluß!$O$6,FALSE),\"\")","v":"zusätzlicher Randabstand:"},null,null,null,null,null,{"$f":"Erhebungsbogen!J54","v":0},null,null,null,{"$f":"VLOOKUP(\"Rundprofil 90°\",Sprachindex!$A:$Z,Haftungsausschluß!$O$6,FALSE)","v":"Rundprofil 90°"},null,null,null,null,null,null,null,null,null,{"$f":"\"     \" &VLOOKUP(\"Dauerbodendichtung:\",Sprachindex!$A:$Z,Haftungsausschluß!$O$6,FALSE)","v":"     Dauerbodendichtung:"},null,null,null,null,null,null,null,null,null,null,{"$f":"Erhebungsbogen!P46","v":false},{"$f":"VLOOKUP(\"Lagerabdeckung\",Sprachindex!$A:$Z,Haftungsausschluß!$O$6,FALSE)","v":"Lagerabdeckung"}]
[null,null,{"$f":"VLOOKUP(\"Stauhöhe (BHW) [mm]:\",Sprachindex!$A:$Z,Haftungsausschluß!$O$6,FALSE)","v":"Stauhöhe (BHW) [mm]:"},null,null,null,null,null,0,null,null,null,{"$f":"VLOOKUP(\"Rundprofil Vario\",Sprachindex!$A:$Z,Haftungsausschluß!$O$6,FALSE)","v":"Rundprofil Vario"},null,null,null,null,null,null,null,null,null,{"$f":"\"     \" &VLOOKUP(\"Halterungen Dammbalken:\",Sprachindex!$A:$Z,Haftungsausschluß!$O$6,FALSE)","v":"     Halterungen Dammbalken:"},null,null,null,null,null,null,null,null,null,null,false,{"$f":"VLOOKUP(\"Hebehilfe für Bodenhülsendeckel\",Sprachindex!$A:$Z,Haftungsausschluß!$O$6,FALSE)","v":"Hebehilfe für Bodenhülsendeckel"},null,null,null,"VarioSteher"]
[null,null,{"$f":"VLOOKUP(\"Freibord [mm]:\",Sprachindex!$A:$Z,Haftungsausschluß!$O$6,FALSE)","v":"Freibord [mm]:"},null,null,null,null,null,null,null,null,null,{"$f":"IF((Q22+Q23)>=I26,VLOOKUP(\"ACHTUNG: zu viele Rundprofile gewählt\",Sprachindex!$A:$Z,Haftungsausschluß!$O$6,FALSE),\"\")","v":""},null,null,null,null,null,null,null,null,null,{"$f":"\"     \" &VLOOKUP(\"Lagerabdeckung\",Sprachindex!$A:$Z,Haftungsausschluß!$O$6,FALSE)","v":"     Lagerabdeckung"},null,null,null,null,null,null,null,null,null,null,false,{"$f":"VLOOKUP(\"Dichtungsroller 25/50\",Sprachindex!$A:$Z,Haftungsausschluß!$O$6,FALSE)","v":"Dichtungsroller 25/50"},null,null,null,{"$f":"IF(AM17=1,\"\",\"15°\")","v":"15°"}]
[null,null,{"$f":"IF(I25>2150,VLOOKUP(\"Profilhöhe zu hoch!\",Sprachindex!$A:$Z,Haftungsausschluß!$O$6,FALSE),VLOOKUP(\"erf. Profilhöhe f. Spanner:\",Sprachindex!$A:$Z,Haftungsausschluß!$O$6,FALSE))","v":"erf. Profilhöhe f. Spanner:"},null,null,null,null,null,120,null,null,null,{"$f":"VLOOKUP(\"Sonderkosten\",Sprachindex!$A:$Z,Haftungsausschluß!$O$6,FALSE)","v":"Sonderkosten"},null,null,null,null,null,null,null,null,null,{"$f":"\"     \" &VLOOKUP(\"Hebehilfe für Bodenhülsendeckel\",Sprachindex!$A:$Z,Haftungsausschluß!$O$6,FALSE)","v":"     Hebehilfe für Bodenhülsendeckel"},null,null,null,null,null,null,{"$f":"VLOOKUP(\"Stk\",Sprachindex!$A:$Z,Haftungsausschluß!$O$6,FALSE)","v":"Stk"},null,null,null,false,{"$f":"VLOOKUP(\"Dichtungsroller 80\",Sprachindex!$A:$Z,Haftungsausschluß!$O$6,FALSE)","v":"Dichtungsroller 80"},null,null,null,{"$f":"IF(AM17=1,\"\",\"30°\")","v":"30°"}]
[null,null,{"$f":"VLOOKUP(\"Anzahl der Felder:\",Sprachindex!$A:$Z,Haftungsausschluß!$O$6,FALSE)","v":"Anzahl der Felder:"},null,null,null,null,null,1,null,null,null,{"$f":"\"     \" &VLOOKUP(\"Sonderanfertigung\",Sprachindex!$A:$Z,Haftungsausschluß!$O$6,FALSE)","v":"     Sonderanfertigung"},null,null,null,null,null,null,{"$f":"VLOOKUP(\"Stk\",Sprachindex!$A:$Z,Haftungsausschluß!$O$6,FALSE)","v":"Stk"},null,null,{"$f":"\"     \" &VLOOKUP(\"Dichtungsroller 25/50\",Sprachindex!$A:$Z,Haftungsausschluß!$O$6,FALSE)","v":"     Dichtungsroller 25/50"},null,null,null,null,null,null,{"$f":"VLOOKUP(\"Stk\",Sprachindex!$A:$Z,Haftungsausschluß!$O$6,FALSE)","v":"Stk"},null,null,null,{"$f":"VLOOKUP(\"Sonderkosten\",Sprachindex!$A:$Z,Haftungsausschluß!$O$6,FALSE)","v":"Sonderkosten"},null,null,null,null,{"$f":"IF(AM17=1,\"\",\"45°\")","v":"45°"}]
[null,null,{"$f":"VLOOKUP(\"Anströmwinkel [°]:\",Sprachindex!$A:$Z,Haftungsausschluß!$O$6,FALSE)","v":"Anströmwinkel [°]:"},null,null,null,null,null,0,null,null,null,{"$f":"\"     \" &VLOOKUP(\"Längenänderung Wandprofil\",Sprachindex!$A:$Z,Haftungsausschluß!$O$6,FALSE)","v":"     Längenänderung Wandprofil"},null,null,null,null,null,null,{"$f":"VLOOKUP(\"Stk\",Sprachindex!$A:$Z,Haftungsausschluß!$O$6,FALSE)","v":"Stk"},null,null,{"$f":"\"     \" &VLOOKUP(\"Dichtungsroller 80\",Sprachindex!$A:$Z,Haftungsausschluß!$O$6,FALSE)","v":"     Dichtungsroller 80"},null,null,null,null,null,null,{"$f":"VLOOKUP(\"Stk\",Sprachindex!$A:$Z,Haftungsausschluß!$O$6,FALSE)","v":"Stk"},null,null,null,false,{"$f":"VLOOKUP(\"Verankerung aufgeschweißt 300mm\",Sprachindex!$A:$Z,Haftungsausschluß!$O$6,FALSE)","v":"Verankerung aufgeschweißt 300mm"},null,null,null,{"$f":"IF(AM17=1,\"\",\"60°\")","v":"60°"}]
[null,null,null,null,null,null,null,null,null,null,null,null,{"$f":"\"     \" &VLOOKUP(\"Ausfräsung Wandprofil für DB\",Sprachindex!$A:$Z,Haftungsausschluß!$O$6,FALSE)","v":"     Ausfräsung Wandprofil für DB"},null,null,null,null,null,null,{"$f":"VLOOKUP(\"Stk\",Sprachindex!$A:$Z,Haftungsausschluß!$O$6,FALSE)","v":"Stk"},null,null,{"$f":"IF(Haftungsausschluß!L22=2,\"     \" &VLOOKUP(\"Montagematerial\",Sprachindex!$A:$Z,Haftungsausschluß!$O$6,FALSE),\"\")","v":""},null,null,null,null,null,null,{"$f":"VLOOKUP(\"Pa\",Sprachindex!$A:$Z,Haftungsausschluß!$O$6,FALSE)","v":"Pa"},null,null,null,false,{"$f":"VLOOKUP(\"Längenänderung Wandprofil\",Sprachindex!$A:$Z,Haftungsausschluß!$O$6,FALSE)","v":"Längenänderung Wandprofil"},null,null,null,{"$f":"IF(OR(AM17=2,AM17=3),\"75°\",\"\")","v":"75°"},null,{"$f":"28+AK17","v":29},{"$f":"28+AL17","v":29},null,{"$f":"28+AN17","v":29},{"$f":"28+IF(I26>8,8,I26)","v":29},{"$f":"28+IF(I26>8,9,I26)","v":29},null,null,null,null,null,null,{"$f":"28+IF(I26>8,9,I26)","v":29}]
[null,null,null,null,null,null,null,null,null,null,null,null,{"$f":"\"     \" &VLOOKUP(\"Aufpreis Planungsstunde\",Sprachindex!$A:$Z,Haftungsausschluß!$O$6,FALSE)","v":"     Aufpreis Planungsstunde"},null,null,null,null,null,null,{"$f":"VLOOKUP(\"Std\",Sprachindex!$A:$Z,Haftungsausschluß!$O$6,FALSE)","v":"Std"},null,null,{"$f":"IF(Haftungsausschluß!L22=2,\"     \" &VLOOKUP(\"Montage\",Sprachindex!$A:$Z,Haftungsausschluß!$O$6,FALSE),\"\")","v":""},null,null,null,null,null,null,{"$f":"VLOOKUP(\"Pa\",Sprachindex!$A:$Z,Haftungsausschluß!$O$6,FALSE)","v":"Pa"},null,null,null,false,{"$f":"VLOOKUP(\"Ausfräsung Wandprofil für DB\",Sprachindex!$A:$Z,Haftungsausschluß!$O$6,FALSE)","v":"Ausfräsung Wandprofil für DB"},null,null,null,null,null,null,null,null,null,null,"        1"]
[null,null,null,null,null,null,null,null,null,null,null,null,null,null,null,null,null,null,null,null,null,null,{"$f":"IF(Haftungsausschluß!L22=2,\"     \" &VLOOKUP(\"Fahrtkosten\",Sprachindex!$A:$Z,Haftungsausschluß!$O$6,FALSE),\"\")","v":""},null,null,null,null,null,null,{"$f":"VLOOKUP(\"Pa\",Sprachindex!$A:$Z,Haftungsausschluß!$O$6,FALSE)","v":"Pa"},null,null,null,false,{"$f":"VLOOKUP(\"Aufpreis Planungsstunde\",Sprachindex!$A:$Z,Haftungsausschluß!$O$6,FALSE)","v":"Aufpreis Planungsstunde"},null,null,null,null,null,null,null,null,null,null,{"$f":"\"     1                2\"","v":"     1                2"},null,null,null,null,null,null,{"$f":"\"     1\"","v":"     1"}]
[null,null,null,null,null,null,null,null,null,null,null,null,null,null,null,null,null,null,null,null,null,null,null,null,null,null,null,null,null,null,null,null,null,null,null,null,null,null,null,null,null,null,null,null,null,{"$f":"\"     1                2                  3\"","v":"     1                2                  3"},null,null,null,null,null,null,{"$f":"\"     1                  2\"","v":"     1                  2"}]
[null,null,null,null,null,null,null,null,null,null,null,null,null,null,null,null,null,null,null,null,null,null,{"$f":"VLOOKUP(\"Definition Feld Innenlichte:\",Sprachindex!$A:$Z,Haftungsausschluß!$O$6,FALSE)","v":"Definition Feld Innenlichte:"},null,null,null,null,null,null,null,null,null,null,{"$f":"VLOOKUP(\"Beschichtung\",Sprachindex!$A:$Z,Haftungsausschluß!$O$6,FALSE)","v":"Beschichtung"},null,null,null,null,null,null,null,null,null,null,null,{"$f":"\"     1                2                  3                 4\"","v":"     1                2                  3                 4"},null,null,null,null,null,null,{"$f":"\"     1                  2                 3\"","v":"     1                  2                 3"}]
[null,null,{"$f":"VLOOKUP(\"Feld Nr.\",Sprachindex!$A:$Z,Haftungsausschluß!$O$6,FALSE)","v":"Feld Nr."},null,null,null,null,null,null,null,null,null,null,null,null,null,null,null,null,null,null,null,null,null,null,null,null,null,null,null,null,null,null,{"$f":"Erhebungsbogen!O39","v":false},{"$f":"VLOOKUP(\"Dammbalken\",Sprachindex!$A:$Z,Haftungsausschluß!$O$6,FALSE)","v":"Dammbalken"},null,null,null,null,null,null,null,null,null,null,{"$f":"\"     1                2                  3                 4                  5\"","v":"     1                2                  3                 4                  5"},null,null,null,null,null,null,{"$f":"\"     1                  2                 3                  4\"","v":"     1                  2                 3                  4"}]
[null,null,null,null,null,null,null,null,null,null,null,null,null,null,null,null,null,null,null,null,null,null,null,null,null,null,null,null,null,null,null,null,null,{"$f":"Erhebungsbogen!O40","v":false},{"$f":"VLOOKUP(\"Wandprofil\",Sprachindex!$A:$Z,Haftungsausschluß!$O$6,FALSE)","v":"Wandprofil"},null,null,null,null,null,null,null,null,null,null,{"$f":"\"     1                2                  3                 4                  5                  6\"","v":"     1                2                  3                 4                  5                  6"},null,null,null,null,null,null,{"$f":"\"     1                  2                 3                  4                  5\"","v":"     1                  2                 3                  4                  5"}]
[null,null,null,null,null,null,null,null,null,null,null,null,null,null,null,null,null,null,null,null,null,null,null,null,null,null,null,null,null,null,null,null,null,{"$f":"Erhebungsbogen!O41","v":false},{"$f":"VLOOKUP(\"Abdeckung\",Sprachindex!$A:$Z,Haftungsausschluß!$O$6,FALSE)","v":"Abdeckung"},null,null,null,null,null,null,null,null,null,null,{"$f":"\"     1                2                  3                 4                  5                  6                 7\"","v":"     1                2                  3                 4                  5                  6                 7"},null,null,null,null,null,null,{"$f":"\"     1                  2                 3                  4                  5                  6\"","v":"     1                  2                 3                  4                  5                  6"}]
[null,null,null,null,null,null,null,null,null,null,null,null,null,null,null,null,null,null,null,null,null,null,null,null,null,null,null,null,null,null,null,null,null,{"$f":"Erhebungsbogen!O42","v":false},{"$f":"VLOOKUP(\"Lagerabdeckung\",Sprachindex!$A:$Z,Haftungsausschluß!$O$6,FALSE)","v":"Lagerabdeckung"},null,null,null,null,null,null,null,null,null,null,{"$f":"\"     1                2                  3                 4                  5                  6                 7                 8\"","v":"     1                2                  3                 4                  5                  6                 7                 8"},null,null,null,null,null,null,{"$f":"\"     1                  2                 3                  4                  5                  6                  7\"","v":"     1                  2                 3                  4                  5                  6                  7"}]
[null,null,{"$f":"VLOOKUP(\"Steher Nr.\",Sprachindex!$A:$Z,Haftungsausschluß!$O$6,FALSE)","v":"Steher Nr."},null,null,null,null,null,null,null,null,null,null,null,null,null,null,null,null,null,null,null,null,null,null,null,null,null,null,null,null,null,null,false,"Montagematerial",null,null,null,null,null,null,null,null,null,null,{"$f":"\"     1                2                  3                 4                  5                  6                 ...               \"  & I26","v":"     1                2                  3                 4                  5                  6                 ...               1"},null,null,null,null,null,null,{"$f":"\"     1                  2                 3                  4                  5                 …                \"  & I26-1","v":"     1                  2                 3                  4                  5                 …                0"}]
[null,null,null,null,null,null,null,null,null,null,null,null,null,null,null,null,null,null,null,null,null,null,null,null,null,null,null,null,null,null,null,null,null,false,"Montage"]
[null,null,{"$f":"IF(AND(AND(AP17=2,AH33),MAX(E42:G230)>3000),\"Achtung! Maximallänge bei Beschichtung 3000mm\",\"\")","v":""},null,null,null,null,null,null,null,null,null,null,{"$f":"VLOOKUP(\"Statische Ausnutzung Dammbalken in %\",Sprachindex!$A:$Z,Haftungsausschluß!$O$6,FALSE)","v":"Statische Ausnutzung Dammbalken in %"},null,null,null,null,null,null,null,null,null,{"$f":"VLOOKUP(\"Statische Ausnutzung Steher in %\",Sprachindex!$A:$Z,Haftungsausschluß!$O$6,FALSE)","v":"Statische Ausnutzung Steher in %"},null,null,null,null,null,null,null,null,null,false,"Fahrtkosten"]
[null,null,{"$f":"VLOOKUP(\"Feld Nr.\",Sprachindex!$A:$Z,Haftungsausschluß!$O$6,FALSE)","v":"Feld Nr."},null,{"$f":"VLOOKUP(\"Länge\",Sprachindex!$A:$Z,Haftungsausschluß!$O$6,FALSE)","v":"Länge"},null,null,null,null,null,null,null,null,{"$f":"VLOOKUP(\"Hydrostatisch & -dynamisch\",Sprachindex!$A:$Z,Haftungsausschluß!$O$6,FALSE)","v":"Hydrostatisch & -dynamisch"},null,null,null,null,null,{"$f":"VLOOKUP(\"mit Treibgut\",Sprachindex!$A:$Z,Haftungsausschluß!$O$6,FALSE)","v":"mit Treibgut"},null,null,null,{"$f":"VLOOKUP(\"Hydrostatisch & -dynamisch\",Sprachindex!$A:$Z,Haftungsausschluß!$O$6,FALSE)","v":"Hydrostatisch & -dynamisch"},null,null,null,null,null,{"$f":"VLOOKUP(\"mit Treibgut\",Sprachindex!$A:$Z,Haftungsausschluß!$O$6,FALSE)","v":"mit Treibgut"}]
[null,null,null,null,{"$f":"VLOOKUP(\"Plan-Dammbalken\",Sprachindex!$A:$Z,Haftungsausschluß!$O$6,FALSE)","v":"Plan-Dammbalken"},null,null,{"$f":"VLOOKUP(\"[L] Innenlichte\",Sprachindex!$A:$Z,Haftungsausschluß!$O$6,FALSE)","v":"[L] Innenlichte"},null,null,null,null,null,{"$f":"VLOOKUP(\"Feld Nr.\",Sprachindex!$A:$Z,Haftungsausschluß!$O$6,FALSE)","v":"Feld Nr."},null,{"$f":"VLOOKUP(\"Durchbiegung\",Sprachindex!$A:$Z,Haftungsausschluß!$O$6,FALSE)","v":"Durchbiegung"},null,{"$f":"VLOOKUP(\"Tragsicherheitsauslastung\",Sprachindex!$A:$Z,Haftungsausschluß!$O$6,FALSE)","v":"Tragsicherheitsauslastung"},null,null,null,null,null,{"$f":"VLOOKUP(\"Steher Nr.\",Sprachindex!$A:$Z,Haftungsausschluß!$O$6,FALSE)","v":"Steher Nr."},null,{"$f":"VLOOKUP(\"Durchbiegung\",Sprachindex!$A:$Z,Haftungsausschluß!$O$6,FALSE)","v":"Durchbiegung"},null,{"$f":"VLOOKUP(\"Tragsicherheitsauslastung\",Sprachindex!$A:$Z,Haftungsausschluß!$O$6,FALSE)","v":"Tragsicherheitsauslastung"},null,null,null,null,null,null,null,null,null,null,null,null,null,null,null,null,null,null,null,"Stk","Länge","Zeilenbeschriftungen","Summe von Stk"]
[null,null,1,null,86,null,null,null,null,null,null,null,136,1,null,"1 /",-27237228,-0.01,null,null,null,null,null,null,null,null,null,null,null,null,null,null,null,null,null,null,null,null,null,null,null,null,null,null,null,null,null,0,86,"(Leer)",null,null,null,null,null,null,null,null,null,null,null,null,null,null,null,null,null,null,null,null,null,null,null,null,null,null,null,null,null,null,null,null,null,null,null,null,null,null,null,null,null,null,null,null,null,null,null,null,null,null,null,null,null,null,null,null,null,null,null,null,null,null,null,null,null,null,null,null,null,null,null,null,null,null,null,null,null,null,null,null,null,null,null,null,null,null,null,null,null,null,null,null,null,null,null,null,null,null,null,null,null,null,null,null,null,null,null,null,null,null,null,null,null,null,null,null,null,null,null,null,null,null,null,null,null,null,null,null,null,null,null,null,null,null,null,null,null,null,null,null,null,null,null,null,null,null,null,null,null,null,null,null,null,null,null,null,null,null,null,null,null,null,null,null,null,null,null,null,null,null,null,null,null,null,null,null,null,null,null,null,null,null,null,null,null,null,null,null,null,null,null,null,null,null,null,null,null,null,null,null,null,null,null,null,null,null,null,null,null,null,null,null,null,null,null,null,null,null,null,null,null,null,null,null,null,null,null,null,null,null,null,null,null,null,null,null,null,null,null,null,null,null,null,null,null,null,null,null,null,null,null,null,null,null,null,null,null,null,null,null,null,null,null,null,null,null,null,null,null,null,null,null,null,null,null,null,null,null,null,null,null,null,null,null,null,null,null,null,null,null,null,null,null,null,null,null,null,null,null,null,null,null,null,null,null,null,null,null,null,null,null,null,null,null,null,null,null,null,null,null,null,null,null,null,null,null,null,null,null,null,null,null,null,null,null,null,null,null,null,null,null,null,null,null,null,null,null,null,null,null,null,null,null,null,null,null,null,null,null,null,null,null,null,null,null,null,null,null,null,null,null,null,null,null,null,null,null,null,null,null,null,null,null,null,null,null,null,null,null,null,null,null,null,null,null,null,null,null,null,null,null,null,null,null,null,null,null,null,null,null,null,null,null,null,null,null,null,null,null,null,null,null,null,null,null,null,null,null,null,null,null,null,null,null,null,null,null,null,null,null,null,null,null,null,null,null,null,null,null,null,null,null,null,null,null,null,null,null,null,null,null,null,null,null,null,null,null,null,null,null,null,null,null,null,null,null,null,null,null,null,null,null,null,null,null,null,null,null,null,null,null,null,null,null,null,null,null,null,null,null,null,null,null,null,null,null,null,null,null,null,null,null,null,null,null,null,null,null,null,null,null,null,null,null,null,null,null,null,null,null,null,null,null,null,null,null,null,null,null,null,null,null,null,null,null,null,null,null,null,null,null,null,null,null,null,null,null,null,null,null,null,null,null,null,null,null,null,null,null,null,null,null,null,null,null,null,null,null,null,null,null,null,null,null,null,null,null,null,null,null,null,null,null,null,null,null,null,null,null,null,null,null,null,null,null,null,null,null,null,null,null,null,null,null,null,null,null,null,null,null,null,null,null,null,null,null,null,null,null,null,null,null,null,null,null,null,null,null,null,null,null,null,null,null,null,null,null,null,null,null,null,null,null,null,null,null,null,null,null,null,null,null,null,null,null,null,null,null,null,null,null,null,null,null,null,null,null,null,null,null,null,null,null,null,null,null,null,null,null,null,null,null,null,null,null,null,0.78]
[null,null,null,null,null,null,null,null,null,null,null,null,531.5,null,null,null,null,null,null,null,null,null,null,null,null,null,null,null,null,null,null,null,null,null,86,"*",4.12,"/",1000,"=",0.35431999999999997,null,null,null,null,null,null,null,null,86,0,null,null,null,null,null,null,null,null,null,null,null,null,null,null,null,null,null,null,null,null,null,null,null,null,null,null,null,null,null,null,null,null,null,null,null,null,null,null,null,null,null,null,null,null,null,null,null,null,null,null,null,null,null,null,null,null,null,null,null,null,null,null,null,null,null,null,null,null,null,null,null,null,null,null,null,null,null,null,null,null,null,null,null,null,null,null,null,null,null,null,null,null,null,null,null,null,null,null,null,null,null,null,null,null,null,null,null,null,null,null,null,null,null,null,null,null,null,null,null,null,null,null,null,null,null,null,null,null,null,null,null,null,null,null,null,null,null,null,null,null,null,null,null,null,null,null,null,null,null,null,null,null,null,null,null,null,null,null,null,null,null,null,null,null,null,null,null,null,null,null,null,null,null,null,null,null,null,null,null,null,null,null,null,null,null,null,null,null,null,null,null,null,null,null,null,null,null,null,null,null,null,null,null,null,null,null,null,null,null,null,null,null,null,null,null,null,null,null,null,null,null,null,null,null,null,null,null,null,null,null,null,null,null,null,null,null,null,null,null,null,null,null,null,null,null,null,null,null,null,null,null,null,null,null,null,null,null,null,null,null,null,null,null,null,null,null,null,null,null,null,null,null,null,null,null,null,null,null,null,null,null,null,null,null,null,null,null,null,null,null,null,null,null,null,null,null,null,null,null,null,null,null,null,null,null,null,null,null,null,null,null,null,null,null,null,null,null,null,null,null,null,null,null,null,null,null,null,null,null,null,null,null,null,null,null,null,null,null,null,null,null,null,null,null,null,null,null,null,null,null,null,null,null,null,null,null,null,null,null,null,null,null,null,null,null,null,null,null,null,null,null,null,null,null,null,null,null,null,null,null,null,null,null,null,null,null,null,null,null,null,null,null,null,null,null,null,null,null,null,null,null,null,null,null,null,null,null,null,null,null,null,null,null,null,null,null,null,null,null,null,null,null,null,null,null,null,null,null,null,null,null,null,null,null,null,null,null,null,null,null,null,null,null,null,null,null,null,null,null,null,null,null,null,null,null,null,null,null,null,null,null,null,null,null,null,null,null,null,null,null,null,null,null,null,null,null,null,null,null,null,null,null,null,null,null,null,null,null,null,null,null,null,null,null,null,null,null,null,null,null,null,null,null,null,null,null,null,null,null,null,null,null,null,null,null,null,null,null,null,null,null,null,null,null,null,null,null,null,null,null,null,null,null,null,null,null,null,null,null,null,null,null,null,null,null,null,null,null,null,null,null,null,null,null,null,null,null,null,null,null,null,null,null,null,null,null,null,null,null,null,null,null,null,null,null,null,null,null,null,null,null,null,null,null,null,null,null,null,null,null,null,null,null,null,null,null,null,null,null,null,null,null,null,null,null,null,null,null,null,null,null,null,null,null,null,null,null,null,null,null,null,null,null,null,null,null,null,null,null,null,null,null,null,null,null,null,null,null,null,null,null,null,null,null,null,null,null,null,null,null,null,null,null,null,null,null,null,null,null,null,null,null,null,null,null,null,null,null,null,null,null,null,null,null,null,null,null,null,null,null,null,null,null,null,null,null,null,null,null,null,null,null,null,null,null,0.78]
[null,null,null,null,null,null,null,null,null,null,null,null,null,null,null,null,null,null,null,null,null,null,null,null,null,null,null,null,null,null,null,null,null,null,481.5,"*",4.12,"/",1000,"=",1.9837799999999999,null,null,null,null,null,null,null,null,null,null,null,null,"Stk","Länge",null,null,null,null,null,null,null,null,null,null,null,null,null,null,null,null,null,null,null,null,null,null,null,null,null,null,null,null,null,null,null,null,null,null,null,null,null,null,null,null,null,null,null,null,null,null,null,null,null,null,null,null,null,null,null,null,null,null,null,null,null,null,null,null,null,null,null,null,null,null,null,null,null,null,null,null,null,null,null,null,null,null,null,null,null,null,null,null,null,null,null,null,null,null,null,null,null,null,null,null,null,null,null,null,null,null,null,null,null,null,null,null,null,null,null,null,null,null,null,null,null,null,null,null,null,null,null,null,null,null,null,null,null,null,null,null,null,null,null,null,null,null,null,null,null,null,null,null,null,null,null,null,null,null,null,null,null,null,null,null,null,null,null,null,null,null,null,null,null,null,null,null,null,null,null,null,null,null,null,null,null,null,null,null,null,null,null,null,null,null,null,null,null,null,null,null,null,null,null,null,null,null,null,null,null,null,null,null,null,null,null,null,null,null,null,null,null,null,null,null,null,null,null,null,null,null,null,null,null,null,null,null,null,null,null,null,null,null,null,null,null,null,null,null,null,null,null,null,null,null,null,null,null,null,null,null,null,null,null,null,null,null,null,null,null,null,null,null,null,null,null,null,null,null,null,null,null,null,null,null,null,null,null,null,null,null,null,null,null,null,null,null,null,null,null,null,null,null,null,null,null,null,null,null,null,null,null,null,null,null,null,null,null,null,null,null,null,null,null,null,null,null,null,null,null,null,null,null,null,null,null,null,null,null,null,null,null,null,null,null,null,null,null,null,null,null,null,null,null,null,null,null,null,null,null,null,null,null,null,null,null,null,null,null,null,null,null,null,null,null,null,null,null,null,null,null,null,null,null,null,null,null,null,null,null,null,null,null,null,null,null,null,null,null,null,null,null,null,null,null,null,null,null,null,null,null,null,null,null,null,null,null,null,null,null,null,null,null,null,null,null,null,null,null,null,null,null,null,null,null,null,null,null,null,null,null,null,null,null,null,null,null,null,null,null,null,null,null,null,null,null,null,null,null,null,null,null,null,null,null,null,null,null,null,null,null,null,null,null,null,null,null,null,null,null,null,null,null,null,null,null,null,null,null,null,null,null,null,null,null,null,null,null,null,null,null,null,null,null,null,null,null,null,null,null,null,null,null,null,null,null,null,null,null,null,null,null,null,null,null,null,null,null,null,null,null,null,null,null,null,null,null,null,null,null,null,null,null,null,null,null,null,null,null,null,null,null,null,null,null,null,null,null,null,null,null,null,null,null,null,null,null,null,null,null,null,null,null,null,null,null,null,null,null,null,null,null,null,null,null,null,null,null,null,null,null,null,null,null,null,null,null,null,null,null,null,null,null,null,null,null,null,null,null,null,null,null,null,null,null,null,null,null,null,null,null,null,null,null,null,null,null,null,null,null,null,null,null,null,null,null,null,null,null,null,null,null,null,null,null,null,null,null,null,null,null,null,null,null,null,null,null,null,null,null,null,null,null,null,null,null,null,null,null,null,null,null,null,null,null,null,null,null,null,null,null,null,null,null,null,null,null,null,null,null,null,null,null,null,null,null,0.78]
[null,null,null,null,null,null,null,null,null,null,null,null,null,null,null,null,null,null,null,null,null,null,null,null,null,null,null,null,null,null,null,null,null,null,2662,"*",4.12,"/",1000,"=",10.96744,null,null,null,null,null,null,null,null,null,null,null,null,"1 b",5395,null,null,null,null,null,null,null,null,null,null,null,null,null,null,null,null,null,null,null,null,null,null,null,null,null,null,null,null,null,null,null,null,null,null,null,null,null,null,null,null,null,null,null,null,null,null,null,null,null,null,null,null,null,null,null,null,null,null,null,null,null,null,null,null,null,null,null,null,null,null,null,null,null,null,null,null,null,null,null,null,null,null,null,null,null,null,null,null,null,null,null,null,null,null,null,null,null,null,null,null,null,null,null,null,null,null,null,null,null,null,null,null,null,null,null,null,null,null,null,null,null,null,null,null,null,null,null,null,null,null,null,null,null,null,null,null,null,null,null,null,null,null,null,null,null,null,null,null,null,null,null,null,null,null,null,null,null,null,null,null,null,null,null,null,null,null,null,null,null,null,null,null,null,null,null,null,null,null,null,null,null,null,null,null,null,null,null,null,null,null,null,null,null,null,null,null,null,null,null,null,null,null,null,null,null,null,null,null,null,null,null,null,null,null,null,null,null,null,null,null,null,null,null,null,null,null,null,null,null,null,null,null,null,null,null,null,null,null,null,null,null,null,null,null,null,null,null,null,null,null,null,null,null,null,null,null,null,null,null,null,null,null,null,null,null,null,null,null,null,null,null,null,null,null,null,null,null,null,null,null,null,null,null,null,null,null,null,null,null,null,null,null,null,null,null,null,null,null,null,null,null,null,null,null,null,null,null,null,null,null,null,null,null,null,null,null,null,null,null,null,null,null,null,null,null,null,null,null,null,null,null,null,null,null,null,null,null,null,null,null,null,null,null,null,null,null,null,null,null,null,null,null,null,null,null,null,null,null,null,null,null,null,null,null,null,null,null,null,null,null,null,null,null,null,null,null,null,null,null,null,null,null,null,null,null,null,null,null,null,null,null,null,null,null,null,null,null,null,null,null,null,null,null,null,null,null,null,null,null,null,null,null,null,null,null,null,null,null,null,null,null,null,null,null,null,null,null,null,null,null,null,null,null,null,null,null,null,null,null,null,null,null,null,null,null,null,null,null,null,null,null,null,null,null,null,null,null,null,null,null,null,null,null,null,null,null,null,null,null,null,null,null,null,null,null,null,null,null,null,null,null,null,null,null,null,null,null,null,null,null,null,null,null,null,null,null,null,null,null,null,null,null,null,null,null,null,null,null,null,null,null,null,null,null,null,null,null,null,null,null,null,null,null,null,null,null,null,null,null,null,null,null,null,null,null,null,null,null,null,null,null,null,null,null,null,null,null,null,null,null,null,null,null,null,null,null,null,null,null,null,null,null,null,null,null,null,null,null,null,null,null,null,null,null,null,null,null,null,null,null,null,null,null,null,null,null,null,null,null,null,null,null,null,null,null,null,null,null,null,null,null,null,null,null,null,null,null,null,null,null,null,null,null,null,null,null,null,null,null,null,null,null,null,null,null,null,null,null,null,null,null,null,null,null,null,null,null,null,null,null,null,null,null,null,null,null,null,null,null,null,null,null,null,null,null,null,null,null,null,null,null,null,null,null,null,null,null,null,null,null,null,null,null,null,null,null,null,null,null,null,null,null,null,null,null,null,null,null,null,null,null,0.78]
[null,null,null,null,null,null,null,null,null,null,null,null,null,null,null,null,null,null,null,null,null,null,null,null,null,null,null,null,null,null,null,null,null,null,1577.2,"*",4.12,"/",1000,"=",6.4980640000000003]
[null,null,null,null,null,null,null,null,null,null,null,null,null,null,null,null,null,null,null,null,null,null,null,null,null,null,null,null,null,null,null,null,null,null,1577.2,"*",4.12,"/",1000,"=",6.4980640000000003]
[null,null,null,null,null,null,null,null,null,null,null,null,null,null,null,null,null,null,null,null,null,null,null,null,null,null,null,null,null,null,null,null,null,null,63,"*",4.12,"/",1000,"=",0.25956000000000001]
[null,null,null,null,null,null,null,null,null,null,null,null,null,null,null,null,null,null,null,null,null,null,null,null,null,null,null,null,null,null,null,null,null,null,63,"*",4.12,"/",1000,"=",0.25956000000000001]
[null,null,null,null,null,null,null,null,null,null,null,null,null,null,null,null,null,null,null,null,null,null,null,null,null,null,null,null,null,null,null,null,null,null,63,"*",4.12,"/",1000,"=",0.25956000000000001]
[null,null,null,null,null,null,null,null,null,null,null,null,null,null,null,null,null,null,null,null,null,null,null,null,null,null,null,null,null,null,null,null,null,null,63,"*",4.12,"/",1000,"=",0.25956000000000001]
[null,null,null,null,null,null,null,null,null,null,null,null,null,null,null,null,null,null,null,null,null,null,null,null,null,null,null,null,null,null,null,null,null,null,63,"*",4.12,"/",1000,"=",0.25956000000000001]
[null,null,null,null,null,null,null,null,null,null,null,null,null,null,null,null,null,null,null,null,null,null,null,null,null,null,null,null,null,null,null,null,null,null,229.25,"*",7.7839999999999998,"/",1000,"=",1.7844819999999999]
[null,null,null,null,null,null,null,null,null,null,null,null,null,null,null,null,null,null,null,null,null,null,null,null,null,null,null,null,null,null,null,null,null,null,229.25,"*",7.7839999999999998,"/",1000,"=",1.7844819999999999]
[null,null,null,null,null,null,null,null,null,null,null,null,null,null,null,null,null,null,null,null,null,null,null,null,null,null,null,null,null,null,null,null,null,null,229.25,"*",7.7839999999999998,"/",1000,"=",1.7844819999999999]
[null,null,null,null,null,null,null,null,null,null,null,null,null,null,null,null,null,null,null,null,null,null,null,null,null,null,null,null,null,null,null,null,null,null,229.25,"*",7.7839999999999998,"/",1000,"=",1.7844819999999999]
[null,null,null,null,null,null,null,null,null,null,null,null,null,null,null,null,null,null,null,null,null,null,null,null,null,null,null,null,null,null,null,null,null,null,229.25,"*",7.7839999999999998,"/",1000,"=",1.7844819999999999]
[null,null,null,null,null,null,null,null,null,null,null,null,null,null,null,null,null,null,null,null,null,null,null,null,null,null,null,null,null,null,null,null,null,null,229.25,"*",7.7839999999999998,"/",1000,"=",1.7844819999999999]
[null,null,null,null,null,null,null,null,null,null,null,null,null,null,null,null,null,null,null,null,null,null,null,null,null,null,null,null,null,null,null,null,null,null,229.25,"*",7.7839999999999998,"/",1000,"=",1.7844819999999999]
[null,null,null,null,null,null,null,null,null,null,null,null,null,null,null,null,null,null,null,null,null,null,null,null,null,null,null,null,null,null,null,null,null,null,229.25,"*",7.7839999999999998,"/",1000,"=",1.7844819999999999]
[null,null,null,null,null,null,null,null,null,null,null,null,null,null,null,null,null,null,null,null,null,null,null,null,null,null,null,null,null,null,null,null,null,null,229.25,"*",7.7839999999999998,"/",1000,"=",1.7844819999999999]
[null,null,null,null,null,null,null,null,null,null,null,null,null,null,null,null,null,null,null,null,null,null,null,null,null,null,null,null,null,null,null,null,null,null,229.25,"*",7.7839999999999998,"/",1000,"=",1.7844819999999999]
[null,null,null,null,null,null,null,null,null,null,null,null,null,null,null,null,null,null,null,null,null,null,null,null,null,null,null,null,null,null,null,null,null,null,4031.4285714285716,"*",4.12,"/",1000,"=",16.609485714285714]
[null,null,null,null,null,null,null,null,null,null,null,null,null,null,null,null,null,null,null,null,null,null,null,null,null,null,null,null,null,null,null,null,null,null,4031.4285714285716,"*",4.12,"/",1000,"=",16.609485714285714]
[null,null,null,null,null,null,null,null,null,null,null,null,null,null,null,null,null,null,null,null,null,null,null,null,null,null,null,null,null,null,null,null,null,null,4031.4285714285716,"*",4.12,"/",1000,"=",16.609485714285714]
[null,null,null,null,null,null,null,null,null,null,null,null,null,null,null,null,null,null,null,null,null,null,null,null,null,null,null,null,null,null,null,null,null,null,4031.4285714285716,"*",4.12,"/",1000,"=",16.609485714285714]
[null,null,null,null,null,null,null,null,null,null,null,null,null,null,null,null,null,null,null,null,null,null,null,null,null,null,null,null,null,null,null,null,null,null,4031.4285714285716,"*",4.12,"/",1000,"=",16.609485714285714]
[null,null,null,null,null,null,null,null,null,null,null,null,null,null,null,null,null,null,null,null,null,null,null,null,null,null,null,null,null,null,null,null,null,null,4031.4285714285716,"*",4.12,"/",1000,"=",16.609485714285714]
[null,null,null,null,null,null,null,null,null,null,null,null,null,null,null,null,null,null,null,null,null,null,null,null,null,null,null,null,null,null,null,null,null,null,4031.4285714285716,"*",4.12,"/",1000,"=",16.609485714285714]
[null,null,null,null,null,null,null,null,null,null,null,null,null,null,null,null,null,null,null,null,null,null,null,null,null,null,null,null,null,null,null,null,null,null,4031.4285714285716,"*",4.12,"/",1000,"=",16.609485714285714]
[null,null,null,null,null,null,null,null,null,null,null,null,null,null,null,null,null,null,null,null,null,null,null,null,null,null,null,null,null,null,null,null,null,null,4031.4285714285716,"*",4.12,"/",1000,"=",16.609485714285714]
[null,null,null,null,null,null,null,null,null,null,null,null,null,null,null,null,null,null,null,null,null,null,null,null,null,null,null,null,null,null,null,null,null,null,4031.4285714285716,"*",4.12,"/",1000,"=",16.609485714285714]
[null,null,null,null,null,null,null,null,null,null,null,null,null,null,null,null,null,null,null,null,null,null,null,null,null,null,null,null,null,null,null,null,null,null,4031.4285714285716,"*",4.12,"/",1000,"=",16.609485714285714]
[null,null,null,null,null,null,null,null,null,null,null,null,null,null,null,null,null,null,null,null,null,null,null,null,null,null,null,null,null,null,null,null,null,null,4031.4285714285716,"*",4.12,"/",1000,"=",16.609485714285714]
[null,null,null,null,null,null,null,null,null,null,null,null,null,null,null,null,null,null,null,null,null,null,null,null,null,null,null,null,null,null,null,null,null,null,4031.4285714285716,"*",4.12,"/",1000,"=",16.609485714285714]
[null,null,null,null,null,null,null,null,null,null,null,null,null,null,null,null,null,null,null,null,null,null,null,null,null,null,null,null,null,null,null,null,null,null,4031.4285714285716,"*",4.12,"/",1000,"=",16.609485714285714]
[null,null,null,null,null,null,null,null,null,null,null,null,null,null,null,null,null,null,null,null,null,null,null,null,null,null,null,null,null,null,null,null,null,null,4031.4285714285716,"*",4.12,"/",1000,"=",16.609485714285714]
[null,null,null,null,null,null,null,null,null,null,null,null,null,null,null,null,null,null,null,null,null,null,null,null,null,null,null,null,null,null,null,null,null,null,4031.4285714285716,"*",4.12,"/",1000,"=",16.609485714285714]
[null,null,null,null,null,null,null,null,null,null,null,null,null,null,null,null,null,null,null,null,null,null,null,null,null,null,null,null,null,null,null,null,null,null,4031.4285714285716,"*",4.12,"/",1000,"=",16.609485714285714]
[null,null,null,null,null,null,null,null,null,null,null,null,null,null,null,null,null,null,null,null,null,null,null,null,null,null,null,null,null,null,null,null,null,null,4031.4285714285716,"*",4.12,"/",1000,"=",16.609485714285714]
[null,null,null,null,null,null,null,null,null,null,null,null,null,null,null,null,null,null,null,null,null,null,null,null,null,null,null,null,null,null,null,null,null,null,4031.4285714285716,"*",4.12,"/",1000,"=",16.609485714285714]
[null,null,null,null,null,null,null,null,null,null,null,null,null,null,null,null,null,null,null,null,null,null,null,null,null,null,null,null,null,null,null,null,null,null,4031.4285714285716,"*",4.12,"/",1000,"=",16.609485714285714]
[null,null,null,null,null,null,null,null,null,null,null,null,null,null,null,null,null,null,null,null,null,null,null,null,null,null,null,null,null,null,null,null,null,null,4031.4285714285716,"*",4.12,"/",1000,"=",16.609485714285714]
[null,null,null,null,null,null,null,null,null,null,null,null,null,null,null,null,null,null,null,null,null,null,null,null,null,null,null,null,null,null,null,null,null,null,4031.4285714285716,"*",4.12,"/",1000,"=",16.609485714285714]
[null,null,null,null,null,null,null,null,null,null,null,null,null,null,null,null,null,null,null,null,null,null,null,null,null,null,null,null,null,null,null,null,null,null,4031.4285714285716,"*",4.12,"/",1000,"=",16.609485714285714]
[null,null,null,null,null,null,null,null,null,null,null,null,null,null,null,null,null,null,null,null,null,null,null,null,null,null,null,null,null,null,null,null,null,null,4031.4285714285716,"*",4.12,"/",1000,"=",16.609485714285714]
[null,null,null,null,null,null,null,null,null,null,null,null,null,null,null,null,null,null,null,null,null,null,null,null,null,null,null,null,null,null,null,null,null,null,4031.4285714285716,"*",4.12,"/",1000,"=",16.609485714285714]
[null,null,null,null,null,null,null,null,null,null,null,null,null,null,null,null,null,null,null,null,null,null,null,null,null,null,null,null,null,null,null,null,null,null,4031.4285714285716,"*",4.12,"/",1000,"=",16.609485714285714]
[null,null,null,null,null,null,null,null,null,null,null,null,null,null,null,null,null,null,null,null,null,null,null,null,null,null,null,null,null,null,null,null,null,null,4031.4285714285716,"*",4.12,"/",1000,"=",16.609485714285714]
[null,null,null,null,null,null,null,null,null,null,null,null,null,null,null,null,null,null,null,null,null,null,null,null,null,null,null,null,null,null,null,null,null,null,4031.4285714285716,"*",4.12,"/",1000,"=",16.609485714285714]
[null,null,null,null,null,null,null,null,null,null,null,null,null,null,null,null,null,null,null,null,null,null,null,null,null,null,null,null,null,null,null,null,null,null,4031.4285714285716,"*",4.12,"/",1000,"=",16.609485714285714]
[null,null,null,null,null,null,null,null,null,null,null,null,null,null,null,null,null,null,null,null,null,null,null,null,null,null,null,null,null,null,null,null,null,null,-10.199999999999999,"*",4.12,"/",1000,"=",-4.2023999999999999E-2]
[null,null,null,null,null,null,null,null,null,null,null,null,null,null,null,null,null,null,null,null,null,null,null,null,null,null,null,null,null,null,null,null,null,null,55.274999999999999,"*",7.7839999999999998,"/",1000,"=",0.43026059999999994]
[null,null,null,null,null,null,null,null,null,null,null,null,null,null,null,null,null,null,null,null,null,null,null,null,null,null,null,null,null,null,null,null,null,null,55.274999999999999,"*",7.7839999999999998,"/",1000,"=",0.43026059999999994]
[null,null,null,null,null,null,null,null,null,null,null,null,null,null,null,null,null,null,null,null,null,null,null,null,null,null,null,null,null,null,null,null,null,null,55.274999999999999,"*",7.7839999999999998,"/",1000,"=",0.43026059999999994]
[null,null,null,null,null,null,null,null,null,null,null,null,null,null,null,null,null,null,null,null,null,null,null,null,null,null,null,null,null,null,null,null,null,null,55.274999999999999,"*",7.7839999999999998,"/",1000,"=",0.43026059999999994]
[null,null,null,null,null,null,null,null,null,null,null,null,null,null,null,null,null,null,null,null,null,null,null,null,null,null,null,null,null,null,null,null,null,null,55.274999999999999,"*",7.7839999999999998,"/",1000,"=",0.43026059999999994]
[null,null,null,null,null,null,null,null,null,null,null,null,null,null,null,null,null,null,null,null,null,null,null,null,null,null,null,null,null,null,null,null,null,null,55.274999999999999,"*",7.7839999999999998,"/",1000,"=",0.43026059999999994]
[null,null,null,null,null,null,null,null,null,null,null,null,null,null,null,null,null,null,null,null,null,null,null,null,null,null,null,null,null,null,null,null,null,null,55.274999999999999,"*",7.7839999999999998,"/",1000,"=",0.43026059999999994]
[null,null,null,null,null,null,null,null,null,null,null,null,null,null,null,null,null,null,null,null,null,null,null,null,null,null,null,null,null,null,null,null,null,null,55.274999999999999,"*",7.7839999999999998,"/",1000,"=",0.43026059999999994]
[null,null,null,null,null,null,null,null,null,null,null,null,null,null,null,null,null,null,null,null,null,null,null,null,null,null,null,null,null,null,null,null,null,null,55.274999999999999,"*",7.7839999999999998,"/",1000,"=",0.43026059999999994]
[null,null,null,null,null,null,null,null,null,null,null,null,null,null,null,null,null,null,null,null,null,null,null,null,null,null,null,null,null,null,null,null,null,null,55.274999999999999,"*",7.7839999999999998,"/",1000,"=",0.43026059999999994]
[null,null,null,null,null,null,null,null,null,null,null,null,null,null,null,null,null,null,null,null,null,null,null,null,null,null,null,null,null,null,null,null,null,null,55.274999999999999,"*",7.7839999999999998,"/",1000,"=",0.43026059999999994]
[null,null,null,null,null,null,null,null,null,null,null,null,null,null,null,null,null,null,null,null,null,null,null,null,null,null,null,null,null,null,null,null,null,null,55.274999999999999,"*",7.7839999999999998,"/",1000,"=",0.43026059999999994]
[null,null,null,null,null,null,null,null,null,null,null,null,null,null,null,null,null,null,null,null,null,null,null,null,null,null,null,null,null,null,null,null,null,null,55.274999999999999,"*",7.7839999999999998,"/",1000,"=",0.43026059999999994]
[null,null,null,null,null,null,null,null,null,null,null,null,null,null,null,null,null,null,null,null,null,null,null,null,null,null,null,null,null,null,null,null,null,null,55.274999999999999,"*",7.7839999999999998,"/",1000,"=",0.43026059999999994]
[null,null,null,null,null,null,null,null,null,null,null,null,null,null,null,null,null,null,null,null,null,null,null,null,null,null,null,null,null,null,null,null,null,null,55.274999999999999,"*",7.7839999999999998,"/",1000,"=",0.43026059999999994]
[null,null,null,null,null,null,null,null,null,null,null,null,null,null,null,null,null,null,null,null,null,null,null,null,null,null,null,null,null,null,null,null,null,null,55.274999999999999,"*",7.7839999999999998,"/",1000,"=",0.43026059999999994]
[null,null,null,null,null,null,null,null,null,null,null,null,null,null,null,null,null,null,null,null,null,null,null,null,null,null,null,null,null,null,null,null,null,null,55.274999999999999,"*",7.7839999999999998,"/",1000,"=",0.43026059999999994]
[null,null,null,null,null,null,null,null,null,null,null,null,null,null,null,null,null,null,null,null,null,null,null,null,null,null,null,null,null,null,null,null,null,null,55.274999999999999,"*",7.7839999999999998,"/",1000,"=",0.43026059999999994]
[null,null,null,null,null,null,null,null,null,null,null,null,null,null,null,null,null,null,null,null,null,null,null,null,null,null,null,null,null,null,null,null,null,null,55.274999999999999,"*",7.7839999999999998,"/",1000,"=",0.43026059999999994]
[null,null,null,null,null,null,null,null,null,null,null,null,null,null,null,null,null,null,null,null,null,null,null,null,null,null,null,null,null,null,null,null,null,null,55.274999999999999,"*",7.7839999999999998,"/",1000,"=",0.43026059999999994]
[null,null,null,null,null,null,null,null,null,null,null,null,null,null,null,null,null,null,null,null,null,null,null,null,null,null,null,null,null,null,null,null,null,null,55.274999999999999,"*",7.7839999999999998,"/",1000,"=",0.43026059999999994]
[null,null,null,null,null,null,null,null,null,null,null,null,null,null,null,null,null,null,null,null,null,null,null,null,null,null,null,null,null,null,null,null,null,null,55.274999999999999,"*",7.7839999999999998,"/",1000,"=",0.43026059999999994]
[null,null,null,null,null,null,null,null,null,null,null,null,null,null,null,null,null,null,null,null,null,null,null,null,null,null,null,null,null,null,null,null,null,null,55.274999999999999,"*",7.7839999999999998,"/",1000,"=",0.43026059999999994]
[null,null,null,null,null,null,null,null,null,null,null,null,null,null,null,null,null,null,null,null,null,null,null,null,null,null,null,null,null,null,null,null,null,null,55.274999999999999,"*",7.7839999999999998,"/",1000,"=",0.43026059999999994]
[null,null,null,null,null,null,null,null,null,null,null,null,null,null,null,null,null,null,null,null,null,null,null,null,null,null,null,null,null,null,null,null,null,null,55.274999999999999,"*",7.7839999999999998,"/",1000,"=",0.43026059999999994]
[null,null,null,null,null,null,null,null,null,null,null,null,null,null,null,null,null,null,null,null,null,null,null,null,null,null,null,null,null,null,null,null,null,null,55.274999999999999,"*",7.7839999999999998,"/",1000,"=",0.43026059999999994]
[null,null,null,null,null,null,null,null,null,null,null,null,null,null,null,null,null,null,null,null,null,null,null,null,null,null,null,null,null,null,null,null,null,null,55.274999999999999,"*",7.7839999999999998,"/",1000,"=",0.43026059999999994]
[null,null,null,null,null,null,null,null,null,null,null,null,null,null,null,null,null,null,null,null,null,null,null,null,null,null,null,null,null,null,null,null,null,null,55.274999999999999,"*",7.7839999999999998,"/",1000,"=",0.43026059999999994]
[null,null,null,null,null,null,null,null,null,null,null,null,null,null,null,null,null,null,null,null,null,null,null,null,null,null,null,null,null,null,null,null,null,null,55.274999999999999,"*",7.7839999999999998,"/",1000,"=",0.43026059999999994]
[null,null,null,null,null,null,null,null,null,null,null,null,null,null,null,null,null,null,null,null,null,null,null,null,null,null,null,null,null,null,null,null,null,null,55.274999999999999,"*",7.7839999999999998,"/",1000,"=",0.43026059999999994]
[null,null,null,null,null,null,null,null,null,null,null,null,null,null,null,null,null,null,null,null,null,null,null,null,null,null,null,null,null,null,null,null,null,null,55.274999999999999,"*",7.7839999999999998,"/",1000,"=",0.43026059999999994]
[null,null,null,null,null,null,null,null,null,null,null,null,null,null,null,null,null,null,null,null,null,null,null,null,null,null,null,null,null,null,null,null,null,null,55.274999999999999,"*",7.7839999999999998,"/",1000,"=",0.43026059999999994]
[null,null,null,null,null,null,null,null,null,null,null,null,null,null,null,null,null,null,null,null,null,null,null,null,null,null,null,null,null,null,null,null,null,null,55.274999999999999,"*",7.7839999999999998,"/",1000,"=",0.43026059999999994]
[null,null,null,null,null,null,null,null,null,null,null,null,null,null,null,null,null,null,null,null,null,null,null,null,null,null,null,null,null,null,null,null,null,null,55.274999999999999,"*",7.7839999999999998,"/",1000,"=",0.43026059999999994]
[null,null,null,null,null,null,null,null,null,null,null,null,null,null,null,null,null,null,null,null,null,null,null,null,null,null,null,null,null,null,null,null,null,null,55.274999999999999,"*",7.7839999999999998,"/",1000,"=",0.43026059999999994]
[null,null,null,null,null,null,null,null,null,null,null,null,null,null,null,null,null,null,null,null,null,null,null,null,null,null,null,null,null,null,null,null,null,null,55.274999999999999,"*",7.7839999999999998,"/",1000,"=",0.43026059999999994]
[null,null,null,null,null,null,null,null,null,null,null,null,null,null,null,null,null,null,null,null,null,null,null,null,null,null,null,null,null,null,null,null,null,null,55.274999999999999,"*",7.7839999999999998,"/",1000,"=",0.43026059999999994]
[null,null,null,null,null,null,null,null,null,null,null,null,null,null,null,null,null,null,null,null,null,null,null,null,null,null,null,null,null,null,null,null,null,null,55.274999999999999,"*",7.7839999999999998,"/",1000,"=",0.43026059999999994]
[null,null,null,null,null,null,null,null,null,null,null,null,null,null,null,null,null,null,null,null,null,null,null,null,null,null,null,null,null,null,null,null,null,null,55.274999999999999,"*",7.7839999999999998,"/",1000,"=",0.43026059999999994]
[null,null,null,null,null,null,null,null,null,null,null,null,null,null,null,null,null,null,null,null,null,null,null,null,null,null,null,null,null,null,null,null,null,null,55.274999999999999,"*",7.7839999999999998,"/",1000,"=",0.43026059999999994]
[null,null,null,null,null,null,null,null,null,null,null,null,null,null,null,null,null,null,null,null,null,null,null,null,null,null,null,null,null,null,null,null,null,null,55.274999999999999,"*",7.7839999999999998,"/",1000,"=",0.43026059999999994]
[null,null,null,null,null,null,null,null,null,null,null,null,null,null,null,null,null,null,null,null,null,null,null,null,null,null,null,null,null,null,null,null,null,null,55.274999999999999,"*",7.7839999999999998,"/",1000,"=",0.43026059999999994]
[null,null,null,null,null,null,null,null,null,null,null,null,null,null,null,null,null,null,null,null,null,null,null,null,null,null,null,null,null,null,null,null,null,null,55.274999999999999,"*",7.7839999999999998,"/",1000,"=",0.43026059999999994]
[null,null,null,null,null,null,null,null,null,null,null,null,null,null,null,null,null,null,null,null,null,null,null,null,null,null,null,null,null,null,null,null,null,null,55.274999999999999,"*",7.7839999999999998,"/",1000,"=",0.43026059999999994]
[null,null,null,null,null,null,null,null,null,null,null,null,null,null,null,null,null,null,null,null,null,null,null,null,null,null,null,null,null,null,null,null,null,null,55.274999999999999,"*",7.7839999999999998,"/",1000,"=",0.43026059999999994]
[null,null,null,null,null,null,null,null,null,null,null,null,null,null,null,null,null,null,null,null,null,null,null,null,null,null,null,null,null,null,null,null,null,null,55.274999999999999,"*",7.7839999999999998,"/",1000,"=",0.43026059999999994]
[null,null,null,null,null,null,null,null,null,null,null,null,null,null,null,null,null,null,null,null,null,null,null,null,null,null,null,null,null,null,null,null,null,null,55.274999999999999,"*",7.7839999999999998,"/",1000,"=",0.43026059999999994]
[null,null,null,null,null,null,null,null,null,null,null,null,null,null,null,null,null,null,null,null,null,null,null,null,null,null,null,null,null,null,null,null,null,null,55.274999999999999,"*",7.7839999999999998,"/",1000,"=",0.43026059999999994]
[null,null,null,null,null,null,null,null,null,null,null,null,null,null,null,null,null,null,null,null,null,null,null,null,null,null,null,null,null,null,null,null,null,null,55.274999999999999,"*",7.7839999999999998,"/",1000,"=",0.43026059999999994]
[null,null,null,null,null,null,null,null,null,null,null,null,null,null,null,null,null,null,null,null,null,null,null,null,null,null,null,null,null,null,null,null,null,null,55.274999999999999,"*",7.7839999999999998,"/",1000,"=",0.43026059999999994]
[null,null,null,null,null,null,null,null,null,null,null,null,null,null,null,null,null,null,null,null,null,null,null,null,null,null,null,null,null,null,null,null,null,null,55.274999999999999,"*",7.7839999999999998,"/",1000,"=",0.43026059999999994]
[null,null,null,null,null,null,null,null,null,null,null,null,null,null,null,null,null,null,null,null,null,null,null,null,null,null,null,null,null,null,null,null,null,null,55.274999999999999,"*",7.7839999999999998,"/",1000,"=",0.43026059999999994]
[null,null,null,null,null,null,null,null,null,null,null,null,null,null,null,null,null,null,null,null,null,null,null,null,null,null,null,null,null,null,null,null,null,null,55.274999999999999,"*",7.7839999999999998,"/",1000,"=",0.43026059999999994]
[null,null,null,null,null,null,null,null,null,null,null,null,null,null,null,null,null,null,null,null,null,null,null,null,null,null,null,null,null,null,null,null,null,null,55.274999999999999,"*",7.7839999999999998,"/",1000,"=",0.43026059999999994]
[null,null,null,null,null,null,null,null,null,null,null,null,null,null,null,null,null,null,null,null,null,null,null,null,null,null,null,null,null,null,null,null,null,null,55.274999999999999,"*",7.7839999999999998,"/",1000,"=",0.43026059999999994]
[null,null,null,null,null,null,null,null,null,null,null,null,null,null,null,null,null,null,null,null,null,null,null,null,null,null,null,null,null,null,null,null,null,null,55.274999999999999,"*",7.7839999999999998,"/",1000,"=",0.43026059999999994]
[null,null,null,null,null,null,null,null,null,null,null,null,null,null,null,null,null,null,null,null,null,null,null,null,null,null,null,null,null,null,null,null,null,null,55.274999999999999,"*",7.7839999999999998,"/",1000,"=",0.43026059999999994]
[null,null,null,null,null,null,null,null,null,null,null,null,null,null,null,null,null,null,null,null,null,null,null,null,null,null,null,null,null,null,null,null,null,null,55.274999999999999,"*",7.7839999999999998,"/",1000,"=",0.43026059999999994]
[null,null,null,null,null,null,null,null,null,null,null,null,null,null,null,null,null,null,null,null,null,null,null,null,null,null,null,null,null,null,null,null,null,null,55.274999999999999,"*",7.7839999999999998,"/",1000,"=",0.43026059999999994]
[null,null,null,null,null,null,null,null,null,null,null,null,null,null,null,null,null,null,null,null,null,null,null,null,null,null,null,null,null,null,null,null,null,null,55.274999999999999,"*",7.7839999999999998,"/",1000,"=",0.43026059999999994]
[null,null,null,null,null,null,null,null,null,null,null,null,null,null,null,null,null,null,null,null,null,null,null,null,null,null,null,null,null,null,null,null,null,null,55.274999999999999,"*",7.7839999999999998,"/",1000,"=",0.43026059999999994]
[null,null,null,null,null,null,null,null,null,null,null,null,null,null,null,null,null,null,null,null,null,null,null,null,null,null,null,null,null,null,null,null,null,null,55.274999999999999,"*",7.7839999999999998,"/",1000,"=",0.43026059999999994]
[null,null,null,null,null,null,null,null,null,null,null,null,null,null,null,null,null,null,null,null,null,null,null,null,null,null,null,null,null,null,null,null,null,null,55.274999999999999,"*",7.7839999999999998,"/",1000,"=",0.43026059999999994]
[null,null,null,null,null,null,null,null,null,null,null,null,null,null,null,null,null,null,null,null,null,null,null,null,null,null,null,null,null,null,null,null,null,null,55.274999999999999,"*",7.7839999999999998,"/",1000,"=",0.43026059999999994]
[null,null,null,null,null,null,null,null,null,null,null,null,null,null,null,null,null,null,null,null,null,null,null,null,null,null,null,null,null,null,null,null,null,null,55.274999999999999,"*",7.7839999999999998,"/",1000,"=",0.43026059999999994]
[null,null,null,null,null,null,null,null,null,null,null,null,null,null,null,null,null,null,null,null,null,null,null,null,null,null,null,null,null,null,null,null,null,null,55.274999999999999,"*",7.7839999999999998,"/",1000,"=",0.43026059999999994]
[null,null,null,null,null,null,null,null,null,null,null,null,null,null,null,null,null,null,null,null,null,null,null,null,null,null,null,null,null,null,null,null,null,null,55.274999999999999,"*",7.7839999999999998,"/",1000,"=",0.43026059999999994]
[null,null,null,null,null,null,null,null,null,null,null,null,null,null,null,null,null,null,null,null,null,null,null,null,null,null,null,null,null,null,null,null,null,null,55.274999999999999,"*",7.7839999999999998,"/",1000,"=",0.43026059999999994]
[null,null,null,null,null,null,null,null,null,null,null,null,null,null,null,null,null,null,null,null,null,null,null,null,null,null,null,null,null,null,null,null,null,null,55.274999999999999,"*",7.7839999999999998,"/",1000,"=",0.43026059999999994]
[null,null,null,null,null,null,null,null,null,null,null,null,null,null,null,null,null,null,null,null,null,null,null,null,null,null,null,null,null,null,null,null,null,null,55.274999999999999,"*",7.7839999999999998,"/",1000,"=",0.43026059999999994]
[null,null,null,null,null,null,null,null,null,null,null,null,null,null,null,null,null,null,null,null,null,null,null,null,null,null,null,null,null,null,null,null,null,null,55.274999999999999,"*",7.7839999999999998,"/",1000,"=",0.43026059999999994]
[null,null,null,null,null,null,null,null,null,null,null,null,null,null,null,null,null,null,null,null,null,null,null,null,null,null,null,null,null,null,null,null,null,null,55.274999999999999,"*",7.7839999999999998,"/",1000,"=",0.43026059999999994]
[null,null,null,null,null,null,null,null,null,null,null,null,null,null,null,null,null,null,null,null,null,null,null,null,null,null,null,null,null,null,null,null,null,null,55.274999999999999,"*",7.7839999999999998,"/",1000,"=",0.43026059999999994]
[null,null,null,null,null,null,null,null,null,null,null,null,null,null,null,null,null,null,null,null,null,null,null,null,null,null,null,null,null,null,null,null,null,null,55.274999999999999,"*",7.7839999999999998,"/",1000,"=",0.43026059999999994]
[null,null,null,null,null,null,null,null,null,null,null,null,null,null,null,null,null,null,null,null,null,null,null,null,null,null,null,null,null,null,null,null,null,null,55.274999999999999,"*",7.7839999999999998,"/",1000,"=",0.43026059999999994]
[null,null,null,null,null,null,null,null,null,null,null,null,null,null,null,null,null,null,null,null,null,null,null,null,null,null,null,null,null,null,null,null,null,null,55.274999999999999,"*",7.7839999999999998,"/",1000,"=",0.43026059999999994]
[null,null,null,null,null,null,null,null,null,null,null,null,null,null,null,null,null,null,null,null,null,null,null,null,null,null,null,null,null,null,null,null,null,null,55.274999999999999,"*",7.7839999999999998,"/",1000,"=",0.43026059999999994]
[null,null,null,null,null,null,null,null,null,null,null,null,null,null,null,null,null,null,null,null,null,null,null,null,null,null,null,null,null,null,null,null,null,null,55.274999999999999,"*",7.7839999999999998,"/",1000,"=",0.43026059999999994]
[null,null,null,null,null,null,null,null,null,null,null,null,null,null,null,null,null,null,null,null,null,null,null,null,null,null,null,null,null,null,null,null,null,null,55.274999999999999,"*",7.7839999999999998,"/",1000,"=",0.43026059999999994]
[null,null,null,null,null,null,null,null,null,null,null,null,null,null,null,null,null,null,null,null,null,null,null,null,null,null,null,null,null,null,null,null,null,null,55.274999999999999,"*",7.7839999999999998,"/",1000,"=",0.43026059999999994]
[null,null,null,null,null,null,null,null,null,null,null,null,null,null,null,null,null,null,null,null,null,null,null,null,null,null,null,null,null,null,null,null,null,null,55.274999999999999,"*",7.7839999999999998,"/",1000,"=",0.43026059999999994]
[null,null,null,null,null,null,null,null,null,null,null,null,null,null,null,null,null,null,null,null,null,null,null,null,null,null,null,null,null,null,null,null,null,null,55.274999999999999,"*",7.7839999999999998,"/",1000,"=",0.43026059999999994]
[null,null,null,null,null,null,null,null,null,null,null,null,null,null,null,null,null,null,null,null,null,null,null,null,null,null,null,null,null,null,null,null,null,null,55.274999999999999,"*",7.7839999999999998,"/",1000,"=",0.43026059999999994]
[null,null,null,null,null,null,null,null,null,null,null,null,null,null,null,null,null,null,null,null,null,null,null,null,null,null,null,null,null,null,null,null,null,null,55.274999999999999,"*",7.7839999999999998,"/",1000,"=",0.43026059999999994]
[null,null,null,null,null,null,null,null,null,null,null,null,null,null,null,null,null,null,null,null,null,null,null,null,null,null,null,null,null,null,null,null,null,null,55.274999999999999,"*",7.7839999999999998,"/",1000,"=",0.43026059999999994]
[null,null,null,null,null,null,null,null,null,null,null,null,null,null,null,null,null,null,null,null,null,null,null,null,null,null,null,null,null,null,null,null,null,null,55.274999999999999,"*",7.7839999999999998,"/",1000,"=",0.43026059999999994]
[null,null,null,null,null,null,null,null,null,null,null,null,null,null,null,null,null,null,null,null,null,null,null,null,null,null,null,null,null,null,null,null,null,null,55.274999999999999,"*",7.7839999999999998,"/",1000,"=",0.43026059999999994]
[null,null,null,null,null,null,null,null,null,null,null,null,null,null,null,null,null,null,null,null,null,null,null,null,null,null,null,null,null,null,null,null,null,null,55.274999999999999,"*",7.7839999999999998,"/",1000,"=",0.43026059999999994]
[null,null,null,null,null,null,null,null,null,null,null,null,null,null,null,null,null,null,null,null,null,null,null,null,null,null,null,null,null,null,null,null,null,null,55.274999999999999,"*",7.7839999999999998,"/",1000,"=",0.43026059999999994]
[null,null,null,null,null,null,null,null,null,null,null,null,null,null,null,null,null,null,null,null,null,null,null,null,null,null,null,null,null,null,null,null,null,null,55.274999999999999,"*",7.7839999999999998,"/",1000,"=",0.43026059999999994]
[null,null,null,null,null,null,null,null,null,null,null,null,null,null,null,null,null,null,null,null,null,null,null,null,null,null,null,null,null,null,null,null,null,null,55.274999999999999,"*",7.7839999999999998,"/",1000,"=",0.43026059999999994]
[null,null,null,null,null,null,null,null,null,null,null,null,null,null,null,null,null,null,null,null,null,null,null,null,null,null,null,null,null,null,null,null,null,null,55.274999999999999,"*",7.7839999999999998,"/",1000,"=",0.43026059999999994]
[null,null,null,null,null,null,null,null,null,null,null,null,null,null,null,null,null,null,null,null,null,null,null,null,null,null,null,null,null,null,null,null,null,null,55.274999999999999,"*",7.7839999999999998,"/",1000,"=",0.43026059999999994]
[null,null,null,null,null,null,null,null,null,null,null,null,null,null,null,null,null,null,null,null,null,null,null,null,null,null,null,null,null,null,null,null,null,null,55.274999999999999,"*",7.7839999999999998,"/",1000,"=",0.43026059999999994]
[null,null,null,null,null,null,null,null,null,null,null,null,null,null,null,null,null,null,null,null,null,null,null,null,null,null,null,null,null,null,null,null,null,null,55.274999999999999,"*",7.7839999999999998,"/",1000,"=",0.43026059999999994]
[null,null,null,null,null,null,null,null,null,null,null,null,null,null,null,null,null,null,null,null,null,null,null,null,null,null,null,null,null,null,null,null,null,null,55.274999999999999,"*",7.7839999999999998,"/",1000,"=",0.43026059999999994]
[null,null,null,null,null,null,null,null,null,null,null,null,null,null,null,null,null,null,null,null,null,null,null,null,null,null,null,null,null,null,null,null,null,null,55.274999999999999,"*",7.7839999999999998,"/",1000,"=",0.43026059999999994]
[null,null,null,null,null,null,null,null,null,null,null,null,null,null,null,null,null,null,null,null,null,null,null,null,null,null,null,null,null,null,null,null,null,null,55.274999999999999,"*",7.7839999999999998,"/",1000,"=",0.43026059999999994]
[null,null,null,null,null,null,null,null,null,null,null,null,null,null,null,null,null,null,null,null,null,null,null,null,null,null,null,null,null,null,null,null,null,null,55.274999999999999,"*",7.7839999999999998,"/",1000,"=",0.43026059999999994]
[null,null,null,null,null,null,null,null,null,null,null,null,null,null,null,null,null,null,null,null,null,null,null,null,null,null,null,null,null,null,null,null,null,null,55.274999999999999,"*",7.7839999999999998,"/",1000,"=",0.43026059999999994]
[null,null,null,null,null,null,null,null,null,null,null,null,null,null,null,null,null,null,null,null,null,null,null,null,null,null,null,null,null,null,null,null,null,null,55.274999999999999,"*",7.7839999999999998,"/",1000,"=",0.43026059999999994]
[null,null,null,null,null,null,null,null,null,null,null,null,null,null,null,null,null,null,null,null,null,null,null,null,null,null,null,null,null,null,null,null,null,null,55.274999999999999,"*",7.7839999999999998,"/",1000,"=",0.43026059999999994]
[null,null,null,null,null,null,null,null,null,null,null,null,null,null,null,null,null,null,null,null,null,null,null,null,null,null,null,null,null,null,null,null,null,null,55.274999999999999,"*",7.7839999999999998,"/",1000,"=",0.43026059999999994]
[null,null,null,null,null,null,null,null,null,null,null,null,null,null,null,null,null,null,null,null,null,null,null,null,null,null,null,null,null,null,null,null,null,null,55.274999999999999,"*",7.7839999999999998,"/",1000,"=",0.43026059999999994]
[null,null,null,null,null,null,null,null,null,null,null,null,null,null,null,null,null,null,null,null,null,null,null,null,null,null,null,null,null,null,null,null,null,null,55.274999999999999,"*",7.7839999999999998,"/",1000,"=",0.43026059999999994]
[null,null,null,null,null,null,null,null,null,null,null,null,null,null,null,null,null,null,null,null,null,null,null,null,null,null,null,null,null,null,null,null,null,null,55.274999999999999,"*",7.7839999999999998,"/",1000,"=",0.43026059999999994]
[null,null,null,null,null,null,null,null,null,null,null,null,null,null,null,null,null,null,null,null,null,null,null,null,null,null,null,null,null,null,null,null,null,null,55.274999999999999,"*",7.7839999999999998,"/",1000,"=",0.43026059999999994]
[null,null,null,null,null,null,null,null,null,null,null,null,null,null,null,null,null,null,null,null,null,null,null,null,null,null,null,null,null,null,null,null,null,null,55.274999999999999,"*",7.7839999999999998,"/",1000,"=",0.43026059999999994]
[null,null,null,null,null,null,null,null,null,null,null,null,null,null,null,null,null,null,null,null,null,null,null,null,null,null,null,null,null,null,null,null,null,null,55.274999999999999,"*",7.7839999999999998,"/",1000,"=",0.43026059999999994,null,null,null,null,null,null,5,55.274999999999999]
[null,null,null,null,null,null,null,null,null,null,null,null,null,null,null,null,null,null,null,null,null,null,null,null,null,null,null,null,null,null,null,null,null,null,55.274999999999999,"*",7.7839999999999998,"/",1000,"=",0.43026059999999994,null,null,null,null,null,null,5,55.274999999999999]
[null,null,null,null,null,null,null,null,null,null,null,null,null,null,null,null,null,null,null,null,null,null,null,null,null,null,null,null,null,null,null,null,null,null,55.274999999999999,"*",7.7839999999999998,"/",1000,"=",0.43026059999999994,null,null,null,null,null,null,5,55.274999999999999]
[null,null,null,null,null,null,null,null,null,null,null,null,null,null,null,null,null,null,null,null,null,null,null,null,null,null,null,null,null,null,null,null,null,null,55.274999999999999,"*",7.7839999999999998,"/",1000,"=",0.43026059999999994,null,null,null,null,null,null,5,55.274999999999999]
[null,null,null,null,null,null,null,null,null,null,null,null,null,null,null,null,null,null,null,null,null,null,null,null,null,null,null,null,null,null,null,null,null,null,55.274999999999999,"*",7.7839999999999998,"/",1000,"=",0.43026059999999994,null,null,null,null,null,null,5,55.274999999999999]
[null,null,null,null,null,null,null,null,null,null,null,null,null,null,null,null,null,null,null,null,null,null,null,null,null,null,null,null,null,null,null,null,null,null,55.274999999999999,"*",7.7839999999999998,"/",1000,"=",0.43026059999999994,null,null,null,null,null,null,5,55.274999999999999]
[null,null,null,null,null,null,null,null,null,null,null,null,null,null,null,null,null,null,null,null,null,null,null,null,null,null,null,null,null,null,null,null,null,null,55.274999999999999,"*",7.7839999999999998,"/",1000,"=",0.43026059999999994,null,null,null,null,null,null,5,55.274999999999999]
[null,null,null,null,null,null,null,null,null,null,null,null,null,null,null,null,null,null,null,null,null,null,null,null,null,null,null,null,null,null,null,null,null,null,55.274999999999999,"*",7.7839999999999998,"/",1000,"=",0.43026059999999994,null,null,null,null,null,null,5,55.274999999999999]
[null,null,null,null,null,null,null,null,null,null,null,null,null,null,null,null,null,null,null,null,null,null,null,null,null,null,null,null,null,null,null,null,null,null,55.274999999999999,"*",7.7839999999999998,"/",1000,"=",0.43026059999999994,null,null,null,null,null,null,5,55.274999999999999]
[null,null,null,null,null,null,null,null,null,null,null,null,null,null,null,null,null,null,null,null,null,null,null,null,null,null,null,null,null,null,null,null,null,null,55.274999999999999,"*",7.7839999999999998,"/",1000,"=",0.43026059999999994,null,null,null,null,null,null,5,55.274999999999999]
[null,null,null,null,null,null,null,null,null,null,null,null,null,null,null,null,null,null,null,null,null,null,null,null,null,null,null,null,null,null,null,null,null,null,55.274999999999999,"*",7.7839999999999998,"/",1000,"=",0.43026059999999994,null,null,null,null,null,null,5,55.274999999999999]
[null,null,null,null,null,null,null,null,null,null,null,null,null,null,null,null,null,null,null,null,null,null,null,null,null,null,null,null,null,null,null,null,null,null,55.274999999999999,"*",7.7839999999999998,"/",1000,"=",0.43026059999999994,null,null,null,null,null,null,5,55.274999999999999]
["HWS-Stückliste-Kalk-1",null,null,null,null,null,null,{"$f":"SUM(H42:H212)","v":0},null,null,null,null,null,null,null,null,null,null,null,null,null,null,null,null,null,null,null,null,null,null,null,null,null,null,55.274999999999999,"*",7.7839999999999998,"/",1000,"=",0.43026059999999994,null,null,null,null,null,null,5,55.274999999999999]
[null,null,null,null,null,null,null,null,null,null,null,null,null,null,null,null,null,null,null,null,null,null,null,null,null,null,null,null,null,null,null,null,null,null,55.274999999999999,"*",7.7839999999999998,"/",1000,"=",0.43026059999999994,null,null,null,null,null,null,5,55.274999999999999]
[null,null,null,null,null,null,null,null,null,null,null,null,null,null,null,null,null,null,null,null,null,null,null,null,null,null,null,null,null,null,null,null,null,null,55.274999999999999,"*",7.7839999999999998,"/",1000,"=",0.43026059999999994,null,null,null,null,null,null,5,55.274999999999999]
[null,null,null,null,null,null,null,null,null,null,null,null,null,null,null,null,null,null,null,null,null,null,null,null,null,null,null,null,null,null,null,null,null,null,55.274999999999999,"*",7.7839999999999998,"/",1000,"=",0.43026059999999994,null,null,null,null,null,null,5,55.274999999999999]
[null,null,null,null,null,null,null,null,null,null,null,null,null,null,null,null,null,null,null,null,null,null,null,null,null,null,null,null,null,null,null,null,null,null,55.274999999999999,"*",7.7839999999999998,"/",1000,"=",0.43026059999999994,null,null,null,null,null,null,5,55.274999999999999]
[null,null,null,null,null,null,null,null,null,null,null,null,null,null,null,null,null,null,null,null,null,null,null,null,null,null,null,null,null,null,null,null,null,null,55.274999999999999,"*",7.7839999999999998,"/",1000,"=",0.43026059999999994,null,null,null,null,null,null,5,55.274999999999999]
[null,null,null,null,null,null,null,null,null,null,null,null,null,null,null,null,null,null,null,null,null,null,null,null,null,null,null,null,null,null,null,null,null,null,55.274999999999999,"*",7.7839999999999998,"/",1000,"=",0.43026059999999994,null,null,null,null,null,null,5,55.274999999999999]
[null,null,null,null,null,null,null,null,null,null,null,null,null,null,null,null,null,null,null,null,null,null,null,null,null,null,null,null,null,null,null,null,null,null,55.274999999999999,"*",7.7839999999999998,"/",1000,"=",0.43026059999999994,null,null,null,null,null,null,5,55.274999999999999]
[null,null,null,null,null,null,null,null,null,null,null,null,null,null,null,null,null,null,null,null,null,null,null,null,null,null,null,null,null,null,null,null,null,null,55.274999999999999,"*",7.7839999999999998,"/",1000,"=",0.43026059999999994,null,null,null,null,null,null,5,55.274999999999999]
[null,null,null,null,null,null,null,null,null,null,null,null,null,null,null,null,null,null,null,null,null,null,null,null,null,null,null,null,null,null,null,null,null,null,55.274999999999999,"*",7.7839999999999998,"/",1000,"=",0.43026059999999994,null,null,null,null,null,null,5,55.274999999999999]
[null,null,null,null,null,null,null,null,null,null,null,null,null,null,null,null,null,null,null,null,null,null,null,null,null,null,null,null,null,null,null,null,null,null,55.274999999999999,"*",7.7839999999999998,"/",1000,"=",0.43026059999999994,null,null,null,null,null,null,5,55.274999999999999]
[null,null,null,null,null,null,null,null,null,null,null,null,null,null,null,null,null,null,null,null,null,null,null,null,null,null,null,null,null,null,null,null,null,null,55.274999999999999,"*",7.7839999999999998,"/",1000,"=",0.43026059999999994,null,null,null,null,null,null,5,55.274999999999999]
[null,null,null,null,null,null,null,null,null,null,null,null,null,null,null,null,null,null,null,null,null,null,null,null,null,null,null,null,null,null,null,null,null,null,55.274999999999999,"*",7.7839999999999998,"/",1000,"=",0.43026059999999994,null,null,null,null,null,null,5,55.274999999999999]
[null,null,null,null,null,null,null,null,null,null,null,null,null,null,null,null,null,null,null,null,null,null,null,null,null,null,null,null,null,null,null,null,null,null,55.274999999999999,"*",7.7839999999999998,"/",1000,"=",0.43026059999999994,null,null,null,null,null,null,5,55.274999999999999]
[null,null,null,null,null,null,null,null,null,null,null,null,null,null,null,null,null,null,null,null,null,null,null,null,null,null,null,null,null,null,null,null,null,null,55.274999999999999,"*",7.7839999999999998,"/",1000,"=",0.43026059999999994,null,null,null,null,null,null,5,55.274999999999999]
[null,null,null,null,null,null,null,null,null,null,null,null,null,null,null,null,null,null,null,null,null,null,null,null,null,null,null,null,null,null,null,null,null,null,55.274999999999999,"*",7.7839999999999998,"/",1000,"=",0.43026059999999994,null,null,null,null,null,null,5,55.274999999999999]
[null,null,null,null,null,null,null,null,null,null,null,null,null,null,null,null,null,null,null,null,null,null,null,null,null,null,null,null,null,null,null,null,null,null,55.274999999999999,"*",7.7839999999999998,"/",1000,"=",0.43026059999999994,null,null,null,null,null,null,5,55.274999999999999]
[null,null,null,null,null,null,null,null,null,null,null,null,null,null,null,null,null,null,null,null,null,null,null,null,null,null,null,null,null,null,null,null,null,null,55.274999999999999,"*",7.7839999999999998,"/",1000,"=",0.43026059999999994,null,null,null,null,null,null,5,55.274999999999999]
[null,null,null,null,null,null,null,null,null,null,null,null,null,null,null,null,null,null,null,null,null,null,null,null,null,null,null,null,null,null,null,null,null,null,55.274999999999999,"*",7.7839999999999998,"/",1000,"=",0.43026059999999994,null,null,null,null,null,null,5,55.274999999999999]
[null,null,null,null,null,null,null,null,null,null,null,null,null,null,null,null,null,null,null,null,null,null,null,null,null,null,null,null,null,null,null,null,null,null,55.274999999999999,"*",7.7839999999999998,"/",1000,"=",0.43026059999999994,null,null,null,null,null,null,5,55.274999999999999]
[null,null,null,null,null,null,null,null,null,null,null,null,null,null,null,null,null,null,null,null,null,null,null,null,null,null,null,null,null,null,null,null,null,null,55.274999999999999,"*",7.7839999999999998,"/",1000,"=",0.43026059999999994,null,null,null,null,null,null,5,55.274999999999999]
[null,null,null,null,null,null,null,null,null,null,null,null,null,null,null,null,null,null,null,null,null,null,null,null,null,null,null,null,null,null,null,null,null,null,55.274999999999999,"*",7.7839999999999998,"/",1000,"=",0.43026059999999994,null,null,null,null,null,null,5,55.274999999999999]
[null,null,null,null,null,null,null,null,null,null,null,null,null,null,null,null,null,null,null,null,null,null,null,null,null,null,null,null,null,null,null,null,null,null,55.274999999999999,"*",7.7839999999999998,"/",1000,"=",0.43026059999999994,null,null,null,null,null,null,5,55.274999999999999]
[null,null,null,null,null,null,null,null,null,null,null,null,null,null,null,null,null,null,null,null,null,null,null,null,null,null,null,null,null,null,null,null,null,null,55.274999999999999,"*",7.7839999999999998,"/",1000,"=",0.43026059999999994,null,null,null,null,null,null,5,55.274999999999999]
[null,null,null,null,null,null,null,null,null,null,null,null,null,null,null,null,null,null,null,null,null,null,null,null,null,null,null,null,null,null,null,null,null,null,55.274999999999999,"*",7.7839999999999998,"/",1000,"=",0.43026059999999994,null,null,null,null,null,null,5,55.274999999999999]
[null,null,null,null,null,null,null,null,null,null,null,null,null,null,null,null,null,null,null,null,null,null,null,null,null,null,null,null,null,null,null,null,null,null,55.274999999999999,"*",7.7839999999999998,"/",1000,"=",0.43026059999999994,null,null,null,null,null,null,5,55.274999999999999]
[null,null,null,null,null,null,null,null,null,null,null,null,null,null,null,null,null,null,null,null,null,null,null,null,null,null,null,null,null,null,null,null,null,null,55.274999999999999,"*",7.7839999999999998,"/",1000,"=",0.43026059999999994,null,null,null,null,null,null,5,55.274999999999999]
[null,null,null,null,null,null,null,null,null,null,null,null,null,null,null,null,null,null,null,null,null,null,null,null,null,null,null,null,null,null,null,null,null,null,55.274999999999999,"*",7.7839999999999998,"/",1000,"=",0.43026059999999994,null,null,null,null,null,null,5,55.274999999999999]
[null,null,null,null,null,null,null,null,null,null,null,null,null,null,null,null,null,null,null,null,null,null,null,null,null,null,null,null,null,null,null,null,null,null,55.274999999999999,"*",7.7839999999999998,"/",1000,"=",0.43026059999999994,null,null,null,null,null,null,5,55.274999999999999]
[null,null,null,null,null,null,null,null,null,null,null,null,null,null,null,null,null,null,null,null,null,null,null,null,null,null,null,null,null,null,null,null,null,null,55.274999999999999,"*",7.7839999999999998,"/",1000,"=",0.43026059999999994]

{"sheet":"HWS Experten","index":4,"n_rows":27,"n_cols":20,"rows_kept":27,"cut":false,"hidden":true,"merged":[]}
["Nr.","Firma",null,"Vorname","Name","Strasse","PLZ ","Ort","Telefon","Mail","Bestätigung","Programm","Mittagessen","Zertifikat","Rechnung","Website","CRM","Muster","Preis"]
[0,"PREFA",{"$f":"IF(Erhebungsbogen!C8='HWS Experten'!B2,1,0)","v":0}]
[1,"E.Lutz AG",{"$f":"IF(Erhebungsbogen!C8='HWS Experten'!B3,1,0)","v":0},"Marc","Hilfiker","Rothenring 9A ",6015,"Luzern","+41 41 260 77 77","info@elutzag.ch","Ja","Ja","Ja","Ja","JA","Ja","Ja","JA",150,161.55000000000001]
[2,"E.Lutz AG",{"$f":"IF(Erhebungsbogen!C8='HWS Experten'!B4,1,0)","v":0},"Patrick","Kretz","Rothenring 9A ",6015,"Luzern","+41 41 260 77 77","info@elutzag.ch","Ja","Ja","Ja","Ja","JA","Ja","Ja",null,150,161.55000000000001]
[3,"Spenglerei Schuler GmbH",{"$f":"IF(Erhebungsbogen!C8='HWS Experten'!B5,1,0)","v":0},"Marco","Schuler","Höhenweg 10 ",6418,"Rothenthurm","+41 79 786 17 57","spenglerei-schuler@bluewin.ch","Ja","Ja","Ja","Ja","JA","Ja","Ja","JA",150,161.55000000000001]
[4,"Preisig AG",{"$f":"IF(Erhebungsbogen!C8='HWS Experten'!B6,1,0)","v":0},"Michael","Hotz","Siewerdtstr. 9 ",8050,"Zürich","+41 44 315 41 44","michael.hotz@preisig.ch","Ja","Ja","Ja","Ja","JA","Ja","Ja","JA",150,161.55000000000001]
[5,"Preisig AG",{"$f":"IF(Erhebungsbogen!C8='HWS Experten'!B7,1,0)","v":0},"Lars","Frank","Siewerdtstr. 9 ",8050,"Zürich","+41 44 315 41 44","michael.hotz@preisig.ch","Ja","Ja","Ja","Ja","JA","Ja","Ja",null,150,161.55000000000001]
[6,"Dach-Walser AG",{"$f":"IF(Erhebungsbogen!C8='HWS Experten'!B8,1,0)","v":0},"Roger","Walser","Bodenstrasse 2",8882,"Unterterzen","+41 79 430 80 23","dach-walser@bluewin.ch","Ja","Ja","Ja","Ja","JA","Ja","Ja","JA",150,161.55000000000001]
[7,"Gurtner Haustechnik GmbH",{"$f":"IF(Erhebungsbogen!C8='HWS Experten'!B9,1,0)","v":0},"Roland","Gurtner","Dorfstrasse 60",8468,"Guntalingen","+41 52 301 10 50","gurtner@gurtner-haus.ch","Ja","Ja","Ja","Ja","JA","Ja","Ja",null,150,161.55000000000001]
[8,"GYR AG",{"$f":"IF(Erhebungsbogen!C8='HWS Experten'!B10,1,0)","v":0},"Fabian","Gyr","Kapellstrasse 15 ",8854,"Galgenen","+41 44 687 10 71","info@gyrmetallbau.ch","Ja","Ja","Ja","Ja","JA","Ja","Ja","JA",150,161.55000000000001]
[]
[]
[null,{"$f":"[1]Total!D2","v":"HWS Juli"},null,null,150,null,null,null,"1 TG",null,null,null,null,null,null,null,null,null,{"$f":"SUM(S3:S10)","v":1200}]
[null,null,{"$f":"SUM(C2:C10)","v":0}]
[]
[]
[null,"TEXT FÜR SCHULUNG:"]
[null,"Hochwasserschutz Expertenkurs"]
[]
[]
[null,null,"HWS Experten Sonderrabatt"]
[]
[]
[]
[]
[]
[null,null,{"$f":"Erhebungsbogen!C8","v":0}]

{"sheet":"HWS-Stückliste-Kalk-1","index":5,"n_rows":277,"n_cols":36,"rows_kept":277,"cut":false,"hidden":true,"merged":[[257,6,257,12],[258,6,258,12],[259,6,259,12],[260,6,260,12],[261,6,261,12],[264,6,264,12],[263,6,263,12],[262,6,262,12],[265,6,265,12],[246,6,246,12],[247,6,247,12],[248,6,248,12],[233,6,233,12],[234,6,234,12],[235,6,235,12],[236,6,236,12],[237,6,237,12],[238,6,238,12],[239,6,239,12],[240,6,240,12],[245,6,245,12],[228,6,228,12],[229,6,229,12],[230,6,230,12],[231,6,231,12],[241,6,241,12],[242,6,242,12],[243,6,243,12],[211,6,211,12],[212,6,212,12],[213,6,213,12],[214,6,214,12],[215,6,215,12],[216,6,216,12],[217,6,217,12],[218,6,218,12],[219,6,219,12],[220,6,220,12],[221,6,221,12],[222,6,222,12],[223,6,223,12],[224,6,224,12],[225,6,225,12],[226,6,226,12],[232,6,232,12],[207,6,207,12],[208,6,208,12],[256,6,256,12],[206,6,206,12],[203,6,203,12],[204,6,204,12],[205,6,205,12],[197,6,197,12],[198,6,198,12],[199,6,199,12],[200,6,200,12],[201,6,201,12],[202,6,202,12],[209,6,209,12],[210,6,210,12],[255,6,255,12],[254,6,254,12],[252,6,252,12],[253,6,253,12],[244,6,244,12],[249,6,249,12],[250,6,250,12],[251,6,251,12],[227,6,227,12],[191,6,191,12],[192,6,192,12],[193,6,193,12],[194,6,194,12],[195,6,195,12],[196,6,196,12],[185,6,185,12],[186,6,186,12],[187,6,187,12],[188,6,188,12],[189,6,189,12],[190,6,190,12],[179,6,179,12],[180,6,180,12],[181,6,181,12],[182,6,182,12],[183,6,183,12],[184,6,184,12],[173,6,173,12],[174,6,174,12],[175,6,175,12],[176,6,176,12],[177,6,177,12],[178,6,178,12],[167,6,167,12],[168,6,168,12],[169,6,169,12],[170,6,170,12],[171,6,171,12],[172,6,172,12],[163,6,163,12],[164,6,164,12],[165,6,165,12],[166,6,166,12],[158,6,158,12],[159,6,159,12],[160,6,160,12],[161,6,161,12],[162,6,162,12],[152,6,152,12],[153,6,153,12],[154,6,154,12],[155,6,155,12],[156,6,156,12],[157,6,157,12],[146,6,146,12],[147,6,147,12],[148,6,148,12],[149,6,149,12],[150,6,150,12],[151,6,151,12],[140,6,140,12],[141,6,141,12],[142,6,142,12],[143,6,143,12],[144,6,144,12],[145,6,145,12],[134,6,134,12],[135,6,135,12],[136,6,136,12],[137,6,137,12],[138,6,138,12],[139,6,139,12],[128,6,128,12],[129,6,129,12],[130,6,130,12],[131,6,131,12],[132,6,132,12],[133,6,133,12],[122,6,122,12],[123,6,123,12],[124,6,124,12],[125,6,125,12],[126,6,126,12],[127,6,127,12],[116,6,116,12],[117,6,117,12],[118,6,118,12],[119,6,119,12],[120,6,120,12],[121,6,121,12],[110,6,110,12],[111,6,111,12],[112,6,112,12],[113,6,113,12],[114,6,114,12],[115,6,115,12],[104,6,104,12],[105,6,105,12],[106,6,106,12],[107,6,107,12],[108,6,108,12],[109,6,109,12],[98,6,98,12],[99,6,99,12],[100,6,100,12],[101,6,101,12],[102,6,102,12],[103,6,103,12],[92,6,92,12],[93,6,93,12],[94,6,94,12],[95,6,95,12],[96,6,96,12],[97,6,97,12],[86,6,86,12],[87,6,87,12],[88,6,88,12],[89,6,89,12],[90,6,90,12],[91,6,91,12],[80,6,80,12],[81,6,81,12],[82,6,82,12],[83,6,83,12],[84,6,84,12],[85,6,85,12],[74,6,74,12],[75,6,75,12],[76,6,76,12],[77,6,77,12],[78,6,78,12],[79,6,79,12],[68,6,68,12],[69,6,69,12],[70,6,70,12],[71,6,71,12],[72,6,72,12],[73,6,73,12],[62,6,62,12],[63,6,63,12],[64,6,64,12],[65,6,65,12],[66,6,66,12],[67,6,67,12],[56,6,56,12],[57,6,57,12],[58,6,58,12],[59,6,59,12],[60,6,60,12],[61,6,61,12],[50,6,50,12],[51,6,51,12],[52,6,52,12],[53,6,53,12],[54,6,54,12],[55,6,55,12],[44,6,44,12],[45,6,45,12],[46,6,46,12],[47,6,47,12],[48,6,48,12],[49,6,49,12],[38,6,38,12],[39,6,39,12],[40,6,40,12],[41,6,41,12],[42,6,42,12],[43,6,43,12],[32,6,32,12],[33,6,33,12],[34,6,34,12],[35,6,35,12],[36,6,36,12],[37,6,37,12],[27,6,27,12],[28,6,28,12],[29,6,29,12],[30,6,30,12],[31,6,31,12],[20,6,20,12],[21,6,21,12],[22,6,22,12],[23,6,23,12],[24,6,24,12],[25,6,25,12],[266,6,266,12],[276,1,276,14],[275,1,275,14],[274,1,274,14],[13,20,13,21],[13,26,13,27],[13,30,13,31],[3,13,3,14],[5,3,5,5],[6,3,6,5],[6,7,9,9],[6,13,6,14],[7,3,7,5],[7,13,7,14],[14,6,14,12],[15,6,15,12],[16,6,16,12],[17,6,17,12],[18,6,18,12],[19,6,19,12],[13,2,13,5],[13,16,13,17],[13,18,13,19],[26,6,26,12]]}
[]
[]
[null,null,null,null,null,null,null,0,null,null,null,null,null,null,null,null,1]
[null,null,null,null,null,null,{"$f":"VLOOKUP(\"Service:\",Sprachindex!A:Z,Haftungsausschluß!$O$6,FALSE)","v":"Service:"},{"$f":"IF('Kalkulation 1'!AO17=1,VLOOKUP(\"Mengenermittlung/Anfrage\",Sprachindex!A:Z,Haftungsausschluß!$O$6,FALSE),VLOOKUP(\"Bestellung\",Sprachindex!A:Z,Haftungsausschluß!$O$6,FALSE))","v":"Bestellung"},null,null,null,null,{"$f":"VLOOKUP(\"Datum:\",Sprachindex!A:Z,Haftungsausschluß!$O$6,FALSE)","v":"Datum:"},{"$f":"TODAY()","v":"2022-08-16"},null,{"$f":"VLOOKUP(\"Preis\",Sprachindex!A:Z,Haftungsausschluß!$O$6,FALSE)","v":"Preis"},1,"Preis"]
[null,null,null,{"$f":"VLOOKUP(\"Firma / Besteller:\",Sprachindex!A:Z,Haftungsausschluß!$O$6,FALSE)","v":"Firma / Besteller:"},null,null,null,{"$f":"VLOOKUP(\"Kalkulation\",Sprachindex!A:Z,Haftungsausschluß!$O$6,FALSE) & \" \" &Q3","v":"KALKULATION 1"},null,null,null,null,null,null,null,{"$f":"VLOOKUP(\"exkl. MwSt.\",Sprachindex!A:Z,Haftungsausschluß!$O$6,FALSE)","v":"exkl. MwSt."},1,"Beschichtung",null,null,null,null,{"$f":"'Kalkulation 1'!AV17","v":1}]
[null,null,{"$f":"VLOOKUP(\"Name:\",Sprachindex!A:Z,Haftungsausschluß!$O$6,FALSE)","v":"Name:"},{"$f":"'Kalkulation 1'!E5","v":""},null,null,{"$f":"VLOOKUP(\"Farbe:\",Sprachindex!A:Z,Haftungsausschluß!$O$6,FALSE)","v":"Farbe:"},{"$f":"IF(H7=\"\",VLOOKUP(\"blank\",Sprachindex!A:Z,Haftungsausschluß!$O$6,FALSE),IF('Kalkulation 1'!AP17=1,VLOOKUP(\"blank\",Sprachindex!A:Z,Haftungsausschluß!$O$6,FALSE),VLOOKUP(\"beschichtet\",Sprachindex!A:Z,Haftungsausschluß!$O$6,FALSE) & \": \" & H3))","v":"blank"},null,null,null,null,null,null,null,{"$f":"VLOOKUP(\"inkl. MwSt.\",Sprachindex!A:Z,Haftungsausschluß!$O$6,FALSE)","v":"inkl. MwSt."},{"$f":"AI205","v":0},"Besch.Pauschale händisch zum Testen definiert",null,null,null,null,{"$f":"AO205","v":0}]
[null,null,{"$f":"VLOOKUP(\"Straße:\",Sprachindex!A:Z,Haftungsausschluß!$O$6,FALSE)","v":"Straße:"},{"$f":"'Kalkulation 1'!E6","v":""},null,null,null,null,null,null,null,null,{"$f":"VLOOKUP(\"Telefon:\",Sprachindex!A:Z,Haftungsausschluß!$O$6,FALSE)","v":"Telefon:"},{"$f":"'Kalkulation 1'!E8","v":""},null,null,{"$f":"SUM(O16:O267)","v":552.1},"Summe aller Positionen",null,null,null,null,{"$f":"SUM(U16:U267)","v":0}]
[null,null,{"$f":"VLOOKUP(\"Ort:\",Sprachindex!A:Z,Haftungsausschluß!$O$6,FALSE)","v":"Ort:"},{"$f":"'Kalkulation 1'!E7","v":""},null,null,null,null,null,null,null,null,{"$f":"VLOOKUP(\"eMail:\",Sprachindex!A:Z,Haftungsausschluß!$O$6,FALSE)","v":"eMail:"},{"$f":"'Kalkulation 1'!E9","v":""}]
[null,null,{"$f":"VLOOKUP(\"Kommission:\",Sprachindex!A:Z,Haftungsausschluß!$O$6,FALSE)","v":"Kommission:"},""]
[null,null,null,null,null,null,null,null,null,null,null,null,null,null,null,{"$f":"IF(Haftungsausschluß!L21=1,VLOOKUP(\"Rabatt\",Sprachindex!A:Z,Haftungsausschluß!$O$6,FALSE),\"\")","v":"Rabatt"}]
[null,null,null,null,null,null,null,null,null,null,null,null,{"$f":"VLOOKUP(\"Bearbeiter:\",Sprachindex!A:Z,Haftungsausschluß!$O$6,FALSE)","v":"Bearbeiter:"},{"$f":"'Kalkulation 1'!R4","v":""},null,{"$f":"P12+P13","v":-10}]
[null,null,null,null,null,null,null,null,null,null,null,null,null,null,null,{"$f":"IF(O268<1000,-10,-14)","v":-10}]
[null,null,null,null,null,null,null,null,null,null,null,null,null,null,null,{"$f":"IF('HWS Experten'!C14>=1,-4,0)","v":0}]
[null,{"$f":"VLOOKUP(\"Filter:\",Sprachindex!A:Z,Haftungsausschluß!$O$6,FALSE)","v":"Filter:"},null,null,null,null,null,null,null,null,null,null,null,null,null,null,"Kalk 1"]
[null,{"$f":"VLOOKUP(\"Stück\",Sprachindex!A:Z,Haftungsausschluß!$O$6,FALSE)","v":"Stück"},{"$f":"VLOOKUP(\"Länge\",Sprachindex!A:Z,Haftungsausschluß!$O$6,FALSE)","v":"Länge"},{"$f":"VLOOKUP(\"Gesamt Länge\",Sprachindex!A:Z,Haftungsausschluß!$O$6,FALSE)","v":"Gesamt Länge"},{"$f":"VLOOKUP(\"Einheit\",Sprachindex!A:Z,Haftungsausschluß!$O$6,FALSE)","v":"Einheit"},{"$f":"VLOOKUP(\"Artikel Nr.\",Sprachindex!A:Z,Haftungsausschluß!$O$6,FALSE)","v":"Artikel Nr."},{"$f":"VLOOKUP(\"Bezeichnung\",Sprachindex!A:Z,Haftungsausschluß!$O$6,FALSE)","v":"Bezeichnung"},null,null,null,null,null,null,{"$f":"VLOOKUP(\"Preis pro lfm od. Stk\",Sprachindex!A:Z,Haftungsausschluß!$O$6,FALSE)","v":"Preis pro lfm od. Stk"},{"$f":"VLOOKUP(\"Preis exkl.MwSt\",Sprachindex!A:Z,Haftungsausschluß!$O$6,FALSE)","v":"Preis exkl.MwSt"},null,"Stk","Länge"]
[null,null,null,{"$f":"B16*C16/1000","v":0},{"$f":"VLOOKUP(\"[m]\",Sprachindex!$A:$Z,Haftungsausschluß!$O$6,FALSE)","v":"[m]"},{"$f":"IF($L$14=1,Preisliste!$E$7,Preisliste!$F$7)","v":"H251000"},{"$f":"VLOOKUP(\"Dammbalken 25/200 exkl. Dichtung, gesägt und entgratet\",Sprachindex!$A:$Z,Haftungsausschluß!$O$6,FALSE) & \" (\" & ROUNDUP(C16/1000*2.99,2) & \" \" & VLOOKUP(\"kg/Stk\",Sprachindex!$A:$Z,Haftungsausschluß!$O$6,FALSE) & \")\" & IF('Kalkulation 1'!AH33,\" \" & H3,\"\")","v":"Dammbalken 25/200 exkl. Dichtung, gesägt und entgratet (0 kg/Stk)"},null,null,null,null,null,null,null,{"$f":"N16*D16","v":0},null,null,{"$f":"C16","v":0}]
[null,null,null,{"$f":"B17*C17/1000","v":0},{"$f":"VLOOKUP(\"[m]\",Sprachindex!$A:$Z,Haftungsausschluß!$O$6,FALSE)","v":"[m]"},{"$f":"IF($L$14=1,Preisliste!$E$7,Preisliste!$F$7)","v":"H251000"},{"$f":"VLOOKUP(\"Dammbalken 25/200 exkl. Dichtung, gesägt und entgratet\",Sprachindex!$A:$Z,Haftungsausschluß!$O$6,FALSE) & \" (\" & ROUNDUP(C17/1000*2.99,2) & \" \" & VLOOKUP(\"kg/Stk\",Sprachindex!$A:$Z,Haftungsausschluß!$O$6,FALSE) & \")\" & IF('Kalkulation 1'!AH33,\" \" & H3,\"\")","v":"Dammbalken 25/200 exkl. Dichtung, gesägt und entgratet (0 kg/Stk)"},null,null,null,null,null,null,null,{"$f":"N17*D17","v":0},null,null,{"$f":"C17","v":0}]
[null,null,null,{"$f":"B18*C18/1000","v":0},{"$f":"VLOOKUP(\"[m]\",Sprachindex!$A:$Z,Haftungsausschluß!$O$6,FALSE)","v":"[m]"},{"$f":"IF($L$14=1,Preisliste!$E$7,Preisliste!$F$7)","v":"H251000"},{"$f":"VLOOKUP(\"Dammbalken 25/200 exkl. Dichtung, gesägt und entgratet\",Sprachindex!$A:$Z,Haftungsausschluß!$O$6,FALSE) & \" (\" & ROUNDUP(C18/1000*2.99,2) & \" \" & VLOOKUP(\"kg/Stk\",Sprachindex!$A:$Z,Haftungsausschluß!$O$6,FALSE) & \")\" & IF('Kalkulation 1'!AH33,\" \" & H3,\"\")","v":"Dammbalken 25/200 exkl. Dichtung, gesägt und entgratet (0 kg/Stk)"},null,null,null,null,null,null,null,{"$f":"N18*D18","v":0},null,null,0]
[null,null,null,0,{"$f":"VLOOKUP(\"[m]\",Sprachindex!$A:$Z,Haftungsausschluß!$O$6,FALSE)","v":"[m]"},{"$f":"IF($L$14=1,Preisliste!$E$7,Preisliste!$F$7)","v":"H251000"},{"$f":"VLOOKUP(\"Dammbalken 25/200 exkl. Dichtung, gesägt und entgratet\",Sprachindex!$A:$Z,Haftungsausschluß!$O$6,FALSE) & \" (\" & ROUNDUP(C19/1000*2.99,2) & \" \" & VLOOKUP(\"kg/Stk\",Sprachindex!$A:$Z,Haftungsausschluß!$O$6,FALSE) & \")\" & IF('Kalkulation 1'!AH33,\" \" & H3,\"\")","v":"Dammbalken 25/200 exkl. Dichtung, gesägt und entgratet (0 kg/Stk)"},null,null,null,null,null,null,null,0,null,null,0]
[null,null,null,0,{"$f":"VLOOKUP(\"[m]\",Sprachindex!$A:$Z,Haftungsausschluß!$O$6,FALSE)","v":"[m]"},{"$f":"IF($L$14=1,Preisliste!$E$7,Preisliste!$F$7)","v":"H251000"},{"$f":"VLOOKUP(\"Dammbalken 25/200 exkl. Dichtung, gesägt und entgratet\",Sprachindex!$A:$Z,Haftungsausschluß!$O$6,FALSE) & \" (\" & ROUNDUP(C20/1000*2.99,2) & \" \" & VLOOKUP(\"kg/Stk\",Sprachindex!$A:$Z,Haftungsausschluß!$O$6,FALSE) & \")\" & IF('Kalkulation 1'!AH33,\" \" & H3,\"\")","v":"Dammbalken 25/200 exkl. Dichtung, gesägt und entgratet (0 kg/Stk)"},null,null,null,null,null,null,null,0,null,null,0]
[null,null,null,0,{"$f":"VLOOKUP(\"[m]\",Sprachindex!$A:$Z,Haftungsausschluß!$O$6,FALSE)","v":"[m]"},{"$f":"IF($L$14=1,Preisliste!$E$7,Preisliste!$F$7)","v":"H251000"},{"$f":"VLOOKUP(\"Dammbalken 25/200 exkl. Dichtung, gesägt und entgratet\",Sprachindex!$A:$Z,Haftungsausschluß!$O$6,FALSE) & \" (\" & ROUNDUP(C21/1000*2.99,2) & \" \" & VLOOKUP(\"kg/Stk\",Sprachindex!$A:$Z,Haftungsausschluß!$O$6,FALSE) & \")\" & IF('Kalkulation 1'!AH33,\" \" & H3,\"\")","v":"Dammbalken 25/200 exkl. Dichtung, gesägt und entgratet (0 kg/Stk)"},null,null,null,null,null,null,null,0,null,null,0]
[null,null,null,0,{"$f":"VLOOKUP(\"[m]\",Sprachindex!$A:$Z,Haftungsausschluß!$O$6,FALSE)","v":"[m]"},{"$f":"IF($L$14=1,Preisliste!$E$7,Preisliste!$F$7)","v":"H251000"},{"$f":"VLOOKUP(\"Dammbalken 25/200 exkl. Dichtung, gesägt und entgratet\",Sprachindex!$A:$Z,Haftungsausschluß!$O$6,FALSE) & \" (\" & ROUNDUP(C22/1000*2.99,2) & \" \" & VLOOKUP(\"kg/Stk\",Sprachindex!$A:$Z,Haftungsausschluß!$O$6,FALSE) & \")\" & IF('Kalkulation 1'!AH33,\" \" & H3,\"\")","v":"Dammbalken 25/200 exkl. Dichtung, gesägt und entgratet (0 kg/Stk)"},null,null,null,null,null,null,null,0,null,null,0]
[null,null,null,0,{"$f":"VLOOKUP(\"[m]\",Sprachindex!$A:$Z,Haftungsausschluß!$O$6,FALSE)","v":"[m]"},{"$f":"IF($L$14=1,Preisliste!$E$7,Preisliste!$F$7)","v":"H251000"},{"$f":"VLOOKUP(\"Dammbalken 25/200 exkl. Dichtung, gesägt und entgratet\",Sprachindex!$A:$Z,Haftungsausschluß!$O$6,FALSE) & \" (\" & ROUNDUP(C23/1000*2.99,2) & \" \" & VLOOKUP(\"kg/Stk\",Sprachindex!$A:$Z,Haftungsausschluß!$O$6,FALSE) & \")\" & IF('Kalkulation 1'!AH33,\" \" & H3,\"\")","v":"Dammbalken 25/200 exkl. Dichtung, gesägt und entgratet (0 kg/Stk)"},null,null,null,null,null,null,null,0,null,null,0]
[null,null,null,0,{"$f":"VLOOKUP(\"[m]\",Sprachindex!$A:$Z,Haftungsausschluß!$O$6,FALSE)","v":"[m]"},{"$f":"IF($L$14=1,Preisliste!$E$7,Preisliste!$F$7)","v":"H251000"},{"$f":"VLOOKUP(\"Dammbalken 25/200 exkl. Dichtung, gesägt und entgratet\",Sprachindex!$A:$Z,Haftungsausschluß!$O$6,FALSE) & \" (\" & ROUNDUP(C24/1000*2.99,2) & \" \" & VLOOKUP(\"kg/Stk\",Sprachindex!$A:$Z,Haftungsausschluß!$O$6,FALSE) & \")\" & IF('Kalkulation 1'!AH33,\" \" & H3,\"\")","v":"Dammbalken 25/200 exkl. Dichtung, gesägt und entgratet (0 kg/Stk)"},null,null,null,null,null,null,null,0,null,null,0]
[null,null,null,0,{"$f":"VLOOKUP(\"[m]\",Sprachindex!$A:$Z,Haftungsausschluß!$O$6,FALSE)","v":"[m]"},{"$f":"IF($L$14=1,Preisliste!$E$7,Preisliste!$F$7)","v":"H251000"},{"$f":"VLOOKUP(\"Dammbalken 25/200 exkl. Dichtung, gesägt und entgratet\",Sprachindex!$A:$Z,Haftungsausschluß!$O$6,FALSE) & \" (\" & ROUNDUP(C25/1000*2.99,2) & \" \" & VLOOKUP(\"kg/Stk\",Sprachindex!$A:$Z,Haftungsausschluß!$O$6,FALSE) & \")\" & IF('Kalkulation 1'!AH33,\" \" & H3,\"\")","v":"Dammbalken 25/200 exkl. Dichtung, gesägt und entgratet (0 kg/Stk)"},null,null,null,null,null,null,null,0,null,null,0]
[null,null,null,0,{"$f":"VLOOKUP(\"[m]\",Sprachindex!$A:$Z,Haftungsausschluß!$O$6,FALSE)","v":"[m]"},{"$f":"IF($L$14=1,Preisliste!$E$7,Preisliste!$F$7)","v":"H251000"},{"$f":"VLOOKUP(\"Dammbalken 25/200 exkl. Dichtung, gesägt und entgratet\",Sprachindex!$A:$Z,Haftungsausschluß!$O$6,FALSE) & \" (\" & ROUNDUP(C26/1000*2.99,2) & \" \" & VLOOKUP(\"kg/Stk\",Sprachindex!$A:$Z,Haftungsausschluß!$O$6,FALSE) & \")\" & IF('Kalkulation 1'!AH33,\" \" & H3,\"\")","v":"Dammbalken 25/200 exkl. Dichtung, gesägt und entgratet (0 kg/Stk)"},null,null,null,null,null,null,null,0,null,null,0]
[null,null,null,0,{"$f":"VLOOKUP(\"[m]\",Sprachindex!$A:$Z,Haftungsausschluß!$O$6,FALSE)","v":"[m]"},{"$f":"IF($L$14=1,Preisliste!$E$7,Preisliste!$F$7)","v":"H251000"},{"$f":"VLOOKUP(\"Dammbalken 25/200 exkl. Dichtung, gesägt und entgratet\",Sprachindex!$A:$Z,Haftungsausschluß!$O$6,FALSE) & \" (\" & ROUNDUP(C27/1000*2.99,2) & \" \" & VLOOKUP(\"kg/Stk\",Sprachindex!$A:$Z,Haftungsausschluß!$O$6,FALSE) & \")\" & IF('Kalkulation 1'!AH33,\" \" & H3,\"\")","v":"Dammbalken 25/200 exkl. Dichtung, gesägt und entgratet (0 kg/Stk)"},null,null,null,null,null,null,null,0,null,null,0]
[null,null,null,0,{"$f":"VLOOKUP(\"[m]\",Sprachindex!$A:$Z,Haftungsausschluß!$O$6,FALSE)","v":"[m]"},{"$f":"IF($L$14=1,Preisliste!$E$7,Preisliste!$F$7)","v":"H251000"},{"$f":"VLOOKUP(\"Dammbalken 25/200 exkl. Dichtung, gesägt und entgratet\",Sprachindex!$A:$Z,Haftungsausschluß!$O$6,FALSE) & \" (\" & ROUNDUP(C28/1000*2.99,2) & \" \" & VLOOKUP(\"kg/Stk\",Sprachindex!$A:$Z,Haftungsausschluß!$O$6,FALSE) & \")\" & IF('Kalkulation 1'!AH33,\" \" & H3,\"\")","v":"Dammbalken 25/200 exkl. Dichtung, gesägt und entgratet (0 kg/Stk)"},null,null,null,null,null,null,null,0,null,null,0]
[null,null,null,0,{"$f":"VLOOKUP(\"[m]\",Sprachindex!$A:$Z,Haftungsausschluß!$O$6,FALSE)","v":"[m]"},{"$f":"IF($L$14=1,Preisliste!$E$7,Preisliste!$F$7)","v":"H251000"},{"$f":"VLOOKUP(\"Dammbalken 25/200 exkl. Dichtung, gesägt und entgratet\",Sprachindex!$A:$Z,Haftungsausschluß!$O$6,FALSE) & \" (\" & ROUNDUP(C29/1000*2.99,2) & \" \" & VLOOKUP(\"kg/Stk\",Sprachindex!$A:$Z,Haftungsausschluß!$O$6,FALSE) & \")\" & IF('Kalkulation 1'!AH33,\" \" & H3,\"\")","v":"Dammbalken 25/200 exkl. Dichtung, gesägt und entgratet (0 kg/Stk)"},null,null,null,null,null,null,null,0,null,null,0]
[null,null,null,0,{"$f":"VLOOKUP(\"[m]\",Sprachindex!$A:$Z,Haftungsausschluß!$O$6,FALSE)","v":"[m]"},{"$f":"IF($L$14=1,Preisliste!$E$7,Preisliste!$F$7)","v":"H251000"},{"$f":"VLOOKUP(\"Dammbalken 25/200 exkl. Dichtung, gesägt und entgratet\",Sprachindex!$A:$Z,Haftungsausschluß!$O$6,FALSE) & \" (\" & ROUNDUP(C30/1000*2.99,2) & \" \" & VLOOKUP(\"kg/Stk\",Sprachindex!$A:$Z,Haftungsausschluß!$O$6,FALSE) & \")\" & IF('Kalkulation 1'!AH33,\" \" & H3,\"\")","v":"Dammbalken 25/200 exkl. Dichtung, gesägt und entgratet (0 kg/Stk)"},null,null,null,null,null,null,null,0,null,null,0]
[null,null,null,0,{"$f":"VLOOKUP(\"[m]\",Sprachindex!$A:$Z,Haftungsausschluß!$O$6,FALSE)","v":"[m]"},{"$f":"IF($L$14=1,Preisliste!$E$7,Preisliste!$F$7)","v":"H251000"},{"$f":"VLOOKUP(\"Dammbalken 25/200 exkl. Dichtung, gesägt und entgratet\",Sprachindex!$A:$Z,Haftungsausschluß!$O$6,FALSE) & \" (\" & ROUNDUP(C31/1000*2.99,2) & \" \" & VLOOKUP(\"kg/Stk\",Sprachindex!$A:$Z,Haftungsausschluß!$O$6,FALSE) & \")\" & IF('Kalkulation 1'!AH33,\" \" & H3,\"\")","v":"Dammbalken 25/200 exkl. Dichtung, gesägt und entgratet (0 kg/Stk)"},null,null,null,null,null,null,null,0,null,null,0]
[null,null,null,0,{"$f":"VLOOKUP(\"[m]\",Sprachindex!$A:$Z,Haftungsausschluß!$O$6,FALSE)","v":"[m]"},{"$f":"IF($L$14=1,Preisliste!$E$7,Preisliste!$F$7)","v":"H251000"},{"$f":"VLOOKUP(\"Dammbalken 25/200 exkl. Dichtung, gesägt und entgratet\",Sprachindex!$A:$Z,Haftungsausschluß!$O$6,FALSE) & \" (\" & ROUNDUP(C32/1000*2.99,2) & \" \" & VLOOKUP(\"kg/Stk\",Sprachindex!$A:$Z,Haftungsausschluß!$O$6,FALSE) & \")\" & IF('Kalkulation 1'!AH33,\" \" & H3,\"\")","v":"Dammbalken 25/200 exkl. Dichtung, gesägt und entgratet (0 kg/Stk)"},null,null,null,null,null,null,null,0,null,null,0]
[null,null,null,0,{"$f":"VLOOKUP(\"[m]\",Sprachindex!$A:$Z,Haftungsausschluß!$O$6,FALSE)","v":"[m]"},{"$f":"IF($L$14=1,Preisliste!$E$7,Preisliste!$F$7)","v":"H251000"},{"$f":"VLOOKUP(\"Dammbalken 25/200 exkl. Dichtung, gesägt und entgratet\",Sprachindex!$A:$Z,Haftungsausschluß!$O$6,FALSE) & \" (\" & ROUNDUP(C33/1000*2.99,2) & \" \" & VLOOKUP(\"kg/Stk\",Sprachindex!$A:$Z,Haftungsausschluß!$O$6,FALSE) & \")\" & IF('Kalkulation 1'!AH33,\" \" & H3,\"\")","v":"Dammbalken 25/200 exkl. Dichtung, gesägt und entgratet (0 kg/Stk)"},null,null,null,null,null,null,null,0,null,null,0]
[null,null,null,0,{"$f":"VLOOKUP(\"[m]\",Sprachindex!$A:$Z,Haftungsausschluß!$O$6,FALSE)","v":"[m]"},{"$f":"IF($L$14=1,Preisliste!$E$7,Preisliste!$F$7)","v":"H251000"},{"$f":"VLOOKUP(\"Dammbalken 25/200 exkl. Dichtung, gesägt und entgratet\",Sprachindex!$A:$Z,Haftungsausschluß!$O$6,FALSE) & \" (\" & ROUNDUP(C34/1000*2.99,2) & \" \" & VLOOKUP(\"kg/Stk\",Sprachindex!$A:$Z,Haftungsausschluß!$O$6,FALSE) & \")\" & IF('Kalkulation 1'!AH33,\" \" & H3,\"\")","v":"Dammbalken 25/200 exkl. Dichtung, gesägt und entgratet (0 kg/Stk)"},null,null,null,null,null,null,null,0,null,null,0]
[null,null,null,0,{"$f":"VLOOKUP(\"[m]\",Sprachindex!$A:$Z,Haftungsausschluß!$O$6,FALSE)","v":"[m]"},{"$f":"IF($L$14=1,Preisliste!$E$7,Preisliste!$F$7)","v":"H251000"},{"$f":"VLOOKUP(\"Dammbalken 25/200 exkl. Dichtung, gesägt und entgratet\",Sprachindex!$A:$Z,Haftungsausschluß!$O$6,FALSE) & \" (\" & ROUNDUP(C35/1000*2.99,2) & \" \" & VLOOKUP(\"kg/Stk\",Sprachindex!$A:$Z,Haftungsausschluß!$O$6,FALSE) & \")\" & IF('Kalkulation 1'!AH33,\" \" & H3,\"\")","v":"Dammbalken 25/200 exkl. Dichtung, gesägt und entgratet (0 kg/Stk)"},null,null,null,null,null,null,null,0,null,null,0]
[null,null,null,0,{"$f":"VLOOKUP(\"[m]\",Sprachindex!$A:$Z,Haftungsausschluß!$O$6,FALSE)","v":"[m]"},{"$f":"IF($L$14=1,Preisliste!$E$10,Preisliste!$F$10)","v":"H501000"},{"$f":"VLOOKUP(\"Dammbalken 50/150 exkl. Dichtung, gesägt und entgratet\",Sprachindex!$A:$Z,Haftungsausschluß!$O$6,FALSE) & \" (\" & ROUNDUP(C36/1000*5.62,2) & \" \" & VLOOKUP(\"kg/Stk\",Sprachindex!$A:$Z,Haftungsausschluß!$O$6,FALSE) & \")\" & IF('Kalkulation 1'!AH33,\" \" & H3,\"\")","v":"Dammbalken 50/150 exkl. Dichtung, gesägt und entgratet (0 kg/Stk)"},null,null,null,null,null,null,null,{"$f":"N36*D36","v":0},null,null,0]
[null,null,null,0,{"$f":"VLOOKUP(\"[m]\",Sprachindex!$A:$Z,Haftungsausschluß!$O$6,FALSE)","v":"[m]"},{"$f":"IF($L$14=1,Preisliste!$E$10,Preisliste!$F$10)","v":"H501000"},{"$f":"VLOOKUP(\"Dammbalken 50/150 exkl. Dichtung, gesägt und entgratet\",Sprachindex!$A:$Z,Haftungsausschluß!$O$6,FALSE) & \" (\" & ROUNDUP(C37/1000*5.62,2) & \" \" & VLOOKUP(\"kg/Stk\",Sprachindex!$A:$Z,Haftungsausschluß!$O$6,FALSE) & \")\" & IF('Kalkulation 1'!AH33,\" \" & H3,\"\")","v":"Dammbalken 50/150 exkl. Dichtung, gesägt und entgratet (0 kg/Stk)"},null,null,null,null,null,null,null,{"$f":"N37*D37","v":0},null,null,0]
[null,null,null,0,{"$f":"VLOOKUP(\"[m]\",Sprachindex!$A:$Z,Haftungsausschluß!$O$6,FALSE)","v":"[m]"},{"$f":"IF($L$14=1,Preisliste!$E$10,Preisliste!$F$10)","v":"H501000"},{"$f":"VLOOKUP(\"Dammbalken 50/150 exkl. Dichtung, gesägt und entgratet\",Sprachindex!$A:$Z,Haftungsausschluß!$O$6,FALSE) & \" (\" & ROUNDUP(C38/1000*5.62,2) & \" \" & VLOOKUP(\"kg/Stk\",Sprachindex!$A:$Z,Haftungsausschluß!$O$6,FALSE) & \")\" & IF('Kalkulation 1'!AH33,\" \" & H3,\"\")","v":"Dammbalken 50/150 exkl. Dichtung, gesägt und entgratet (0 kg/Stk)"},null,null,null,null,null,null,null,0,null,null,0]
[null,null,null,0,{"$f":"VLOOKUP(\"[m]\",Sprachindex!$A:$Z,Haftungsausschluß!$O$6,FALSE)","v":"[m]"},{"$f":"IF($L$14=1,Preisliste!$E$10,Preisliste!$F$10)","v":"H501000"},{"$f":"VLOOKUP(\"Dammbalken 50/150 exkl. Dichtung, gesägt und entgratet\",Sprachindex!$A:$Z,Haftungsausschluß!$O$6,FALSE) & \" (\" & ROUNDUP(C39/1000*5.62,2) & \" \" & VLOOKUP(\"kg/Stk\",Sprachindex!$A:$Z,Haftungsausschluß!$O$6,FALSE) & \")\" & IF('Kalkulation 1'!AH33,\" \" & H3,\"\")","v":"Dammbalken 50/150 exkl. Dichtung, gesägt und entgratet (0 kg/Stk)"},null,null,null,null,null,null,null,0,null,null,0]
[null,null,null,0,{"$f":"VLOOKUP(\"[m]\",Sprachindex!$A:$Z,Haftungsausschluß!$O$6,FALSE)","v":"[m]"},{"$f":"IF($L$14=1,Preisliste!$E$10,Preisliste!$F$10)","v":"H501000"},{"$f":"VLOOKUP(\"Dammbalken 50/150 exkl. Dichtung, gesägt und entgratet\",Sprachindex!$A:$Z,Haftungsausschluß!$O$6,FALSE) & \" (\" & ROUNDUP(C40/1000*5.62,2) & \" \" & VLOOKUP(\"kg/Stk\",Sprachindex!$A:$Z,Haftungsausschluß!$O$6,FALSE) & \")\" & IF('Kalkulation 1'!AH33,\" \" & H3,\"\")","v":"Dammbalken 50/150 exkl. Dichtung, gesägt und entgratet (0 kg/Stk)"},null,null,null,null,null,null,null,0,null,null,0]
[null,null,null,0,{"$f":"VLOOKUP(\"[m]\",Sprachindex!$A:$Z,Haftungsausschluß!$O$6,FALSE)","v":"[m]"},{"$f":"IF($L$14=1,Preisliste!$E$10,Preisliste!$F$10)","v":"H501000"},{"$f":"VLOOKUP(\"Dammbalken 50/150 exkl. Dichtung, gesägt und entgratet\",Sprachindex!$A:$Z,Haftungsausschluß!$O$6,FALSE) & \" (\" & ROUNDUP(C41/1000*5.62,2) & \" \" & VLOOKUP(\"kg/Stk\",Sprachindex!$A:$Z,Haftungsausschluß!$O$6,FALSE) & \")\" & IF('Kalkulation 1'!AH33,\" \" & H3,\"\")","v":"Dammbalken 50/150 exkl. Dichtung, gesägt und entgratet (0 kg/Stk)"},null,null,null,null,null,null,null,0,null,null,0]
[null,null,null,0,{"$f":"VLOOKUP(\"[m]\",Sprachindex!$A:$Z,Haftungsausschluß!$O$6,FALSE)","v":"[m]"},{"$f":"IF($L$14=1,Preisliste!$E$10,Preisliste!$F$10)","v":"H501000"},{"$f":"VLOOKUP(\"Dammbalken 50/150 exkl. Dichtung, gesägt und entgratet\",Sprachindex!$A:$Z,Haftungsausschluß!$O$6,FALSE) & \" (\" & ROUNDUP(C42/1000*5.62,2) & \" \" & VLOOKUP(\"kg/Stk\",Sprachindex!$A:$Z,Haftungsausschluß!$O$6,FALSE) & \")\" & IF('Kalkulation 1'!AH33,\" \" & H3,\"\")","v":"Dammbalken 50/150 exkl. Dichtung, gesägt und entgratet (0 kg/Stk)"},null,null,null,null,null,null,null,0,null,null,0]
[null,null,null,0,{"$f":"VLOOKUP(\"[m]\",Sprachindex!$A:$Z,Haftungsausschluß!$O$6,FALSE)","v":"[m]"},{"$f":"IF($L$14=1,Preisliste!$E$10,Preisliste!$F$10)","v":"H501000"},{"$f":"VLOOKUP(\"Dammbalken 50/150 exkl. Dichtung, gesägt und entgratet\",Sprachindex!$A:$Z,Haftungsausschluß!$O$6,FALSE) & \" (\" & ROUNDUP(C43/1000*5.62,2) & \" \" & VLOOKUP(\"kg/Stk\",Sprachindex!$A:$Z,Haftungsausschluß!$O$6,FALSE) & \")\" & IF('Kalkulation 1'!AH33,\" \" & H3,\"\")","v":"Dammbalken 50/150 exkl. Dichtung, gesägt und entgratet (0 kg/Stk)"},null,null,null,null,null,null,null,0,null,null,0]
[null,null,null,0,{"$f":"VLOOKUP(\"[m]\",Sprachindex!$A:$Z,Haftungsausschluß!$O$6,FALSE)","v":"[m]"},{"$f":"IF($L$14=1,Preisliste!$E$10,Preisliste!$F$10)","v":"H501000"},{"$f":"VLOOKUP(\"Dammbalken 50/150 exkl. Dichtung, gesägt und entgratet\",Sprachindex!$A:$Z,Haftungsausschluß!$O$6,FALSE) & \" (\" & ROUNDUP(C44/1000*5.62,2) & \" \" & VLOOKUP(\"kg/Stk\",Sprachindex!$A:$Z,Haftungsausschluß!$O$6,FALSE) & \")\" & IF('Kalkulation 1'!AH33,\" \" & H3,\"\")","v":"Dammbalken 50/150 exkl. Dichtung, gesägt und entgratet (0 kg/Stk)"},null,null,null,null,null,null,null,0,null,null,0]
[null,null,null,0,{"$f":"VLOOKUP(\"[m]\",Sprachindex!$A:$Z,Haftungsausschluß!$O$6,FALSE)","v":"[m]"},{"$f":"IF($L$14=1,Preisliste!$E$10,Preisliste!$F$10)","v":"H501000"},{"$f":"VLOOKUP(\"Dammbalken 50/150 exkl. Dichtung, gesägt und entgratet\",Sprachindex!$A:$Z,Haftungsausschluß!$O$6,FALSE) & \" (\" & ROUNDUP(C45/1000*5.62,2) & \" \" & VLOOKUP(\"kg/Stk\",Sprachindex!$A:$Z,Haftungsausschluß!$O$6,FALSE) & \")\" & IF('Kalkulation 1'!AH33,\" \" & H3,\"\")","v":"Dammbalken 50/150 exkl. Dichtung, gesägt und entgratet (0 kg/Stk)"},null,null,null,null,null,null,null,0,null,null,0]
[null,null,null,0,{"$f":"VLOOKUP(\"[m]\",Sprachindex!$A:$Z,Haftungsausschluß!$O$6,FALSE)","v":"[m]"},{"$f":"IF($L$14=1,Preisliste!$E$10,Preisliste!$F$10)","v":"H501000"},{"$f":"VLOOKUP(\"Dammbalken 50/150 exkl. Dichtung, gesägt und entgratet\",Sprachindex!$A:$Z,Haftungsausschluß!$O$6,FALSE) & \" (\" & ROUNDUP(C46/1000*5.62,2) & \" \" & VLOOKUP(\"kg/Stk\",Sprachindex!$A:$Z,Haftungsausschluß!$O$6,FALSE) & \")\" & IF('Kalkulation 1'!AH33,\" \" & H3,\"\")","v":"Dammbalken 50/150 exkl. Dichtung, gesägt und entgratet (0 kg/Stk)"},null,null,null,null,null,null,null,0,null,null,0]
[null,null,null,0,{"$f":"VLOOKUP(\"[m]\",Sprachindex!$A:$Z,Haftungsausschluß!$O$6,FALSE)","v":"[m]"},{"$f":"IF($L$14=1,Preisliste!$E$10,Preisliste!$F$10)","v":"H501000"},{"$f":"VLOOKUP(\"Dammbalken 50/150 exkl. Dichtung, gesägt und entgratet\",Sprachindex!$A:$Z,Haftungsausschluß!$O$6,FALSE) & \" (\" & ROUNDUP(C47/1000*5.62,2) & \" \" & VLOOKUP(\"kg/Stk\",Sprachindex!$A:$Z,Haftungsausschluß!$O$6,FALSE) & \")\" & IF('Kalkulation 1'!AH33,\" \" & H3,\"\")","v":"Dammbalken 50/150 exkl. Dichtung, gesägt und entgratet (0 kg/Stk)"},null,null,null,null,null,null,null,0,null,null,0]
[null,null,null,0,{"$f":"VLOOKUP(\"[m]\",Sprachindex!$A:$Z,Haftungsausschluß!$O$6,FALSE)","v":"[m]"},{"$f":"IF($L$14=1,Preisliste!$E$10,Preisliste!$F$10)","v":"H501000"},{"$f":"VLOOKUP(\"Dammbalken 50/150 exkl. Dichtung, gesägt und entgratet\",Sprachindex!$A:$Z,Haftungsausschluß!$O$6,FALSE) & \" (\" & ROUNDUP(C48/1000*5.62,2) & \" \" & VLOOKUP(\"kg/Stk\",Sprachindex!$A:$Z,Haftungsausschluß!$O$6,FALSE) & \")\" & IF('Kalkulation 1'!AH33,\" \" & H3,\"\")","v":"Dammbalken 50/150 exkl. Dichtung, gesägt und entgratet (0 kg/Stk)"},null,null,null,null,null,null,null,0,null,null,0]
[null,null,null,0,{"$f":"VLOOKUP(\"[m]\",Sprachindex!$A:$Z,Haftungsausschluß!$O$6,FALSE)","v":"[m]"},{"$f":"IF($L$14=1,Preisliste!$E$10,Preisliste!$F$10)","v":"H501000"},{"$f":"VLOOKUP(\"Dammbalken 50/150 exkl. Dichtung, gesägt und entgratet\",Sprachindex!$A:$Z,Haftungsausschluß!$O$6,FALSE) & \" (\" & ROUNDUP(C49/1000*5.62,2) & \" \" & VLOOKUP(\"kg/Stk\",Sprachindex!$A:$Z,Haftungsausschluß!$O$6,FALSE) & \")\" & IF('Kalkulation 1'!AH33,\" \" & H3,\"\")","v":"Dammbalken 50/150 exkl. Dichtung, gesägt und entgratet (0 kg/Stk)"},null,null,null,null,null,null,null,0,null,null,0]
[null,null,null,0,{"$f":"VLOOKUP(\"[m]\",Sprachindex!$A:$Z,Haftungsausschluß!$O$6,FALSE)","v":"[m]"},{"$f":"IF($L$14=1,Preisliste!$E$10,Preisliste!$F$10)","v":"H501000"},{"$f":"VLOOKUP(\"Dammbalken 50/150 exkl. Dichtung, gesägt und entgratet\",Sprachindex!$A:$Z,Haftungsausschluß!$O$6,FALSE) & \" (\" & ROUNDUP(C50/1000*5.62,2) & \" \" & VLOOKUP(\"kg/Stk\",Sprachindex!$A:$Z,Haftungsausschluß!$O$6,FALSE) & \")\" & IF('Kalkulation 1'!AH33,\" \" & H3,\"\")","v":"Dammbalken 50/150 exkl. Dichtung, gesägt und entgratet (0 kg/Stk)"},null,null,null,null,null,null,null,0,null,null,0]
[null,null,null,0,{"$f":"VLOOKUP(\"[m]\",Sprachindex!$A:$Z,Haftungsausschluß!$O$6,FALSE)","v":"[m]"},{"$f":"IF($L$14=1,Preisliste!$E$10,Preisliste!$F$10)","v":"H501000"},{"$f":"VLOOKUP(\"Dammbalken 50/150 exkl. Dichtung, gesägt und entgratet\",Sprachindex!$A:$Z,Haftungsausschluß!$O$6,FALSE) & \" (\" & ROUNDUP(C51/1000*5.62,2) & \" \" & VLOOKUP(\"kg/Stk\",Sprachindex!$A:$Z,Haftungsausschluß!$O$6,FALSE) & \")\" & IF('Kalkulation 1'!AH33,\" \" & H3,\"\")","v":"Dammbalken 50/150 exkl. Dichtung, gesägt und entgratet (0 kg/Stk)"},null,null,null,null,null,null,null,0,null,null,0]
[null,null,null,0,{"$f":"VLOOKUP(\"[m]\",Sprachindex!$A:$Z,Haftungsausschluß!$O$6,FALSE)","v":"[m]"},{"$f":"IF($L$14=1,Preisliste!$E$10,Preisliste!$F$10)","v":"H501000"},{"$f":"VLOOKUP(\"Dammbalken 50/150 exkl. Dichtung, gesägt und entgratet\",Sprachindex!$A:$Z,Haftungsausschluß!$O$6,FALSE) & \" (\" & ROUNDUP(C52/1000*5.62,2) & \" \" & VLOOKUP(\"kg/Stk\",Sprachindex!$A:$Z,Haftungsausschluß!$O$6,FALSE) & \")\" & IF('Kalkulation 1'!AH33,\" \" & H3,\"\")","v":"Dammbalken 50/150 exkl. Dichtung, gesägt und entgratet (0 kg/Stk)"},null,null,null,null,null,null,null,0,null,null,0]
[null,null,null,0,{"$f":"VLOOKUP(\"[m]\",Sprachindex!$A:$Z,Haftungsausschluß!$O$6,FALSE)","v":"[m]"},{"$f":"IF($L$14=1,Preisliste!$E$10,Preisliste!$F$10)","v":"H501000"},{"$f":"VLOOKUP(\"Dammbalken 50/150 exkl. Dichtung, gesägt und entgratet\",Sprachindex!$A:$Z,Haftungsausschluß!$O$6,FALSE) & \" (\" & ROUNDUP(C53/1000*5.62,2) & \" \" & VLOOKUP(\"kg/Stk\",Sprachindex!$A:$Z,Haftungsausschluß!$O$6,FALSE) & \")\" & IF('Kalkulation 1'!AH33,\" \" & H3,\"\")","v":"Dammbalken 50/150 exkl. Dichtung, gesägt und entgratet (0 kg/Stk)"},null,null,null,null,null,null,null,0,null,null,0]
[null,null,null,0,{"$f":"VLOOKUP(\"[m]\",Sprachindex!$A:$Z,Haftungsausschluß!$O$6,FALSE)","v":"[m]"},{"$f":"IF($L$14=1,Preisliste!$E$10,Preisliste!$F$10)","v":"H501000"},{"$f":"VLOOKUP(\"Dammbalken 50/150 exkl. Dichtung, gesägt und entgratet\",Sprachindex!$A:$Z,Haftungsausschluß!$O$6,FALSE) & \" (\" & ROUNDUP(C54/1000*5.62,2) & \" \" & VLOOKUP(\"kg/Stk\",Sprachindex!$A:$Z,Haftungsausschluß!$O$6,FALSE) & \")\" & IF('Kalkulation 1'!AH33,\" \" & H3,\"\")","v":"Dammbalken 50/150 exkl. Dichtung, gesägt und entgratet (0 kg/Stk)"},null,null,null,null,null,null,null,0,null,null,0]
[null,null,null,0,{"$f":"VLOOKUP(\"[m]\",Sprachindex!$A:$Z,Haftungsausschluß!$O$6,FALSE)","v":"[m]"},{"$f":"IF($L$14=1,Preisliste!$E$10,Preisliste!$F$10)","v":"H501000"},{"$f":"VLOOKUP(\"Dammbalken 50/150 exkl. Dichtung, gesägt und entgratet\",Sprachindex!$A:$Z,Haftungsausschluß!$O$6,FALSE) & \" (\" & ROUNDUP(C55/1000*5.62,2) & \" \" & VLOOKUP(\"kg/Stk\",Sprachindex!$A:$Z,Haftungsausschluß!$O$6,FALSE) & \")\" & IF('Kalkulation 1'!AH33,\" \" & H3,\"\")","v":"Dammbalken 50/150 exkl. Dichtung, gesägt und entgratet (0 kg/Stk)"},null,null,null,null,null,null,null,0,null,null,0]
[null,null,86,0,{"$f":"VLOOKUP(\"[m]\",Sprachindex!$A:$Z,Haftungsausschluß!$O$6,FALSE)","v":"[m]"},{"$f":"IF($L$14=1,Preisliste!$E$13,Preisliste!$F$13)","v":"H501001"},{"$f":"VLOOKUP(\"Dammbalken 50/200 exkl. Dichtung, gesägt und entgratet\",Sprachindex!$A:$Z,Haftungsausschluß!$O$6,FALSE) & \" (\" & ROUNDUP(C56/1000*4.12,2) & \" \" & VLOOKUP(\"kg/Stk\",Sprachindex!$A:$Z,Haftungsausschluß!$O$6,FALSE) & \")\" & IF('Kalkulation 1'!AH33,\" \" & H3,\"\")","v":"Dammbalken 50/200 exkl. Dichtung, gesägt und entgratet (0.36 kg/Stk)"},null,null,null,null,null,null,null,0,null,null,86]
[null,null,null,0,{"$f":"VLOOKUP(\"[m]\",Sprachindex!$A:$Z,Haftungsausschluß!$O$6,FALSE)","v":"[m]"},{"$f":"IF($L$14=1,Preisliste!$E$13,Preisliste!$F$13)","v":"H501001"},{"$f":"VLOOKUP(\"Dammbalken 50/200 exkl. Dichtung, gesägt und entgratet\",Sprachindex!$A:$Z,Haftungsausschluß!$O$6,FALSE) & \" (\" & ROUNDUP(C57/1000*4.12,2) & \" \" & VLOOKUP(\"kg/Stk\",Sprachindex!$A:$Z,Haftungsausschluß!$O$6,FALSE) & \")\" & IF('Kalkulation 1'!AH33,\" \" & H3,\"\")","v":"Dammbalken 50/200 exkl. Dichtung, gesägt und entgratet (0 kg/Stk)"},null,null,null,null,null,null,null,{"$f":"N57*D57","v":0},null,null,0]
[null,null,null,0,{"$f":"VLOOKUP(\"[m]\",Sprachindex!$A:$Z,Haftungsausschluß!$O$6,FALSE)","v":"[m]"},{"$f":"IF($L$14=1,Preisliste!$E$13,Preisliste!$F$13)","v":"H501001"},{"$f":"VLOOKUP(\"Dammbalken 50/200 exkl. Dichtung, gesägt und entgratet\",Sprachindex!$A:$Z,Haftungsausschluß!$O$6,FALSE) & \" (\" & ROUNDUP(C58/1000*4.12,2) & \" \" & VLOOKUP(\"kg/Stk\",Sprachindex!$A:$Z,Haftungsausschluß!$O$6,FALSE) & \")\" & IF('Kalkulation 1'!AH33,\" \" & H3,\"\")","v":"Dammbalken 50/200 exkl. Dichtung, gesägt und entgratet (0 kg/Stk)"},null,null,null,null,null,null,null,0,null,null,0]
[null,null,null,0,{"$f":"VLOOKUP(\"[m]\",Sprachindex!$A:$Z,Haftungsausschluß!$O$6,FALSE)","v":"[m]"},{"$f":"IF($L$14=1,Preisliste!$E$13,Preisliste!$F$13)","v":"H501001"},{"$f":"VLOOKUP(\"Dammbalken 50/200 exkl. Dichtung, gesägt und entgratet\",Sprachindex!$A:$Z,Haftungsausschluß!$O$6,FALSE) & \" (\" & ROUNDUP(C59/1000*4.12,2) & \" \" & VLOOKUP(\"kg/Stk\",Sprachindex!$A:$Z,Haftungsausschluß!$O$6,FALSE) & \")\" & IF('Kalkulation 1'!AH33,\" \" & H3,\"\")","v":"Dammbalken 50/200 exkl. Dichtung, gesägt und entgratet (0 kg/Stk)"},null,null,null,null,null,null,null,0,null,null,0]
[null,null,null,0,{"$f":"VLOOKUP(\"[m]\",Sprachindex!$A:$Z,Haftungsausschluß!$O$6,FALSE)","v":"[m]"},{"$f":"IF($L$14=1,Preisliste!$E$13,Preisliste!$F$13)","v":"H501001"},{"$f":"VLOOKUP(\"Dammbalken 50/200 exkl. Dichtung, gesägt und entgratet\",Sprachindex!$A:$Z,Haftungsausschluß!$O$6,FALSE) & \" (\" & ROUNDUP(C60/1000*4.12,2) & \" \" & VLOOKUP(\"kg/Stk\",Sprachindex!$A:$Z,Haftungsausschluß!$O$6,FALSE) & \")\" & IF('Kalkulation 1'!AH33,\" \" & H3,\"\")","v":"Dammbalken 50/200 exkl. Dichtung, gesägt und entgratet (0 kg/Stk)"},null,null,null,null,null,null,null,0,null,null,0]
[null,null,null,0,{"$f":"VLOOKUP(\"[m]\",Sprachindex!$A:$Z,Haftungsausschluß!$O$6,FALSE)","v":"[m]"},{"$f":"IF($L$14=1,Preisliste!$E$13,Preisliste!$F$13)","v":"H501001"},{"$f":"VLOOKUP(\"Dammbalken 50/200 exkl. Dichtung, gesägt und entgratet\",Sprachindex!$A:$Z,Haftungsausschluß!$O$6,FALSE) & \" (\" & ROUNDUP(C61/1000*4.12,2) & \" \" & VLOOKUP(\"kg/Stk\",Sprachindex!$A:$Z,Haftungsausschluß!$O$6,FALSE) & \")\" & IF('Kalkulation 1'!AH33,\" \" & H3,\"\")","v":"Dammbalken 50/200 exkl. Dichtung, gesägt und entgratet (0 kg/Stk)"},null,null,null,null,null,null,null,0,null,null,0]
[null,null,null,0,{"$f":"VLOOKUP(\"[m]\",Sprachindex!$A:$Z,Haftungsausschluß!$O$6,FALSE)","v":"[m]"},{"$f":"IF($L$14=1,Preisliste!$E$13,Preisliste!$F$13)","v":"H501001"},{"$f":"VLOOKUP(\"Dammbalken 50/200 exkl. Dichtung, gesägt und entgratet\",Sprachindex!$A:$Z,Haftungsausschluß!$O$6,FALSE) & \" (\" & ROUNDUP(C62/1000*4.12,2) & \" \" & VLOOKUP(\"kg/Stk\",Sprachindex!$A:$Z,Haftungsausschluß!$O$6,FALSE) & \")\" & IF('Kalkulation 1'!AH33,\" \" & H3,\"\")","v":"Dammbalken 50/200 exkl. Dichtung, gesägt und entgratet (0 kg/Stk)"},null,null,null,null,null,null,null,0,null,null,0]
[null,null,null,0,{"$f":"VLOOKUP(\"[m]\",Sprachindex!$A:$Z,Haftungsausschluß!$O$6,FALSE)","v":"[m]"},{"$f":"IF($L$14=1,Preisliste!$E$13,Preisliste!$F$13)","v":"H501001"},{"$f":"VLOOKUP(\"Dammbalken 50/200 exkl. Dichtung, gesägt und entgratet\",Sprachindex!$A:$Z,Haftungsausschluß!$O$6,FALSE) & \" (\" & ROUNDUP(C63/1000*4.12,2) & \" \" & VLOOKUP(\"kg/Stk\",Sprachindex!$A:$Z,Haftungsausschluß!$O$6,FALSE) & \")\" & IF('Kalkulation 1'!AH33,\" \" & H3,\"\")","v":"Dammbalken 50/200 exkl. Dichtung, gesägt und entgratet (0 kg/Stk)"},null,null,null,null,null,null,null,0,null,null,0]
[null,null,null,0,{"$f":"VLOOKUP(\"[m]\",Sprachindex!$A:$Z,Haftungsausschluß!$O$6,FALSE)","v":"[m]"},{"$f":"IF($L$14=1,Preisliste!$E$13,Preisliste!$F$13)","v":"H501001"},{"$f":"VLOOKUP(\"Dammbalken 50/200 exkl. Dichtung, gesägt und entgratet\",Sprachindex!$A:$Z,Haftungsausschluß!$O$6,FALSE) & \" (\" & ROUNDUP(C64/1000*4.12,2) & \" \" & VLOOKUP(\"kg/Stk\",Sprachindex!$A:$Z,Haftungsausschluß!$O$6,FALSE) & \")\" & IF('Kalkulation 1'!AH33,\" \" & H3,\"\")","v":"Dammbalken 50/200 exkl. Dichtung, gesägt und entgratet (0 kg/Stk)"},null,null,null,null,null,null,null,0,null,null,0]
[null,null,null,0,{"$f":"VLOOKUP(\"[m]\",Sprachindex!$A:$Z,Haftungsausschluß!$O$6,FALSE)","v":"[m]"},{"$f":"IF($L$14=1,Preisliste!$E$13,Preisliste!$F$13)","v":"H501001"},{"$f":"VLOOKUP(\"Dammbalken 50/200 exkl. Dichtung, gesägt und entgratet\",Sprachindex!$A:$Z,Haftungsausschluß!$O$6,FALSE) & \" (\" & ROUNDUP(C65/1000*4.12,2) & \" \" & VLOOKUP(\"kg/Stk\",Sprachindex!$A:$Z,Haftungsausschluß!$O$6,FALSE) & \")\" & IF('Kalkulation 1'!AH33,\" \" & H3,\"\")","v":"Dammbalken 50/200 exkl. Dichtung, gesägt und entgratet (0 kg/Stk)"},null,null,null,null,null,null,null,0,null,null,0]
[null,null,null,0,{"$f":"VLOOKUP(\"[m]\",Sprachindex!$A:$Z,Haftungsausschluß!$O$6,FALSE)","v":"[m]"},{"$f":"IF($L$14=1,Preisliste!$E$13,Preisliste!$F$13)","v":"H501001"},{"$f":"VLOOKUP(\"Dammbalken 50/200 exkl. Dichtung, gesägt und entgratet\",Sprachindex!$A:$Z,Haftungsausschluß!$O$6,FALSE) & \" (\" & ROUNDUP(C66/1000*4.12,2) & \" \" & VLOOKUP(\"kg/Stk\",Sprachindex!$A:$Z,Haftungsausschluß!$O$6,FALSE) & \")\" & IF('Kalkulation 1'!AH33,\" \" & H3,\"\")","v":"Dammbalken 50/200 exkl. Dichtung, gesägt und entgratet (0 kg/Stk)"},null,null,null,null,null,null,null,0,null,null,0]
[null,null,null,0,{"$f":"VLOOKUP(\"[m]\",Sprachindex!$A:$Z,Haftungsausschluß!$O$6,FALSE)","v":"[m]"},{"$f":"IF($L$14=1,Preisliste!$E$13,Preisliste!$F$13)","v":"H501001"},{"$f":"VLOOKUP(\"Dammbalken 50/200 exkl. Dichtung, gesägt und entgratet\",Sprachindex!$A:$Z,Haftungsausschluß!$O$6,FALSE) & \" (\" & ROUNDUP(C67/1000*4.12,2) & \" \" & VLOOKUP(\"kg/Stk\",Sprachindex!$A:$Z,Haftungsausschluß!$O$6,FALSE) & \")\" & IF('Kalkulation 1'!AH33,\" \" & H3,\"\")","v":"Dammbalken 50/200 exkl. Dichtung, gesägt und entgratet (0 kg/Stk)"},null,null,null,null,null,null,null,0,null,null,0]
[null,null,null,0,{"$f":"VLOOKUP(\"[m]\",Sprachindex!$A:$Z,Haftungsausschluß!$O$6,FALSE)","v":"[m]"},{"$f":"IF($L$14=1,Preisliste!$E$13,Preisliste!$F$13)","v":"H501001"},{"$f":"VLOOKUP(\"Dammbalken 50/200 exkl. Dichtung, gesägt und entgratet\",Sprachindex!$A:$Z,Haftungsausschluß!$O$6,FALSE) & \" (\" & ROUNDUP(C68/1000*4.12,2) & \" \" & VLOOKUP(\"kg/Stk\",Sprachindex!$A:$Z,Haftungsausschluß!$O$6,FALSE) & \")\" & IF('Kalkulation 1'!AH33,\" \" & H3,\"\")","v":"Dammbalken 50/200 exkl. Dichtung, gesägt und entgratet (0 kg/Stk)"},null,null,null,null,null,null,null,0,null,null,0]
[null,null,null,0,{"$f":"VLOOKUP(\"[m]\",Sprachindex!$A:$Z,Haftungsausschluß!$O$6,FALSE)","v":"[m]"},{"$f":"IF($L$14=1,Preisliste!$E$13,Preisliste!$F$13)","v":"H501001"},{"$f":"VLOOKUP(\"Dammbalken 50/200 exkl. Dichtung, gesägt und entgratet\",Sprachindex!$A:$Z,Haftungsausschluß!$O$6,FALSE) & \" (\" & ROUNDUP(C69/1000*4.12,2) & \" \" & VLOOKUP(\"kg/Stk\",Sprachindex!$A:$Z,Haftungsausschluß!$O$6,FALSE) & \")\" & IF('Kalkulation 1'!AH33,\" \" & H3,\"\")","v":"Dammbalken 50/200 exkl. Dichtung, gesägt und entgratet (0 kg/Stk)"},null,null,null,null,null,null,null,0,null,null,0]
[null,null,null,0,{"$f":"VLOOKUP(\"[m]\",Sprachindex!$A:$Z,Haftungsausschluß!$O$6,FALSE)","v":"[m]"},{"$f":"IF($L$14=1,Preisliste!$E$13,Preisliste!$F$13)","v":"H501001"},{"$f":"VLOOKUP(\"Dammbalken 50/200 exkl. Dichtung, gesägt und entgratet\",Sprachindex!$A:$Z,Haftungsausschluß!$O$6,FALSE) & \" (\" & ROUNDUP(C70/1000*4.12,2) & \" \" & VLOOKUP(\"kg/Stk\",Sprachindex!$A:$Z,Haftungsausschluß!$O$6,FALSE) & \")\" & IF('Kalkulation 1'!AH33,\" \" & H3,\"\")","v":"Dammbalken 50/200 exkl. Dichtung, gesägt und entgratet (0 kg/Stk)"},null,null,null,null,null,null,null,0,null,null,0]
[null,null,null,0,{"$f":"VLOOKUP(\"[m]\",Sprachindex!$A:$Z,Haftungsausschluß!$O$6,FALSE)","v":"[m]"},{"$f":"IF($L$14=1,Preisliste!$E$13,Preisliste!$F$13)","v":"H501001"},{"$f":"VLOOKUP(\"Dammbalken 50/200 exkl. Dichtung, gesägt und entgratet\",Sprachindex!$A:$Z,Haftungsausschluß!$O$6,FALSE) & \" (\" & ROUNDUP(C71/1000*4.12,2) & \" \" & VLOOKUP(\"kg/Stk\",Sprachindex!$A:$Z,Haftungsausschluß!$O$6,FALSE) & \")\" & IF('Kalkulation 1'!AH33,\" \" & H3,\"\")","v":"Dammbalken 50/200 exkl. Dichtung, gesägt und entgratet (0 kg/Stk)"},null,null,null,null,null,null,null,0,null,null,0]
[null,null,null,0,{"$f":"VLOOKUP(\"[m]\",Sprachindex!$A:$Z,Haftungsausschluß!$O$6,FALSE)","v":"[m]"},{"$f":"IF($L$14=1,Preisliste!$E$13,Preisliste!$F$13)","v":"H501001"},{"$f":"VLOOKUP(\"Dammbalken 50/200 exkl. Dichtung, gesägt und entgratet\",Sprachindex!$A:$Z,Haftungsausschluß!$O$6,FALSE) & \" (\" & ROUNDUP(C72/1000*4.12,2) & \" \" & VLOOKUP(\"kg/Stk\",Sprachindex!$A:$Z,Haftungsausschluß!$O$6,FALSE) & \")\" & IF('Kalkulation 1'!AH33,\" \" & H3,\"\")","v":"Dammbalken 50/200 exkl. Dichtung, gesägt und entgratet (0 kg/Stk)"},null,null,null,null,null,null,null,0,null,null,0]
[null,null,null,0,{"$f":"VLOOKUP(\"[m]\",Sprachindex!$A:$Z,Haftungsausschluß!$O$6,FALSE)","v":"[m]"},{"$f":"IF($L$14=1,Preisliste!$E$13,Preisliste!$F$13)","v":"H501001"},{"$f":"VLOOKUP(\"Dammbalken 50/200 exkl. Dichtung, gesägt und entgratet\",Sprachindex!$A:$Z,Haftungsausschluß!$O$6,FALSE) & \" (\" & ROUNDUP(C73/1000*4.12,2) & \" \" & VLOOKUP(\"kg/Stk\",Sprachindex!$A:$Z,Haftungsausschluß!$O$6,FALSE) & \")\" & IF('Kalkulation 1'!AH33,\" \" & H3,\"\")","v":"Dammbalken 50/200 exkl. Dichtung, gesägt und entgratet (0 kg/Stk)"},null,null,null,null,null,null,null,0,null,null,0]
[null,null,null,0,{"$f":"VLOOKUP(\"[m]\",Sprachindex!$A:$Z,Haftungsausschluß!$O$6,FALSE)","v":"[m]"},{"$f":"IF($L$14=1,Preisliste!$E$13,Preisliste!$F$13)","v":"H501001"},{"$f":"VLOOKUP(\"Dammbalken 50/200 exkl. Dichtung, gesägt und entgratet\",Sprachindex!$A:$Z,Haftungsausschluß!$O$6,FALSE) & \" (\" & ROUNDUP(C74/1000*4.12,2) & \" \" & VLOOKUP(\"kg/Stk\",Sprachindex!$A:$Z,Haftungsausschluß!$O$6,FALSE) & \")\" & IF('Kalkulation 1'!AH33,\" \" & H3,\"\")","v":"Dammbalken 50/200 exkl. Dichtung, gesägt und entgratet (0 kg/Stk)"},null,null,null,null,null,null,null,0,null,null,0]
[null,null,null,0,{"$f":"VLOOKUP(\"[m]\",Sprachindex!$A:$Z,Haftungsausschluß!$O$6,FALSE)","v":"[m]"},{"$f":"IF($L$14=1,Preisliste!$E$13,Preisliste!$F$13)","v":"H501001"},{"$f":"VLOOKUP(\"Dammbalken 50/200 exkl. Dichtung, gesägt und entgratet\",Sprachindex!$A:$Z,Haftungsausschluß!$O$6,FALSE) & \" (\" & ROUNDUP(C75/1000*4.12,2) & \" \" & VLOOKUP(\"kg/Stk\",Sprachindex!$A:$Z,Haftungsausschluß!$O$6,FALSE) & \")\" & IF('Kalkulation 1'!AH33,\" \" & H3,\"\")","v":"Dammbalken 50/200 exkl. Dichtung, gesägt und entgratet (0 kg/Stk)"},null,null,null,null,null,null,null,0,null,null,0]
[null,null,null,0,{"$f":"VLOOKUP(\"[m]\",Sprachindex!$A:$Z,Haftungsausschluß!$O$6,FALSE)","v":"[m]"},{"$f":"IF($L$14=1,Preisliste!$E$16,Preisliste!$F$16)","v":"H801001"},{"$f":"VLOOKUP(\"Dammbalken 80/200 exkl. Dichtung, gesägt und entgratet\",Sprachindex!$A:$Z,Haftungsausschluß!$O$6,FALSE) & \" (\" & ROUNDUP(C76/1000*7.78,2) & \" \" & VLOOKUP(\"kg/Stk\",Sprachindex!$A:$Z,Haftungsausschluß!$O$6,FALSE) & \")\" & IF('Kalkulation 1'!AH33,\" \" & H3,\"\")","v":"Dammbalken 80/200 exkl. Dichtung, gesägt und entgratet (0 kg/Stk)"},null,null,null,null,null,null,null,0,null,null,0]
[null,null,null,0,{"$f":"VLOOKUP(\"[m]\",Sprachindex!$A:$Z,Haftungsausschluß!$O$6,FALSE)","v":"[m]"},{"$f":"IF($L$14=1,Preisliste!$E$16,Preisliste!$F$16)","v":"H801001"},{"$f":"VLOOKUP(\"Dammbalken 80/200 exkl. Dichtung, gesägt und entgratet\",Sprachindex!$A:$Z,Haftungsausschluß!$O$6,FALSE) & \" (\" & ROUNDUP(C77/1000*7.78,2) & \" \" & VLOOKUP(\"kg/Stk\",Sprachindex!$A:$Z,Haftungsausschluß!$O$6,FALSE) & \")\" & IF('Kalkulation 1'!AH33,\" \" & H3,\"\")","v":"Dammbalken 80/200 exkl. Dichtung, gesägt und entgratet (0 kg/Stk)"},null,null,null,null,null,null,null,{"$f":"N77*D77","v":0},null,null,0]
[null,null,null,0,{"$f":"VLOOKUP(\"[m]\",Sprachindex!$A:$Z,Haftungsausschluß!$O$6,FALSE)","v":"[m]"},{"$f":"IF($L$14=1,Preisliste!$E$16,Preisliste!$F$16)","v":"H801001"},{"$f":"VLOOKUP(\"Dammbalken 80/200 exkl. Dichtung, gesägt und entgratet\",Sprachindex!$A:$Z,Haftungsausschluß!$O$6,FALSE) & \" (\" & ROUNDUP(C78/1000*7.78,2) & \" \" & VLOOKUP(\"kg/Stk\",Sprachindex!$A:$Z,Haftungsausschluß!$O$6,FALSE) & \")\" & IF('Kalkulation 1'!AH33,\" \" & H3,\"\")","v":"Dammbalken 80/200 exkl. Dichtung, gesägt und entgratet (0 kg/Stk)"},null,null,null,null,null,null,null,0,null,null,0]
[null,null,null,0,{"$f":"VLOOKUP(\"[m]\",Sprachindex!$A:$Z,Haftungsausschluß!$O$6,FALSE)","v":"[m]"},{"$f":"IF($L$14=1,Preisliste!$E$16,Preisliste!$F$16)","v":"H801001"},{"$f":"VLOOKUP(\"Dammbalken 80/200 exkl. Dichtung, gesägt und entgratet\",Sprachindex!$A:$Z,Haftungsausschluß!$O$6,FALSE) & \" (\" & ROUNDUP(C79/1000*7.78,2) & \" \" & VLOOKUP(\"kg/Stk\",Sprachindex!$A:$Z,Haftungsausschluß!$O$6,FALSE) & \")\" & IF('Kalkulation 1'!AH33,\" \" & H3,\"\")","v":"Dammbalken 80/200 exkl. Dichtung, gesägt und entgratet (0 kg/Stk)"},null,null,null,null,null,null,null,0,null,null,0]
[null,null,null,0,{"$f":"VLOOKUP(\"[m]\",Sprachindex!$A:$Z,Haftungsausschluß!$O$6,FALSE)","v":"[m]"},{"$f":"IF($L$14=1,Preisliste!$E$16,Preisliste!$F$16)","v":"H801001"},{"$f":"VLOOKUP(\"Dammbalken 80/200 exkl. Dichtung, gesägt und entgratet\",Sprachindex!$A:$Z,Haftungsausschluß!$O$6,FALSE) & \" (\" & ROUNDUP(C80/1000*7.78,2) & \" \" & VLOOKUP(\"kg/Stk\",Sprachindex!$A:$Z,Haftungsausschluß!$O$6,FALSE) & \")\" & IF('Kalkulation 1'!AH33,\" \" & H3,\"\")","v":"Dammbalken 80/200 exkl. Dichtung, gesägt und entgratet (0 kg/Stk)"},null,null,null,null,null,null,null,0,null,null,0]
[null,null,null,0,{"$f":"VLOOKUP(\"[m]\",Sprachindex!$A:$Z,Haftungsausschluß!$O$6,FALSE)","v":"[m]"},{"$f":"IF($L$14=1,Preisliste!$E$16,Preisliste!$F$16)","v":"H801001"},{"$f":"VLOOKUP(\"Dammbalken 80/200 exkl. Dichtung, gesägt und entgratet\",Sprachindex!$A:$Z,Haftungsausschluß!$O$6,FALSE) & \" (\" & ROUNDUP(C81/1000*7.78,2) & \" \" & VLOOKUP(\"kg/Stk\",Sprachindex!$A:$Z,Haftungsausschluß!$O$6,FALSE) & \")\" & IF('Kalkulation 1'!AH33,\" \" & H3,\"\")","v":"Dammbalken 80/200 exkl. Dichtung, gesägt und entgratet (0 kg/Stk)"},null,null,null,null,null,null,null,0,null,null,{"$f":"C81","v":0}]
[null,null,null,{"$f":"B82*C82/1000","v":0},{"$f":"VLOOKUP(\"[m]\",Sprachindex!$A:$Z,Haftungsausschluß!$O$6,FALSE)","v":"[m]"},{"$f":"IF($L$14=1,Preisliste!$E$16,Preisliste!$F$16)","v":"H801001"},{"$f":"VLOOKUP(\"Dammbalken 80/200 exkl. Dichtung, gesägt und entgratet\",Sprachindex!$A:$Z,Haftungsausschluß!$O$6,FALSE) & \" (\" & ROUNDUP(C82/1000*7.78,2) & \" \" & VLOOKUP(\"kg/Stk\",Sprachindex!$A:$Z,Haftungsausschluß!$O$6,FALSE) & \")\" & IF('Kalkulation 1'!AH33,\" \" & H3,\"\")","v":"Dammbalken 80/200 exkl. Dichtung, gesägt und entgratet (0 kg/Stk)"},null,null,null,null,null,null,null,0,null,null,0]
[null,null,null,0,{"$f":"VLOOKUP(\"[m]\",Sprachindex!$A:$Z,Haftungsausschluß!$O$6,FALSE)","v":"[m]"},{"$f":"IF($L$14=1,Preisliste!$E$16,Preisliste!$F$16)","v":"H801001"},{"$f":"VLOOKUP(\"Dammbalken 80/200 exkl. Dichtung, gesägt und entgratet\",Sprachindex!$A:$Z,Haftungsausschluß!$O$6,FALSE) & \" (\" & ROUNDUP(C83/1000*7.78,2) & \" \" & VLOOKUP(\"kg/Stk\",Sprachindex!$A:$Z,Haftungsausschluß!$O$6,FALSE) & \")\" & IF('Kalkulation 1'!AH33,\" \" & H3,\"\")","v":"Dammbalken 80/200 exkl. Dichtung, gesägt und entgratet (0 kg/Stk)"},null,null,null,null,null,null,null,0,null,null,0]
[null,null,null,0,{"$f":"VLOOKUP(\"[m]\",Sprachindex!$A:$Z,Haftungsausschluß!$O$6,FALSE)","v":"[m]"},{"$f":"IF($L$14=1,Preisliste!$E$16,Preisliste!$F$16)","v":"H801001"},{"$f":"VLOOKUP(\"Dammbalken 80/200 exkl. Dichtung, gesägt und entgratet\",Sprachindex!$A:$Z,Haftungsausschluß!$O$6,FALSE) & \" (\" & ROUNDUP(C84/1000*7.78,2) & \" \" & VLOOKUP(\"kg/Stk\",Sprachindex!$A:$Z,Haftungsausschluß!$O$6,FALSE) & \")\" & IF('Kalkulation 1'!AH33,\" \" & H3,\"\")","v":"Dammbalken 80/200 exkl. Dichtung, gesägt und entgratet (0 kg/Stk)"},null,null,null,null,null,null,null,0,null,null,0]
[null,null,null,0,{"$f":"VLOOKUP(\"[m]\",Sprachindex!$A:$Z,Haftungsausschluß!$O$6,FALSE)","v":"[m]"},{"$f":"IF($L$14=1,Preisliste!$E$16,Preisliste!$F$16)","v":"H801001"},{"$f":"VLOOKUP(\"Dammbalken 80/200 exkl. Dichtung, gesägt und entgratet\",Sprachindex!$A:$Z,Haftungsausschluß!$O$6,FALSE) & \" (\" & ROUNDUP(C85/1000*7.78,2) & \" \" & VLOOKUP(\"kg/Stk\",Sprachindex!$A:$Z,Haftungsausschluß!$O$6,FALSE) & \")\" & IF('Kalkulation 1'!AH33,\" \" & H3,\"\")","v":"Dammbalken 80/200 exkl. Dichtung, gesägt und entgratet (0 kg/Stk)"},null,null,null,null,null,null,null,0,null,null,0]
[null,null,null,0,{"$f":"VLOOKUP(\"[m]\",Sprachindex!$A:$Z,Haftungsausschluß!$O$6,FALSE)","v":"[m]"},{"$f":"IF($L$14=1,Preisliste!$E$16,Preisliste!$F$16)","v":"H801001"},{"$f":"VLOOKUP(\"Dammbalken 80/200 exkl. Dichtung, gesägt und entgratet\",Sprachindex!$A:$Z,Haftungsausschluß!$O$6,FALSE) & \" (\" & ROUNDUP(C86/1000*7.78,2) & \" \" & VLOOKUP(\"kg/Stk\",Sprachindex!$A:$Z,Haftungsausschluß!$O$6,FALSE) & \")\" & IF('Kalkulation 1'!AH33,\" \" & H3,\"\")","v":"Dammbalken 80/200 exkl. Dichtung, gesägt und entgratet (0 kg/Stk)"},null,null,null,null,null,null,null,0,null,null,0]
[null,null,null,0,{"$f":"VLOOKUP(\"[m]\",Sprachindex!$A:$Z,Haftungsausschluß!$O$6,FALSE)","v":"[m]"},{"$f":"IF($L$14=1,Preisliste!$E$16,Preisliste!$F$16)","v":"H801001"},{"$f":"VLOOKUP(\"Dammbalken 80/200 exkl. Dichtung, gesägt und entgratet\",Sprachindex!$A:$Z,Haftungsausschluß!$O$6,FALSE) & \" (\" & ROUNDUP(C87/1000*7.78,2) & \" \" & VLOOKUP(\"kg/Stk\",Sprachindex!$A:$Z,Haftungsausschluß!$O$6,FALSE) & \")\" & IF('Kalkulation 1'!AH33,\" \" & H3,\"\")","v":"Dammbalken 80/200 exkl. Dichtung, gesägt und entgratet (0 kg/Stk)"},null,null,null,null,null,null,null,0,null,null,0]
[null,null,null,0,{"$f":"VLOOKUP(\"[m]\",Sprachindex!$A:$Z,Haftungsausschluß!$O$6,FALSE)","v":"[m]"},{"$f":"IF($L$14=1,Preisliste!$E$16,Preisliste!$F$16)","v":"H801001"},{"$f":"VLOOKUP(\"Dammbalken 80/200 exkl. Dichtung, gesägt und entgratet\",Sprachindex!$A:$Z,Haftungsausschluß!$O$6,FALSE) & \" (\" & ROUNDUP(C88/1000*7.78,2) & \" \" & VLOOKUP(\"kg/Stk\",Sprachindex!$A:$Z,Haftungsausschluß!$O$6,FALSE) & \")\" & IF('Kalkulation 1'!AH33,\" \" & H3,\"\")","v":"Dammbalken 80/200 exkl. Dichtung, gesägt und entgratet (0 kg/Stk)"},null,null,null,null,null,null,null,0,null,null,0]
[null,null,null,0,{"$f":"VLOOKUP(\"[m]\",Sprachindex!$A:$Z,Haftungsausschluß!$O$6,FALSE)","v":"[m]"},{"$f":"IF($L$14=1,Preisliste!$E$16,Preisliste!$F$16)","v":"H801001"},{"$f":"VLOOKUP(\"Dammbalken 80/200 exkl. Dichtung, gesägt und entgratet\",Sprachindex!$A:$Z,Haftungsausschluß!$O$6,FALSE) & \" (\" & ROUNDUP(C89/1000*7.78,2) & \" \" & VLOOKUP(\"kg/Stk\",Sprachindex!$A:$Z,Haftungsausschluß!$O$6,FALSE) & \")\" & IF('Kalkulation 1'!AH33,\" \" & H3,\"\")","v":"Dammbalken 80/200 exkl. Dichtung, gesägt und entgratet (0 kg/Stk)"},null,null,null,null,null,null,null,0,null,null,0]
[null,null,null,0,{"$f":"VLOOKUP(\"[m]\",Sprachindex!$A:$Z,Haftungsausschluß!$O$6,FALSE)","v":"[m]"},{"$f":"IF($L$14=1,Preisliste!$E$16,Preisliste!$F$16)","v":"H801001"},{"$f":"VLOOKUP(\"Dammbalken 80/200 exkl. Dichtung, gesägt und entgratet\",Sprachindex!$A:$Z,Haftungsausschluß!$O$6,FALSE) & \" (\" & ROUNDUP(C90/1000*7.78,2) & \" \" & VLOOKUP(\"kg/Stk\",Sprachindex!$A:$Z,Haftungsausschluß!$O$6,FALSE) & \")\" & IF('Kalkulation 1'!AH33,\" \" & H3,\"\")","v":"Dammbalken 80/200 exkl. Dichtung, gesägt und entgratet (0 kg/Stk)"},null,null,null,null,null,null,null,0,null,null,0]
[null,null,null,0,{"$f":"VLOOKUP(\"[m]\",Sprachindex!$A:$Z,Haftungsausschluß!$O$6,FALSE)","v":"[m]"},{"$f":"IF($L$14=1,Preisliste!$E$16,Preisliste!$F$16)","v":"H801001"},{"$f":"VLOOKUP(\"Dammbalken 80/200 exkl. Dichtung, gesägt und entgratet\",Sprachindex!$A:$Z,Haftungsausschluß!$O$6,FALSE) & \" (\" & ROUNDUP(C91/1000*7.78,2) & \" \" & VLOOKUP(\"kg/Stk\",Sprachindex!$A:$Z,Haftungsausschluß!$O$6,FALSE) & \")\" & IF('Kalkulation 1'!AH33,\" \" & H3,\"\")","v":"Dammbalken 80/200 exkl. Dichtung, gesägt und entgratet (0 kg/Stk)"},null,null,null,null,null,null,null,0,null,null,0]
[null,null,null,0,{"$f":"VLOOKUP(\"[m]\",Sprachindex!$A:$Z,Haftungsausschluß!$O$6,FALSE)","v":"[m]"},{"$f":"IF($L$14=1,Preisliste!$E$16,Preisliste!$F$16)","v":"H801001"},{"$f":"VLOOKUP(\"Dammbalken 80/200 exkl. Dichtung, gesägt und entgratet\",Sprachindex!$A:$Z,Haftungsausschluß!$O$6,FALSE) & \" (\" & ROUNDUP(C92/1000*7.78,2) & \" \" & VLOOKUP(\"kg/Stk\",Sprachindex!$A:$Z,Haftungsausschluß!$O$6,FALSE) & \")\" & IF('Kalkulation 1'!AH33,\" \" & H3,\"\")","v":"Dammbalken 80/200 exkl. Dichtung, gesägt und entgratet (0 kg/Stk)"},null,null,null,null,null,null,null,0,null,null,0]
[null,null,null,0,{"$f":"VLOOKUP(\"[m]\",Sprachindex!$A:$Z,Haftungsausschluß!$O$6,FALSE)","v":"[m]"},{"$f":"IF($L$14=1,Preisliste!$E$16,Preisliste!$F$16)","v":"H801001"},{"$f":"VLOOKUP(\"Dammbalken 80/200 exkl. Dichtung, gesägt und entgratet\",Sprachindex!$A:$Z,Haftungsausschluß!$O$6,FALSE) & \" (\" & ROUNDUP(C93/1000*7.78,2) & \" \" & VLOOKUP(\"kg/Stk\",Sprachindex!$A:$Z,Haftungsausschluß!$O$6,FALSE) & \")\" & IF('Kalkulation 1'!AH33,\" \" & H3,\"\")","v":"Dammbalken 80/200 exkl. Dichtung, gesägt und entgratet (0 kg/Stk)"},null,null,null,null,null,null,null,0,null,null,0]
[null,null,null,0,{"$f":"VLOOKUP(\"[m]\",Sprachindex!$A:$Z,Haftungsausschluß!$O$6,FALSE)","v":"[m]"},{"$f":"IF($L$14=1,Preisliste!$E$16,Preisliste!$F$16)","v":"H801001"},{"$f":"VLOOKUP(\"Dammbalken 80/200 exkl. Dichtung, gesägt und entgratet\",Sprachindex!$A:$Z,Haftungsausschluß!$O$6,FALSE) & \" (\" & ROUNDUP(C94/1000*7.78,2) & \" \" & VLOOKUP(\"kg/Stk\",Sprachindex!$A:$Z,Haftungsausschluß!$O$6,FALSE) & \")\" & IF('Kalkulation 1'!AH33,\" \" & H3,\"\")","v":"Dammbalken 80/200 exkl. Dichtung, gesägt und entgratet (0 kg/Stk)"},null,null,null,null,null,null,null,0,null,null,0]
[null,null,null,0,{"$f":"VLOOKUP(\"[m]\",Sprachindex!$A:$Z,Haftungsausschluß!$O$6,FALSE)","v":"[m]"},{"$f":"IF($L$14=1,Preisliste!$E$16,Preisliste!$F$16)","v":"H801001"},{"$f":"VLOOKUP(\"Dammbalken 80/200 exkl. Dichtung, gesägt und entgratet\",Sprachindex!$A:$Z,Haftungsausschluß!$O$6,FALSE) & \" (\" & ROUNDUP(C95/1000*7.78,2) & \" \" & VLOOKUP(\"kg/Stk\",Sprachindex!$A:$Z,Haftungsausschluß!$O$6,FALSE) & \")\" & IF('Kalkulation 1'!AH33,\" \" & H3,\"\")","v":"Dammbalken 80/200 exkl. Dichtung, gesägt und entgratet (0 kg/Stk)"},null,null,null,null,null,null,null,0,null,null,0]
[null,null,750,{"$f":"B96","v":0},{"$f":"VLOOKUP(\"[Stk]\",Sprachindex!$A:$Z,Haftungsausschluß!$O$6,FALSE)","v":"[Stk]"},{"$f":"IF($L$14=1,Preisliste!$E$19,Preisliste!$F$19)","v":"H251020"},{"$f":"VLOOKUP(\"U-Profil 25 exkl. Dichtung, gebohrt und entgratet\",Sprachindex!$A:$Z,Haftungsausschluß!$O$6,FALSE) & IF('Kalkulation 1'!AH34,\" \" & H3,\"\")","v":"U-Profil 25 exkl. Dichtung, gebohrt und entgratet"},null,null,null,null,null,null,null,0]
[null,null,1350,{"$f":"B97","v":0},{"$f":"VLOOKUP(\"[Stk]\",Sprachindex!$A:$Z,Haftungsausschluß!$O$6,FALSE)","v":"[Stk]"},{"$f":"IF($L$14=1,Preisliste!$E$20,Preisliste!$F$20)","v":"H251021"},{"$f":"VLOOKUP(\"U-Profil 25 exkl. Dichtung, gebohrt und entgratet\",Sprachindex!$A:$Z,Haftungsausschluß!$O$6,FALSE) & IF('Kalkulation 1'!AH34,\" \" & H3,\"\")","v":"U-Profil 25 exkl. Dichtung, gebohrt und entgratet"},null,null,null,null,null,null,null,{"$f":"N97*D97","v":0}]
[null,null,1520,0,{"$f":"VLOOKUP(\"[Stk]\",Sprachindex!$A:$Z,Haftungsausschluß!$O$6,FALSE)","v":"[Stk]"},{"$f":"IF($L$14=1,Preisliste!$E$22,Preisliste!$F$22)","v":"H251011"},{"$f":"VLOOKUP(\"U-Profil 25 Sonderlänge exkl. Dichtung, (Stangenware)\",Sprachindex!$A:$Z,Haftungsausschluß!$O$6,FALSE) & IF('Kalkulation 1'!AH34,\" \" & H3,\"\")","v":"U-Profil 25 Sonderlänge exkl. Dichtung, (Stangenware)"},null,null,null,null,null,null,null,{"$f":"N98*D98*C98/1000","v":0}]
[null,null,750,0,{"$f":"VLOOKUP(\"[Stk]\",Sprachindex!$A:$Z,Haftungsausschluß!$O$6,FALSE)","v":"[Stk]"},{"$f":"IF($L$14=1,Preisliste!$E$38,Preisliste!$F$38)","v":"H251200"},{"$f":"VLOOKUP(\"Grundprofil 25 exkl. Dichtung, gebohrt und entgratet\",Sprachindex!$A:$Z,Haftungsausschluß!$O$6,FALSE) & IF('Kalkulation 1'!AH34,\" \" & H3,\"\")","v":"Grundprofil 25 exkl. Dichtung, gebohrt und entgratet"},null,null,null,null,null,null,null,{"$f":"N99*D99","v":0}]
[null,null,1350,0,{"$f":"VLOOKUP(\"[Stk]\",Sprachindex!$A:$Z,Haftungsausschluß!$O$6,FALSE)","v":"[Stk]"},{"$f":"IF($L$14=1,Preisliste!$E$39,Preisliste!$F$39)","v":"H251201"},{"$f":"VLOOKUP(\"Grundprofil 25 exkl. Dichtung, gebohrt und entgratet\",Sprachindex!$A:$Z,Haftungsausschluß!$O$6,FALSE) & IF('Kalkulation 1'!AH34,\" \" & H3,\"\")","v":"Grundprofil 25 exkl. Dichtung, gebohrt und entgratet"},null,null,null,null,null,null,null,{"$f":"N100*D100","v":0}]
[null,null,1520,0,{"$f":"VLOOKUP(\"[Stk]\",Sprachindex!$A:$Z,Haftungsausschluß!$O$6,FALSE)","v":"[Stk]"},{"$f":"IF($L$14=1,Preisliste!$E$22,Preisliste!$F$22)","v":"H251011"},{"$f":"VLOOKUP(\"Grundprofil 25 Sonderlänge exkl. Dichtung, (Stangenware)\",Sprachindex!$A:$Z,Haftungsausschluß!$O$6,FALSE) & IF('Kalkulation 1'!AH34,\" \" & H3,\"\")","v":"Grundprofil 25 Sonderlänge exkl. Dichtung, (Stangenware)"},null,null,null,null,null,null,null,{"$f":"N101*D101*C101/1000","v":0}]
[null,null,750,0,{"$f":"VLOOKUP(\"[Stk]\",Sprachindex!$A:$Z,Haftungsausschluß!$O$6,FALSE)","v":"[Stk]"},{"$f":"IF($L$14=1,Preisliste!$E$24,Preisliste!$F$24)","v":"H501101"},{"$f":"VLOOKUP(\"U-Profil 50 exkl. Dichtung, gebohrt und entgratet\",Sprachindex!$A:$Z,Haftungsausschluß!$O$6,FALSE) & IF('Kalkulation 1'!AH34,\" \" & H3,\"\")","v":"U-Profil 50 exkl. Dichtung, gebohrt und entgratet"},null,null,null,null,null,null,null,{"$f":"N102*D102","v":0}]
[null,null,1350,0,{"$f":"VLOOKUP(\"[Stk]\",Sprachindex!$A:$Z,Haftungsausschluß!$O$6,FALSE)","v":"[Stk]"},{"$f":"IF($L$14=1,Preisliste!$E$25,Preisliste!$F$25)","v":"H501111"},{"$f":"VLOOKUP(\"U-Profil 50 exkl. Dichtung, gebohrt und entgratet\",Sprachindex!$A:$Z,Haftungsausschluß!$O$6,FALSE) & IF('Kalkulation 1'!AH34,\" \" & H3,\"\")","v":"U-Profil 50 exkl. Dichtung, gebohrt und entgratet"},null,null,null,null,null,null,null,{"$f":"N103*D103","v":0}]
[null,null,1750,0,{"$f":"VLOOKUP(\"[Stk]\",Sprachindex!$A:$Z,Haftungsausschluß!$O$6,FALSE)","v":"[Stk]"},{"$f":"IF($L$14=1,Preisliste!$E$26,Preisliste!$F$26)","v":"H501112"},{"$f":"VLOOKUP(\"U-Profil 50 exkl. Dichtung, gebohrt und entgratet\",Sprachindex!$A:$Z,Haftungsausschluß!$O$6,FALSE) & IF('Kalkulation 1'!AH34,\" \" & H3,\"\")","v":"U-Profil 50 exkl. Dichtung, gebohrt und entgratet"},null,null,null,null,null,null,null,0]
[null,null,2150,0,{"$f":"VLOOKUP(\"[Stk]\",Sprachindex!$A:$Z,Haftungsausschluß!$O$6,FALSE)","v":"[Stk]"},{"$f":"IF($L$14=1,Preisliste!$E$27,Preisliste!$F$27)","v":"H501122"},{"$f":"VLOOKUP(\"U-Profil 50 exkl. Dichtung, gebohrt und entgratet\",Sprachindex!$A:$Z,Haftungsausschluß!$O$6,FALSE) & IF('Kalkulation 1'!AH34,\" \" & H3,\"\")","v":"U-Profil 50 exkl. Dichtung, gebohrt und entgratet"},null,null,null,null,null,null,null,0]
[null,null,2720,0,{"$f":"VLOOKUP(\"[Stk]\",Sprachindex!$A:$Z,Haftungsausschluß!$O$6,FALSE)","v":"[Stk]"},{"$f":"IF($L$14=1,Preisliste!$E$29,Preisliste!$F$29)","v":"H501191"},{"$f":"VLOOKUP(\"U-Profil 50 Sonderlänge exkl. Dichtung, (Stangenware)\",Sprachindex!$A:$Z,Haftungsausschluß!$O$6,FALSE) & IF('Kalkulation 1'!AH34,\" \" & H3,\"\")","v":"U-Profil 50 Sonderlänge exkl. Dichtung, (Stangenware)"},null,null,null,null,null,null,null,{"$f":"N106*D106*C106/1000","v":0}]
[null,null,750,0,{"$f":"VLOOKUP(\"[Stk]\",Sprachindex!$A:$Z,Haftungsausschluß!$O$6,FALSE)","v":"[Stk]"},{"$f":"IF($L$14=1,Preisliste!$E$31,Preisliste!$F$31)","v":"H801101"},{"$f":"VLOOKUP(\"U-Profil 80 exkl. Dichtung, gebohrt und entgratet\",Sprachindex!$A:$Z,Haftungsausschluß!$O$6,FALSE) & IF('Kalkulation 1'!AH34,\" \" & H3,\"\")","v":"U-Profil 80 exkl. Dichtung, gebohrt und entgratet"},null,null,null,null,null,null,null,{"$f":"N107*D107","v":0}]
[null,null,1350,0,{"$f":"VLOOKUP(\"[Stk]\",Sprachindex!$A:$Z,Haftungsausschluß!$O$6,FALSE)","v":"[Stk]"},{"$f":"IF($L$14=1,Preisliste!$E$32,Preisliste!$F$32)","v":"H801111"},{"$f":"VLOOKUP(\"U-Profil 80 exkl. Dichtung, gebohrt und entgratet\",Sprachindex!$A:$Z,Haftungsausschluß!$O$6,FALSE) & IF('Kalkulation 1'!AH34,\" \" & H3,\"\")","v":"U-Profil 80 exkl. Dichtung, gebohrt und entgratet"},null,null,null,null,null,null,null,{"$f":"N108*D108","v":0}]
[null,null,1750,0,{"$f":"VLOOKUP(\"[Stk]\",Sprachindex!$A:$Z,Haftungsausschluß!$O$6,FALSE)","v":"[Stk]"},{"$f":"IF($L$14=1,Preisliste!$E$33,Preisliste!$F$33)","v":"H801112"},{"$f":"VLOOKUP(\"U-Profil 80 exkl. Dichtung, gebohrt und entgratet\",Sprachindex!$A:$Z,Haftungsausschluß!$O$6,FALSE) & IF('Kalkulation 1'!AH34,\" \" & H3,\"\")","v":"U-Profil 80 exkl. Dichtung, gebohrt und entgratet"},null,null,null,null,null,null,null,0]
[null,null,2150,0,{"$f":"VLOOKUP(\"[Stk]\",Sprachindex!$A:$Z,Haftungsausschluß!$O$6,FALSE)","v":"[Stk]"},{"$f":"IF($L$14=1,Preisliste!$E$34,Preisliste!$F$34)","v":"H801122"},{"$f":"VLOOKUP(\"U-Profil 80 exkl. Dichtung, gebohrt und entgratet\",Sprachindex!$A:$Z,Haftungsausschluß!$O$6,FALSE) & IF('Kalkulation 1'!AH34,\" \" & H3,\"\")","v":"U-Profil 80 exkl. Dichtung, gebohrt und entgratet"},null,null,null,null,null,null,null,0]
[null,null,2320,0,{"$f":"VLOOKUP(\"[Stk]\",Sprachindex!$A:$Z,Haftungsausschluß!$O$6,FALSE)","v":"[Stk]"},{"$f":"IF($L$14=1,Preisliste!$E$36,Preisliste!$F$36)","v":"H801191"},{"$f":"VLOOKUP(\"U-Profil 80 Sonderlänge exkl. Dichtung, (Stangenware)\",Sprachindex!$A:$Z,Haftungsausschluß!$O$6,FALSE) & IF('Kalkulation 1'!AH34,\" \" & H3,\"\")","v":"U-Profil 80 Sonderlänge exkl. Dichtung, (Stangenware)"},null,null,null,null,null,null,null,{"$f":"N111*D111*C111/1000","v":0}]
[null,2,750,2,{"$f":"VLOOKUP(\"[Stk]\",Sprachindex!$A:$Z,Haftungsausschluß!$O$6,FALSE)","v":"[Stk]"},{"$f":"IF($L$14=1,Preisliste!$E$42,Preisliste!$F$42)","v":"H501201"},{"$f":"VLOOKUP(\"Grundprofil 50 exkl. Dichtung, gebohrt und entgratet\",Sprachindex!$A:$Z,Haftungsausschluß!$O$6,FALSE) & IF('Kalkulation 1'!AH34,\" \" & H3,\"\")","v":"Grundprofil 50 exkl. Dichtung, gebohrt und entgratet"},null,null,null,null,null,null,134.1,{"$f":"N112*D112","v":268.2}]
[null,null,1350,0,{"$f":"VLOOKUP(\"[Stk]\",Sprachindex!$A:$Z,Haftungsausschluß!$O$6,FALSE)","v":"[Stk]"},{"$f":"IF($L$14=1,Preisliste!$E$43,Preisliste!$F$43)","v":"H501211"},{"$f":"VLOOKUP(\"Grundprofil 50 exkl. Dichtung, gebohrt und entgratet\",Sprachindex!$A:$Z,Haftungsausschluß!$O$6,FALSE) & IF('Kalkulation 1'!AH34,\" \" & H3,\"\")","v":"Grundprofil 50 exkl. Dichtung, gebohrt und entgratet"},null,null,null,null,null,null,null,{"$f":"N113*D113","v":0}]
[null,null,1750,0,{"$f":"VLOOKUP(\"[Stk]\",Sprachindex!$A:$Z,Haftungsausschluß!$O$6,FALSE)","v":"[Stk]"},{"$f":"IF($L$14=1,Preisliste!$E$44,Preisliste!$F$44)","v":"H501212"},{"$f":"VLOOKUP(\"Grundprofil 50 exkl. Dichtung, gebohrt und entgratet\",Sprachindex!$A:$Z,Haftungsausschluß!$O$6,FALSE) & IF('Kalkulation 1'!AH34,\" \" & H3,\"\")","v":"Grundprofil 50 exkl. Dichtung, gebohrt und entgratet"},null,null,null,null,null,null,null,0]
[null,null,2150,0,{"$f":"VLOOKUP(\"[Stk]\",Sprachindex!$A:$Z,Haftungsausschluß!$O$6,FALSE)","v":"[Stk]"},{"$f":"IF($L$14=1,Preisliste!$E$45,Preisliste!$F$45)","v":"H501222"},{"$f":"VLOOKUP(\"Grundprofil 50 exkl. Dichtung, gebohrt und entgratet\",Sprachindex!$A:$Z,Haftungsausschluß!$O$6,FALSE) & IF('Kalkulation 1'!AH34,\" \" & H3,\"\")","v":"Grundprofil 50 exkl. Dichtung, gebohrt und entgratet"},null,null,null,null,null,null,null,0]
[null,null,2720,0,{"$f":"VLOOKUP(\"[Stk]\",Sprachindex!$A:$Z,Haftungsausschluß!$O$6,FALSE)","v":"[Stk]"},{"$f":"IF($L$14=1,Preisliste!$E$47,Preisliste!$F$47)","v":"H501291"},{"$f":"VLOOKUP(\"Grundprofil 50 Sonderlänge exkl. Dichtung, (Stangenware)\",Sprachindex!$A:$Z,Haftungsausschluß!$O$6,FALSE) & IF('Kalkulation 1'!AH34,\" \" & H3,\"\")","v":"Grundprofil 50 Sonderlänge exkl. Dichtung, (Stangenware)"},null,null,null,null,null,null,null,0]
[null,null,750,0,{"$f":"VLOOKUP(\"[Stk]\",Sprachindex!$A:$Z,Haftungsausschluß!$O$6,FALSE)","v":"[Stk]"},{"$f":"IF($L$14=1,Preisliste!$E$49,Preisliste!$F$49)","v":"H801201"},{"$f":"VLOOKUP(\"Grundprofil 80 exkl. Dichtung, gebohrt und entgratet\",Sprachindex!$A:$Z,Haftungsausschluß!$O$6,FALSE) & IF('Kalkulation 1'!AH34,\" \" & H3,\"\")","v":"Grundprofil 80 exkl. Dichtung, gebohrt und entgratet"},null,null,null,null,null,null,null,{"$f":"N117*D117","v":0}]
[null,null,1350,0,{"$f":"VLOOKUP(\"[Stk]\",Sprachindex!$A:$Z,Haftungsausschluß!$O$6,FALSE)","v":"[Stk]"},{"$f":"IF($L$14=1,Preisliste!$E$50,Preisliste!$F$50)","v":"H801211"},{"$f":"VLOOKUP(\"Grundprofil 80 exkl. Dichtung, gebohrt und entgratet\",Sprachindex!$A:$Z,Haftungsausschluß!$O$6,FALSE) & IF('Kalkulation 1'!AH34,\" \" & H3,\"\")","v":"Grundprofil 80 exkl. Dichtung, gebohrt und entgratet"},null,null,null,null,null,null,null,{"$f":"N118*D118","v":0}]
[null,null,1750,0,{"$f":"VLOOKUP(\"[Stk]\",Sprachindex!$A:$Z,Haftungsausschluß!$O$6,FALSE)","v":"[Stk]"},{"$f":"IF($L$14=1,Preisliste!$E$51,Preisliste!$F$51)","v":"H801212"},{"$f":"VLOOKUP(\"Grundprofil 80 exkl. Dichtung, gebohrt und entgratet\",Sprachindex!$A:$Z,Haftungsausschluß!$O$6,FALSE) & IF('Kalkulation 1'!AH34,\" \" & H3,\"\")","v":"Grundprofil 80 exkl. Dichtung, gebohrt und entgratet"},null,null,null,null,null,null,null,0]
[null,null,2150,0,{"$f":"VLOOKUP(\"[Stk]\",Sprachindex!$A:$Z,Haftungsausschluß!$O$6,FALSE)","v":"[Stk]"},{"$f":"IF($L$14=1,Preisliste!$E$52,Preisliste!$F$52)","v":"H801222"},{"$f":"VLOOKUP(\"Grundprofil 80 exkl. Dichtung, gebohrt und entgratet\",Sprachindex!$A:$Z,Haftungsausschluß!$O$6,FALSE) & IF('Kalkulation 1'!AH34,\" \" & H3,\"\")","v":"Grundprofil 80 exkl. Dichtung, gebohrt und entgratet"},null,null,null,null,null,null,null,0]
[null,null,2720,0,{"$f":"VLOOKUP(\"[Stk]\",Sprachindex!$A:$Z,Haftungsausschluß!$O$6,FALSE)","v":"[Stk]"},{"$f":"IF($L$14=1,Preisliste!$E$54,Preisliste!$F$54)","v":"H801291"},{"$f":"VLOOKUP(\"Grundprofil 80 Sonderlänge exkl. Dichtung, (Stangenware)\",Sprachindex!$A:$Z,Haftungsausschluß!$O$6,FALSE) & IF('Kalkulation 1'!AH34,\" \" & H3,\"\")","v":"Grundprofil 80 Sonderlänge exkl. Dichtung, (Stangenware)"},null,null,null,null,null,null,null,{"$f":"N121*D121*C121/1000","v":0}]
[null,null,750,0,{"$f":"VLOOKUP(\"[Stk]\",Sprachindex!$A:$Z,Haftungsausschluß!$O$6,FALSE)","v":"[Stk]"},{"$f":"IF($L$14=1,Preisliste!$E$56,Preisliste!$F$56)","v":"H501301"},{"$f":"VLOOKUP(\"Rundprofil 50 exkl. Dichtung, gebohrt und entgratet\",Sprachindex!$A:$Z,Haftungsausschluß!$O$6,FALSE) & \" (7,81\"  & \" \" & VLOOKUP(\"kg/Stk\",Sprachindex!$A:$Z,Haftungsausschluß!$O$6,FALSE) & \")\"","v":"Rundprofil 50 exkl. Dichtung, gebohrt und entgratet (7,81 kg/Stk)"},null,null,null,null,null,null,null,{"$f":"N122*D122","v":0},null,null,null,null,null,null,null,null,null,null,{"$f":"ROUNDUP(C122/1000*10.401,2)","v":7.81}]
[null,null,1350,0,{"$f":"VLOOKUP(\"[Stk]\",Sprachindex!$A:$Z,Haftungsausschluß!$O$6,FALSE)","v":"[Stk]"},{"$f":"IF($L$14=1,Preisliste!$E$57,Preisliste!$F$57)","v":"H501311"},{"$f":"VLOOKUP(\"Rundprofil 50 exkl. Dichtung, gebohrt und entgratet\",Sprachindex!$A:$Z,Haftungsausschluß!$O$6,FALSE) & \" (14,05\"  & \" \" & VLOOKUP(\"kg/Stk\",Sprachindex!$A:$Z,Haftungsausschluß!$O$6,FALSE) & \")\"","v":"Rundprofil 50 exkl. Dichtung, gebohrt und entgratet (14,05 kg/Stk)"},null,null,null,null,null,null,null,{"$f":"N123*D123","v":0},null,null,null,null,null,null,null,null,null,null,{"$f":"ROUNDUP(C123/1000*10.401,2)","v":14.049999999999999}]
[null,null,1750,0,{"$f":"VLOOKUP(\"[Stk]\",Sprachindex!$A:$Z,Haftungsausschluß!$O$6,FALSE)","v":"[Stk]"},{"$f":"IF($L$14=1,Preisliste!$E$58,Preisliste!$F$58)","v":"H501312"},{"$f":"VLOOKUP(\"Rundprofil 50 exkl. Dichtung, gebohrt und entgratet\",Sprachindex!$A:$Z,Haftungsausschluß!$O$6,FALSE) & \" (18,21\"  & \" \" & VLOOKUP(\"kg/Stk\",Sprachindex!$A:$Z,Haftungsausschluß!$O$6,FALSE) & \")\"","v":"Rundprofil 50 exkl. Dichtung, gebohrt und entgratet (18,21 kg/Stk)"},null,null,null,null,null,null,null,0,null,null,null,null,null,null,null,null,null,null,18.21]
[null,null,2150,0,{"$f":"VLOOKUP(\"[Stk]\",Sprachindex!$A:$Z,Haftungsausschluß!$O$6,FALSE)","v":"[Stk]"},{"$f":"IF($L$14=1,Preisliste!$E$59,Preisliste!$F$59)","v":"H501322"},{"$f":"VLOOKUP(\"Rundprofil 50 exkl. Dichtung, gebohrt und entgratet\",Sprachindex!$A:$Z,Haftungsausschluß!$O$6,FALSE) & \" (22,37\"  & \" \" & VLOOKUP(\"kg/Stk\",Sprachindex!$A:$Z,Haftungsausschluß!$O$6,FALSE) & \")\"","v":"Rundprofil 50 exkl. Dichtung, gebohrt und entgratet (22,37 kg/Stk)"},null,null,null,null,null,null,null,0,null,null,null,null,null,null,null,null,null,null,22.37]
[null,null,2220,0,{"$f":"VLOOKUP(\"[Stk]\",Sprachindex!$A:$Z,Haftungsausschluß!$O$6,FALSE)","v":"[Stk]"},{"$f":"IF($L$14=1,Preisliste!$E$60,Preisliste!$F$60)","v":0},{"$f":"VLOOKUP(\"Rundprofil 50 Sonderlänge exkl. Dichtung, (Stangenware)\",Sprachindex!$A:$Z,Haftungsausschluß!$O$6,FALSE)","v":"Rundprofil 50 Sonderlänge exkl. Dichtung, (Stangenware)"},null,null,null,null,null,null,null,{"$f":"N126*D126*C126/1000","v":0},null,null,null,null,null,null,null,null,null,null,23.1]
[null,null,750,0,{"$f":"VLOOKUP(\"[Stk]\",Sprachindex!$A:$Z,Haftungsausschluß!$O$6,FALSE)","v":"[Stk]"},{"$f":"IF($L$14=1,Preisliste!$E$62,Preisliste!$F$62)","v":"H801301"},{"$f":"VLOOKUP(\"Rundprofil 80 exkl. Dichtung, gebohrt und entgratet\",Sprachindex!$A:$Z,Haftungsausschluß!$O$6,FALSE) & \" (8,45\"  & \" \" & VLOOKUP(\"kg/Stk\",Sprachindex!$A:$Z,Haftungsausschluß!$O$6,FALSE) & \")\"","v":"Rundprofil 80 exkl. Dichtung, gebohrt und entgratet (8,45 kg/Stk)"},null,null,null,null,null,null,null,{"$f":"N127*D127","v":0},null,null,null,null,null,null,null,null,null,null,{"$f":"ROUNDUP(C127/1000*11.258,2)","v":8.4499999999999993}]
[null,null,1350,0,{"$f":"VLOOKUP(\"[Stk]\",Sprachindex!$A:$Z,Haftungsausschluß!$O$6,FALSE)","v":"[Stk]"},{"$f":"IF($L$14=1,Preisliste!$E$63,Preisliste!$F$63)","v":"H801311"},{"$f":"VLOOKUP(\"Rundprofil 80 exkl. Dichtung, gebohrt und entgratet\",Sprachindex!$A:$Z,Haftungsausschluß!$O$6,FALSE) & \" (15,20\"  & \" \" & VLOOKUP(\"kg/Stk\",Sprachindex!$A:$Z,Haftungsausschluß!$O$6,FALSE) & \")\"","v":"Rundprofil 80 exkl. Dichtung, gebohrt und entgratet (15,20 kg/Stk)"},null,null,null,null,null,null,null,{"$f":"N128*D128","v":0},null,null,null,null,null,null,null,null,null,null,{"$f":"ROUNDUP(C128/1000*11.258,2)","v":15.2}]
[null,null,1750,0,{"$f":"VLOOKUP(\"[Stk]\",Sprachindex!$A:$Z,Haftungsausschluß!$O$6,FALSE)","v":"[Stk]"},{"$f":"IF($L$14=1,Preisliste!$E$64,Preisliste!$F$64)","v":"H801312"},{"$f":"VLOOKUP(\"Rundprofil 80 exkl. Dichtung, gebohrt und entgratet\",Sprachindex!$A:$Z,Haftungsausschluß!$O$6,FALSE) & \" (19,71\"  & \" \" & VLOOKUP(\"kg/Stk\",Sprachindex!$A:$Z,Haftungsausschluß!$O$6,FALSE) & \")\"","v":"Rundprofil 80 exkl. Dichtung, gebohrt und entgratet (19,71 kg/Stk)"},null,null,null,null,null,null,null,0,null,null,null,null,null,null,null,null,null,null,19.71]
[null,null,2150,0,{"$f":"VLOOKUP(\"[Stk]\",Sprachindex!$A:$Z,Haftungsausschluß!$O$6,FALSE)","v":"[Stk]"},{"$f":"IF($L$14=1,Preisliste!$E$65,Preisliste!$F$65)","v":"H801322"},{"$f":"VLOOKUP(\"Rundprofil 80 exkl. Dichtung, gebohrt und entgratet\",Sprachindex!$A:$Z,Haftungsausschluß!$O$6,FALSE) & \" (24,21\"  & \" \" & VLOOKUP(\"kg/Stk\",Sprachindex!$A:$Z,Haftungsausschluß!$O$6,FALSE) & \")\"","v":"Rundprofil 80 exkl. Dichtung, gebohrt und entgratet (24,21 kg/Stk)"},null,null,null,null,null,null,null,0,null,null,null,null,null,null,null,null,null,null,24.21]
[null,null,3320,0,{"$f":"VLOOKUP(\"[Stk]\",Sprachindex!$A:$Z,Haftungsausschluß!$O$6,FALSE)","v":"[Stk]"},{"$f":"IF($L$14=1,Preisliste!$E$66,Preisliste!$F$66)","v":0},{"$f":"VLOOKUP(\"Rundprofil 80 Sonderlänge exkl. Dichtung, (Stangenware)\",Sprachindex!$A:$Z,Haftungsausschluß!$O$6,FALSE)","v":"Rundprofil 80 Sonderlänge exkl. Dichtung, (Stangenware)"},null,null,null,null,null,null,null,{"$f":"N131*D131*C131/1000","v":0},null,null,null,null,null,null,null,null,null,null,37.379999999999995]
[null,null,750,0,{"$f":"VLOOKUP(\"[Stk]\",Sprachindex!$A:$Z,Haftungsausschluß!$O$6,FALSE)","v":"[Stk]"},{"$f":"IF($L$14=1,Preisliste!$E$68,Preisliste!$F$68)","v":"H801340"},{"$f":"VLOOKUP(\"Rundprofil 80 gr. exkl. Dichtung, gebohrt und entgratet\",Sprachindex!$A:$Z,Haftungsausschluß!$O$6,FALSE) & \" (10,93\"  & \" \" & VLOOKUP(\"kg/Stk\",Sprachindex!$A:$Z,Haftungsausschluß!$O$6,FALSE) & \")\"","v":"Rundprofil 80 gr. exkl. Dichtung, gebohrt und entgratet (10,93 kg/Stk)"},null,null,null,null,null,null,null,{"$f":"N132*D132","v":0},null,null,null,null,null,null,null,null,null,null,{"$f":"ROUNDUP(C132/1000*14.5690515,2)","v":10.93}]
[null,null,1350,0,{"$f":"VLOOKUP(\"[Stk]\",Sprachindex!$A:$Z,Haftungsausschluß!$O$6,FALSE)","v":"[Stk]"},{"$f":"IF($L$14=1,Preisliste!$E$69,Preisliste!$F$69)","v":"H801341"},{"$f":"VLOOKUP(\"Rundprofil 80 gr. exkl. Dichtung, gebohrt und entgratet\",Sprachindex!$A:$Z,Haftungsausschluß!$O$6,FALSE) & \" (19,67\"  & \" \" & VLOOKUP(\"kg/Stk\",Sprachindex!$A:$Z,Haftungsausschluß!$O$6,FALSE) & \")\"","v":"Rundprofil 80 gr. exkl. Dichtung, gebohrt und entgratet (19,67 kg/Stk)"},null,null,null,null,null,null,null,{"$f":"N133*D133","v":0},null,null,null,null,null,null,null,null,null,null,{"$f":"ROUNDUP(C133/1000*14.5690515,2)","v":19.670000000000002}]
[null,null,1750,0,{"$f":"VLOOKUP(\"[Stk]\",Sprachindex!$A:$Z,Haftungsausschluß!$O$6,FALSE)","v":"[Stk]"},{"$f":"IF($L$14=1,Preisliste!$E$70,Preisliste!$F$70)","v":"H801342"},{"$f":"VLOOKUP(\"Rundprofil 80 gr. exkl. Dichtung, gebohrt und entgratet\",Sprachindex!$A:$Z,Haftungsausschluß!$O$6,FALSE) & \" (25,50\"  & \" \" & VLOOKUP(\"kg/Stk\",Sprachindex!$A:$Z,Haftungsausschluß!$O$6,FALSE) & \")\"","v":"Rundprofil 80 gr. exkl. Dichtung, gebohrt und entgratet (25,50 kg/Stk)"},null,null,null,null,null,null,null,0,null,null,null,null,null,null,null,null,null,null,25.5]
[null,null,2150,0,{"$f":"VLOOKUP(\"[Stk]\",Sprachindex!$A:$Z,Haftungsausschluß!$O$6,FALSE)","v":"[Stk]"},{"$f":"IF($L$14=1,Preisliste!$E$71,Preisliste!$F$71)","v":"H801343"},{"$f":"VLOOKUP(\"Rundprofil 80 gr. exkl. Dichtung, gebohrt und entgratet\",Sprachindex!$A:$Z,Haftungsausschluß!$O$6,FALSE) & \" (31,33\"  & \" \" & VLOOKUP(\"kg/Stk\",Sprachindex!$A:$Z,Haftungsausschluß!$O$6,FALSE) & \")\"","v":"Rundprofil 80 gr. exkl. Dichtung, gebohrt und entgratet (31,33 kg/Stk)"},null,null,null,null,null,null,null,0,null,null,null,null,null,null,null,null,null,null,31.330000000000002]
[null,null,3120,0,{"$f":"VLOOKUP(\"[Stk]\",Sprachindex!$A:$Z,Haftungsausschluß!$O$6,FALSE)","v":"[Stk]"},{"$f":"IF($L$14=1,Preisliste!$E$72,Preisliste!$F$72)","v":0},{"$f":"VLOOKUP(\"Rundprofil 80 gr. Sonderlänge exkl. Dichtung, (Stangenware)\",Sprachindex!$A:$Z,Haftungsausschluß!$O$6,FALSE)","v":"Rundprofil 80 gr. Sonderlänge exkl. Dichtung, (Stangenware)"},null,null,null,null,null,null,null,{"$f":"N136*D136*C136/1000","v":0},null,null,null,null,null,null,null,null,null,null,45.46]
[null,null,750,0,{"$f":"VLOOKUP(\"[Stk]\",Sprachindex!$A:$Z,Haftungsausschluß!$O$6,FALSE)","v":"[Stk]"},{"$f":"IF($L$14=1,Preisliste!$E$74,Preisliste!$F$74)","v":"H501600"},{"$f":"VLOOKUP(\"Rundprofil 50-90° exkl. Dichtung, gebohrt und entgratet\",Sprachindex!$A:$Z,Haftungsausschluß!$O$6,FALSE)","v":"Rundprofil 50-90° exkl. Dichtung, gebohrt und entgratet"},null,null,null,null,null,null,null,{"$f":"N137*D137","v":0}]
[null,null,1350,0,{"$f":"VLOOKUP(\"[Stk]\",Sprachindex!$A:$Z,Haftungsausschluß!$O$6,FALSE)","v":"[Stk]"},{"$f":"IF($L$14=1,Preisliste!$E$75,Preisliste!$F$75)","v":"H501601"},{"$f":"VLOOKUP(\"Rundprofil 50-90° exkl. Dichtung, gebohrt und entgratet\",Sprachindex!$A:$Z,Haftungsausschluß!$O$6,FALSE)","v":"Rundprofil 50-90° exkl. Dichtung, gebohrt und entgratet"},null,null,null,null,null,null,null,{"$f":"N138*D138","v":0}]
[null,null,1750,0,{"$f":"VLOOKUP(\"[Stk]\",Sprachindex!$A:$Z,Haftungsausschluß!$O$6,FALSE)","v":"[Stk]"},{"$f":"IF($L$14=1,Preisliste!$E$76,Preisliste!$F$76)","v":"H501602"},{"$f":"VLOOKUP(\"Rundprofil 50-90° exkl. Dichtung, gebohrt und entgratet\",Sprachindex!$A:$Z,Haftungsausschluß!$O$6,FALSE)","v":"Rundprofil 50-90° exkl. Dichtung, gebohrt und entgratet"},null,null,null,null,null,null,null,0]
[null,null,2150,0,{"$f":"VLOOKUP(\"[Stk]\",Sprachindex!$A:$Z,Haftungsausschluß!$O$6,FALSE)","v":"[Stk]"},{"$f":"IF($L$14=1,Preisliste!$E$77,Preisliste!$F$77)","v":"H501603"},{"$f":"VLOOKUP(\"Rundprofil 50-90° exkl. Dichtung, gebohrt und entgratet\",Sprachindex!$A:$Z,Haftungsausschluß!$O$6,FALSE)","v":"Rundprofil 50-90° exkl. Dichtung, gebohrt und entgratet"},null,null,null,null,null,null,null,0]
[null,null,2720,0,{"$f":"VLOOKUP(\"[Stk]\",Sprachindex!$A:$Z,Haftungsausschluß!$O$6,FALSE)","v":"[Stk]"},{"$f":"IF($L$14=1,Preisliste!$E$78,Preisliste!$F$78)","v":0},{"$f":"VLOOKUP(\"Rundprofil 50-90° Sonderlänge exkl. Dichtung, (Stangenware)\",Sprachindex!$A:$Z,Haftungsausschluß!$O$6,FALSE)","v":"Rundprofil 50-90° Sonderlänge exkl. Dichtung, (Stangenware)"},null,null,null,null,null,null,null,{"$f":"N141*D141*C141/1000","v":0}]
[null,null,750,0,{"$f":"VLOOKUP(\"[Stk]\",Sprachindex!$A:$Z,Haftungsausschluß!$O$6,FALSE)","v":"[Stk]"},{"$f":"IF($L$14=1,Preisliste!$E$80,Preisliste!$F$80)","v":"H801600"},{"$f":"VLOOKUP(\"Rundprofil 80-90° exkl. Dichtung, gebohrt und entgratet\",Sprachindex!$A:$Z,Haftungsausschluß!$O$6,FALSE)","v":"Rundprofil 80-90° exkl. Dichtung, gebohrt und entgratet"},null,null,null,null,null,null,null,{"$f":"N142*D142","v":0}]
[null,null,1350,0,{"$f":"VLOOKUP(\"[Stk]\",Sprachindex!$A:$Z,Haftungsausschluß!$O$6,FALSE)","v":"[Stk]"},{"$f":"IF($L$14=1,Preisliste!$E$81,Preisliste!$F$81)","v":"H801601"},{"$f":"VLOOKUP(\"Rundprofil 80-90° exkl. Dichtung, gebohrt und entgratet\",Sprachindex!$A:$Z,Haftungsausschluß!$O$6,FALSE)","v":"Rundprofil 80-90° exkl. Dichtung, gebohrt und entgratet"},null,null,null,null,null,null,null,{"$f":"N143*D143","v":0}]
[null,null,1750,0,{"$f":"VLOOKUP(\"[Stk]\",Sprachindex!$A:$Z,Haftungsausschluß!$O$6,FALSE)","v":"[Stk]"},{"$f":"IF($L$14=1,Preisliste!$E$82,Preisliste!$F$82)","v":"H801602"},{"$f":"VLOOKUP(\"Rundprofil 80-90° exkl. Dichtung, gebohrt und entgratet\",Sprachindex!$A:$Z,Haftungsausschluß!$O$6,FALSE)","v":"Rundprofil 80-90° exkl. Dichtung, gebohrt und entgratet"},null,null,null,null,null,null,null,0]
[null,null,2150,0,{"$f":"VLOOKUP(\"[Stk]\",Sprachindex!$A:$Z,Haftungsausschluß!$O$6,FALSE)","v":"[Stk]"},{"$f":"IF($L$14=1,Preisliste!$E$83,Preisliste!$F$83)","v":"H801603"},{"$f":"VLOOKUP(\"Rundprofil 80-90° exkl. Dichtung, gebohrt und entgratet\",Sprachindex!$A:$Z,Haftungsausschluß!$O$6,FALSE)","v":"Rundprofil 80-90° exkl. Dichtung, gebohrt und entgratet"},null,null,null,null,null,null,null,0]
[null,null,3120,0,{"$f":"VLOOKUP(\"[Stk]\",Sprachindex!$A:$Z,Haftungsausschluß!$O$6,FALSE)","v":"[Stk]"},{"$f":"IF($L$14=1,Preisliste!$E$84,Preisliste!$F$84)","v":0},{"$f":"VLOOKUP(\"Rundprofil 80-90° Sonderlänge exkl. Dichtung, (Stangenware)\",Sprachindex!$A:$Z,Haftungsausschluß!$O$6,FALSE)","v":"Rundprofil 80-90° Sonderlänge exkl. Dichtung, (Stangenware)"},null,null,null,null,null,null,null,{"$f":"N146*D146*C146/1000","v":0}]
[null,null,750,0,{"$f":"VLOOKUP(\"[Stk]\",Sprachindex!$A:$Z,Haftungsausschluß!$O$6,FALSE)","v":"[Stk]"},{"$f":"IF($L$14=1,Preisliste!$E$86,Preisliste!$F$86)","v":"H501610"},{"$f":"VLOOKUP(\"Rundprofil 50-Vario exkl. Dichtung, gebohrt und entgratet\",Sprachindex!$A:$Z,Haftungsausschluß!$O$6,FALSE)","v":"Rundprofil 50-Vario exkl. Dichtung, gebohrt und entgratet"},null,null,null,null,null,null,null,{"$f":"N147*D147","v":0}]
[null,null,1350,0,{"$f":"VLOOKUP(\"[Stk]\",Sprachindex!$A:$Z,Haftungsausschluß!$O$6,FALSE)","v":"[Stk]"},{"$f":"IF($L$14=1,Preisliste!$E$87,Preisliste!$F$87)","v":"H501611"},{"$f":"VLOOKUP(\"Rundprofil 50-Vario exkl. Dichtung, gebohrt und entgratet\",Sprachindex!$A:$Z,Haftungsausschluß!$O$6,FALSE)","v":"Rundprofil 50-Vario exkl. Dichtung, gebohrt und entgratet"},null,null,null,null,null,null,null,{"$f":"N148*D148","v":0}]
[null,null,1750,0,{"$f":"VLOOKUP(\"[Stk]\",Sprachindex!$A:$Z,Haftungsausschluß!$O$6,FALSE)","v":"[Stk]"},{"$f":"IF($L$14=1,Preisliste!$E$88,Preisliste!$F$88)","v":"H501612"},{"$f":"VLOOKUP(\"Rundprofil 50-Vario exkl. Dichtung, gebohrt und entgratet\",Sprachindex!$A:$Z,Haftungsausschluß!$O$6,FALSE)","v":"Rundprofil 50-Vario exkl. Dichtung, gebohrt und entgratet"},null,null,null,null,null,null,null,0]
[null,null,2150,0,{"$f":"VLOOKUP(\"[Stk]\",Sprachindex!$A:$Z,Haftungsausschluß!$O$6,FALSE)","v":"[Stk]"},{"$f":"IF($L$14=1,Preisliste!$E$89,Preisliste!$F$89)","v":"H501613"},{"$f":"VLOOKUP(\"Rundprofil 50-Vario exkl. Dichtung, gebohrt und entgratet\",Sprachindex!$A:$Z,Haftungsausschluß!$O$6,FALSE)","v":"Rundprofil 50-Vario exkl. Dichtung, gebohrt und entgratet"},null,null,null,null,null,null,null,0]
[null,null,3120,0,{"$f":"VLOOKUP(\"[Stk]\",Sprachindex!$A:$Z,Haftungsausschluß!$O$6,FALSE)","v":"[Stk]"},{"$f":"IF($L$14=1,Preisliste!$E$90,Preisliste!$F$90)","v":0},{"$f":"VLOOKUP(\"Rundprofil 50-Vario Sonderlänge exkl. Dichtung, (Stangenware)\",Sprachindex!$A:$Z,Haftungsausschluß!$O$6,FALSE)","v":"Rundprofil 50-Vario Sonderlänge exkl. Dichtung, (Stangenware)"},null,null,null,null,null,null,null,{"$f":"N151*D151*C151/1000","v":0}]
[null,null,750,0,{"$f":"VLOOKUP(\"[Stk]\",Sprachindex!$A:$Z,Haftungsausschluß!$O$6,FALSE)","v":"[Stk]"},{"$f":"IF($L$14=1,Preisliste!$E$92,Preisliste!$F$92)","v":"H801610"},{"$f":"VLOOKUP(\"Rundprofil 80-Vario exkl. Dichtung, gebohrt und entgratet\",Sprachindex!$A:$Z,Haftungsausschluß!$O$6,FALSE)","v":"Rundprofil 80-Vario exkl. Dichtung, gebohrt und entgratet"},null,null,null,null,null,null,null,{"$f":"N152*D152","v":0}]
[null,null,1350,0,{"$f":"VLOOKUP(\"[Stk]\",Sprachindex!$A:$Z,Haftungsausschluß!$O$6,FALSE)","v":"[Stk]"},{"$f":"IF($L$14=1,Preisliste!$E$93,Preisliste!$F$93)","v":"H801611"},{"$f":"VLOOKUP(\"Rundprofil 80-Vario exkl. Dichtung, gebohrt und entgratet\",Sprachindex!$A:$Z,Haftungsausschluß!$O$6,FALSE)","v":"Rundprofil 80-Vario exkl. Dichtung, gebohrt und entgratet"},null,null,null,null,null,null,null,{"$f":"N153*D153","v":0}]
[null,null,1750,0,{"$f":"VLOOKUP(\"[Stk]\",Sprachindex!$A:$Z,Haftungsausschluß!$O$6,FALSE)","v":"[Stk]"},{"$f":"IF($L$14=1,Preisliste!$E$94,Preisliste!$F$94)","v":"H801612"},{"$f":"VLOOKUP(\"Rundprofil 80-Vario exkl. Dichtung, gebohrt und entgratet\",Sprachindex!$A:$Z,Haftungsausschluß!$O$6,FALSE)","v":"Rundprofil 80-Vario exkl. Dichtung, gebohrt und entgratet"},null,null,null,null,null,null,null,0]
[null,null,2150,0,{"$f":"VLOOKUP(\"[Stk]\",Sprachindex!$A:$Z,Haftungsausschluß!$O$6,FALSE)","v":"[Stk]"},{"$f":"IF($L$14=1,Preisliste!$E$95,Preisliste!$F$95)","v":"H801613"},{"$f":"VLOOKUP(\"Rundprofil 80-Vario exkl. Dichtung, gebohrt und entgratet\",Sprachindex!$A:$Z,Haftungsausschluß!$O$6,FALSE)","v":"Rundprofil 80-Vario exkl. Dichtung, gebohrt und entgratet"},null,null,null,null,null,null,null,0]
[null,null,3120,0,{"$f":"VLOOKUP(\"[Stk]\",Sprachindex!$A:$Z,Haftungsausschluß!$O$6,FALSE)","v":"[Stk]"},{"$f":"IF($L$14=1,Preisliste!$E$96,Preisliste!$F$96)","v":0},{"$f":"VLOOKUP(\"Rundprofil 80-Vario Sonderlänge exkl. Dichtung, (Stangenware)\",Sprachindex!$A:$Z,Haftungsausschluß!$O$6,FALSE)","v":"Rundprofil 80-Vario Sonderlänge exkl. Dichtung, (Stangenware)"},null,null,null,null,null,null,null,{"$f":"N156*D156*C156/1000","v":0}]
[null,null,null,{"$f":"B157","v":0},{"$f":"VLOOKUP(\"[Stk]\",Sprachindex!$A:$Z,Haftungsausschluß!$O$6,FALSE)","v":"[Stk]"},{"$f":"IF($L$14=1,Preisliste!$E$98,Preisliste!$F$98)","v":"H001030"},{"$f":"VLOOKUP(\"Bodenhülse 50/80 beschichtet inkl. Aluminiumdeckel und Dichtung\",Sprachindex!$A:$Z,Haftungsausschluß!$O$6,FALSE)","v":"Bodenhülse 50/80 beschichtet inkl. Aluminiumdeckel und Dichtung"},null,null,null,null,null,null,null,{"$f":"N157*D157","v":0}]
[null,null,null,{"$f":"B158","v":0},{"$f":"VLOOKUP(\"[Stk]\",Sprachindex!$A:$Z,Haftungsausschluß!$O$6,FALSE)","v":"[Stk]"},{"$f":"IF($L$14=1,Preisliste!$E$99,Preisliste!$F$99)","v":"H001040"},{"$f":"VLOOKUP(\"Bodenhülse 50/80 beschichtet inkl. Edelstahldeckel und Dichtung\",Sprachindex!$A:$Z,Haftungsausschluß!$O$6,FALSE)","v":"Bodenhülse 50/80 beschichtet inkl. Edelstahldeckel und Dichtung"},null,null,null,null,null,null,null,{"$f":"N158*D158","v":0}]
[null,null,null,0,{"$f":"VLOOKUP(\"[Stk]\",Sprachindex!$A:$Z,Haftungsausschluß!$O$6,FALSE)","v":"[Stk]"},{"$f":"IF($L$14=1,Preisliste!$E$101,Preisliste!$F$101)","v":"H001031"},{"$f":"VLOOKUP(\"Bodenhülse (GROSS) 50 Vario und 80 beschichtet inkl. Aluminiumdeckel und Dichtung\",Sprachindex!$A:$Z,Haftungsausschluß!$O$6,FALSE)","v":"Bodenhülse (GROSS) 50 Vario und 80 beschichtet inkl. Aluminiumdeckel und Dichtung"},null,null,null,null,null,null,null,{"$f":"N159*D159","v":0}]
[null,null,null,0,{"$f":"VLOOKUP(\"[Stk]\",Sprachindex!$A:$Z,Haftungsausschluß!$O$6,FALSE)","v":"[Stk]"},{"$f":"IF($L$14=1,Preisliste!$E$102,Preisliste!$F$102)","v":"H001041"},{"$f":"VLOOKUP(\"Bodenhülse (GROSS) 50 Vario und 80 beschichtet inkl. Edelstahldeckel und Dichtung\",Sprachindex!$A:$Z,Haftungsausschluß!$O$6,FALSE)","v":"Bodenhülse (GROSS) 50 Vario und 80 beschichtet inkl. Edelstahldeckel und Dichtung"},null,null,null,null,null,null,null,0]
[null,null,750,0,{"$f":"VLOOKUP(\"[Stk]\",Sprachindex!$A:$Z,Haftungsausschluß!$O$6,FALSE)","v":"[Stk]"},{"$f":"IF($L$14=1,Preisliste!$E$104,Preisliste!$F$104)","v":"H501031"},{"$f":"VLOOKUP(\"Niederhalter inkl. Spannstück, Verbundanker und Gewindestange\",Sprachindex!$A:$Z,Haftungsausschluß!$O$6,FALSE)","v":"Niederhalter inkl. Spannstück, Verbundanker und Gewindestange"},null,null,null,null,null,null,null,0]
[null,null,1350,0,{"$f":"VLOOKUP(\"[Stk]\",Sprachindex!$A:$Z,Haftungsausschluß!$O$6,FALSE)","v":"[Stk]"},{"$f":"IF($L$14=1,Preisliste!$E$105,Preisliste!$F$105)","v":"H501041"},{"$f":"VLOOKUP(\"Niederhalter inkl. Spannstück, Verbundanker und Gewindestange\",Sprachindex!$A:$Z,Haftungsausschluß!$O$6,FALSE)","v":"Niederhalter inkl. Spannstück, Verbundanker und Gewindestange"},null,null,null,null,null,null,null,0]
[null,null,1750,0,{"$f":"VLOOKUP(\"[Stk]\",Sprachindex!$A:$Z,Haftungsausschluß!$O$6,FALSE)","v":"[Stk]"},{"$f":"IF($L$14=1,Preisliste!$E$106,Preisliste!$F$106)","v":"H501042"},{"$f":"VLOOKUP(\"Niederhalter inkl. Spannstück, Verbundanker und Gewindestange\",Sprachindex!$A:$Z,Haftungsausschluß!$O$6,FALSE)","v":"Niederhalter inkl. Spannstück, Verbundanker und Gewindestange"},null,null,null,null,null,null,null,0]
[null,2,null,2,{"$f":"VLOOKUP(\"[Stk]\",Sprachindex!$A:$Z,Haftungsausschluß!$O$6,FALSE)","v":"[Stk]"},{"$f":"IF($L$14=1,Preisliste!$E$109,Preisliste!$F$109)","v":"H001071"},{"$f":"VLOOKUP(\"Spannstück mit Sterngriff\",Sprachindex!$A:$Z,Haftungsausschluß!$O$6,FALSE)","v":"Spannstück mit Sterngriff"},null,null,null,null,null,null,97.15,{"$f":"N164*D164","v":194.3}]
[null,null,null,0,{"$f":"VLOOKUP(\"[Stk]\",Sprachindex!$A:$Z,Haftungsausschluß!$O$6,FALSE)","v":"[Stk]"},{"$f":"IF($L$14=1,Preisliste!$E$110,Preisliste!$F$110)","v":"H001061"},{"$f":"VLOOKUP(\"Spannstück mit 6-Kantschraube\",Sprachindex!$A:$Z,Haftungsausschluß!$O$6,FALSE)","v":"Spannstück mit 6-Kantschraube"},null,null,null,null,null,null,null,{"$f":"N165*D165","v":0}]
[null,null,null,0,{"$f":"VLOOKUP(\"[lfm]\",Sprachindex!$A:$Z,Haftungsausschluß!$O$6,FALSE)","v":"[lfm]"},{"$f":"IF($L$14=1,Preisliste!$E$114,Preisliste!$F$114)","v":"H251900"},{"$f":"VLOOKUP(\"Bodendichtung 25\",Sprachindex!$A:$Z,Haftungsausschluß!$O$6,FALSE)","v":"Bodendichtung 25"},null,null,null,null,null,null,null,{"$f":"N166*D166","v":0}]
[null,1,null,1,{"$f":"VLOOKUP(\"[lfm]\",Sprachindex!$A:$Z,Haftungsausschluß!$O$6,FALSE)","v":"[lfm]"},{"$f":"IF($L$14=1,Preisliste!$E$115,Preisliste!$F$115)","v":"H501901"},{"$f":"VLOOKUP(\"Bodendichtung 50\",Sprachindex!$A:$Z,Haftungsausschluß!$O$6,FALSE)","v":"Bodendichtung 50"},null,null,null,null,null,null,27.5,{"$f":"N167*D167","v":27.5},null,86]
[null,null,null,{"$f":"B168","v":0},{"$f":"VLOOKUP(\"[lfm]\",Sprachindex!$A:$Z,Haftungsausschluß!$O$6,FALSE)","v":"[lfm]"},{"$f":"IF($L$14=1,Preisliste!$E$116,Preisliste!$F$116)","v":"H801901"},{"$f":"VLOOKUP(\"Bodendichtung 80\",Sprachindex!$A:$Z,Haftungsausschluß!$O$6,FALSE)","v":"Bodendichtung 80"},null,null,null,null,null,null,null,0]
[null,null,null,0,{"$f":"VLOOKUP(\"[VPE]\",Sprachindex!$A:$Z,Haftungsausschluß!$O$6,FALSE)","v":"[VPE]"},{"$f":"IF($L$14=1,Preisliste!$E$117,Preisliste!$F$117)","v":"H001080"},{"$f":"VLOOKUP(\"Dammbalkendichtung (50+80)\",Sprachindex!$A:$Z,Haftungsausschluß!$O$6,FALSE)","v":"Dammbalkendichtung (50+80)"},null,null,null,null,null,null,null,0]
[null,null,null,0,{"$f":"VLOOKUP(\"[VPE]\",Sprachindex!$A:$Z,Haftungsausschluß!$O$6,FALSE)","v":"[VPE]"},{"$f":"IF($L$14=1,Preisliste!$E$118,Preisliste!$F$118)","v":"H251901"},{"$f":"VLOOKUP(\"Dammbalkendichtung (25)\",Sprachindex!$A:$Z,Haftungsausschluß!$O$6,FALSE)","v":"Dammbalkendichtung (25)"},null,null,null,null,null,null,null,0]
[null,1,null,1,{"$f":"VLOOKUP(\"[VPE]\",Sprachindex!$A:$Z,Haftungsausschluß!$O$6,FALSE)","v":"[VPE]"},{"$f":"IF($L$14=1,Preisliste!$E$119,Preisliste!$F$119)","v":"H001090"},{"$f":"VLOOKUP(\"Grundprofildichtung\",Sprachindex!$A:$Z,Haftungsausschluß!$O$6,FALSE)","v":"Grundprofildichtung"},null,null,null,null,null,null,62.1,62.1,null,3000]
[null,null,null,0,{"$f":"VLOOKUP(\"[lfm]\",Sprachindex!$A:$Z,Haftungsausschluß!$O$6,FALSE)","v":"[lfm]"},{"$f":"IF($L$14=1,Preisliste!$E$120,Preisliste!$F$120)","v":"H001081"},{"$f":"VLOOKUP(\"Dauerbodendichtung 50\",Sprachindex!$A:$Z,Haftungsausschluß!$O$6,FALSE)","v":"Dauerbodendichtung 50"},null,null,null,null,null,null,null,0]
[null,null,null,0,{"$f":"VLOOKUP(\"[lfm]\",Sprachindex!$A:$Z,Haftungsausschluß!$O$6,FALSE)","v":"[lfm]"},{"$f":"IF($L$14=1,Preisliste!$E$121,Preisliste!$F$121)","v":"H001082"},{"$f":"VLOOKUP(\"Dauerbodendichtung 80\",Sprachindex!$A:$Z,Haftungsausschluß!$O$6,FALSE)","v":"Dauerbodendichtung 80"},null,null,null,null,null,null,null,0]
[null,null,750,0,{"$f":"VLOOKUP(\"[Stk]\",Sprachindex!$A:$Z,Haftungsausschluß!$O$6,FALSE)","v":"[Stk]"},{"$f":"IF($L$14=1,Preisliste!$E$123,Preisliste!$F$123)","v":"H251050"},{"$f":"VLOOKUP(\"Abdeckung VO 25, entgratet\",Sprachindex!$A:$Z,Haftungsausschluß!$O$6,FALSE) & IF('Kalkulation 1'!AH35,\" \" & H3,\"\")","v":"Abdeckung VO 25, entgratet"},null,null,null,null,null,null,null,0]
[null,null,1350,0,{"$f":"VLOOKUP(\"[Stk]\",Sprachindex!$A:$Z,Haftungsausschluß!$O$6,FALSE)","v":"[Stk]"},{"$f":"IF($L$14=1,Preisliste!$E$124,Preisliste!$F$124)","v":"H251051"},{"$f":"VLOOKUP(\"Abdeckung VO 25, entgratet\",Sprachindex!$A:$Z,Haftungsausschluß!$O$6,FALSE) & IF('Kalkulation 1'!AH35,\" \" & H3,\"\")","v":"Abdeckung VO 25, entgratet"},null,null,null,null,null,null,null,{"$f":"N175*D175","v":0}]
[null,null,750,0,{"$f":"VLOOKUP(\"[Stk]\",Sprachindex!$A:$Z,Haftungsausschluß!$O$6,FALSE)","v":"[Stk]"},{"$f":"IF($L$14=1,Preisliste!$E$126,Preisliste!$F$126)","v":"H501401"},{"$f":"VLOOKUP(\"Abdeckung VO 50, gebohrt und entgratet\",Sprachindex!$A:$Z,Haftungsausschluß!$O$6,FALSE) & IF('Kalkulation 1'!AH35,\" \" & H3,\"\")","v":"Abdeckung VO 50, gebohrt und entgratet"},null,null,null,null,null,null,null,0]
[null,null,1350,0,{"$f":"VLOOKUP(\"[Stk]\",Sprachindex!$A:$Z,Haftungsausschluß!$O$6,FALSE)","v":"[Stk]"},{"$f":"IF($L$14=1,Preisliste!$E$127,Preisliste!$F$127)","v":"H501411"},{"$f":"VLOOKUP(\"Abdeckung VO 50, gebohrt und entgratet\",Sprachindex!$A:$Z,Haftungsausschluß!$O$6,FALSE) & IF('Kalkulation 1'!AH35,\" \" & H3,\"\")","v":"Abdeckung VO 50, gebohrt und entgratet"},null,null,null,null,null,null,null,0]
[null,null,1750,0,{"$f":"VLOOKUP(\"[Stk]\",Sprachindex!$A:$Z,Haftungsausschluß!$O$6,FALSE)","v":"[Stk]"},{"$f":"IF($L$14=1,Preisliste!$E$128,Preisliste!$F$128)","v":"H501412"},{"$f":"VLOOKUP(\"Abdeckung VO 50, gebohrt und entgratet\",Sprachindex!$A:$Z,Haftungsausschluß!$O$6,FALSE) & IF('Kalkulation 1'!AH35,\" \" & H3,\"\")","v":"Abdeckung VO 50, gebohrt und entgratet"},null,null,null,null,null,null,null,0]
[null,null,2150,0,{"$f":"VLOOKUP(\"[Stk]\",Sprachindex!$A:$Z,Haftungsausschluß!$O$6,FALSE)","v":"[Stk]"},{"$f":"IF($L$14=1,Preisliste!$E$129,Preisliste!$F$129)","v":"H501422"},{"$f":"VLOOKUP(\"Abdeckung VO 50, gebohrt und entgratet\",Sprachindex!$A:$Z,Haftungsausschluß!$O$6,FALSE) & IF('Kalkulation 1'!AH35,\" \" & H3,\"\")","v":"Abdeckung VO 50, gebohrt und entgratet"},null,null,null,null,null,null,null,0]
[null,null,750,0,{"$f":"VLOOKUP(\"[Stk]\",Sprachindex!$A:$Z,Haftungsausschluß!$O$6,FALSE)","v":"[Stk]"},{"$f":"IF($L$14=1,Preisliste!$E$141,Preisliste!$F$141)","v":"H801401"},{"$f":"VLOOKUP(\"Abdeckung VO 80, gebohrt und entgratet\",Sprachindex!$A:$Z,Haftungsausschluß!$O$6,FALSE) & IF('Kalkulation 1'!AH35,\" \" & H3,\"\")","v":"Abdeckung VO 80, gebohrt und entgratet"},null,null,null,null,null,null,null,0]
[null,null,1350,0,{"$f":"VLOOKUP(\"[Stk]\",Sprachindex!$A:$Z,Haftungsausschluß!$O$6,FALSE)","v":"[Stk]"},{"$f":"IF($L$14=1,Preisliste!$E$142,Preisliste!$F$142)","v":"H801411"},{"$f":"VLOOKUP(\"Abdeckung VO 80, gebohrt und entgratet\",Sprachindex!$A:$Z,Haftungsausschluß!$O$6,FALSE) & IF('Kalkulation 1'!AH35,\" \" & H3,\"\")","v":"Abdeckung VO 80, gebohrt und entgratet"},null,null,null,null,null,null,null,{"$f":"N181*D181","v":0}]
[null,null,1750,0,{"$f":"VLOOKUP(\"[Stk]\",Sprachindex!$A:$Z,Haftungsausschluß!$O$6,FALSE)","v":"[Stk]"},{"$f":"IF($L$14=1,Preisliste!$E$143,Preisliste!$F$143)","v":"H801412"},{"$f":"VLOOKUP(\"Abdeckung VO 80, gebohrt und entgratet\",Sprachindex!$A:$Z,Haftungsausschluß!$O$6,FALSE) & IF('Kalkulation 1'!AH35,\" \" & H3,\"\")","v":"Abdeckung VO 80, gebohrt und entgratet"},null,null,null,null,null,null,null,0]
[null,null,2150,0,{"$f":"VLOOKUP(\"[Stk]\",Sprachindex!$A:$Z,Haftungsausschluß!$O$6,FALSE)","v":"[Stk]"},{"$f":"IF($L$14=1,Preisliste!$E$144,Preisliste!$F$144)","v":"H801422"},{"$f":"VLOOKUP(\"Abdeckung VO 80, gebohrt und entgratet\",Sprachindex!$A:$Z,Haftungsausschluß!$O$6,FALSE) & IF('Kalkulation 1'!AH35,\" \" & H3,\"\")","v":"Abdeckung VO 80, gebohrt und entgratet"},null,null,null,null,null,null,null,0]
[null,null,750,0,{"$f":"VLOOKUP(\"[Stk]\",Sprachindex!$A:$Z,Haftungsausschluß!$O$6,FALSE)","v":"[Stk]"},{"$f":"IF($L$14=1,Preisliste!$E$131,Preisliste!$F$131)","v":"H251040"},{"$f":"VLOOKUP(\"Abdeckung V 25, entgratet\",Sprachindex!$A:$Z,Haftungsausschluß!$O$6,FALSE) & IF('Kalkulation 1'!AH35,\" \" & H3,\"\")","v":"Abdeckung V 25, entgratet"},null,null,null,null,null,null,null,0]
[null,null,1350,0,{"$f":"VLOOKUP(\"[Stk]\",Sprachindex!$A:$Z,Haftungsausschluß!$O$6,FALSE)","v":"[Stk]"},{"$f":"IF($L$14=1,Preisliste!$E$132,Preisliste!$F$132)","v":"H251041"},{"$f":"VLOOKUP(\"Abdeckung V 25, entgratet\",Sprachindex!$A:$Z,Haftungsausschluß!$O$6,FALSE) & IF('Kalkulation 1'!AH35,\" \" & H3,\"\")","v":"Abdeckung V 25, entgratet"},null,null,null,null,null,null,null,0]
[null,null,750,0,{"$f":"VLOOKUP(\"[Stk]\",Sprachindex!$A:$Z,Haftungsausschluß!$O$6,FALSE)","v":"[Stk]"},{"$f":"IF($L$14=1,Preisliste!$E$135,Preisliste!$F$135)","v":"H501501"},{"$f":"VLOOKUP(\"Abdeckung V 50, gebohrt und entgratet\",Sprachindex!$A:$Z,Haftungsausschluß!$O$6,FALSE) & IF('Kalkulation 1'!AH35,\" \" & H3,\"\")","v":"Abdeckung V 50, gebohrt und entgratet"},null,null,null,null,null,null,null,0]
[null,null,1350,0,{"$f":"VLOOKUP(\"[Stk]\",Sprachindex!$A:$Z,Haftungsausschluß!$O$6,FALSE)","v":"[Stk]"},{"$f":"IF($L$14=1,Preisliste!$E$136,Preisliste!$F$136)","v":"H501511"},{"$f":"VLOOKUP(\"Abdeckung V 50, gebohrt und entgratet\",Sprachindex!$A:$Z,Haftungsausschluß!$O$6,FALSE) & IF('Kalkulation 1'!AH35,\" \" & H3,\"\")","v":"Abdeckung V 50, gebohrt und entgratet"},null,null,null,null,null,null,null,{"$f":"N187*D187","v":0}]
[null,null,1750,0,{"$f":"VLOOKUP(\"[Stk]\",Sprachindex!$A:$Z,Haftungsausschluß!$O$6,FALSE)","v":"[Stk]"},{"$f":"IF($L$14=1,Preisliste!$E$137,Preisliste!$F$137)","v":"H501512"},{"$f":"VLOOKUP(\"Abdeckung V 50, gebohrt und entgratet\",Sprachindex!$A:$Z,Haftungsausschluß!$O$6,FALSE) & IF('Kalkulation 1'!AH35,\" \" & H3,\"\")","v":"Abdeckung V 50, gebohrt und entgratet"},null,null,null,null,null,null,null,0]
[null,null,2150,0,{"$f":"VLOOKUP(\"[Stk]\",Sprachindex!$A:$Z,Haftungsausschluß!$O$6,FALSE)","v":"[Stk]"},{"$f":"IF($L$14=1,Preisliste!$E$138,Preisliste!$F$138)","v":"H501522"},{"$f":"VLOOKUP(\"Abdeckung V 50, gebohrt und entgratet\",Sprachindex!$A:$Z,Haftungsausschluß!$O$6,FALSE) & IF('Kalkulation 1'!AH35,\" \" & H3,\"\")","v":"Abdeckung V 50, gebohrt und entgratet"},null,null,null,null,null,null,null,0]
[null,null,750,0,{"$f":"VLOOKUP(\"[Stk]\",Sprachindex!$A:$Z,Haftungsausschluß!$O$6,FALSE)","v":"[Stk]"},{"$f":"IF($L$14=1,Preisliste!$E$146,Preisliste!$F$146)","v":"H801501"},{"$f":"VLOOKUP(\"Abdeckung V 80, gebohrt und entgratet\",Sprachindex!$A:$Z,Haftungsausschluß!$O$6,FALSE) & IF('Kalkulation 1'!AH35,\" \" & H3,\"\")","v":"Abdeckung V 80, gebohrt und entgratet"},null,null,null,null,null,null,null,0]
[null,null,1350,0,{"$f":"VLOOKUP(\"[Stk]\",Sprachindex!$A:$Z,Haftungsausschluß!$O$6,FALSE)","v":"[Stk]"},{"$f":"IF($L$14=1,Preisliste!$E$147,Preisliste!$F$147)","v":"H801511"},{"$f":"VLOOKUP(\"Abdeckung V 80, gebohrt und entgratet\",Sprachindex!$A:$Z,Haftungsausschluß!$O$6,FALSE) & IF('Kalkulation 1'!AH35,\" \" & H3,\"\")","v":"Abdeckung V 80, gebohrt und entgratet"},null,null,null,null,null,null,null,{"$f":"N191*D191","v":0}]
[null,null,1750,0,{"$f":"VLOOKUP(\"[Stk]\",Sprachindex!$A:$Z,Haftungsausschluß!$O$6,FALSE)","v":"[Stk]"},{"$f":"IF($L$14=1,Preisliste!$E$148,Preisliste!$F$148)","v":"H801512"},{"$f":"VLOOKUP(\"Abdeckung V 80, gebohrt und entgratet\",Sprachindex!$A:$Z,Haftungsausschluß!$O$6,FALSE) & IF('Kalkulation 1'!AH35,\" \" & H3,\"\")","v":"Abdeckung V 80, gebohrt und entgratet"},null,null,null,null,null,null,null,0]
[null,null,2150,0,{"$f":"VLOOKUP(\"[Stk]\",Sprachindex!$A:$Z,Haftungsausschluß!$O$6,FALSE)","v":"[Stk]"},{"$f":"IF($L$14=1,Preisliste!$E$149,Preisliste!$F$149)","v":"H801522"},{"$f":"VLOOKUP(\"Abdeckung V 80, gebohrt und entgratet\",Sprachindex!$A:$Z,Haftungsausschluß!$O$6,FALSE) & IF('Kalkulation 1'!AH35,\" \" & H3,\"\")","v":"Abdeckung V 80, gebohrt und entgratet"},null,null,null,null,null,null,null,0]
[null,null,null,0,{"$f":"VLOOKUP(\"[Stk]\",Sprachindex!$A:$Z,Haftungsausschluß!$O$6,FALSE)","v":"[Stk]"},{"$f":"IF($L$14=1,Preisliste!$E$152,Preisliste!$F$152)","v":"H001010"},{"$f":"VLOOKUP(\"Sicherungsschraube für Abdeckung\",Sprachindex!$A:$Z,Haftungsausschluß!$O$6,FALSE)","v":"Sicherungsschraube für Abdeckung"},null,null,null,null,null,null,null,0]
[null,null,null,0,{"$f":"VLOOKUP(\"[Paar]\",Sprachindex!$A:$Z,Haftungsausschluß!$O$6,FALSE)","v":"[Paar]"},{"$f":"IF($L$14=1,Preisliste!$E$154,Preisliste!$F$154)","v":"H001020"},{"$f":"VLOOKUP(\"Halterung für Dammbalken\",Sprachindex!$A:$Z,Haftungsausschluß!$O$6,FALSE)","v":"Halterung für Dammbalken"},null,null,null,null,null,null,null,{"$f":"N195*D195","v":0}]
[null,null,null,0,{"$f":"VLOOKUP(\"[Stk]\",Sprachindex!$A:$Z,Haftungsausschluß!$O$6,FALSE)","v":"[Stk]"},{"$f":"IF($L$14=1,Preisliste!$E$155,Preisliste!$F$155)","v":"H002010"},{"$f":"VLOOKUP(\"Lagerabdeckung (Mittelteil)\",Sprachindex!$A:$Z,Haftungsausschluß!$O$6,FALSE) & IF('Kalkulation 1'!AH36,\" \" & H3,\"\")","v":"Lagerabdeckung (Mittelteil)"},null,null,null,null,null,null,null,0]
[null,null,null,{"$f":"B197","v":0},{"$f":"VLOOKUP(\"[lfm]\",Sprachindex!$A:$Z,Haftungsausschluß!$O$6,FALSE)","v":"[lfm]"},{"$f":"IF($L$14=1,Preisliste!$E$113,Preisliste!$F$113)","v":"H001083"},{"$f":"VLOOKUP(\"Dauerbodendichtung 25\",Sprachindex!$A:$Z,Haftungsausschluß!$O$6,FALSE)","v":"Dauerbodendichtung 25"},null,null,null,null,null,null,null,0]
[null,null,null,0,{"$f":"VLOOKUP(\"[Stk]\",Sprachindex!$A:$Z,Haftungsausschluß!$O$6,FALSE)","v":"[Stk]"},{"$f":"IF($L$14=1,Preisliste!$E$156,Preisliste!$F$156)","v":"H002011"},{"$f":"VLOOKUP(\"Lagerabdeckung (Seitenteil)\",Sprachindex!$A:$Z,Haftungsausschluß!$O$6,FALSE) & IF('Kalkulation 1'!AH36,\" \" & H3,\"\")","v":"Lagerabdeckung (Seitenteil)"},null,null,null,null,null,null,null,0]
[null,null,null,0,{"$f":"VLOOKUP(\"[Stk]\",Sprachindex!$A:$Z,Haftungsausschluß!$O$6,FALSE)","v":"[Stk]"},{"$f":"IF($L$14=1,Preisliste!$E$162,Preisliste!$F$162)","v":"H001101"},{"$f":"VLOOKUP(\"Hebehilfe für Bodenhülsendeckel\",Sprachindex!$A:$Z,Haftungsausschluß!$O$6,FALSE)","v":"Hebehilfe für Bodenhülsendeckel"},null,null,null,null,null,null,null,{"$f":"N199*D199","v":0}]
[null,null,null,0,{"$f":"VLOOKUP(\"[Stk]\",Sprachindex!$A:$Z,Haftungsausschluß!$O$6,FALSE)","v":"[Stk]"},{"$f":"IF($L$14=1,Preisliste!$E$165,Preisliste!$F$165)","v":"-"},{"$f":"VLOOKUP(\"Aufpreis Ausfräsung Wandprofil für Dammbalken\",Sprachindex!$A:$Z,Haftungsausschluß!$O$6,FALSE)","v":"Aufpreis Ausfräsung Wandprofil für Dammbalken"},null,null,null,null,null,null,null,{"$f":"N200*D200","v":0}]
[null,null,null,0,{"$f":"VLOOKUP(\"[Stk]\",Sprachindex!$A:$Z,Haftungsausschluß!$O$6,FALSE)","v":"[Stk]"},{"$f":"IF($L$14=1,Preisliste!$E$166,Preisliste!$F$166)","v":"-"},{"$f":"VLOOKUP(\"Aufpreis Längenänderung Wandprofil\",Sprachindex!$A:$Z,Haftungsausschluß!$O$6,FALSE)","v":"Aufpreis Längenänderung Wandprofil"},null,null,null,null,null,null,null,{"$f":"N201*D201","v":0}]
[null,null,null,0,{"$f":"VLOOKUP(\"[Stk]\",Sprachindex!$A:$Z,Haftungsausschluß!$O$6,FALSE)","v":"[Stk]"},{"$f":"IF($L$14=1,Preisliste!$E$167,Preisliste!$F$167)","v":"-"},{"$f":"VLOOKUP(\"Aufpreis Verankerung aufgeschweißt (a 300mm)\",Sprachindex!$A:$Z,Haftungsausschluß!$O$6,FALSE)","v":"Aufpreis Verankerung aufgeschweißt (a 300mm)"},null,null,null,null,null,null,null,{"$f":"N202*D202","v":0}]
[null,1,null,1,{"$f":"VLOOKUP(\"[Stk]\",Sprachindex!$A:$Z,Haftungsausschluß!$O$6,FALSE)","v":"[Stk]"},"H001103",{"$f":"VLOOKUP(\"Dammbalkenhaken\",Sprachindex!$A:$Z,Haftungsausschluß!$O$6,FALSE)","v":"Dammbalkenhaken"},null,null,null,null,null,null,0,{"$f":"N203*D203","v":0}]
[null,null,null,0,{"$f":"VLOOKUP(\"[Stk]\",Sprachindex!$A:$Z,Haftungsausschluß!$O$6,FALSE)","v":"[Stk]"},{"$f":"IF($L$14=1,Preisliste!$E$172,Preisliste!$F$172)","v":"H002050"},{"$f":"VLOOKUP(\"Dichtungsroller 25/50\",Sprachindex!$A:$Z,Haftungsausschluß!$O$6,FALSE)","v":"Dichtungsroller 25/50"},null,null,null,null,null,null,null,{"$f":"N204*D204","v":0},null,null,null,"25/200","50/150","50/200","80/200","25U","50U","80U","50G","80G","VO25","VO50","VO80","V25","V50","V80","LA","Summe"]
[null,null,null,null,null,null,null,null,null,null,null,null,null,null,null,null,null,null,null,null,null,null,null,null,null,null,null,null,null,null,null,null,null,null,0,{"$f":"IF(Q5=2,Q6,0)","v":0}]
[null,null,null,0,{"$f":"VLOOKUP(\"[EH]\",Sprachindex!$A:$Z,Haftungsausschluß!$O$6,FALSE)","v":"[EH]"},{"$f":"IF($L$14=1,Preisliste!$E$169,Preisliste!$F$169)","v":"-"},{"$f":"VLOOKUP(\"Aufpreis Planungsstunde\",Sprachindex!$A:$Z,Haftungsausschluß!$O$6,FALSE)","v":"Aufpreis Planungsstunde"},null,null,null,null,null,null,null,{"$f":"N206*D206","v":0}]
[null,null,null,{"$f":"B207","v":0},{"$f":"VLOOKUP(\"[Stk]\",Sprachindex!$A:$Z,Haftungsausschluß!$O$6,FALSE)","v":"[Stk]"},{"$f":"IF($L$14=1,Preisliste!$E$173,Preisliste!$F$173)","v":"H002051"},{"$f":"VLOOKUP(\"Dichtungsroller 80\",Sprachindex!$A:$Z,Haftungsausschluß!$O$6,FALSE)","v":"Dichtungsroller 80"},null,null,null,null,null,null,null,0]
[null,null,null,{"$f":"B208","v":0},{"$f":"VLOOKUP(\"Pa\",Sprachindex!$A:$Z,Haftungsausschluß!$O$6,FALSE)","v":"Pa"},null,{"$f":"VLOOKUP(\"Montagematerial\",Sprachindex!$A:$Z,Haftungsausschluß!$O$6,FALSE)","v":"Montagematerial"},null,null,null,null,null,null,null,{"$f":"N208*D208","v":0}]
[null,null,null,0,{"$f":"VLOOKUP(\"Pa\",Sprachindex!$A:$Z,Haftungsausschluß!$O$6,FALSE)","v":"Pa"},null,{"$f":"VLOOKUP(\"Montage\",Sprachindex!$A:$Z,Haftungsausschluß!$O$6,FALSE)","v":"Montage"},null,null,null,null,null,null,null,{"$f":"N209*D209","v":0}]
[null,null,null,{"$f":"B210","v":0},{"$f":"VLOOKUP(\"Pa\",Sprachindex!$A:$Z,Haftungsausschluß!$O$6,FALSE)","v":"Pa"},null,{"$f":"VLOOKUP(\"Fahrtkosten\",Sprachindex!$A:$Z,Haftungsausschluß!$O$6,FALSE)","v":"Fahrtkosten"},null,null,null,null,null,null,null,{"$f":"N210*D210","v":0}]
[]
[null,null,null,{"$f":"B212","v":0},{"$f":"VLOOKUP(\"[Stk]\",Sprachindex!$A:$Z,Haftungsausschluß!$O$6,FALSE)","v":"[Stk]"},"H001062","Spannstück STIER mit 6-Kantschraube gefräst",null,null,null,null,null,null,null,{"$f":"N212*D212","v":0}]
[null,null,null,0,{"$f":"VLOOKUP(\"[Stk]\",Sprachindex!$A:$Z,Haftungsausschluß!$O$6,FALSE)","v":"[Stk]"},"H001072","Spannstück mit Sterngriff STIER gefr.",null,null,null,null,null,null,null,0]
[null,null,1750,0,{"$f":"VLOOKUP(\"[Stk]\",Sprachindex!$A:$Z,Haftungsausschluß!$O$6,FALSE)","v":"[Stk]"},{"$f":"IF($L$14=1,Preisliste!$E$186,Preisliste!$F$186)","v":"H251022"},{"$f":"VLOOKUP(\"U-Profil 25 exkl. Dichtung, gebohrt und entgratet\",Sprachindex!$A:$Z,Haftungsausschluß!$O$6,FALSE) & IF('Kalkulation 1'!AH152,\" \" & 'Kalkulation 1'!R127,\"\")","v":"U-Profil 25 exkl. Dichtung, gebohrt und entgratet"},null,null,null,null,null,null,null,0]
[null,null,2150,0,{"$f":"VLOOKUP(\"[Stk]\",Sprachindex!$A:$Z,Haftungsausschluß!$O$6,FALSE)","v":"[Stk]"},{"$f":"IF($L$14=1,Preisliste!$E$187,Preisliste!$F$187)","v":"H251023"},{"$f":"VLOOKUP(\"U-Profil 25 exkl. Dichtung, gebohrt und entgratet\",Sprachindex!$A:$Z,Haftungsausschluß!$O$6,FALSE) & IF('Kalkulation 1'!AH152,\" \" & 'Kalkulation 1'!R127,\"\")","v":"U-Profil 25 exkl. Dichtung, gebohrt und entgratet"},null,null,null,null,null,null,null,0]
[null,null,1750,0,{"$f":"VLOOKUP(\"[Stk]\",Sprachindex!$A:$Z,Haftungsausschluß!$O$6,FALSE)","v":"[Stk]"},{"$f":"IF($L$14=1,Preisliste!$E$190,Preisliste!$F$190)","v":"H251202"},{"$f":"VLOOKUP(\"Grundprofil 25 exkl. Dichtung, gebohrt und entgratet\",Sprachindex!$A:$Z,Haftungsausschluß!$O$6,FALSE) & IF('Kalkulation 1'!AH151,\" \" & 'Kalkulation 1'!R126,\"\")","v":"Grundprofil 25 exkl. Dichtung, gebohrt und entgratet"},null,null,null,null,null,null,null,0]
[null,null,2150,0,{"$f":"VLOOKUP(\"[Stk]\",Sprachindex!$A:$Z,Haftungsausschluß!$O$6,FALSE)","v":"[Stk]"},{"$f":"IF($L$14=1,Preisliste!$E$191,Preisliste!$F$191)","v":"H251203"},{"$f":"VLOOKUP(\"Grundprofil 25 exkl. Dichtung, gebohrt und entgratet\",Sprachindex!$A:$Z,Haftungsausschluß!$O$6,FALSE) & IF('Kalkulation 1'!AH151,\" \" & 'Kalkulation 1'!R126,\"\")","v":"Grundprofil 25 exkl. Dichtung, gebohrt und entgratet"},null,null,null,null,null,null,null,0]
[null,null,1750,0,{"$f":"VLOOKUP(\"[Stk]\",Sprachindex!$A:$Z,Haftungsausschluß!$O$6,FALSE)","v":"[Stk]"},{"$f":"IF($L$14=1,Preisliste!$E$182,Preisliste!$F$182)","v":"H251042"},"Abdeckung  V 25-1750mm",null,null,null,null,null,null,null,0]
[null,null,2150,0,{"$f":"VLOOKUP(\"[Stk]\",Sprachindex!$A:$Z,Haftungsausschluß!$O$6,FALSE)","v":"[Stk]"},{"$f":"IF($L$14=1,Preisliste!$E$183,Preisliste!$F$183)","v":"H251043"},"Abdeckung  V 25-2150mm",null,null,null,null,null,null,null,0]
[null,null,1750,0,{"$f":"VLOOKUP(\"[Stk]\",Sprachindex!$A:$Z,Haftungsausschluß!$O$6,FALSE)","v":"[Stk]"},{"$f":"IF($L$14=1,Preisliste!$E$178,Preisliste!$F$178)","v":"H251052"},"Abdeckung  VO 25-1750mm",null,null,null,null,null,null,null,0]
[null,null,2150,0,{"$f":"VLOOKUP(\"[Stk]\",Sprachindex!$A:$Z,Haftungsausschluß!$O$6,FALSE)","v":"[Stk]"},{"$f":"IF($L$14=1,Preisliste!$E$179,Preisliste!$F$179)","v":"H251043"},"Abdeckung  VO 25-2150mm",null,null,null,null,null,null,null,0]
[null,null,750,0,{"$f":"VLOOKUP(\"[Stk]\",Sprachindex!$A:$Z,Haftungsausschluß!$O$6,FALSE)","v":"[Stk]"},{"$f":"IF($L$14=1,Preisliste!$E200,Preisliste!$F200)","v":"H801610"},{"$f":"VLOOKUP(\"Steher VARIO 15° 80-750 mm (Anfertigung auf Bestellung)\",Sprachindex!$A:$Z,Haftungsausschluß!$O$6,FALSE)","v":"Steher VARIO 15° 80-750 mm (Anfertigung auf Bestellung)"},null,null,null,null,null,null,null,0]
[null,null,1350,0,{"$f":"VLOOKUP(\"[Stk]\",Sprachindex!$A:$Z,Haftungsausschluß!$O$6,FALSE)","v":"[Stk]"},{"$f":"IF($L$14=1,Preisliste!$E201,Preisliste!$F201)","v":"H801611"},{"$f":"VLOOKUP(\"Steher VARIO 15° 80-1350 mm (Anfertigung auf Bestellung)\",Sprachindex!$A:$Z,Haftungsausschluß!$O$6,FALSE)","v":"Steher VARIO 15° 80-1350 mm (Anfertigung auf Bestellung)"},null,null,null,null,null,null,null,0]
[null,null,1750,0,{"$f":"VLOOKUP(\"[Stk]\",Sprachindex!$A:$Z,Haftungsausschluß!$O$6,FALSE)","v":"[Stk]"},{"$f":"IF($L$14=1,Preisliste!$E202,Preisliste!$F202)","v":"H801612"},{"$f":"VLOOKUP(\"Steher VARIO 15° 80-1750 mm (Anfertigung auf Bestellung)\",Sprachindex!$A:$Z,Haftungsausschluß!$O$6,FALSE)","v":"Steher VARIO 15° 80-1750 mm (Anfertigung auf Bestellung)"},null,null,null,null,null,null,null,0]
[null,null,2150,0,{"$f":"VLOOKUP(\"[Stk]\",Sprachindex!$A:$Z,Haftungsausschluß!$O$6,FALSE)","v":"[Stk]"},{"$f":"IF($L$14=1,Preisliste!$E203,Preisliste!$F203)","v":"H801613"},{"$f":"VLOOKUP(\"Steher VARIO 15° 80-2150 mm (Anfertigung auf Bestellung)\",Sprachindex!$A:$Z,Haftungsausschluß!$O$6,FALSE)","v":"Steher VARIO 15° 80-2150 mm (Anfertigung auf Bestellung)"},null,null,null,null,null,null,null,0]
[null,null,750,0,{"$f":"VLOOKUP(\"[Stk]\",Sprachindex!$A:$Z,Haftungsausschluß!$O$6,FALSE)","v":"[Stk]"},{"$f":"IF($L$14=1,Preisliste!$E204,Preisliste!$F204)","v":"H801620"},{"$f":"VLOOKUP(\"Steher VARIO 30° 80-750 mm (Anfertigung auf Bestellung)\",Sprachindex!$A:$Z,Haftungsausschluß!$O$6,FALSE)","v":"Steher VARIO 30° 80-750 mm (Anfertigung auf Bestellung)"},null,null,null,null,null,null,null,0]
[null,null,1350,0,{"$f":"VLOOKUP(\"[Stk]\",Sprachindex!$A:$Z,Haftungsausschluß!$O$6,FALSE)","v":"[Stk]"},{"$f":"IF($L$14=1,Preisliste!$E205,Preisliste!$F205)","v":"H801621"},{"$f":"VLOOKUP(\"Steher VARIO 30° 80-1350 mm (Anfertigung auf Bestellung)\",Sprachindex!$A:$Z,Haftungsausschluß!$O$6,FALSE)","v":"Steher VARIO 30° 80-1350 mm (Anfertigung auf Bestellung)"},null,null,null,null,null,null,null,0]
[null,null,1750,0,{"$f":"VLOOKUP(\"[Stk]\",Sprachindex!$A:$Z,Haftungsausschluß!$O$6,FALSE)","v":"[Stk]"},{"$f":"IF($L$14=1,Preisliste!$E206,Preisliste!$F206)","v":"H801622"},{"$f":"VLOOKUP(\"Steher VARIO 30° 80-1750 mm (Anfertigung auf Bestellung)\",Sprachindex!$A:$Z,Haftungsausschluß!$O$6,FALSE)","v":"Steher VARIO 30° 80-1750 mm (Anfertigung auf Bestellung)"},null,null,null,null,null,null,null,0]
[null,null,2150,0,{"$f":"VLOOKUP(\"[Stk]\",Sprachindex!$A:$Z,Haftungsausschluß!$O$6,FALSE)","v":"[Stk]"},{"$f":"IF($L$14=1,Preisliste!$E207,Preisliste!$F207)","v":"H801623"},{"$f":"VLOOKUP(\"Steher VARIO 30° 80-2150 mm (Anfertigung auf Bestellung)\",Sprachindex!$A:$Z,Haftungsausschluß!$O$6,FALSE)","v":"Steher VARIO 30° 80-2150 mm (Anfertigung auf Bestellung)"},null,null,null,null,null,null,null,0]
[null,null,750,0,{"$f":"VLOOKUP(\"[Stk]\",Sprachindex!$A:$Z,Haftungsausschluß!$O$6,FALSE)","v":"[Stk]"},{"$f":"IF($L$14=1,Preisliste!$E208,Preisliste!$F208)","v":"H801630"},{"$f":"VLOOKUP(\"Steher VARIO 45° 80-750 mm (Anfertigung auf Bestellung)\",Sprachindex!$A:$Z,Haftungsausschluß!$O$6,FALSE)","v":"Steher VARIO 45° 80-750 mm (Anfertigung auf Bestellung)"},null,null,null,null,null,null,null,0]
[null,null,1350,0,{"$f":"VLOOKUP(\"[Stk]\",Sprachindex!$A:$Z,Haftungsausschluß!$O$6,FALSE)","v":"[Stk]"},{"$f":"IF($L$14=1,Preisliste!$E209,Preisliste!$F209)","v":"H801631"},{"$f":"VLOOKUP(\"Steher VARIO 45° 80-1350 mm (Anfertigung auf Bestellung)\",Sprachindex!$A:$Z,Haftungsausschluß!$O$6,FALSE)","v":"Steher VARIO 45° 80-1350 mm (Anfertigung auf Bestellung)"},null,null,null,null,null,null,null,0]
[null,null,1750,0,{"$f":"VLOOKUP(\"[Stk]\",Sprachindex!$A:$Z,Haftungsausschluß!$O$6,FALSE)","v":"[Stk]"},{"$f":"IF($L$14=1,Preisliste!$E210,Preisliste!$F210)","v":"H801632"},{"$f":"VLOOKUP(\"Steher VARIO 45° 80-1750 mm (Anfertigung auf Bestellung)\",Sprachindex!$A:$Z,Haftungsausschluß!$O$6,FALSE)","v":"Steher VARIO 45° 80-1750 mm (Anfertigung auf Bestellung)"},null,null,null,null,null,null,null,0]
[null,null,2150,0,{"$f":"VLOOKUP(\"[Stk]\",Sprachindex!$A:$Z,Haftungsausschluß!$O$6,FALSE)","v":"[Stk]"},{"$f":"IF($L$14=1,Preisliste!$E211,Preisliste!$F211)","v":"H801633"},{"$f":"VLOOKUP(\"Steher VARIO 45° 80-2150 mm (Anfertigung auf Bestellung)\",Sprachindex!$A:$Z,Haftungsausschluß!$O$6,FALSE)","v":"Steher VARIO 45° 80-2150 mm (Anfertigung auf Bestellung)"},null,null,null,null,null,null,null,0]
[null,null,750,0,{"$f":"VLOOKUP(\"[Stk]\",Sprachindex!$A:$Z,Haftungsausschluß!$O$6,FALSE)","v":"[Stk]"},{"$f":"IF($L$14=1,Preisliste!$E212,Preisliste!$F212)","v":"H801640"},{"$f":"VLOOKUP(\"Steher VARIO 60° 80-750 mm (Anfertigung auf Bestellung)\",Sprachindex!$A:$Z,Haftungsausschluß!$O$6,FALSE)","v":"Steher VARIO 60° 80-750 mm (Anfertigung auf Bestellung)"},null,null,null,null,null,null,null,0]
[null,null,1350,0,{"$f":"VLOOKUP(\"[Stk]\",Sprachindex!$A:$Z,Haftungsausschluß!$O$6,FALSE)","v":"[Stk]"},{"$f":"IF($L$14=1,Preisliste!$E213,Preisliste!$F213)","v":"H801641"},{"$f":"VLOOKUP(\"Steher VARIO 60° 80-1350 mm (Anfertigung auf Bestellung)\",Sprachindex!$A:$Z,Haftungsausschluß!$O$6,FALSE)","v":"Steher VARIO 60° 80-1350 mm (Anfertigung auf Bestellung)"},null,null,null,null,null,null,null,0]
[null,null,1750,0,{"$f":"VLOOKUP(\"[Stk]\",Sprachindex!$A:$Z,Haftungsausschluß!$O$6,FALSE)","v":"[Stk]"},{"$f":"IF($L$14=1,Preisliste!$E214,Preisliste!$F214)","v":"H801642"},{"$f":"VLOOKUP(\"Steher VARIO 60° 80-1750 mm (Anfertigung auf Bestellung)\",Sprachindex!$A:$Z,Haftungsausschluß!$O$6,FALSE)","v":"Steher VARIO 60° 80-1750 mm (Anfertigung auf Bestellung)"},null,null,null,null,null,null,null,0]
[null,null,2150,0,{"$f":"VLOOKUP(\"[Stk]\",Sprachindex!$A:$Z,Haftungsausschluß!$O$6,FALSE)","v":"[Stk]"},{"$f":"IF($L$14=1,Preisliste!$E215,Preisliste!$F215)","v":"H801643"},{"$f":"VLOOKUP(\"Steher VARIO 60° 80-2150 mm (Anfertigung auf Bestellung)\",Sprachindex!$A:$Z,Haftungsausschluß!$O$6,FALSE)","v":"Steher VARIO 60° 80-2150 mm (Anfertigung auf Bestellung)"},null,null,null,null,null,null,null,0]
[null,null,750,0,{"$f":"VLOOKUP(\"[Stk]\",Sprachindex!$A:$Z,Haftungsausschluß!$O$6,FALSE)","v":"[Stk]"},{"$f":"IF($L$14=1,Preisliste!$E216,Preisliste!$F216)","v":"H501610"},{"$f":"VLOOKUP(\"Steher VARIO 15° 50-750 mm (Anfertigung auf Bestellung)\",Sprachindex!$A:$Z,Haftungsausschluß!$O$6,FALSE)","v":"Steher VARIO 15° 50-750 mm (Anfertigung auf Bestellung)"},null,null,null,null,null,null,null,0]
[null,null,1350,0,{"$f":"VLOOKUP(\"[Stk]\",Sprachindex!$A:$Z,Haftungsausschluß!$O$6,FALSE)","v":"[Stk]"},{"$f":"IF($L$14=1,Preisliste!$E217,Preisliste!$F217)","v":"H501611"},{"$f":"VLOOKUP(\"Steher VARIO 15° 50-1350 mm (Anfertigung auf Bestellung)\",Sprachindex!$A:$Z,Haftungsausschluß!$O$6,FALSE)","v":"Steher VARIO 15° 50-1350 mm (Anfertigung auf Bestellung)"},null,null,null,null,null,null,null,0]
[null,null,1750,0,{"$f":"VLOOKUP(\"[Stk]\",Sprachindex!$A:$Z,Haftungsausschluß!$O$6,FALSE)","v":"[Stk]"},{"$f":"IF($L$14=1,Preisliste!$E218,Preisliste!$F218)","v":"H501612"},{"$f":"VLOOKUP(\"Steher VARIO 15° 50-1750 mm (Anfertigung auf Bestellung)\",Sprachindex!$A:$Z,Haftungsausschluß!$O$6,FALSE)","v":"Steher VARIO 15° 50-1750 mm (Anfertigung auf Bestellung)"},null,null,null,null,null,null,null,0]
[null,null,2150,0,{"$f":"VLOOKUP(\"[Stk]\",Sprachindex!$A:$Z,Haftungsausschluß!$O$6,FALSE)","v":"[Stk]"},{"$f":"IF($L$14=1,Preisliste!$E219,Preisliste!$F219)","v":"H501613"},{"$f":"VLOOKUP(\"Steher VARIO 15° 50-2150 mm (Anfertigung auf Bestellung)\",Sprachindex!$A:$Z,Haftungsausschluß!$O$6,FALSE)","v":"Steher VARIO 15° 50-2150 mm (Anfertigung auf Bestellung)"},null,null,null,null,null,null,null,0]
[null,null,750,0,{"$f":"VLOOKUP(\"[Stk]\",Sprachindex!$A:$Z,Haftungsausschluß!$O$6,FALSE)","v":"[Stk]"},{"$f":"IF($L$14=1,Preisliste!$E220,Preisliste!$F220)","v":"H501620"},{"$f":"VLOOKUP(\"Steher VARIO 30° 50-750 mm (Anfertigung auf Bestellung)\",Sprachindex!$A:$Z,Haftungsausschluß!$O$6,FALSE)","v":"Steher VARIO 30° 50-750 mm (Anfertigung auf Bestellung)"},null,null,null,null,null,null,null,0]
[null,null,1350,0,{"$f":"VLOOKUP(\"[Stk]\",Sprachindex!$A:$Z,Haftungsausschluß!$O$6,FALSE)","v":"[Stk]"},{"$f":"IF($L$14=1,Preisliste!$E221,Preisliste!$F221)","v":"H501621"},{"$f":"VLOOKUP(\"Steher VARIO 30° 50-1350 mm (Anfertigung auf Bestellung)\",Sprachindex!$A:$Z,Haftungsausschluß!$O$6,FALSE)","v":"Steher VARIO 30° 50-1350 mm (Anfertigung auf Bestellung)"},null,null,null,null,null,null,null,0]
[null,null,1750,0,{"$f":"VLOOKUP(\"[Stk]\",Sprachindex!$A:$Z,Haftungsausschluß!$O$6,FALSE)","v":"[Stk]"},{"$f":"IF($L$14=1,Preisliste!$E222,Preisliste!$F222)","v":"H501622"},{"$f":"VLOOKUP(\"Steher VARIO 30° 50-1750 mm (Anfertigung auf Bestellung)\",Sprachindex!$A:$Z,Haftungsausschluß!$O$6,FALSE)","v":"Steher VARIO 30° 50-1750 mm (Anfertigung auf Bestellung)"},null,null,null,null,null,null,null,0]
[null,null,2150,0,{"$f":"VLOOKUP(\"[Stk]\",Sprachindex!$A:$Z,Haftungsausschluß!$O$6,FALSE)","v":"[Stk]"},{"$f":"IF($L$14=1,Preisliste!$E223,Preisliste!$F223)","v":"H501623"},{"$f":"VLOOKUP(\"Steher VARIO 30° 50-2150 mm (Anfertigung auf Bestellung)\",Sprachindex!$A:$Z,Haftungsausschluß!$O$6,FALSE)","v":"Steher VARIO 30° 50-2150 mm (Anfertigung auf Bestellung)"},null,null,null,null,null,null,null,0]
[null,null,750,0,{"$f":"VLOOKUP(\"[Stk]\",Sprachindex!$A:$Z,Haftungsausschluß!$O$6,FALSE)","v":"[Stk]"},{"$f":"IF($L$14=1,Preisliste!$E224,Preisliste!$F224)","v":"H501630"},{"$f":"VLOOKUP(\"Steher VARIO 45° 50-750 mm (Anfertigung auf Bestellung)\",Sprachindex!$A:$Z,Haftungsausschluß!$O$6,FALSE)","v":"Steher VARIO 45° 50-750 mm (Anfertigung auf Bestellung)"},null,null,null,null,null,null,null,0]
[null,null,1350,0,{"$f":"VLOOKUP(\"[Stk]\",Sprachindex!$A:$Z,Haftungsausschluß!$O$6,FALSE)","v":"[Stk]"},{"$f":"IF($L$14=1,Preisliste!$E225,Preisliste!$F225)","v":"H501631"},{"$f":"VLOOKUP(\"Steher VARIO 45° 50-1350 mm (Anfertigung auf Bestellung)\",Sprachindex!$A:$Z,Haftungsausschluß!$O$6,FALSE)","v":"Steher VARIO 45° 50-1350 mm (Anfertigung auf Bestellung)"},null,null,null,null,null,null,null,0]
[null,null,1750,0,{"$f":"VLOOKUP(\"[Stk]\",Sprachindex!$A:$Z,Haftungsausschluß!$O$6,FALSE)","v":"[Stk]"},{"$f":"IF($L$14=1,Preisliste!$E226,Preisliste!$F226)","v":"H501632"},{"$f":"VLOOKUP(\"Steher VARIO 45° 50-1750 mm (Anfertigung auf Bestellung)\",Sprachindex!$A:$Z,Haftungsausschluß!$O$6,FALSE)","v":"Steher VARIO 45° 50-1750 mm (Anfertigung auf Bestellung)"},null,null,null,null,null,null,null,0]
[null,null,2150,0,{"$f":"VLOOKUP(\"[Stk]\",Sprachindex!$A:$Z,Haftungsausschluß!$O$6,FALSE)","v":"[Stk]"},{"$f":"IF($L$14=1,Preisliste!$E227,Preisliste!$F227)","v":"H501633"},{"$f":"VLOOKUP(\"Steher VARIO 45° 50-2150 mm (Anfertigung auf Bestellung)\",Sprachindex!$A:$Z,Haftungsausschluß!$O$6,FALSE)","v":"Steher VARIO 45° 50-2150 mm (Anfertigung auf Bestellung)"},null,null,null,null,null,null,null,0]
[null,null,750,0,{"$f":"VLOOKUP(\"[Stk]\",Sprachindex!$A:$Z,Haftungsausschluß!$O$6,FALSE)","v":"[Stk]"},{"$f":"IF($L$14=1,Preisliste!$E228,Preisliste!$F228)","v":"H501640"},{"$f":"VLOOKUP(\"Steher VARIO 60° 50-750 mm (Anfertigung auf Bestellung)\",Sprachindex!$A:$Z,Haftungsausschluß!$O$6,FALSE)","v":"Steher VARIO 60° 50-750 mm (Anfertigung auf Bestellung)"},null,null,null,null,null,null,null,0]
[null,null,1350,0,{"$f":"VLOOKUP(\"[Stk]\",Sprachindex!$A:$Z,Haftungsausschluß!$O$6,FALSE)","v":"[Stk]"},{"$f":"IF($L$14=1,Preisliste!$E229,Preisliste!$F229)","v":"H501641"},{"$f":"VLOOKUP(\"Steher VARIO 60° 50-1350 mm (Anfertigung auf Bestellung)\",Sprachindex!$A:$Z,Haftungsausschluß!$O$6,FALSE)","v":"Steher VARIO 60° 50-1350 mm (Anfertigung auf Bestellung)"},null,null,null,null,null,null,null,0]
[null,null,1750,0,{"$f":"VLOOKUP(\"[Stk]\",Sprachindex!$A:$Z,Haftungsausschluß!$O$6,FALSE)","v":"[Stk]"},{"$f":"IF($L$14=1,Preisliste!$E230,Preisliste!$F230)","v":"H501642"},{"$f":"VLOOKUP(\"Steher VARIO 60° 50-1750 mm (Anfertigung auf Bestellung)\",Sprachindex!$A:$Z,Haftungsausschluß!$O$6,FALSE)","v":"Steher VARIO 60° 50-1750 mm (Anfertigung auf Bestellung)"},null,null,null,null,null,null,null,0]
[null,null,2150,0,{"$f":"VLOOKUP(\"[Stk]\",Sprachindex!$A:$Z,Haftungsausschluß!$O$6,FALSE)","v":"[Stk]"},{"$f":"IF($L$14=1,Preisliste!$E231,Preisliste!$F231)","v":"H501643"},{"$f":"VLOOKUP(\"Steher VARIO 60° 50-2150 mm (Anfertigung auf Bestellung)\",Sprachindex!$A:$Z,Haftungsausschluß!$O$6,FALSE)","v":"Steher VARIO 60° 50-2150 mm (Anfertigung auf Bestellung)"},null,null,null,null,null,null,null,0]
[null,null,750,0,{"$f":"VLOOKUP(\"[Stk]\",Sprachindex!$A:$Z,Haftungsausschluß!$O$6,FALSE)","v":"[Stk]"},{"$f":"IF($L$14=1,Preisliste!$E232,Preisliste!$F232)","v":"H501650"},{"$f":"VLOOKUP(\"Steher VARIO 75° 50-750 mm (Anfertigung auf Bestellung)\",Sprachindex!$A:$Z,Haftungsausschluß!$O$6,FALSE)","v":"Steher VARIO 75° 50-750 mm (Anfertigung auf Bestellung)"},null,null,null,null,null,null,null,0]
[null,null,1350,0,{"$f":"VLOOKUP(\"[Stk]\",Sprachindex!$A:$Z,Haftungsausschluß!$O$6,FALSE)","v":"[Stk]"},{"$f":"IF($L$14=1,Preisliste!$E233,Preisliste!$F233)","v":"H501651"},{"$f":"VLOOKUP(\"Steher VARIO 75° 50-1350 mm (Anfertigung auf Bestellung)\",Sprachindex!$A:$Z,Haftungsausschluß!$O$6,FALSE)","v":"Steher VARIO 75° 50-1350 mm (Anfertigung auf Bestellung)"},null,null,null,null,null,null,null,0]
[null,null,1750,0,{"$f":"VLOOKUP(\"[Stk]\",Sprachindex!$A:$Z,Haftungsausschluß!$O$6,FALSE)","v":"[Stk]"},{"$f":"IF($L$14=1,Preisliste!$E234,Preisliste!$F234)","v":"H501652"},{"$f":"VLOOKUP(\"Steher VARIO 75° 50-1750 mm (Anfertigung auf Bestellung)\",Sprachindex!$A:$Z,Haftungsausschluß!$O$6,FALSE)","v":"Steher VARIO 75° 50-1750 mm (Anfertigung auf Bestellung)"},null,null,null,null,null,null,null,0]
[null,null,2150,0,{"$f":"VLOOKUP(\"[Stk]\",Sprachindex!$A:$Z,Haftungsausschluß!$O$6,FALSE)","v":"[Stk]"},{"$f":"IF($L$14=1,Preisliste!$E235,Preisliste!$F235)","v":"H501653"},{"$f":"VLOOKUP(\"Steher VARIO 75° 50-2150 mm (Anfertigung auf Bestellung)\",Sprachindex!$A:$Z,Haftungsausschluß!$O$6,FALSE)","v":"Steher VARIO 75° 50-2150 mm (Anfertigung auf Bestellung)"},null,null,null,null,null,null,null,0]
[null,null,null,0,{"$f":"VLOOKUP(\"[Stk]\",Sprachindex!$A:$Z,Haftungsausschluß!$O$6,FALSE)","v":"[Stk]"},{"$f":"IF($L$14=1,Preisliste!$E236,Preisliste!$F236)","v":"-"},{"$f":"VLOOKUP(\"Steher VARIO 15° 80 Sonderlänge exkl. Dichtung, (Stangenware)\",Sprachindex!$A:$Z,Haftungsausschluß!$O$6,FALSE)","v":"Steher VARIO 15° 80 Sonderlänge exkl. Dichtung, (Stangenware)"},null,null,null,null,null,null,null,0]
[null,null,null,0,{"$f":"VLOOKUP(\"[Stk]\",Sprachindex!$A:$Z,Haftungsausschluß!$O$6,FALSE)","v":"[Stk]"},{"$f":"IF($L$14=1,Preisliste!$E237,Preisliste!$F237)","v":"-"},{"$f":"VLOOKUP(\"Steher VARIO 30° 80 Sonderlänge exkl. Dichtung, (Stangenware)\",Sprachindex!$A:$Z,Haftungsausschluß!$O$6,FALSE)","v":"Steher VARIO 30° 80 Sonderlänge exkl. Dichtung, (Stangenware)"},null,null,null,null,null,null,null,0]
[null,null,null,0,{"$f":"VLOOKUP(\"[Stk]\",Sprachindex!$A:$Z,Haftungsausschluß!$O$6,FALSE)","v":"[Stk]"},{"$f":"IF($L$14=1,Preisliste!$E238,Preisliste!$F238)","v":"-"},{"$f":"VLOOKUP(\"Steher VARIO 45° 80 Sonderlänge exkl. Dichtung, (Stangenware)\",Sprachindex!$A:$Z,Haftungsausschluß!$O$6,FALSE)","v":"Steher VARIO 45° 80 Sonderlänge exkl. Dichtung, (Stangenware)"},null,null,null,null,null,null,null,0]
[null,null,null,0,{"$f":"VLOOKUP(\"[Stk]\",Sprachindex!$A:$Z,Haftungsausschluß!$O$6,FALSE)","v":"[Stk]"},{"$f":"IF($L$14=1,Preisliste!$E239,Preisliste!$F239)","v":"-"},{"$f":"VLOOKUP(\"Steher VARIO 60° 80 Sonderlänge exkl. Dichtung, (Stangenware)\",Sprachindex!$A:$Z,Haftungsausschluß!$O$6,FALSE)","v":"Steher VARIO 60° 80 Sonderlänge exkl. Dichtung, (Stangenware)"},null,null,null,null,null,null,null,0]
[null,null,2720,0,{"$f":"VLOOKUP(\"[Stk]\",Sprachindex!$A:$Z,Haftungsausschluß!$O$6,FALSE)","v":"[Stk]"},{"$f":"IF($L$14=1,Preisliste!$E240,Preisliste!$F240)","v":"-"},{"$f":"VLOOKUP(\"Steher VARIO 15° 50 Sonderlänge exkl. Dichtung, (Stangenware)\",Sprachindex!$A:$Z,Haftungsausschluß!$O$6,FALSE)","v":"Steher VARIO 15° 50 Sonderlänge exkl. Dichtung, (Stangenware)"},null,null,null,null,null,null,null,0]
[null,null,null,0,{"$f":"VLOOKUP(\"[Stk]\",Sprachindex!$A:$Z,Haftungsausschluß!$O$6,FALSE)","v":"[Stk]"},{"$f":"IF($L$14=1,Preisliste!$E241,Preisliste!$F241)","v":"-"},{"$f":"VLOOKUP(\"Steher VARIO 30° 50 Sonderlänge exkl. Dichtung, (Stangenware)\",Sprachindex!$A:$Z,Haftungsausschluß!$O$6,FALSE)","v":"Steher VARIO 30° 50 Sonderlänge exkl. Dichtung, (Stangenware)"},null,null,null,null,null,null,null,0]
[null,null,null,0,{"$f":"VLOOKUP(\"[Stk]\",Sprachindex!$A:$Z,Haftungsausschluß!$O$6,FALSE)","v":"[Stk]"},{"$f":"IF($L$14=1,Preisliste!$E242,Preisliste!$F242)","v":"-"},{"$f":"VLOOKUP(\"Steher VARIO 45° 50 Sonderlänge exkl. Dichtung, (Stangenware)\",Sprachindex!$A:$Z,Haftungsausschluß!$O$6,FALSE)","v":"Steher VARIO 45° 50 Sonderlänge exkl. Dichtung, (Stangenware)"},null,null,null,null,null,null,null,0]
[null,null,null,0,{"$f":"VLOOKUP(\"[Stk]\",Sprachindex!$A:$Z,Haftungsausschluß!$O$6,FALSE)","v":"[Stk]"},{"$f":"IF($L$14=1,Preisliste!$E243,Preisliste!$F243)","v":"-"},{"$f":"VLOOKUP(\"Steher VARIO 60° 50 Sonderlänge exkl. Dichtung, (Stangenware)\",Sprachindex!$A:$Z,Haftungsausschluß!$O$6,FALSE)","v":"Steher VARIO 60° 50 Sonderlänge exkl. Dichtung, (Stangenware)"},null,null,null,null,null,null,null,0]
[null,null,null,0,{"$f":"VLOOKUP(\"[Stk]\",Sprachindex!$A:$Z,Haftungsausschluß!$O$6,FALSE)","v":"[Stk]"},{"$f":"IF($L$14=1,Preisliste!$E244,Preisliste!$F244)","v":"-"},{"$f":"VLOOKUP(\"Steher VARIO 75° 50 Sonderlänge exkl. Dichtung, (Stangenware)\",Sprachindex!$A:$Z,Haftungsausschluß!$O$6,FALSE)","v":"Steher VARIO 75° 50 Sonderlänge exkl. Dichtung, (Stangenware)"},null,null,null,null,null,null,null,0]
[]
[null,1,null,null,null,null,null,null,null,null,null,null,null,{"$f":"IF(AND(Q4=1,OR(Q5=1,AJ205>=300),(Q7-O208-O209-O210)>=Preisliste!G176,P11=0),AA268,AB268)","v":"Summe"},{"$f":"Q7","v":552.1},null,null,null,null,null,null,null,null,null,null,null,{"$f":"VLOOKUP(\"Endsumme exkl. MwSt.\",Sprachindex!$A:$Z,Haftungsausschluß!$O$6,FALSE)","v":"Endsumme exkl. MwSt."},{"$f":"VLOOKUP(\"Summe\",Sprachindex!$A:$Z,Haftungsausschluß!$O$6,FALSE)","v":"Summe"}]
[null,1,null,null,null,null,null,null,null,null,null,null,null,{"$f":"IF(N268=AB268,IF(P11<>0,AA269,IF((Q7-O208-O209-O210)<Preisliste!G176,AB269,IF(AND(Q5=2,AJ205<Preisliste!G171),AC269,IF(Q4=2,AD269,0)))),\"\")","v":"Rabatt -10 %"},{"$f":"IF(N269=AA269,O268/100*P11,IF(N269=AB269,Preisliste!G175,IF(N269=AC269,Preisliste!G170,IF(N269=AD269,O268/100*Haftungsausschluß!J31,\"\"))))","v":-55.21},{"$f":"IF(Haftungsausschluß!$O$6=7,27,20)","v":20},null,null,null,null,null,null,null,null,null,null,{"$f":"VLOOKUP(\"Rabatt\",Sprachindex!$A:$Z,Haftungsausschluß!$O$6,FALSE) & \" \" & P11& \" %\"","v":"Rabatt -10 %"},{"$f":"VLOOKUP(\"Frachtkosten\",Sprachindex!$A:$Z,Haftungsausschluß!$O$6,FALSE)","v":"Frachtkosten"},{"$f":"VLOOKUP(\"Beschichtungspauschale\",Sprachindex!$A:$Z,Haftungsausschluß!$O$6,FALSE)","v":"Beschichtungspauschale"},{"$f":"\"+ \" &Haftungsausschluß!J31 & \" % \" & VLOOKUP(\"MwSt.\",Sprachindex!$A:$Z,Haftungsausschluß!$O$6,FALSE)","v":"+ 7.7 % MwSt."}]
[null,1,null,null,null,null,null,null,null,null,null,null,null,{"$f":"IF(AND(Q4=1,AND(Q5=2,AJ205<Preisliste!G171),N269<>AC269),AC270,IF(AND(Q4=1,(Q7-O208-O209-O210)<Preisliste!G176,N269<>AB269),AB270,IF(AND(Q4=1,OR(N269=AA269,N269=AB269,N269=AC269)),AA270,IF(AND(N269=AD269,Q4=2),AF270,IF(OR(AND((Q7-O208-O209-O210)<Preisliste!G176,P11=0,OR(Q5=1,AND(Q5=2,Q6>Preisliste!G171)))),AE270,IF(OR(AND((Q7-O208-O209-O210)>=Preisliste!G176,P11<>0,OR(Q5=1,AND(Q5=2,Q6>Preisliste!G171)))),AE270,IF(OR(AND((Q7-O208-O209-O210)>=Preisliste!G176,P11=0,AND(Q5=2,Q6<Preisliste!G171))),AE270,IF(OR(AND((Q7-O208-O209-O210)>=Preisliste!G176,P11<>0,AND(Q5=2,Q6<Preisliste!G171))),AC270,IF(OR(AND((Q7-O208-O209-O210)<Preisliste!G176,P11<>0,OR(Q5=1,AND(Q5=2,Q6>Preisliste!G171)))),AB270,IF(OR(AND((Q7-O208-O209-O210)<Preisliste!G176,P11<>0,AND(Q5=2,Q6<Preisliste!G171))),AC270,IF(OR(AND((Q7-O208-O209-O210)<Preisliste!G176,P11=0,AND(Q5=2,Q6<Preisliste!G171))),AC270,\"\")))))))))))","v":"Frachtkosten"},{"$f":"IF(N270=AA270,O268+O269,IF(N270=AC270,Preisliste!G170,IF(N270=AB270,Preisliste!G175,IF(N270=AD270,(O268+O269)/100*Haftungsausschluß!J31,IF(N270=AF270,O268+O269,IF(N270=AE270,O268+O269,\"\"))))))","v":100},null,null,null,null,null,null,null,null,null,null,null,{"$f":"VLOOKUP(\"Endsumme exkl. MwSt.\",Sprachindex!$A:$Z,Haftungsausschluß!$O$6,FALSE)","v":"Endsumme exkl. MwSt."},{"$f":"VLOOKUP(\"Frachtkosten\",Sprachindex!$A:$Z,Haftungsausschluß!$O$6,FALSE)","v":"Frachtkosten"},{"$f":"VLOOKUP(\"Beschichtungspauschale\",Sprachindex!$A:$Z,Haftungsausschluß!$O$6,FALSE)","v":"Beschichtungspauschale"},{"$f":"\"+ \" &Haftungsausschluß!J31 & \" % \" & VLOOKUP(\"MwSt.\",Sprachindex!$A:$Z,Haftungsausschluß!$O$6,FALSE)","v":"+ 7.7 % MwSt."},{"$f":"VLOOKUP(\"Zwischensumme\",Sprachindex!$A:$Z,Haftungsausschluß!$O$6,FALSE)","v":"Zwischensumme"},{"$f":"VLOOKUP(\"Endsumme inkl. MwSt.\",Sprachindex!$A:$Z,Haftungsausschluß!$O$6,FALSE)","v":"Endsumme inkl. MwSt."}]
[null,1,null,null,null,null,null,null,null,null,null,null,null,{"$f":"IF(AND(P11<>0,AND(Q5=2,Q6<Preisliste!G171),(Q7-O208-O209-O210)<Preisliste!G176),AB271,IF(AND(Q4=1,OR(N270=AC270,N270=AB270)),AA271,IF(N270=AD270,AE271,IF(AND(N270=AC270,O267>=Preisliste!G176),AC271,IF(OR(AND((Q7-O208-O209-O210)<Preisliste!G176,P11<>0,OR(Q5=1,AND(Q5=2,Q6>Preisliste!G171)))),AE270,IF(OR(AND((Q7-O208-O209-O210)<Preisliste!G176,P11=0,AND(Q5=2,Q6<Preisliste!G171))),AE270,IF(N270=AE270,AC271,IF(AND(N269=AA269,N270=AC270),AD271,\"\"))))))))","v":"Endsumme exkl. MwSt."},{"$f":"IF(N271=AA271,O268+O269+O270,IF(N271=AB271,Preisliste!G175,IF(N271=AE271,O268+O269+O270,IF(N271=AC271,O270/100*Haftungsausschluß!J31,IF(N271=AD271,O268+O269+O270,\"\")))))","v":596.8900000000001},null,null,null,null,null,null,null,null,null,null,null,{"$f":"VLOOKUP(\"Endsumme exkl. MwSt.\",Sprachindex!$A:$Z,Haftungsausschluß!$O$6,FALSE)","v":"Endsumme exkl. MwSt."},{"$f":"VLOOKUP(\"Frachtkosten\",Sprachindex!$A:$Z,Haftungsausschluß!$O$6,FALSE)","v":"Frachtkosten"},{"$f":"\"+ \" &Haftungsausschluß!J31 & \" % \" & VLOOKUP(\"MwSt.\",Sprachindex!$A:$Z,Haftungsausschluß!$O$6,FALSE)","v":"+ 7.7 % MwSt."},{"$f":"VLOOKUP(\"Zwischensumme\",Sprachindex!$A:$Z,Haftungsausschluß!$O$6,FALSE)","v":"Zwischensumme"},{"$f":"VLOOKUP(\"Endsumme inkl. MwSt.\",Sprachindex!$A:$Z,Haftungsausschluß!$O$6,FALSE)","v":"Endsumme inkl. MwSt."}]
[null,1,null,null,null,null,null,null,null,null,null,null,null,{"$f":"IF(AND(Q4=1,N271=AB270),AA271,IF(N271=AC271,AD272,IF(OR(AND((Q7-O208-O209-O210)<Preisliste!G176,P11<>0,AND(Q5=2,Q6<Preisliste!G171))),AC272,IF(N271=AD271,AB272,\"\"))))","v":""},{"$f":"IF(N272=AA272,O268+O269+O270+O271,IF(N272=AD272,O270+O271,IF(N272=AB272,O271/100*Haftungsausschluß!J31,IF(N272=AC272,O268+O269+O270+O271,\"\"))))","v":""},null,null,null,null,null,null,null,null,null,null,null,{"$f":"VLOOKUP(\"Endsumme exkl. MwSt.\",Sprachindex!$A:$Z,Haftungsausschluß!$O$6,FALSE)","v":"Endsumme exkl. MwSt."},{"$f":"\"+ \" &Haftungsausschluß!J31 & \" % \" & VLOOKUP(\"MwSt.\",Sprachindex!$A:$Z,Haftungsausschluß!$O$6,FALSE)","v":"+ 7.7 % MwSt."},{"$f":"VLOOKUP(\"Zwischensumme\",Sprachindex!$A:$Z,Haftungsausschluß!$O$6,FALSE)","v":"Zwischensumme"},{"$f":"VLOOKUP(\"Endsumme inkl. MwSt.\",Sprachindex!$A:$Z,Haftungsausschluß!$O$6,FALSE)","v":"Endsumme inkl. MwSt."}]
[null,1,null,null,null,null,null,null,null,null,null,null,null,{"$f":"IF(N272=AC272,AA273,IF(N272=AC272,AC273,IF(N272=AB272,AB273,\"\")))","v":""},{"$f":"IF(N273=AB273,O271+O272,IF(N273=AA273,O272/100*Haftungsausschluß!J31,\"\"))","v":""},null,null,null,null,null,null,null,null,null,null,null,{"$f":"\"+ \" &Haftungsausschluß!J31 & \" % \" & VLOOKUP(\"MwSt.\",Sprachindex!$A:$Z,Haftungsausschluß!$O$6,FALSE)","v":"+ 7.7 % MwSt."},{"$f":"VLOOKUP(\"Endsumme inkl. MwSt.\",Sprachindex!$A:$Z,Haftungsausschluß!$O$6,FALSE)","v":"Endsumme inkl. MwSt."}]
[null,1,null,null,null,null,null,null,null,null,null,null,null,{"$f":"IF(N273=AA273,AA274,\"\")","v":""},{"$f":"IF(N274=AA274,O272+O273,\"\")","v":""},null,null,null,null,null,null,null,null,null,null,null,{"$f":"VLOOKUP(\"Endsumme inkl. MwSt.\",Sprachindex!$A:$Z,Haftungsausschluß!$O$6,FALSE)","v":"Endsumme inkl. MwSt."}]
[null,{"$f":"IF(Erhebungsbogen!C60>0,Erhebungsbogen!C60,\" \")","v":" "}]
[null,{"$f":"IF(Erhebungsbogen!C62>0,Erhebungsbogen!C62,\" \")","v":" "}]
[null,{"$f":"VLOOKUP(\"Hinweis: Angebotsgültigkeit 1 Monat; Lieferzeit auf Anfrage; kein Montagematerial enthalten\",Sprachindex!A:Z,Haftungsausschluß!$O$6,FALSE)","v":"Hinweis: Angebotsgültigkeit 1 Monat; Lieferzeit auf Anfrage; kein Montagematerial enthalten"}]

{"sheet":"HWS-Stückliste-Kalk-Komplett","index":6,"n_rows":1781,"n_cols":37,"rows_kept":1781,"cut":false,"hidden":true,"merged":[[610,6,610,12],[608,6,608,12],[609,6,609,12],[657,6,657,12],[607,6,607,12],[3,13,3,14],[5,3,5,5],[6,3,6,5],[6,7,9,9],[6,13,6,14],[7,3,7,5],[7,13,7,14],[9,3,9,5],[14,6,14,12],[8,3,8,5],[15,6,15,12],[16,6,16,12],[17,6,17,12],[18,6,18,12],[19,6,19,12],[13,2,13,5],[26,6,26,12],[27,6,27,12],[28,6,28,12],[29,6,29,12],[30,6,30,12],[31,6,31,12],[20,6,20,12],[21,6,21,12],[22,6,22,12],[23,6,23,12],[24,6,24,12],[25,6,25,12],[38,6,38,12],[39,6,39,12],[40,6,40,12],[41,6,41,12],[42,6,42,12],[43,6,43,12],[32,6,32,12],[33,6,33,12],[34,6,34,12],[35,6,35,12],[36,6,36,12],[37,6,37,12],[50,6,50,12],[51,6,51,12],[52,6,52,12],[53,6,53,12],[54,6,54,12],[55,6,55,12],[44,6,44,12],[45,6,45,12],[46,6,46,12],[47,6,47,12],[48,6,48,12],[49,6,49,12],[62,6,62,12],[63,6,63,12],[64,6,64,12],[65,6,65,12],[66,6,66,12],[67,6,67,12],[56,6,56,12],[57,6,57,12],[58,6,58,12],[59,6,59,12],[60,6,60,12],[61,6,61,12],[74,6,74,12],[75,6,75,12],[76,6,76,12],[77,6,77,12],[78,6,78,12],[79,6,79,12],[68,6,68,12],[69,6,69,12],[70,6,70,12],[71,6,71,12],[72,6,72,12],[73,6,73,12],[86,6,86,12],[87,6,87,12],[88,6,88,12],[89,6,89,12],[90,6,90,12],[91,6,91,12],[80,6,80,12],[81,6,81,12],[82,6,82,12],[83,6,83,12],[84,6,84,12],[85,6,85,12],[98,6,98,12],[99,6,99,12],[100,6,100,12],[101,6,101,12],[102,6,102,12],[103,6,103,12],[92,6,92,12],[93,6,93,12],[94,6,94,12],[95,6,95,12],[96,6,96,12],[97,6,97,12],[110,6,110,12],[111,6,111,12],[112,6,112,12],[113,6,113,12],[114,6,114,12],[115,6,115,12],[104,6,104,12],[105,6,105,12],[106,6,106,12],[107,6,107,12],[108,6,108,12],[109,6,109,12],[122,6,122,12],[123,6,123,12],[124,6,124,12],[125,6,125,12],[126,6,126,12],[127,6,127,12],[116,6,116,12],[117,6,117,12],[118,6,118,12],[119,6,119,12],[120,6,120,12],[121,6,121,12],[134,6,134,12],[135,6,135,12],[136,6,136,12],[137,6,137,12],[138,6,138,12],[139,6,139,12],[128,6,128,12],[129,6,129,12],[130,6,130,12],[131,6,131,12],[132,6,132,12],[133,6,133,12],[146,6,146,12],[147,6,147,12],[148,6,148,12],[149,6,149,12],[150,6,150,12],[151,6,151,12],[140,6,140,12],[141,6,141,12],[142,6,142,12],[143,6,143,12],[144,6,144,12],[145,6,145,12],[158,6,158,12],[159,6,159,12],[160,6,160,12],[161,6,161,12],[162,6,162,12],[163,6,163,12],[152,6,152,12],[153,6,153,12],[154,6,154,12],[155,6,155,12],[156,6,156,12],[157,6,157,12],[170,6,170,12],[171,6,171,12],[172,6,172,12],[173,6,173,12],[174,6,174,12],[175,6,175,12],[164,6,164,12],[165,6,165,12],[166,6,166,12],[167,6,167,12],[168,6,168,12],[169,6,169,12],[182,6,182,12],[183,6,183,12],[184,6,184,12],[185,6,185,12],[186,6,186,12],[187,6,187,12],[176,6,176,12],[177,6,177,12],[178,6,178,12],[179,6,179,12],[180,6,180,12],[181,6,181,12],[194,6,194,12],[195,6,195,12],[196,6,196,12],[197,6,197,12],[198,6,198,12],[199,6,199,12],[188,6,188,12],[189,6,189,12],[190,6,190,12],[191,6,191,12],[192,6,192,12],[193,6,193,12],[200,6,200,12],[201,6,201,12],[202,6,202,12],[203,6,203,12],[204,6,204,12],[205,6,205,12],[405,6,405,12],[606,6,606,12],[404,6,404,12],[402,6,402,12],[403,6,403,12],[384,6,384,12],[385,6,385,12],[396,6,396,12],[397,6,397,12],[376,6,376,12],[377,6,377,12],[378,6,378,12],[379,6,379,12],[380,6,380,12],[381,6,381,12],[398,6,398,12],[399,6,399,12],[400,6,400,12],[401,6,401,12],[356,6,356,12],[357,6,357,12],[358,6,358,12],[359,6,359,12],[360,6,360,12],[361,6,361,12],[362,6,362,12],[363,6,363,12],[364,6,364,12],[365,6,365,12],[366,6,366,12],[367,6,367,12],[368,6,368,12],[369,6,369,12],[370,6,370,12],[371,6,371,12],[372,6,372,12],[373,6,373,12],[374,6,374,12],[375,6,375,12],[386,6,386,12],[387,6,387,12],[388,6,388,12],[389,6,389,12],[390,6,390,12],[391,6,391,12],[392,6,392,12],[382,6,382,12],[383,6,383,12],[318,6,318,12],[319,6,319,12],[320,6,320,12],[321,6,321,12],[322,6,322,12],[323,6,323,12],[324,6,324,12],[325,6,325,12],[326,6,326,12],[309,6,309,12],[310,6,310,12],[311,6,311,12],[312,6,312,12],[313,6,313,12],[314,6,314,12],[315,6,315,12],[316,6,316,12],[317,6,317,12],[224,6,224,12],[225,6,225,12],[226,6,226,12],[227,6,227,12],[345,6,345,12],[346,6,346,12],[347,6,347,12],[348,6,348,12],[349,6,349,12],[336,6,336,12],[337,6,337,12],[338,6,338,12],[339,6,339,12],[340,6,340,12],[341,6,341,12],[342,6,342,12],[343,6,343,12],[344,6,344,12],[327,6,327,12],[328,6,328,12],[329,6,329,12],[330,6,330,12],[331,6,331,12],[332,6,332,12],[215,6,215,12],[216,6,216,12],[217,6,217,12],[218,6,218,12],[219,6,219,12],[220,6,220,12],[221,6,221,12],[222,6,222,12],[223,6,223,12],[206,6,206,12],[207,6,207,12],[208,6,208,12],[209,6,209,12],[210,6,210,12],[211,6,211,12],[212,6,212,12],[213,6,213,12],[214,6,214,12],[228,6,228,12],[229,6,229,12],[230,6,230,12],[231,6,231,12],[232,6,232,12],[233,6,233,12],[234,6,234,12],[235,6,235,12],[236,6,236,12],[237,6,237,12],[238,6,238,12],[239,6,239,12],[240,6,240,12],[241,6,241,12],[242,6,242,12],[243,6,243,12],[244,6,244,12],[245,6,245,12],[246,6,246,12],[247,6,247,12],[248,6,248,12],[249,6,249,12],[250,6,250,12],[251,6,251,12],[252,6,252,12],[253,6,253,12],[254,6,254,12],[255,6,255,12],[256,6,256,12],[257,6,257,12],[258,6,258,12],[259,6,259,12],[260,6,260,12],[261,6,261,12],[262,6,262,12],[263,6,263,12],[264,6,264,12],[265,6,265,12],[266,6,266,12],[267,6,267,12],[268,6,268,12],[269,6,269,12],[270,6,270,12],[271,6,271,12],[272,6,272,12],[273,6,273,12],[274,6,274,12],[275,6,275,12],[276,6,276,12],[277,6,277,12],[278,6,278,12],[279,6,279,12],[280,6,280,12],[281,6,281,12],[282,6,282,12],[283,6,283,12],[284,6,284,12],[285,6,285,12],[286,6,286,12],[287,6,287,12],[288,6,288,12],[289,6,289,12],[290,6,290,12],[291,6,291,12],[292,6,292,12],[293,6,293,12],[294,6,294,12],[295,6,295,12],[296,6,296,12],[297,6,297,12],[298,6,298,12],[299,6,299,12],[300,6,300,12],[301,6,301,12],[302,6,302,12],[303,6,303,12],[304,6,304,12],[305,6,305,12],[406,6,406,12],[407,6,407,12],[408,6,408,12],[354,6,354,12],[355,6,355,12],[350,6,350,12],[351,6,351,12],[352,6,352,12],[353,6,353,12],[333,6,333,12],[334,6,334,12],[335,6,335,12],[393,6,393,12],[394,6,394,12],[395,6,395,12],[306,6,306,12],[307,6,307,12],[308,6,308,12],[409,6,409,12],[410,6,410,12],[411,6,411,12],[412,6,412,12],[413,6,413,12],[414,6,414,12],[415,6,415,12],[416,6,416,12],[417,6,417,12],[418,6,418,12],[419,6,419,12],[420,6,420,12],[421,6,421,12],[422,6,422,12],[423,6,423,12],[424,6,424,12],[425,6,425,12],[426,6,426,12],[427,6,427,12],[428,6,428,12],[429,6,429,12],[430,6,430,12],[431,6,431,12],[432,6,432,12],[433,6,433,12],[434,6,434,12],[435,6,435,12],[436,6,436,12],[437,6,437,12],[438,6,438,12],[439,6,439,12],[440,6,440,12],[441,6,441,12],[442,6,442,12],[443,6,443,12],[444,6,444,12],[445,6,445,12],[446,6,446,12],[447,6,447,12],[448,6,448,12],[449,6,449,12],[450,6,450,12],[451,6,451,12],[452,6,452,12],[453,6,453,12],[454,6,454,12],[455,6,455,12],[456,6,456,12],[457,6,457,12],[458,6,458,12],[459,6,459,12],[460,6,460,12],[461,6,461,12],[462,6,462,12],[463,6,463,12],[464,6,464,12],[465,6,465,12],[466,6,466,12],[467,6,467,12],[468,6,468,12],[469,6,469,12],[470,6,470,12],[471,6,471,12],[472,6,472,12],[473,6,473,12],[474,6,474,12],[475,6,475,12],[476,6,476,12],[477,6,477,12],[478,6,478,12],[479,6,479,12],[480,6,480,12],[481,6,481,12],[482,6,482,12],[483,6,483,12],[484,6,484,12],[485,6,485,12],[486,6,486,12],[487,6,487,12],[488,6,488,12],[489,6,489,12],[490,6,490,12],[491,6,491,12],[492,6,492,12],[493,6,493,12],[494,6,494,12],[495,6,495,12],[496,6,496,12],[497,6,497,12],[498,6,498,12],[499,6,499,12],[500,6,500,12],[501,6,501,12],[502,6,502,12],[503,6,503,12],[504,6,504,12],[505,6,505,12],[506,6,506,12],[507,6,507,12],[508,6,508,12],[509,6,509,12],[510,6,510,12],[511,6,511,12],[512,6,512,12],[513,6,513,12],[514,6,514,12],[515,6,515,12],[516,6,516,12],[517,6,517,12],[518,6,518,12],[519,6,519,12],[520,6,520,12],[521,6,521,12],[522,6,522,12],[523,6,523,12],[524,6,524,12],[525,6,525,12],[526,6,526,12],[527,6,527,12],[528,6,528,12],[529,6,529,12],[530,6,530,12],[531,6,531,12],[532,6,532,12],[533,6,533,12],[534,6,534,12],[535,6,535,12],[536,6,536,12],[537,6,537,12],[538,6,538,12],[539,6,539,12],[540,6,540,12],[541,6,541,12],[542,6,542,12],[543,6,543,12],[544,6,544,12],[545,6,545,12],[546,6,546,12],[547,6,547,12],[548,6,548,12],[549,6,549,12],[550,6,550,12],[551,6,551,12],[552,6,552,12],[567,6,567,12],[568,6,568,12],[569,6,569,12],[570,6,570,12],[553,6,553,12],[554,6,554,12],[555,6,555,12],[556,6,556,12],[557,6,557,12],[558,6,558,12],[559,6,559,12],[560,6,560,12],[561,6,561,12],[600,6,600,12],[601,6,601,12],[602,6,602,12],[603,6,603,12],[604,6,604,12],[605,6,605,12],[14,16,14,17],[589,6,589,12],[590,6,590,12],[591,6,591,12],[592,6,592,12],[593,6,593,12],[594,6,594,12],[595,6,595,12],[596,6,596,12],[597,6,597,12],[580,6,580,12],[581,6,581,12],[582,6,582,12],[583,6,583,12],[584,6,584,12],[585,6,585,12],[586,6,586,12],[587,6,587,12],[14,18,14,19],[14,20,14,21],[14,22,14,23],[15,26,15,27],[15,29,15,30],[15,32,15,33],[15,35,15,36],[598,6,598,12],[599,6,599,12],[588,6,588,12],[571,6,571,12],[572,6,572,12],[573,6,573,12],[574,6,574,12],[575,6,575,12],[576,6,576,12],[577,6,577,12],[578,6,578,12],[579,6,579,12],[562,6,562,12],[563,6,563,12],[564,6,564,12],[565,6,565,12],[566,6,566,12],[611,6,611,12],[656,6,656,12],[654,6,654,12],[655,6,655,12],[649,6,649,12],[650,6,650,12],[653,6,653,12],[636,6,636,12],[637,6,637,12],[645,6,645,12],[646,6,646,12],[647,6,647,12],[648,6,648,12],[624,6,624,12],[625,6,625,12],[626,6,626,12],[627,6,627,12],[628,6,628,12],[629,6,629,12],[630,6,630,12],[631,6,631,12],[632,6,632,12],[633,6,633,12],[634,6,634,12],[635,6,635,12],[612,6,612,12],[613,6,613,12],[614,6,614,12],[615,6,615,12],[616,6,616,12],[617,6,617,12],[618,6,618,12],[619,6,619,12],[620,6,620,12],[621,6,621,12],[622,6,622,12],[623,6,623,12],[667,6,667,12],[675,1,675,14],[676,1,676,14],[677,1,677,14],[638,6,638,12],[639,6,639,12],[640,6,640,12],[641,6,641,12],[642,6,642,12],[643,6,643,12],[644,6,644,12],[651,6,651,12],[652,6,652,12],[658,6,658,12],[659,6,659,12],[660,6,660,12],[661,6,661,12],[662,6,662,12],[663,6,663,12],[664,6,664,12],[665,6,665,12],[666,6,666,12]]}
[]
[]
[]
[null,null,null,null,null,null,{"$f":"VLOOKUP(\"Service:\",Sprachindex!A:Z,Haftungsausschluß!$O$6,FALSE)","v":"Service:"},{"$f":"IF('Kalkulation 1'!AO17=1,VLOOKUP(\"Mengenermittlung/Anfrage\",Sprachindex!A:Z,Haftungsausschluß!$O$6,FALSE),VLOOKUP(\"Bestellung\",Sprachindex!A:Z,Haftungsausschluß!$O$6,FALSE))","v":"Bestellung"},null,null,null,null,{"$f":"VLOOKUP(\"Datum:\",Sprachindex!A:Z,Haftungsausschluß!$O$6,FALSE)","v":"Datum:"},{"$f":"TODAY()","v":"2022-08-16"},null,{"$f":"VLOOKUP(\"Preis\",Sprachindex!A:Z,Haftungsausschluß!$O$6,FALSE)","v":"Preis"},1,"Preis"]
[null,null,null,{"$f":"VLOOKUP(\"Firma / Besteller:\",Sprachindex!A:Z,Haftungsausschluß!$O$6,FALSE)","v":"Firma / Besteller:"},null,null,null,null,null,null,null,null,null,null,null,{"$f":"VLOOKUP(\"exkl. MwSt.\",Sprachindex!A:Z,Haftungsausschluß!$O$6,FALSE)","v":"exkl. MwSt."},{"$f":"'Kalkulation 1'!AP17","v":1},"Beschichtung"]
[null,null,{"$f":"VLOOKUP(\"Name:\",Sprachindex!A:Z,Haftungsausschluß!$O$6,FALSE)","v":"Name:"},{"$f":"'Kalkulation 1'!E5","v":""},null,null,{"$f":"VLOOKUP(\"Farbe:\",Sprachindex!A:Z,Haftungsausschluß!$O$6,FALSE)","v":"Farbe:"},{"$f":"IF('Kalkulation 1'!AP17=1,VLOOKUP(\"blank\",Sprachindex!A:Z,Haftungsausschluß!$O$6,FALSE),VLOOKUP(\"beschichtet\",Sprachindex!A:Z,Haftungsausschluß!$O$6,FALSE) & \": \" & 'Kalkulation 1'!R9)","v":"blank"},null,null,null,null,null,null,null,{"$f":"VLOOKUP(\"inkl. MwSt.\",Sprachindex!A:Z,Haftungsausschluß!$O$6,FALSE)","v":"inkl. MwSt."},0,"Besch.Pauschale händisch zum Testen definiert"]
[null,null,{"$f":"VLOOKUP(\"Straße:\",Sprachindex!A:Z,Haftungsausschluß!$O$6,FALSE)","v":"Straße:"},{"$f":"'Kalkulation 1'!E6","v":""},null,null,null,"-     Lagerabdeckung\r\n",null,null,null,null,{"$f":"VLOOKUP(\"Telefon:\",Sprachindex!A:Z,Haftungsausschluß!$O$6,FALSE)","v":"Telefon:"},{"$f":"'Kalkulation 1'!E8","v":""},null,null,{"$f":"SUM(O16:O668)","v":0},"Summe aller Positionen"]
[null,null,{"$f":"VLOOKUP(\"Ort:\",Sprachindex!A:Z,Haftungsausschluß!$O$6,FALSE)","v":"Ort:"},{"$f":"'Kalkulation 1'!E7","v":""},null,null,null,null,null,null,null,null,{"$f":"VLOOKUP(\"eMail:\",Sprachindex!A:Z,Haftungsausschluß!$O$6,FALSE)","v":"eMail:"},{"$f":"'Kalkulation 1'!E9","v":""}]
[]
[null,null,null,null,null,null,null,null,null,null,null,null,null,null,null,{"$f":"IF(Haftungsausschluß!L21=1,VLOOKUP(\"Rabatt\",Sprachindex!A:Z,Haftungsausschluß!$O$6,FALSE),\"\")","v":"Rabatt"}]
[null,null,null,null,null,null,null,null,null,null,null,null,{"$f":"VLOOKUP(\"Bearbeiter:\",Sprachindex!A:Z,Haftungsausschluß!$O$6,FALSE)","v":"Bearbeiter:"},{"$f":"'Kalkulation 1'!R4","v":""},null,{"$f":"P12+P13","v":-10}]
[null,null,null,null,null,null,null,null,null,null,null,null,null,null,null,{"$f":"IF(O669<1000,-10,-14)","v":-10}]
[null,null,null,null,null,null,null,null,null,null,null,null,null,null,null,{"$f":"IF('HWS Experten'!C29=1,-4,0)","v":0}]
[null,{"$f":"VLOOKUP(\"Filter:\",Sprachindex!A:Z,Haftungsausschluß!$O$6,FALSE)","v":"Filter:"}]
[null,{"$f":"VLOOKUP(\"Stück\",Sprachindex!A:Z,Haftungsausschluß!$O$6,FALSE)","v":"Stück"},{"$f":"VLOOKUP(\"Länge\",Sprachindex!A:Z,Haftungsausschluß!$O$6,FALSE)","v":"Länge"},{"$f":"VLOOKUP(\"Gesamt Länge\",Sprachindex!A:Z,Haftungsausschluß!$O$6,FALSE)","v":"Gesamt Länge"},{"$f":"VLOOKUP(\"Einheit\",Sprachindex!A:Z,Haftungsausschluß!$O$6,FALSE)","v":"Einheit"},{"$f":"VLOOKUP(\"Artikel Nr.\",Sprachindex!A:Z,Haftungsausschluß!$O$6,FALSE)","v":"Artikel Nr."},{"$f":"VLOOKUP(\"Bezeichnung\",Sprachindex!A:Z,Haftungsausschluß!$O$6,FALSE)","v":"Bezeichnung"},null,null,null,null,null,null,{"$f":"VLOOKUP(\"Preis pro lfm od. Stk\",Sprachindex!A:Z,Haftungsausschluß!$O$6,FALSE)","v":"Preis pro lfm od. Stk"},{"$f":"VLOOKUP(\"Preis exkl.MwSt\",Sprachindex!A:Z,Haftungsausschluß!$O$6,FALSE)","v":"Preis exkl.MwSt"},null,"25/200",null,"50/150",null,"50/200",null,"80/200"]
[null,null,0,{"$f":"B16*C16/1000","v":0},{"$f":"VLOOKUP(\"[m]\",Sprachindex!$A:$Z,Haftungsausschluß!$O$6,FALSE)","v":"[m]"},{"$f":"IF($L$14=1,Preisliste!$E$7,Preisliste!$F$7)","v":"H251000"},{"$f":"VLOOKUP(\"Dammbalken 25/200 exkl. Dichtung, gesägt und entgratet\",Sprachindex!$A:$Z,Haftungsausschluß!$O$6,FALSE) & \" (\" & ROUNDUP(C16/1000*2.99,2) & \" \" & VLOOKUP(\"kg/Stk\",Sprachindex!$A:$Z,Haftungsausschluß!$O$6,FALSE) & \")\" & IF('Kalkulation 1'!$AH$33,\" \" & 'Kalkulation 1'!$R$9,\"\")","v":"Dammbalken 25/200 exkl. Dichtung, gesägt und entgratet (0 kg/Stk)"},null,null,null,null,null,null,null,{"$f":"N16*D16","v":0},null,"Länge","Stk","Länge","Stk","Länge","Stk","Länge","Stk",null,null,"25/200",null,null,"50/150",null,null,"50/200",null,null,"80/200"]
[null,null,0,{"$f":"B17*C17/1000","v":0},{"$f":"VLOOKUP(\"[m]\",Sprachindex!$A:$Z,Haftungsausschluß!$O$6,FALSE)","v":"[m]"},{"$f":"IF($L$14=1,Preisliste!$E$7,Preisliste!$F$7)","v":"H251000"},{"$f":"VLOOKUP(\"Dammbalken 25/200 exkl. Dichtung, gesägt und entgratet\",Sprachindex!$A:$Z,Haftungsausschluß!$O$6,FALSE) & \" (\" & ROUNDUP(C17/1000*2.99,2) & \" \" & VLOOKUP(\"kg/Stk\",Sprachindex!$A:$Z,Haftungsausschluß!$O$6,FALSE) & \")\" & IF('Kalkulation 1'!$AH$33,\" \" & 'Kalkulation 1'!$R$9,\"\")","v":"Dammbalken 25/200 exkl. Dichtung, gesägt und entgratet (0 kg/Stk)"},null,null,null,null,null,null,null,{"$f":"N17*D17","v":0},null,null,null,null,null,1086,5,null,null,null,null,"Zeilenbeschriftungen","Summe von Stk",null,"Zeilenbeschriftungen","Summe von Stk",null,"Zeilenbeschriftungen","Summe von Stk",null,"Zeilenbeschriftungen","Summe von Stk"]
[null,null,0,{"$f":"B18*C18/1000","v":0},{"$f":"VLOOKUP(\"[m]\",Sprachindex!$A:$Z,Haftungsausschluß!$O$6,FALSE)","v":"[m]"},{"$f":"IF($L$14=1,Preisliste!$E$7,Preisliste!$F$7)","v":"H251000"},{"$f":"VLOOKUP(\"Dammbalken 25/200 exkl. Dichtung, gesägt und entgratet\",Sprachindex!$A:$Z,Haftungsausschluß!$O$6,FALSE) & \" (\" & ROUNDUP(C18/1000*2.99,2) & \" \" & VLOOKUP(\"kg/Stk\",Sprachindex!$A:$Z,Haftungsausschluß!$O$6,FALSE) & \")\" & IF('Kalkulation 1'!$AH$33,\" \" & 'Kalkulation 1'!$R$9,\"\")","v":"Dammbalken 25/200 exkl. Dichtung, gesägt und entgratet (0 kg/Stk)"},null,null,null,null,null,null,null,{"$f":"N18*D18","v":0},null,null,null,null,null,null,null,null,null,null,null,"(Leer)",null,null,"(Leer)",null,null,"(Leer)",null,null,"(Leer)"]
[null,null,0,0,{"$f":"VLOOKUP(\"[m]\",Sprachindex!$A:$Z,Haftungsausschluß!$O$6,FALSE)","v":"[m]"},{"$f":"IF($L$14=1,Preisliste!$E$7,Preisliste!$F$7)","v":"H251000"},{"$f":"VLOOKUP(\"Dammbalken 25/200 exkl. Dichtung, gesägt und entgratet\",Sprachindex!$A:$Z,Haftungsausschluß!$O$6,FALSE) & \" (\" & ROUNDUP(C19/1000*2.99,2) & \" \" & VLOOKUP(\"kg/Stk\",Sprachindex!$A:$Z,Haftungsausschluß!$O$6,FALSE) & \")\" & IF('Kalkulation 1'!$AH$33,\" \" & 'Kalkulation 1'!$R$9,\"\")","v":"Dammbalken 25/200 exkl. Dichtung, gesägt und entgratet (0 kg/Stk)"},null,null,null,null,null,null,null,0,null,null,null,null,null,null,null,null,null,null,null,null,null,null,null,null,null,1086,5]
[null,null,0,0,{"$f":"VLOOKUP(\"[m]\",Sprachindex!$A:$Z,Haftungsausschluß!$O$6,FALSE)","v":"[m]"},{"$f":"IF($L$14=1,Preisliste!$E$7,Preisliste!$F$7)","v":"H251000"},{"$f":"VLOOKUP(\"Dammbalken 25/200 exkl. Dichtung, gesägt und entgratet\",Sprachindex!$A:$Z,Haftungsausschluß!$O$6,FALSE) & \" (\" & ROUNDUP(C20/1000*2.99,2) & \" \" & VLOOKUP(\"kg/Stk\",Sprachindex!$A:$Z,Haftungsausschluß!$O$6,FALSE) & \")\" & IF('Kalkulation 1'!$AH$33,\" \" & 'Kalkulation 1'!$R$9,\"\")","v":"Dammbalken 25/200 exkl. Dichtung, gesägt und entgratet (0 kg/Stk)"},null,null,null,null,null,null,null,0]
[null,null,0,0,{"$f":"VLOOKUP(\"[m]\",Sprachindex!$A:$Z,Haftungsausschluß!$O$6,FALSE)","v":"[m]"},{"$f":"IF($L$14=1,Preisliste!$E$7,Preisliste!$F$7)","v":"H251000"},{"$f":"VLOOKUP(\"Dammbalken 25/200 exkl. Dichtung, gesägt und entgratet\",Sprachindex!$A:$Z,Haftungsausschluß!$O$6,FALSE) & \" (\" & ROUNDUP(C21/1000*2.99,2) & \" \" & VLOOKUP(\"kg/Stk\",Sprachindex!$A:$Z,Haftungsausschluß!$O$6,FALSE) & \")\" & IF('Kalkulation 1'!$AH$33,\" \" & 'Kalkulation 1'!$R$9,\"\")","v":"Dammbalken 25/200 exkl. Dichtung, gesägt und entgratet (0 kg/Stk)"},null,null,null,null,null,null,null,0]
[null,null,0,0,{"$f":"VLOOKUP(\"[m]\",Sprachindex!$A:$Z,Haftungsausschluß!$O$6,FALSE)","v":"[m]"},{"$f":"IF($L$14=1,Preisliste!$E$7,Preisliste!$F$7)","v":"H251000"},{"$f":"VLOOKUP(\"Dammbalken 25/200 exkl. Dichtung, gesägt und entgratet\",Sprachindex!$A:$Z,Haftungsausschluß!$O$6,FALSE) & \" (\" & ROUNDUP(C22/1000*2.99,2) & \" \" & VLOOKUP(\"kg/Stk\",Sprachindex!$A:$Z,Haftungsausschluß!$O$6,FALSE) & \")\" & IF('Kalkulation 1'!$AH$33,\" \" & 'Kalkulation 1'!$R$9,\"\")","v":"Dammbalken 25/200 exkl. Dichtung, gesägt und entgratet (0 kg/Stk)"},null,null,null,null,null,null,null,0]
[null,null,0,0,{"$f":"VLOOKUP(\"[m]\",Sprachindex!$A:$Z,Haftungsausschluß!$O$6,FALSE)","v":"[m]"},{"$f":"IF($L$14=1,Preisliste!$E$7,Preisliste!$F$7)","v":"H251000"},{"$f":"VLOOKUP(\"Dammbalken 25/200 exkl. Dichtung, gesägt und entgratet\",Sprachindex!$A:$Z,Haftungsausschluß!$O$6,FALSE) & \" (\" & ROUNDUP(C23/1000*2.99,2) & \" \" & VLOOKUP(\"kg/Stk\",Sprachindex!$A:$Z,Haftungsausschluß!$O$6,FALSE) & \")\" & IF('Kalkulation 1'!$AH$33,\" \" & 'Kalkulation 1'!$R$9,\"\")","v":"Dammbalken 25/200 exkl. Dichtung, gesägt und entgratet (0 kg/Stk)"},null,null,null,null,null,null,null,0]
[null,null,0,0,{"$f":"VLOOKUP(\"[m]\",Sprachindex!$A:$Z,Haftungsausschluß!$O$6,FALSE)","v":"[m]"},{"$f":"IF($L$14=1,Preisliste!$E$7,Preisliste!$F$7)","v":"H251000"},{"$f":"VLOOKUP(\"Dammbalken 25/200 exkl. Dichtung, gesägt und entgratet\",Sprachindex!$A:$Z,Haftungsausschluß!$O$6,FALSE) & \" (\" & ROUNDUP(C24/1000*2.99,2) & \" \" & VLOOKUP(\"kg/Stk\",Sprachindex!$A:$Z,Haftungsausschluß!$O$6,FALSE) & \")\" & IF('Kalkulation 1'!$AH$33,\" \" & 'Kalkulation 1'!$R$9,\"\")","v":"Dammbalken 25/200 exkl. Dichtung, gesägt und entgratet (0 kg/Stk)"},null,null,null,null,null,null,null,0]
[null,null,0,0,{"$f":"VLOOKUP(\"[m]\",Sprachindex!$A:$Z,Haftungsausschluß!$O$6,FALSE)","v":"[m]"},{"$f":"IF($L$14=1,Preisliste!$E$7,Preisliste!$F$7)","v":"H251000"},{"$f":"VLOOKUP(\"Dammbalken 25/200 exkl. Dichtung, gesägt und entgratet\",Sprachindex!$A:$Z,Haftungsausschluß!$O$6,FALSE) & \" (\" & ROUNDUP(C25/1000*2.99,2) & \" \" & VLOOKUP(\"kg/Stk\",Sprachindex!$A:$Z,Haftungsausschluß!$O$6,FALSE) & \")\" & IF('Kalkulation 1'!$AH$33,\" \" & 'Kalkulation 1'!$R$9,\"\")","v":"Dammbalken 25/200 exkl. Dichtung, gesägt und entgratet (0 kg/Stk)"},null,null,null,null,null,null,null,0]
[null,null,0,0,{"$f":"VLOOKUP(\"[m]\",Sprachindex!$A:$Z,Haftungsausschluß!$O$6,FALSE)","v":"[m]"},{"$f":"IF($L$14=1,Preisliste!$E$7,Preisliste!$F$7)","v":"H251000"},{"$f":"VLOOKUP(\"Dammbalken 25/200 exkl. Dichtung, gesägt und entgratet\",Sprachindex!$A:$Z,Haftungsausschluß!$O$6,FALSE) & \" (\" & ROUNDUP(C26/1000*2.99,2) & \" \" & VLOOKUP(\"kg/Stk\",Sprachindex!$A:$Z,Haftungsausschluß!$O$6,FALSE) & \")\" & IF('Kalkulation 1'!$AH$33,\" \" & 'Kalkulation 1'!$R$9,\"\")","v":"Dammbalken 25/200 exkl. Dichtung, gesägt und entgratet (0 kg/Stk)"},null,null,null,null,null,null,null,0]
[null,null,0,0,{"$f":"VLOOKUP(\"[m]\",Sprachindex!$A:$Z,Haftungsausschluß!$O$6,FALSE)","v":"[m]"},{"$f":"IF($L$14=1,Preisliste!$E$7,Preisliste!$F$7)","v":"H251000"},{"$f":"VLOOKUP(\"Dammbalken 25/200 exkl. Dichtung, gesägt und entgratet\",Sprachindex!$A:$Z,Haftungsausschluß!$O$6,FALSE) & \" (\" & ROUNDUP(C27/1000*2.99,2) & \" \" & VLOOKUP(\"kg/Stk\",Sprachindex!$A:$Z,Haftungsausschluß!$O$6,FALSE) & \")\" & IF('Kalkulation 1'!$AH$33,\" \" & 'Kalkulation 1'!$R$9,\"\")","v":"Dammbalken 25/200 exkl. Dichtung, gesägt und entgratet (0 kg/Stk)"},null,null,null,null,null,null,null,0]
[null,null,0,0,{"$f":"VLOOKUP(\"[m]\",Sprachindex!$A:$Z,Haftungsausschluß!$O$6,FALSE)","v":"[m]"},{"$f":"IF($L$14=1,Preisliste!$E$7,Preisliste!$F$7)","v":"H251000"},{"$f":"VLOOKUP(\"Dammbalken 25/200 exkl. Dichtung, gesägt und entgratet\",Sprachindex!$A:$Z,Haftungsausschluß!$O$6,FALSE) & \" (\" & ROUNDUP(C28/1000*2.99,2) & \" \" & VLOOKUP(\"kg/Stk\",Sprachindex!$A:$Z,Haftungsausschluß!$O$6,FALSE) & \")\" & IF('Kalkulation 1'!$AH$33,\" \" & 'Kalkulation 1'!$R$9,\"\")","v":"Dammbalken 25/200 exkl. Dichtung, gesägt und entgratet (0 kg/Stk)"},null,null,null,null,null,null,null,0]
[null,null,0,0,{"$f":"VLOOKUP(\"[m]\",Sprachindex!$A:$Z,Haftungsausschluß!$O$6,FALSE)","v":"[m]"},{"$f":"IF($L$14=1,Preisliste!$E$7,Preisliste!$F$7)","v":"H251000"},{"$f":"VLOOKUP(\"Dammbalken 25/200 exkl. Dichtung, gesägt und entgratet\",Sprachindex!$A:$Z,Haftungsausschluß!$O$6,FALSE) & \" (\" & ROUNDUP(C29/1000*2.99,2) & \" \" & VLOOKUP(\"kg/Stk\",Sprachindex!$A:$Z,Haftungsausschluß!$O$6,FALSE) & \")\" & IF('Kalkulation 1'!$AH$33,\" \" & 'Kalkulation 1'!$R$9,\"\")","v":"Dammbalken 25/200 exkl. Dichtung, gesägt und entgratet (0 kg/Stk)"},null,null,null,null,null,null,null,0]
[null,null,0,0,{"$f":"VLOOKUP(\"[m]\",Sprachindex!$A:$Z,Haftungsausschluß!$O$6,FALSE)","v":"[m]"},{"$f":"IF($L$14=1,Preisliste!$E$7,Preisliste!$F$7)","v":"H251000"},{"$f":"VLOOKUP(\"Dammbalken 25/200 exkl. Dichtung, gesägt und entgratet\",Sprachindex!$A:$Z,Haftungsausschluß!$O$6,FALSE) & \" (\" & ROUNDUP(C30/1000*2.99,2) & \" \" & VLOOKUP(\"kg/Stk\",Sprachindex!$A:$Z,Haftungsausschluß!$O$6,FALSE) & \")\" & IF('Kalkulation 1'!$AH$33,\" \" & 'Kalkulation 1'!$R$9,\"\")","v":"Dammbalken 25/200 exkl. Dichtung, gesägt und entgratet (0 kg/Stk)"},null,null,null,null,null,null,null,0]
[null,null,0,0,{"$f":"VLOOKUP(\"[m]\",Sprachindex!$A:$Z,Haftungsausschluß!$O$6,FALSE)","v":"[m]"},{"$f":"IF($L$14=1,Preisliste!$E$7,Preisliste!$F$7)","v":"H251000"},{"$f":"VLOOKUP(\"Dammbalken 25/200 exkl. Dichtung, gesägt und entgratet\",Sprachindex!$A:$Z,Haftungsausschluß!$O$6,FALSE) & \" (\" & ROUNDUP(C31/1000*2.99,2) & \" \" & VLOOKUP(\"kg/Stk\",Sprachindex!$A:$Z,Haftungsausschluß!$O$6,FALSE) & \")\" & IF('Kalkulation 1'!$AH$33,\" \" & 'Kalkulation 1'!$R$9,\"\")","v":"Dammbalken 25/200 exkl. Dichtung, gesägt und entgratet (0 kg/Stk)"},null,null,null,null,null,null,null,0]
[null,null,0,0,{"$f":"VLOOKUP(\"[m]\",Sprachindex!$A:$Z,Haftungsausschluß!$O$6,FALSE)","v":"[m]"},{"$f":"IF($L$14=1,Preisliste!$E$7,Preisliste!$F$7)","v":"H251000"},{"$f":"VLOOKUP(\"Dammbalken 25/200 exkl. Dichtung, gesägt und entgratet\",Sprachindex!$A:$Z,Haftungsausschluß!$O$6,FALSE) & \" (\" & ROUNDUP(C32/1000*2.99,2) & \" \" & VLOOKUP(\"kg/Stk\",Sprachindex!$A:$Z,Haftungsausschluß!$O$6,FALSE) & \")\" & IF('Kalkulation 1'!$AH$33,\" \" & 'Kalkulation 1'!$R$9,\"\")","v":"Dammbalken 25/200 exkl. Dichtung, gesägt und entgratet (0 kg/Stk)"},null,null,null,null,null,null,null,0]
[null,null,0,0,{"$f":"VLOOKUP(\"[m]\",Sprachindex!$A:$Z,Haftungsausschluß!$O$6,FALSE)","v":"[m]"},{"$f":"IF($L$14=1,Preisliste!$E$7,Preisliste!$F$7)","v":"H251000"},{"$f":"VLOOKUP(\"Dammbalken 25/200 exkl. Dichtung, gesägt und entgratet\",Sprachindex!$A:$Z,Haftungsausschluß!$O$6,FALSE) & \" (\" & ROUNDUP(C33/1000*2.99,2) & \" \" & VLOOKUP(\"kg/Stk\",Sprachindex!$A:$Z,Haftungsausschluß!$O$6,FALSE) & \")\" & IF('Kalkulation 1'!$AH$33,\" \" & 'Kalkulation 1'!$R$9,\"\")","v":"Dammbalken 25/200 exkl. Dichtung, gesägt und entgratet (0 kg/Stk)"},null,null,null,null,null,null,null,0]
[null,null,0,0,{"$f":"VLOOKUP(\"[m]\",Sprachindex!$A:$Z,Haftungsausschluß!$O$6,FALSE)","v":"[m]"},{"$f":"IF($L$14=1,Preisliste!$E$7,Preisliste!$F$7)","v":"H251000"},{"$f":"VLOOKUP(\"Dammbalken 25/200 exkl. Dichtung, gesägt und entgratet\",Sprachindex!$A:$Z,Haftungsausschluß!$O$6,FALSE) & \" (\" & ROUNDUP(C34/1000*2.99,2) & \" \" & VLOOKUP(\"kg/Stk\",Sprachindex!$A:$Z,Haftungsausschluß!$O$6,FALSE) & \")\" & IF('Kalkulation 1'!$AH$33,\" \" & 'Kalkulation 1'!$R$9,\"\")","v":"Dammbalken 25/200 exkl. Dichtung, gesägt und entgratet (0 kg/Stk)"},null,null,null,null,null,null,null,0]
[null,null,0,0,{"$f":"VLOOKUP(\"[m]\",Sprachindex!$A:$Z,Haftungsausschluß!$O$6,FALSE)","v":"[m]"},{"$f":"IF($L$14=1,Preisliste!$E$7,Preisliste!$F$7)","v":"H251000"},{"$f":"VLOOKUP(\"Dammbalken 25/200 exkl. Dichtung, gesägt und entgratet\",Sprachindex!$A:$Z,Haftungsausschluß!$O$6,FALSE) & \" (\" & ROUNDUP(C35/1000*2.99,2) & \" \" & VLOOKUP(\"kg/Stk\",Sprachindex!$A:$Z,Haftungsausschluß!$O$6,FALSE) & \")\" & IF('Kalkulation 1'!$AH$33,\" \" & 'Kalkulation 1'!$R$9,\"\")","v":"Dammbalken 25/200 exkl. Dichtung, gesägt und entgratet (0 kg/Stk)"},null,null,null,null,null,null,null,0]
[null,null,2950,0,{"$f":"VLOOKUP(\"[m]\",Sprachindex!$A:$Z,Haftungsausschluß!$O$6,FALSE)","v":"[m]"},{"$f":"IF($L$14=1,Preisliste!$E$10,Preisliste!$F$10)","v":"H501000"},{"$f":"VLOOKUP(\"Dammbalken 50/150 exkl. Dichtung, gesägt und entgratet\",Sprachindex!$A:$Z,Haftungsausschluß!$O$6,FALSE) & \" (\" & ROUNDUP(C36/1000*5.62,2) & \" \" & VLOOKUP(\"kg/Stk\",Sprachindex!$A:$Z,Haftungsausschluß!$O$6,FALSE) & \")\" & IF('Kalkulation 1'!$AH$33,\" \" & 'Kalkulation 1'!$R$9,\"\")","v":"Dammbalken 50/150 exkl. Dichtung, gesägt und entgratet (16.58 kg/Stk)"},null,null,null,null,null,null,null,0]
[null,null,1950,0,{"$f":"VLOOKUP(\"[m]\",Sprachindex!$A:$Z,Haftungsausschluß!$O$6,FALSE)","v":"[m]"},{"$f":"IF($L$14=1,Preisliste!$E$10,Preisliste!$F$10)","v":"H501000"},{"$f":"VLOOKUP(\"Dammbalken 50/150 exkl. Dichtung, gesägt und entgratet\",Sprachindex!$A:$Z,Haftungsausschluß!$O$6,FALSE) & \" (\" & ROUNDUP(C37/1000*5.62,2) & \" \" & VLOOKUP(\"kg/Stk\",Sprachindex!$A:$Z,Haftungsausschluß!$O$6,FALSE) & \")\" & IF('Kalkulation 1'!$AH$33,\" \" & 'Kalkulation 1'!$R$9,\"\")","v":"Dammbalken 50/150 exkl. Dichtung, gesägt und entgratet (10.96 kg/Stk)"},null,null,null,null,null,null,null,0]
[null,null,1015,0,{"$f":"VLOOKUP(\"[m]\",Sprachindex!$A:$Z,Haftungsausschluß!$O$6,FALSE)","v":"[m]"},{"$f":"IF($L$14=1,Preisliste!$E$10,Preisliste!$F$10)","v":"H501000"},{"$f":"VLOOKUP(\"Dammbalken 50/150 exkl. Dichtung, gesägt und entgratet\",Sprachindex!$A:$Z,Haftungsausschluß!$O$6,FALSE) & \" (\" & ROUNDUP(C38/1000*5.62,2) & \" \" & VLOOKUP(\"kg/Stk\",Sprachindex!$A:$Z,Haftungsausschluß!$O$6,FALSE) & \")\" & IF('Kalkulation 1'!$AH$33,\" \" & 'Kalkulation 1'!$R$9,\"\")","v":"Dammbalken 50/150 exkl. Dichtung, gesägt und entgratet (5.71 kg/Stk)"},null,null,null,null,null,null,null,0]
[null,null,376,0,{"$f":"VLOOKUP(\"[m]\",Sprachindex!$A:$Z,Haftungsausschluß!$O$6,FALSE)","v":"[m]"},{"$f":"IF($L$14=1,Preisliste!$E$10,Preisliste!$F$10)","v":"H501000"},{"$f":"VLOOKUP(\"Dammbalken 50/150 exkl. Dichtung, gesägt und entgratet\",Sprachindex!$A:$Z,Haftungsausschluß!$O$6,FALSE) & \" (\" & ROUNDUP(C39/1000*5.62,2) & \" \" & VLOOKUP(\"kg/Stk\",Sprachindex!$A:$Z,Haftungsausschluß!$O$6,FALSE) & \")\" & IF('Kalkulation 1'!$AH$33,\" \" & 'Kalkulation 1'!$R$9,\"\")","v":"Dammbalken 50/150 exkl. Dichtung, gesägt und entgratet (2.12 kg/Stk)"},null,null,null,null,null,null,null,0]
[null,null,0,0,{"$f":"VLOOKUP(\"[m]\",Sprachindex!$A:$Z,Haftungsausschluß!$O$6,FALSE)","v":"[m]"},{"$f":"IF($L$14=1,Preisliste!$E$10,Preisliste!$F$10)","v":"H501000"},{"$f":"VLOOKUP(\"Dammbalken 50/150 exkl. Dichtung, gesägt und entgratet\",Sprachindex!$A:$Z,Haftungsausschluß!$O$6,FALSE) & \" (\" & ROUNDUP(C40/1000*5.62,2) & \" \" & VLOOKUP(\"kg/Stk\",Sprachindex!$A:$Z,Haftungsausschluß!$O$6,FALSE) & \")\" & IF('Kalkulation 1'!$AH$33,\" \" & 'Kalkulation 1'!$R$9,\"\")","v":"Dammbalken 50/150 exkl. Dichtung, gesägt und entgratet (0 kg/Stk)"},null,null,null,null,null,null,null,0]
[null,null,0,0,{"$f":"VLOOKUP(\"[m]\",Sprachindex!$A:$Z,Haftungsausschluß!$O$6,FALSE)","v":"[m]"},{"$f":"IF($L$14=1,Preisliste!$E$10,Preisliste!$F$10)","v":"H501000"},{"$f":"VLOOKUP(\"Dammbalken 50/150 exkl. Dichtung, gesägt und entgratet\",Sprachindex!$A:$Z,Haftungsausschluß!$O$6,FALSE) & \" (\" & ROUNDUP(C41/1000*5.62,2) & \" \" & VLOOKUP(\"kg/Stk\",Sprachindex!$A:$Z,Haftungsausschluß!$O$6,FALSE) & \")\" & IF('Kalkulation 1'!$AH$33,\" \" & 'Kalkulation 1'!$R$9,\"\")","v":"Dammbalken 50/150 exkl. Dichtung, gesägt und entgratet (0 kg/Stk)"},null,null,null,null,null,null,null,0]
[null,null,0,0,{"$f":"VLOOKUP(\"[m]\",Sprachindex!$A:$Z,Haftungsausschluß!$O$6,FALSE)","v":"[m]"},{"$f":"IF($L$14=1,Preisliste!$E$10,Preisliste!$F$10)","v":"H501000"},{"$f":"VLOOKUP(\"Dammbalken 50/150 exkl. Dichtung, gesägt und entgratet\",Sprachindex!$A:$Z,Haftungsausschluß!$O$6,FALSE) & \" (\" & ROUNDUP(C42/1000*5.62,2) & \" \" & VLOOKUP(\"kg/Stk\",Sprachindex!$A:$Z,Haftungsausschluß!$O$6,FALSE) & \")\" & IF('Kalkulation 1'!$AH$33,\" \" & 'Kalkulation 1'!$R$9,\"\")","v":"Dammbalken 50/150 exkl. Dichtung, gesägt und entgratet (0 kg/Stk)"},null,null,null,null,null,null,null,0]
[null,null,0,0,{"$f":"VLOOKUP(\"[m]\",Sprachindex!$A:$Z,Haftungsausschluß!$O$6,FALSE)","v":"[m]"},{"$f":"IF($L$14=1,Preisliste!$E$10,Preisliste!$F$10)","v":"H501000"},{"$f":"VLOOKUP(\"Dammbalken 50/150 exkl. Dichtung, gesägt und entgratet\",Sprachindex!$A:$Z,Haftungsausschluß!$O$6,FALSE) & \" (\" & ROUNDUP(C43/1000*5.62,2) & \" \" & VLOOKUP(\"kg/Stk\",Sprachindex!$A:$Z,Haftungsausschluß!$O$6,FALSE) & \")\" & IF('Kalkulation 1'!$AH$33,\" \" & 'Kalkulation 1'!$R$9,\"\")","v":"Dammbalken 50/150 exkl. Dichtung, gesägt und entgratet (0 kg/Stk)"},null,null,null,null,null,null,null,0]
[null,null,0,0,{"$f":"VLOOKUP(\"[m]\",Sprachindex!$A:$Z,Haftungsausschluß!$O$6,FALSE)","v":"[m]"},{"$f":"IF($L$14=1,Preisliste!$E$10,Preisliste!$F$10)","v":"H501000"},{"$f":"VLOOKUP(\"Dammbalken 50/150 exkl. Dichtung, gesägt und entgratet\",Sprachindex!$A:$Z,Haftungsausschluß!$O$6,FALSE) & \" (\" & ROUNDUP(C44/1000*5.62,2) & \" \" & VLOOKUP(\"kg/Stk\",Sprachindex!$A:$Z,Haftungsausschluß!$O$6,FALSE) & \")\" & IF('Kalkulation 1'!$AH$33,\" \" & 'Kalkulation 1'!$R$9,\"\")","v":"Dammbalken 50/150 exkl. Dichtung, gesägt und entgratet (0 kg/Stk)"},null,null,null,null,null,null,null,0]
[null,null,0,0,{"$f":"VLOOKUP(\"[m]\",Sprachindex!$A:$Z,Haftungsausschluß!$O$6,FALSE)","v":"[m]"},{"$f":"IF($L$14=1,Preisliste!$E$10,Preisliste!$F$10)","v":"H501000"},{"$f":"VLOOKUP(\"Dammbalken 50/150 exkl. Dichtung, gesägt und entgratet\",Sprachindex!$A:$Z,Haftungsausschluß!$O$6,FALSE) & \" (\" & ROUNDUP(C45/1000*5.62,2) & \" \" & VLOOKUP(\"kg/Stk\",Sprachindex!$A:$Z,Haftungsausschluß!$O$6,FALSE) & \")\" & IF('Kalkulation 1'!$AH$33,\" \" & 'Kalkulation 1'!$R$9,\"\")","v":"Dammbalken 50/150 exkl. Dichtung, gesägt und entgratet (0 kg/Stk)"},null,null,null,null,null,null,null,0]
[null,null,0,0,{"$f":"VLOOKUP(\"[m]\",Sprachindex!$A:$Z,Haftungsausschluß!$O$6,FALSE)","v":"[m]"},{"$f":"IF($L$14=1,Preisliste!$E$10,Preisliste!$F$10)","v":"H501000"},{"$f":"VLOOKUP(\"Dammbalken 50/150 exkl. Dichtung, gesägt und entgratet\",Sprachindex!$A:$Z,Haftungsausschluß!$O$6,FALSE) & \" (\" & ROUNDUP(C46/1000*5.62,2) & \" \" & VLOOKUP(\"kg/Stk\",Sprachindex!$A:$Z,Haftungsausschluß!$O$6,FALSE) & \")\" & IF('Kalkulation 1'!$AH$33,\" \" & 'Kalkulation 1'!$R$9,\"\")","v":"Dammbalken 50/150 exkl. Dichtung, gesägt und entgratet (0 kg/Stk)"},null,null,null,null,null,null,null,0]
[null,null,0,0,{"$f":"VLOOKUP(\"[m]\",Sprachindex!$A:$Z,Haftungsausschluß!$O$6,FALSE)","v":"[m]"},{"$f":"IF($L$14=1,Preisliste!$E$10,Preisliste!$F$10)","v":"H501000"},{"$f":"VLOOKUP(\"Dammbalken 50/150 exkl. Dichtung, gesägt und entgratet\",Sprachindex!$A:$Z,Haftungsausschluß!$O$6,FALSE) & \" (\" & ROUNDUP(C47/1000*5.62,2) & \" \" & VLOOKUP(\"kg/Stk\",Sprachindex!$A:$Z,Haftungsausschluß!$O$6,FALSE) & \")\" & IF('Kalkulation 1'!$AH$33,\" \" & 'Kalkulation 1'!$R$9,\"\")","v":"Dammbalken 50/150 exkl. Dichtung, gesägt und entgratet (0 kg/Stk)"},null,null,null,null,null,null,null,0]
[null,null,0,0,{"$f":"VLOOKUP(\"[m]\",Sprachindex!$A:$Z,Haftungsausschluß!$O$6,FALSE)","v":"[m]"},{"$f":"IF($L$14=1,Preisliste!$E$10,Preisliste!$F$10)","v":"H501000"},{"$f":"VLOOKUP(\"Dammbalken 50/150 exkl. Dichtung, gesägt und entgratet\",Sprachindex!$A:$Z,Haftungsausschluß!$O$6,FALSE) & \" (\" & ROUNDUP(C48/1000*5.62,2) & \" \" & VLOOKUP(\"kg/Stk\",Sprachindex!$A:$Z,Haftungsausschluß!$O$6,FALSE) & \")\" & IF('Kalkulation 1'!$AH$33,\" \" & 'Kalkulation 1'!$R$9,\"\")","v":"Dammbalken 50/150 exkl. Dichtung, gesägt und entgratet (0 kg/Stk)"},null,null,null,null,null,null,null,0]
[null,null,0,0,{"$f":"VLOOKUP(\"[m]\",Sprachindex!$A:$Z,Haftungsausschluß!$O$6,FALSE)","v":"[m]"},{"$f":"IF($L$14=1,Preisliste!$E$10,Preisliste!$F$10)","v":"H501000"},{"$f":"VLOOKUP(\"Dammbalken 50/150 exkl. Dichtung, gesägt und entgratet\",Sprachindex!$A:$Z,Haftungsausschluß!$O$6,FALSE) & \" (\" & ROUNDUP(C49/1000*5.62,2) & \" \" & VLOOKUP(\"kg/Stk\",Sprachindex!$A:$Z,Haftungsausschluß!$O$6,FALSE) & \")\" & IF('Kalkulation 1'!$AH$33,\" \" & 'Kalkulation 1'!$R$9,\"\")","v":"Dammbalken 50/150 exkl. Dichtung, gesägt und entgratet (0 kg/Stk)"},null,null,null,null,null,null,null,0]
[null,null,0,0,{"$f":"VLOOKUP(\"[m]\",Sprachindex!$A:$Z,Haftungsausschluß!$O$6,FALSE)","v":"[m]"},{"$f":"IF($L$14=1,Preisliste!$E$10,Preisliste!$F$10)","v":"H501000"},{"$f":"VLOOKUP(\"Dammbalken 50/150 exkl. Dichtung, gesägt und entgratet\",Sprachindex!$A:$Z,Haftungsausschluß!$O$6,FALSE) & \" (\" & ROUNDUP(C50/1000*5.62,2) & \" \" & VLOOKUP(\"kg/Stk\",Sprachindex!$A:$Z,Haftungsausschluß!$O$6,FALSE) & \")\" & IF('Kalkulation 1'!$AH$33,\" \" & 'Kalkulation 1'!$R$9,\"\")","v":"Dammbalken 50/150 exkl. Dichtung, gesägt und entgratet (0 kg/Stk)"},null,null,null,null,null,null,null,0]
[null,null,0,0,{"$f":"VLOOKUP(\"[m]\",Sprachindex!$A:$Z,Haftungsausschluß!$O$6,FALSE)","v":"[m]"},{"$f":"IF($L$14=1,Preisliste!$E$10,Preisliste!$F$10)","v":"H501000"},{"$f":"VLOOKUP(\"Dammbalken 50/150 exkl. Dichtung, gesägt und entgratet\",Sprachindex!$A:$Z,Haftungsausschluß!$O$6,FALSE) & \" (\" & ROUNDUP(C51/1000*5.62,2) & \" \" & VLOOKUP(\"kg/Stk\",Sprachindex!$A:$Z,Haftungsausschluß!$O$6,FALSE) & \")\" & IF('Kalkulation 1'!$AH$33,\" \" & 'Kalkulation 1'!$R$9,\"\")","v":"Dammbalken 50/150 exkl. Dichtung, gesägt und entgratet (0 kg/Stk)"},null,null,null,null,null,null,null,0]
[null,null,0,0,{"$f":"VLOOKUP(\"[m]\",Sprachindex!$A:$Z,Haftungsausschluß!$O$6,FALSE)","v":"[m]"},{"$f":"IF($L$14=1,Preisliste!$E$10,Preisliste!$F$10)","v":"H501000"},{"$f":"VLOOKUP(\"Dammbalken 50/150 exkl. Dichtung, gesägt und entgratet\",Sprachindex!$A:$Z,Haftungsausschluß!$O$6,FALSE) & \" (\" & ROUNDUP(C52/1000*5.62,2) & \" \" & VLOOKUP(\"kg/Stk\",Sprachindex!$A:$Z,Haftungsausschluß!$O$6,FALSE) & \")\" & IF('Kalkulation 1'!$AH$33,\" \" & 'Kalkulation 1'!$R$9,\"\")","v":"Dammbalken 50/150 exkl. Dichtung, gesägt und entgratet (0 kg/Stk)"},null,null,null,null,null,null,null,0]
[null,null,0,0,{"$f":"VLOOKUP(\"[m]\",Sprachindex!$A:$Z,Haftungsausschluß!$O$6,FALSE)","v":"[m]"},{"$f":"IF($L$14=1,Preisliste!$E$10,Preisliste!$F$10)","v":"H501000"},{"$f":"VLOOKUP(\"Dammbalken 50/150 exkl. Dichtung, gesägt und entgratet\",Sprachindex!$A:$Z,Haftungsausschluß!$O$6,FALSE) & \" (\" & ROUNDUP(C53/1000*5.62,2) & \" \" & VLOOKUP(\"kg/Stk\",Sprachindex!$A:$Z,Haftungsausschluß!$O$6,FALSE) & \")\" & IF('Kalkulation 1'!$AH$33,\" \" & 'Kalkulation 1'!$R$9,\"\")","v":"Dammbalken 50/150 exkl. Dichtung, gesägt und entgratet (0 kg/Stk)"},null,null,null,null,null,null,null,0]
[null,null,0,0,{"$f":"VLOOKUP(\"[m]\",Sprachindex!$A:$Z,Haftungsausschluß!$O$6,FALSE)","v":"[m]"},{"$f":"IF($L$14=1,Preisliste!$E$10,Preisliste!$F$10)","v":"H501000"},{"$f":"VLOOKUP(\"Dammbalken 50/150 exkl. Dichtung, gesägt und entgratet\",Sprachindex!$A:$Z,Haftungsausschluß!$O$6,FALSE) & \" (\" & ROUNDUP(C54/1000*5.62,2) & \" \" & VLOOKUP(\"kg/Stk\",Sprachindex!$A:$Z,Haftungsausschluß!$O$6,FALSE) & \")\" & IF('Kalkulation 1'!$AH$33,\" \" & 'Kalkulation 1'!$R$9,\"\")","v":"Dammbalken 50/150 exkl. Dichtung, gesägt und entgratet (0 kg/Stk)"},null,null,null,null,null,null,null,0]
[null,null,0,0,{"$f":"VLOOKUP(\"[m]\",Sprachindex!$A:$Z,Haftungsausschluß!$O$6,FALSE)","v":"[m]"},{"$f":"IF($L$14=1,Preisliste!$E$10,Preisliste!$F$10)","v":"H501000"},{"$f":"VLOOKUP(\"Dammbalken 50/150 exkl. Dichtung, gesägt und entgratet\",Sprachindex!$A:$Z,Haftungsausschluß!$O$6,FALSE) & \" (\" & ROUNDUP(C55/1000*5.62,2) & \" \" & VLOOKUP(\"kg/Stk\",Sprachindex!$A:$Z,Haftungsausschluß!$O$6,FALSE) & \")\" & IF('Kalkulation 1'!$AH$33,\" \" & 'Kalkulation 1'!$R$9,\"\")","v":"Dammbalken 50/150 exkl. Dichtung, gesägt und entgratet (0 kg/Stk)"},null,null,null,null,null,null,null,0]
[null,null,0,0,{"$f":"VLOOKUP(\"[m]\",Sprachindex!$A:$Z,Haftungsausschluß!$O$6,FALSE)","v":"[m]"},{"$f":"IF($L$14=1,Preisliste!$E$13,Preisliste!$F$13)","v":"H501001"},{"$f":"VLOOKUP(\"Dammbalken 50/200 exkl. Dichtung, gesägt und entgratet\",Sprachindex!$A:$Z,Haftungsausschluß!$O$6,FALSE) & \" (\" & ROUNDUP(C56/1000*4.12,2) & \" \" & VLOOKUP(\"kg/Stk\",Sprachindex!$A:$Z,Haftungsausschluß!$O$6,FALSE) & \")\" & IF('Kalkulation 1'!$AH$33,\" \" & 'Kalkulation 1'!$R$9,\"\")","v":"Dammbalken 50/200 exkl. Dichtung, gesägt und entgratet (0 kg/Stk)"},null,null,null,null,null,null,null,0]
[null,null,0,0,{"$f":"VLOOKUP(\"[m]\",Sprachindex!$A:$Z,Haftungsausschluß!$O$6,FALSE)","v":"[m]"},{"$f":"IF($L$14=1,Preisliste!$E$13,Preisliste!$F$13)","v":"H501001"},{"$f":"VLOOKUP(\"Dammbalken 50/200 exkl. Dichtung, gesägt und entgratet\",Sprachindex!$A:$Z,Haftungsausschluß!$O$6,FALSE) & \" (\" & ROUNDUP(C57/1000*4.12,2) & \" \" & VLOOKUP(\"kg/Stk\",Sprachindex!$A:$Z,Haftungsausschluß!$O$6,FALSE) & \")\" & IF('Kalkulation 1'!$AH$33,\" \" & 'Kalkulation 1'!$R$9,\"\")","v":"Dammbalken 50/200 exkl. Dichtung, gesägt und entgratet (0 kg/Stk)"},null,null,null,null,null,null,null,0]
[null,null,0,0,{"$f":"VLOOKUP(\"[m]\",Sprachindex!$A:$Z,Haftungsausschluß!$O$6,FALSE)","v":"[m]"},{"$f":"IF($L$14=1,Preisliste!$E$13,Preisliste!$F$13)","v":"H501001"},{"$f":"VLOOKUP(\"Dammbalken 50/200 exkl. Dichtung, gesägt und entgratet\",Sprachindex!$A:$Z,Haftungsausschluß!$O$6,FALSE) & \" (\" & ROUNDUP(C58/1000*4.12,2) & \" \" & VLOOKUP(\"kg/Stk\",Sprachindex!$A:$Z,Haftungsausschluß!$O$6,FALSE) & \")\" & IF('Kalkulation 1'!$AH$33,\" \" & 'Kalkulation 1'!$R$9,\"\")","v":"Dammbalken 50/200 exkl. Dichtung, gesägt und entgratet (0 kg/Stk)"},null,null,null,null,null,null,null,0]
[null,null,0,0,{"$f":"VLOOKUP(\"[m]\",Sprachindex!$A:$Z,Haftungsausschluß!$O$6,FALSE)","v":"[m]"},{"$f":"IF($L$14=1,Preisliste!$E$13,Preisliste!$F$13)","v":"H501001"},{"$f":"VLOOKUP(\"Dammbalken 50/200 exkl. Dichtung, gesägt und entgratet\",Sprachindex!$A:$Z,Haftungsausschluß!$O$6,FALSE) & \" (\" & ROUNDUP(C59/1000*4.12,2) & \" \" & VLOOKUP(\"kg/Stk\",Sprachindex!$A:$Z,Haftungsausschluß!$O$6,FALSE) & \")\" & IF('Kalkulation 1'!$AH$33,\" \" & 'Kalkulation 1'!$R$9,\"\")","v":"Dammbalken 50/200 exkl. Dichtung, gesägt und entgratet (0 kg/Stk)"},null,null,null,null,null,null,null,0]
[null,null,0,0,{"$f":"VLOOKUP(\"[m]\",Sprachindex!$A:$Z,Haftungsausschluß!$O$6,FALSE)","v":"[m]"},{"$f":"IF($L$14=1,Preisliste!$E$13,Preisliste!$F$13)","v":"H501001"},{"$f":"VLOOKUP(\"Dammbalken 50/200 exkl. Dichtung, gesägt und entgratet\",Sprachindex!$A:$Z,Haftungsausschluß!$O$6,FALSE) & \" (\" & ROUNDUP(C60/1000*4.12,2) & \" \" & VLOOKUP(\"kg/Stk\",Sprachindex!$A:$Z,Haftungsausschluß!$O$6,FALSE) & \")\" & IF('Kalkulation 1'!$AH$33,\" \" & 'Kalkulation 1'!$R$9,\"\")","v":"Dammbalken 50/200 exkl. Dichtung, gesägt und entgratet (0 kg/Stk)"},null,null,null,null,null,null,null,0]
[null,null,0,0,{"$f":"VLOOKUP(\"[m]\",Sprachindex!$A:$Z,Haftungsausschluß!$O$6,FALSE)","v":"[m]"},{"$f":"IF($L$14=1,Preisliste!$E$13,Preisliste!$F$13)","v":"H501001"},{"$f":"VLOOKUP(\"Dammbalken 50/200 exkl. Dichtung, gesägt und entgratet\",Sprachindex!$A:$Z,Haftungsausschluß!$O$6,FALSE) & \" (\" & ROUNDUP(C61/1000*4.12,2) & \" \" & VLOOKUP(\"kg/Stk\",Sprachindex!$A:$Z,Haftungsausschluß!$O$6,FALSE) & \")\" & IF('Kalkulation 1'!$AH$33,\" \" & 'Kalkulation 1'!$R$9,\"\")","v":"Dammbalken 50/200 exkl. Dichtung, gesägt und entgratet (0 kg/Stk)"},null,null,null,null,null,null,null,0]
[null,null,0,0,{"$f":"VLOOKUP(\"[m]\",Sprachindex!$A:$Z,Haftungsausschluß!$O$6,FALSE)","v":"[m]"},{"$f":"IF($L$14=1,Preisliste!$E$13,Preisliste!$F$13)","v":"H501001"},{"$f":"VLOOKUP(\"Dammbalken 50/200 exkl. Dichtung, gesägt und entgratet\",Sprachindex!$A:$Z,Haftungsausschluß!$O$6,FALSE) & \" (\" & ROUNDUP(C62/1000*4.12,2) & \" \" & VLOOKUP(\"kg/Stk\",Sprachindex!$A:$Z,Haftungsausschluß!$O$6,FALSE) & \")\" & IF('Kalkulation 1'!$AH$33,\" \" & 'Kalkulation 1'!$R$9,\"\")","v":"Dammbalken 50/200 exkl. Dichtung, gesägt und entgratet (0 kg/Stk)"},null,null,null,null,null,null,null,0]
[null,null,0,0,{"$f":"VLOOKUP(\"[m]\",Sprachindex!$A:$Z,Haftungsausschluß!$O$6,FALSE)","v":"[m]"},{"$f":"IF($L$14=1,Preisliste!$E$13,Preisliste!$F$13)","v":"H501001"},{"$f":"VLOOKUP(\"Dammbalken 50/200 exkl. Dichtung, gesägt und entgratet\",Sprachindex!$A:$Z,Haftungsausschluß!$O$6,FALSE) & \" (\" & ROUNDUP(C63/1000*4.12,2) & \" \" & VLOOKUP(\"kg/Stk\",Sprachindex!$A:$Z,Haftungsausschluß!$O$6,FALSE) & \")\" & IF('Kalkulation 1'!$AH$33,\" \" & 'Kalkulation 1'!$R$9,\"\")","v":"Dammbalken 50/200 exkl. Dichtung, gesägt und entgratet (0 kg/Stk)"},null,null,null,null,null,null,null,0]
[null,null,0,0,{"$f":"VLOOKUP(\"[m]\",Sprachindex!$A:$Z,Haftungsausschluß!$O$6,FALSE)","v":"[m]"},{"$f":"IF($L$14=1,Preisliste!$E$13,Preisliste!$F$13)","v":"H501001"},{"$f":"VLOOKUP(\"Dammbalken 50/200 exkl. Dichtung, gesägt und entgratet\",Sprachindex!$A:$Z,Haftungsausschluß!$O$6,FALSE) & \" (\" & ROUNDUP(C64/1000*4.12,2) & \" \" & VLOOKUP(\"kg/Stk\",Sprachindex!$A:$Z,Haftungsausschluß!$O$6,FALSE) & \")\" & IF('Kalkulation 1'!$AH$33,\" \" & 'Kalkulation 1'!$R$9,\"\")","v":"Dammbalken 50/200 exkl. Dichtung, gesägt und entgratet (0 kg/Stk)"},null,null,null,null,null,null,null,0]
[null,null,0,0,{"$f":"VLOOKUP(\"[m]\",Sprachindex!$A:$Z,Haftungsausschluß!$O$6,FALSE)","v":"[m]"},{"$f":"IF($L$14=1,Preisliste!$E$13,Preisliste!$F$13)","v":"H501001"},{"$f":"VLOOKUP(\"Dammbalken 50/200 exkl. Dichtung, gesägt und entgratet\",Sprachindex!$A:$Z,Haftungsausschluß!$O$6,FALSE) & \" (\" & ROUNDUP(C65/1000*4.12,2) & \" \" & VLOOKUP(\"kg/Stk\",Sprachindex!$A:$Z,Haftungsausschluß!$O$6,FALSE) & \")\" & IF('Kalkulation 1'!$AH$33,\" \" & 'Kalkulation 1'!$R$9,\"\")","v":"Dammbalken 50/200 exkl. Dichtung, gesägt und entgratet (0 kg/Stk)"},null,null,null,null,null,null,null,0]
[null,null,0,0,{"$f":"VLOOKUP(\"[m]\",Sprachindex!$A:$Z,Haftungsausschluß!$O$6,FALSE)","v":"[m]"},{"$f":"IF($L$14=1,Preisliste!$E$13,Preisliste!$F$13)","v":"H501001"},{"$f":"VLOOKUP(\"Dammbalken 50/200 exkl. Dichtung, gesägt und entgratet\",Sprachindex!$A:$Z,Haftungsausschluß!$O$6,FALSE) & \" (\" & ROUNDUP(C66/1000*4.12,2) & \" \" & VLOOKUP(\"kg/Stk\",Sprachindex!$A:$Z,Haftungsausschluß!$O$6,FALSE) & \")\" & IF('Kalkulation 1'!$AH$33,\" \" & 'Kalkulation 1'!$R$9,\"\")","v":"Dammbalken 50/200 exkl. Dichtung, gesägt und entgratet (0 kg/Stk)"},null,null,null,null,null,null,null,0]
[null,null,0,0,{"$f":"VLOOKUP(\"[m]\",Sprachindex!$A:$Z,Haftungsausschluß!$O$6,FALSE)","v":"[m]"},{"$f":"IF($L$14=1,Preisliste!$E$13,Preisliste!$F$13)","v":"H501001"},{"$f":"VLOOKUP(\"Dammbalken 50/200 exkl. Dichtung, gesägt und entgratet\",Sprachindex!$A:$Z,Haftungsausschluß!$O$6,FALSE) & \" (\" & ROUNDUP(C67/1000*4.12,2) & \" \" & VLOOKUP(\"kg/Stk\",Sprachindex!$A:$Z,Haftungsausschluß!$O$6,FALSE) & \")\" & IF('Kalkulation 1'!$AH$33,\" \" & 'Kalkulation 1'!$R$9,\"\")","v":"Dammbalken 50/200 exkl. Dichtung, gesägt und entgratet (0 kg/Stk)"},null,null,null,null,null,null,null,0]
[null,null,0,0,{"$f":"VLOOKUP(\"[m]\",Sprachindex!$A:$Z,Haftungsausschluß!$O$6,FALSE)","v":"[m]"},{"$f":"IF($L$14=1,Preisliste!$E$13,Preisliste!$F$13)","v":"H501001"},{"$f":"VLOOKUP(\"Dammbalken 50/200 exkl. Dichtung, gesägt und entgratet\",Sprachindex!$A:$Z,Haftungsausschluß!$O$6,FALSE) & \" (\" & ROUNDUP(C68/1000*4.12,2) & \" \" & VLOOKUP(\"kg/Stk\",Sprachindex!$A:$Z,Haftungsausschluß!$O$6,FALSE) & \")\" & IF('Kalkulation 1'!$AH$33,\" \" & 'Kalkulation 1'!$R$9,\"\")","v":"Dammbalken 50/200 exkl. Dichtung, gesägt und entgratet (0 kg/Stk)"},null,null,null,null,null,null,null,0]
[null,null,0,0,{"$f":"VLOOKUP(\"[m]\",Sprachindex!$A:$Z,Haftungsausschluß!$O$6,FALSE)","v":"[m]"},{"$f":"IF($L$14=1,Preisliste!$E$13,Preisliste!$F$13)","v":"H501001"},{"$f":"VLOOKUP(\"Dammbalken 50/200 exkl. Dichtung, gesägt und entgratet\",Sprachindex!$A:$Z,Haftungsausschluß!$O$6,FALSE) & \" (\" & ROUNDUP(C69/1000*4.12,2) & \" \" & VLOOKUP(\"kg/Stk\",Sprachindex!$A:$Z,Haftungsausschluß!$O$6,FALSE) & \")\" & IF('Kalkulation 1'!$AH$33,\" \" & 'Kalkulation 1'!$R$9,\"\")","v":"Dammbalken 50/200 exkl. Dichtung, gesägt und entgratet (0 kg/Stk)"},null,null,null,null,null,null,null,0]
[null,null,0,0,{"$f":"VLOOKUP(\"[m]\",Sprachindex!$A:$Z,Haftungsausschluß!$O$6,FALSE)","v":"[m]"},{"$f":"IF($L$14=1,Preisliste!$E$13,Preisliste!$F$13)","v":"H501001"},{"$f":"VLOOKUP(\"Dammbalken 50/200 exkl. Dichtung, gesägt und entgratet\",Sprachindex!$A:$Z,Haftungsausschluß!$O$6,FALSE) & \" (\" & ROUNDUP(C70/1000*4.12,2) & \" \" & VLOOKUP(\"kg/Stk\",Sprachindex!$A:$Z,Haftungsausschluß!$O$6,FALSE) & \")\" & IF('Kalkulation 1'!$AH$33,\" \" & 'Kalkulation 1'!$R$9,\"\")","v":"Dammbalken 50/200 exkl. Dichtung, gesägt und entgratet (0 kg/Stk)"},null,null,null,null,null,null,null,0]
[null,null,0,0,{"$f":"VLOOKUP(\"[m]\",Sprachindex!$A:$Z,Haftungsausschluß!$O$6,FALSE)","v":"[m]"},{"$f":"IF($L$14=1,Preisliste!$E$13,Preisliste!$F$13)","v":"H501001"},{"$f":"VLOOKUP(\"Dammbalken 50/200 exkl. Dichtung, gesägt und entgratet\",Sprachindex!$A:$Z,Haftungsausschluß!$O$6,FALSE) & \" (\" & ROUNDUP(C71/1000*4.12,2) & \" \" & VLOOKUP(\"kg/Stk\",Sprachindex!$A:$Z,Haftungsausschluß!$O$6,FALSE) & \")\" & IF('Kalkulation 1'!$AH$33,\" \" & 'Kalkulation 1'!$R$9,\"\")","v":"Dammbalken 50/200 exkl. Dichtung, gesägt und entgratet (0 kg/Stk)"},null,null,null,null,null,null,null,0]
[null,null,0,0,{"$f":"VLOOKUP(\"[m]\",Sprachindex!$A:$Z,Haftungsausschluß!$O$6,FALSE)","v":"[m]"},{"$f":"IF($L$14=1,Preisliste!$E$13,Preisliste!$F$13)","v":"H501001"},{"$f":"VLOOKUP(\"Dammbalken 50/200 exkl. Dichtung, gesägt und entgratet\",Sprachindex!$A:$Z,Haftungsausschluß!$O$6,FALSE) & \" (\" & ROUNDUP(C72/1000*4.12,2) & \" \" & VLOOKUP(\"kg/Stk\",Sprachindex!$A:$Z,Haftungsausschluß!$O$6,FALSE) & \")\" & IF('Kalkulation 1'!$AH$33,\" \" & 'Kalkulation 1'!$R$9,\"\")","v":"Dammbalken 50/200 exkl. Dichtung, gesägt und entgratet (0 kg/Stk)"},null,null,null,null,null,null,null,0]
[null,null,0,0,{"$f":"VLOOKUP(\"[m]\",Sprachindex!$A:$Z,Haftungsausschluß!$O$6,FALSE)","v":"[m]"},{"$f":"IF($L$14=1,Preisliste!$E$13,Preisliste!$F$13)","v":"H501001"},{"$f":"VLOOKUP(\"Dammbalken 50/200 exkl. Dichtung, gesägt und entgratet\",Sprachindex!$A:$Z,Haftungsausschluß!$O$6,FALSE) & \" (\" & ROUNDUP(C73/1000*4.12,2) & \" \" & VLOOKUP(\"kg/Stk\",Sprachindex!$A:$Z,Haftungsausschluß!$O$6,FALSE) & \")\" & IF('Kalkulation 1'!$AH$33,\" \" & 'Kalkulation 1'!$R$9,\"\")","v":"Dammbalken 50/200 exkl. Dichtung, gesägt und entgratet (0 kg/Stk)"},null,null,null,null,null,null,null,0]
[null,null,0,0,{"$f":"VLOOKUP(\"[m]\",Sprachindex!$A:$Z,Haftungsausschluß!$O$6,FALSE)","v":"[m]"},{"$f":"IF($L$14=1,Preisliste!$E$13,Preisliste!$F$13)","v":"H501001"},{"$f":"VLOOKUP(\"Dammbalken 50/200 exkl. Dichtung, gesägt und entgratet\",Sprachindex!$A:$Z,Haftungsausschluß!$O$6,FALSE) & \" (\" & ROUNDUP(C74/1000*4.12,2) & \" \" & VLOOKUP(\"kg/Stk\",Sprachindex!$A:$Z,Haftungsausschluß!$O$6,FALSE) & \")\" & IF('Kalkulation 1'!$AH$33,\" \" & 'Kalkulation 1'!$R$9,\"\")","v":"Dammbalken 50/200 exkl. Dichtung, gesägt und entgratet (0 kg/Stk)"},null,null,null,null,null,null,null,0]
[null,null,0,0,{"$f":"VLOOKUP(\"[m]\",Sprachindex!$A:$Z,Haftungsausschluß!$O$6,FALSE)","v":"[m]"},{"$f":"IF($L$14=1,Preisliste!$E$13,Preisliste!$F$13)","v":"H501001"},{"$f":"VLOOKUP(\"Dammbalken 50/200 exkl. Dichtung, gesägt und entgratet\",Sprachindex!$A:$Z,Haftungsausschluß!$O$6,FALSE) & \" (\" & ROUNDUP(C75/1000*4.12,2) & \" \" & VLOOKUP(\"kg/Stk\",Sprachindex!$A:$Z,Haftungsausschluß!$O$6,FALSE) & \")\" & IF('Kalkulation 1'!$AH$33,\" \" & 'Kalkulation 1'!$R$9,\"\")","v":"Dammbalken 50/200 exkl. Dichtung, gesägt und entgratet (0 kg/Stk)"},null,null,null,null,null,null,null,0]
[null,null,1015,0,{"$f":"VLOOKUP(\"[m]\",Sprachindex!$A:$Z,Haftungsausschluß!$O$6,FALSE)","v":"[m]"},{"$f":"IF($L$14=1,Preisliste!$E$16,Preisliste!$F$16)","v":"H801001"},{"$f":"VLOOKUP(\"Dammbalken 80/200 exkl. Dichtung, gesägt und entgratet\",Sprachindex!$A:$Z,Haftungsausschluß!$O$6,FALSE) & \" (\" & ROUNDUP(C76/1000*7.78,2) & \" \" & VLOOKUP(\"kg/Stk\",Sprachindex!$A:$Z,Haftungsausschluß!$O$6,FALSE) & \")\" & IF('Kalkulation 1'!$AH$33,\" \" & 'Kalkulation 1'!$R$9,\"\")","v":"Dammbalken 80/200 exkl. Dichtung, gesägt und entgratet (7.9 kg/Stk)"},null,null,null,null,null,null,null,0]
[null,null,0,0,{"$f":"VLOOKUP(\"[m]\",Sprachindex!$A:$Z,Haftungsausschluß!$O$6,FALSE)","v":"[m]"},{"$f":"IF($L$14=1,Preisliste!$E$16,Preisliste!$F$16)","v":"H801001"},{"$f":"VLOOKUP(\"Dammbalken 80/200 exkl. Dichtung, gesägt und entgratet\",Sprachindex!$A:$Z,Haftungsausschluß!$O$6,FALSE) & \" (\" & ROUNDUP(C77/1000*7.78,2) & \" \" & VLOOKUP(\"kg/Stk\",Sprachindex!$A:$Z,Haftungsausschluß!$O$6,FALSE) & \")\" & IF('Kalkulation 1'!$AH$33,\" \" & 'Kalkulation 1'!$R$9,\"\")","v":"Dammbalken 80/200 exkl. Dichtung, gesägt und entgratet (0 kg/Stk)"},null,null,null,null,null,null,null,0]
[null,null,0,0,{"$f":"VLOOKUP(\"[m]\",Sprachindex!$A:$Z,Haftungsausschluß!$O$6,FALSE)","v":"[m]"},{"$f":"IF($L$14=1,Preisliste!$E$16,Preisliste!$F$16)","v":"H801001"},{"$f":"VLOOKUP(\"Dammbalken 80/200 exkl. Dichtung, gesägt und entgratet\",Sprachindex!$A:$Z,Haftungsausschluß!$O$6,FALSE) & \" (\" & ROUNDUP(C78/1000*7.78,2) & \" \" & VLOOKUP(\"kg/Stk\",Sprachindex!$A:$Z,Haftungsausschluß!$O$6,FALSE) & \")\" & IF('Kalkulation 1'!$AH$33,\" \" & 'Kalkulation 1'!$R$9,\"\")","v":"Dammbalken 80/200 exkl. Dichtung, gesägt und entgratet (0 kg/Stk)"},null,null,null,null,null,null,null,0]
[null,null,0,0,{"$f":"VLOOKUP(\"[m]\",Sprachindex!$A:$Z,Haftungsausschluß!$O$6,FALSE)","v":"[m]"},{"$f":"IF($L$14=1,Preisliste!$E$16,Preisliste!$F$16)","v":"H801001"},{"$f":"VLOOKUP(\"Dammbalken 80/200 exkl. Dichtung, gesägt und entgratet\",Sprachindex!$A:$Z,Haftungsausschluß!$O$6,FALSE) & \" (\" & ROUNDUP(C79/1000*7.78,2) & \" \" & VLOOKUP(\"kg/Stk\",Sprachindex!$A:$Z,Haftungsausschluß!$O$6,FALSE) & \")\" & IF('Kalkulation 1'!$AH$33,\" \" & 'Kalkulation 1'!$R$9,\"\")","v":"Dammbalken 80/200 exkl. Dichtung, gesägt und entgratet (0 kg/Stk)"},null,null,null,null,null,null,null,0]
[null,null,0,0,{"$f":"VLOOKUP(\"[m]\",Sprachindex!$A:$Z,Haftungsausschluß!$O$6,FALSE)","v":"[m]"},{"$f":"IF($L$14=1,Preisliste!$E$16,Preisliste!$F$16)","v":"H801001"},{"$f":"VLOOKUP(\"Dammbalken 80/200 exkl. Dichtung, gesägt und entgratet\",Sprachindex!$A:$Z,Haftungsausschluß!$O$6,FALSE) & \" (\" & ROUNDUP(C80/1000*7.78,2) & \" \" & VLOOKUP(\"kg/Stk\",Sprachindex!$A:$Z,Haftungsausschluß!$O$6,FALSE) & \")\" & IF('Kalkulation 1'!$AH$33,\" \" & 'Kalkulation 1'!$R$9,\"\")","v":"Dammbalken 80/200 exkl. Dichtung, gesägt und entgratet (0 kg/Stk)"},null,null,null,null,null,null,null,0]
[null,null,0,0,{"$f":"VLOOKUP(\"[m]\",Sprachindex!$A:$Z,Haftungsausschluß!$O$6,FALSE)","v":"[m]"},{"$f":"IF($L$14=1,Preisliste!$E$16,Preisliste!$F$16)","v":"H801001"},{"$f":"VLOOKUP(\"Dammbalken 80/200 exkl. Dichtung, gesägt und entgratet\",Sprachindex!$A:$Z,Haftungsausschluß!$O$6,FALSE) & \" (\" & ROUNDUP(C81/1000*7.78,2) & \" \" & VLOOKUP(\"kg/Stk\",Sprachindex!$A:$Z,Haftungsausschluß!$O$6,FALSE) & \")\" & IF('Kalkulation 1'!$AH$33,\" \" & 'Kalkulation 1'!$R$9,\"\")","v":"Dammbalken 80/200 exkl. Dichtung, gesägt und entgratet (0 kg/Stk)"},null,null,null,null,null,null,null,0]
[null,null,0,{"$f":"B82*C82/1000","v":0},{"$f":"VLOOKUP(\"[m]\",Sprachindex!$A:$Z,Haftungsausschluß!$O$6,FALSE)","v":"[m]"},{"$f":"IF($L$14=1,Preisliste!$E$16,Preisliste!$F$16)","v":"H801001"},{"$f":"VLOOKUP(\"Dammbalken 80/200 exkl. Dichtung, gesägt und entgratet\",Sprachindex!$A:$Z,Haftungsausschluß!$O$6,FALSE) & \" (\" & ROUNDUP(C82/1000*7.78,2) & \" \" & VLOOKUP(\"kg/Stk\",Sprachindex!$A:$Z,Haftungsausschluß!$O$6,FALSE) & \")\" & IF('Kalkulation 1'!$AH$33,\" \" & 'Kalkulation 1'!$R$9,\"\")","v":"Dammbalken 80/200 exkl. Dichtung, gesägt und entgratet (0 kg/Stk)"},null,null,null,null,null,null,null,{"$f":"N82*D82","v":0}]
[null,null,0,0,{"$f":"VLOOKUP(\"[m]\",Sprachindex!$A:$Z,Haftungsausschluß!$O$6,FALSE)","v":"[m]"},{"$f":"IF($L$14=1,Preisliste!$E$16,Preisliste!$F$16)","v":"H801001"},{"$f":"VLOOKUP(\"Dammbalken 80/200 exkl. Dichtung, gesägt und entgratet\",Sprachindex!$A:$Z,Haftungsausschluß!$O$6,FALSE) & \" (\" & ROUNDUP(C83/1000*7.78,2) & \" \" & VLOOKUP(\"kg/Stk\",Sprachindex!$A:$Z,Haftungsausschluß!$O$6,FALSE) & \")\" & IF('Kalkulation 1'!$AH$33,\" \" & 'Kalkulation 1'!$R$9,\"\")","v":"Dammbalken 80/200 exkl. Dichtung, gesägt und entgratet (0 kg/Stk)"},null,null,null,null,null,null,null,0]
[null,null,0,0,{"$f":"VLOOKUP(\"[m]\",Sprachindex!$A:$Z,Haftungsausschluß!$O$6,FALSE)","v":"[m]"},{"$f":"IF($L$14=1,Preisliste!$E$16,Preisliste!$F$16)","v":"H801001"},{"$f":"VLOOKUP(\"Dammbalken 80/200 exkl. Dichtung, gesägt und entgratet\",Sprachindex!$A:$Z,Haftungsausschluß!$O$6,FALSE) & \" (\" & ROUNDUP(C84/1000*7.78,2) & \" \" & VLOOKUP(\"kg/Stk\",Sprachindex!$A:$Z,Haftungsausschluß!$O$6,FALSE) & \")\" & IF('Kalkulation 1'!$AH$33,\" \" & 'Kalkulation 1'!$R$9,\"\")","v":"Dammbalken 80/200 exkl. Dichtung, gesägt und entgratet (0 kg/Stk)"},null,null,null,null,null,null,null,0]
[null,null,0,0,{"$f":"VLOOKUP(\"[m]\",Sprachindex!$A:$Z,Haftungsausschluß!$O$6,FALSE)","v":"[m]"},{"$f":"IF($L$14=1,Preisliste!$E$16,Preisliste!$F$16)","v":"H801001"},{"$f":"VLOOKUP(\"Dammbalken 80/200 exkl. Dichtung, gesägt und entgratet\",Sprachindex!$A:$Z,Haftungsausschluß!$O$6,FALSE) & \" (\" & ROUNDUP(C85/1000*7.78,2) & \" \" & VLOOKUP(\"kg/Stk\",Sprachindex!$A:$Z,Haftungsausschluß!$O$6,FALSE) & \")\" & IF('Kalkulation 1'!$AH$33,\" \" & 'Kalkulation 1'!$R$9,\"\")","v":"Dammbalken 80/200 exkl. Dichtung, gesägt und entgratet (0 kg/Stk)"},null,null,null,null,null,null,null,0]
[null,null,0,0,{"$f":"VLOOKUP(\"[m]\",Sprachindex!$A:$Z,Haftungsausschluß!$O$6,FALSE)","v":"[m]"},{"$f":"IF($L$14=1,Preisliste!$E$16,Preisliste!$F$16)","v":"H801001"},{"$f":"VLOOKUP(\"Dammbalken 80/200 exkl. Dichtung, gesägt und entgratet\",Sprachindex!$A:$Z,Haftungsausschluß!$O$6,FALSE) & \" (\" & ROUNDUP(C86/1000*7.78,2) & \" \" & VLOOKUP(\"kg/Stk\",Sprachindex!$A:$Z,Haftungsausschluß!$O$6,FALSE) & \")\" & IF('Kalkulation 1'!$AH$33,\" \" & 'Kalkulation 1'!$R$9,\"\")","v":"Dammbalken 80/200 exkl. Dichtung, gesägt und entgratet (0 kg/Stk)"},null,null,null,null,null,null,null,0]
[null,null,0,0,{"$f":"VLOOKUP(\"[m]\",Sprachindex!$A:$Z,Haftungsausschluß!$O$6,FALSE)","v":"[m]"},{"$f":"IF($L$14=1,Preisliste!$E$16,Preisliste!$F$16)","v":"H801001"},{"$f":"VLOOKUP(\"Dammbalken 80/200 exkl. Dichtung, gesägt und entgratet\",Sprachindex!$A:$Z,Haftungsausschluß!$O$6,FALSE) & \" (\" & ROUNDUP(C87/1000*7.78,2) & \" \" & VLOOKUP(\"kg/Stk\",Sprachindex!$A:$Z,Haftungsausschluß!$O$6,FALSE) & \")\" & IF('Kalkulation 1'!$AH$33,\" \" & 'Kalkulation 1'!$R$9,\"\")","v":"Dammbalken 80/200 exkl. Dichtung, gesägt und entgratet (0 kg/Stk)"},null,null,null,null,null,null,null,0]
[null,null,0,0,{"$f":"VLOOKUP(\"[m]\",Sprachindex!$A:$Z,Haftungsausschluß!$O$6,FALSE)","v":"[m]"},{"$f":"IF($L$14=1,Preisliste!$E$16,Preisliste!$F$16)","v":"H801001"},{"$f":"VLOOKUP(\"Dammbalken 80/200 exkl. Dichtung, gesägt und entgratet\",Sprachindex!$A:$Z,Haftungsausschluß!$O$6,FALSE) & \" (\" & ROUNDUP(C88/1000*7.78,2) & \" \" & VLOOKUP(\"kg/Stk\",Sprachindex!$A:$Z,Haftungsausschluß!$O$6,FALSE) & \")\" & IF('Kalkulation 1'!$AH$33,\" \" & 'Kalkulation 1'!$R$9,\"\")","v":"Dammbalken 80/200 exkl. Dichtung, gesägt und entgratet (0 kg/Stk)"},null,null,null,null,null,null,null,0]
[null,null,0,0,{"$f":"VLOOKUP(\"[m]\",Sprachindex!$A:$Z,Haftungsausschluß!$O$6,FALSE)","v":"[m]"},{"$f":"IF($L$14=1,Preisliste!$E$16,Preisliste!$F$16)","v":"H801001"},{"$f":"VLOOKUP(\"Dammbalken 80/200 exkl. Dichtung, gesägt und entgratet\",Sprachindex!$A:$Z,Haftungsausschluß!$O$6,FALSE) & \" (\" & ROUNDUP(C89/1000*7.78,2) & \" \" & VLOOKUP(\"kg/Stk\",Sprachindex!$A:$Z,Haftungsausschluß!$O$6,FALSE) & \")\" & IF('Kalkulation 1'!$AH$33,\" \" & 'Kalkulation 1'!$R$9,\"\")","v":"Dammbalken 80/200 exkl. Dichtung, gesägt und entgratet (0 kg/Stk)"},null,null,null,null,null,null,null,0]
[null,null,0,0,{"$f":"VLOOKUP(\"[m]\",Sprachindex!$A:$Z,Haftungsausschluß!$O$6,FALSE)","v":"[m]"},{"$f":"IF($L$14=1,Preisliste!$E$16,Preisliste!$F$16)","v":"H801001"},{"$f":"VLOOKUP(\"Dammbalken 80/200 exkl. Dichtung, gesägt und entgratet\",Sprachindex!$A:$Z,Haftungsausschluß!$O$6,FALSE) & \" (\" & ROUNDUP(C90/1000*7.78,2) & \" \" & VLOOKUP(\"kg/Stk\",Sprachindex!$A:$Z,Haftungsausschluß!$O$6,FALSE) & \")\" & IF('Kalkulation 1'!$AH$33,\" \" & 'Kalkulation 1'!$R$9,\"\")","v":"Dammbalken 80/200 exkl. Dichtung, gesägt und entgratet (0 kg/Stk)"},null,null,null,null,null,null,null,0]
[null,null,0,0,{"$f":"VLOOKUP(\"[m]\",Sprachindex!$A:$Z,Haftungsausschluß!$O$6,FALSE)","v":"[m]"},{"$f":"IF($L$14=1,Preisliste!$E$16,Preisliste!$F$16)","v":"H801001"},{"$f":"VLOOKUP(\"Dammbalken 80/200 exkl. Dichtung, gesägt und entgratet\",Sprachindex!$A:$Z,Haftungsausschluß!$O$6,FALSE) & \" (\" & ROUNDUP(C91/1000*7.78,2) & \" \" & VLOOKUP(\"kg/Stk\",Sprachindex!$A:$Z,Haftungsausschluß!$O$6,FALSE) & \")\" & IF('Kalkulation 1'!$AH$33,\" \" & 'Kalkulation 1'!$R$9,\"\")","v":"Dammbalken 80/200 exkl. Dichtung, gesägt und entgratet (0 kg/Stk)"},null,null,null,null,null,null,null,0]
[null,null,0,0,{"$f":"VLOOKUP(\"[m]\",Sprachindex!$A:$Z,Haftungsausschluß!$O$6,FALSE)","v":"[m]"},{"$f":"IF($L$14=1,Preisliste!$E$16,Preisliste!$F$16)","v":"H801001"},{"$f":"VLOOKUP(\"Dammbalken 80/200 exkl. Dichtung, gesägt und entgratet\",Sprachindex!$A:$Z,Haftungsausschluß!$O$6,FALSE) & \" (\" & ROUNDUP(C92/1000*7.78,2) & \" \" & VLOOKUP(\"kg/Stk\",Sprachindex!$A:$Z,Haftungsausschluß!$O$6,FALSE) & \")\" & IF('Kalkulation 1'!$AH$33,\" \" & 'Kalkulation 1'!$R$9,\"\")","v":"Dammbalken 80/200 exkl. Dichtung, gesägt und entgratet (0 kg/Stk)"},null,null,null,null,null,null,null,0]
[null,null,0,0,{"$f":"VLOOKUP(\"[m]\",Sprachindex!$A:$Z,Haftungsausschluß!$O$6,FALSE)","v":"[m]"},{"$f":"IF($L$14=1,Preisliste!$E$16,Preisliste!$F$16)","v":"H801001"},{"$f":"VLOOKUP(\"Dammbalken 80/200 exkl. Dichtung, gesägt und entgratet\",Sprachindex!$A:$Z,Haftungsausschluß!$O$6,FALSE) & \" (\" & ROUNDUP(C93/1000*7.78,2) & \" \" & VLOOKUP(\"kg/Stk\",Sprachindex!$A:$Z,Haftungsausschluß!$O$6,FALSE) & \")\" & IF('Kalkulation 1'!$AH$33,\" \" & 'Kalkulation 1'!$R$9,\"\")","v":"Dammbalken 80/200 exkl. Dichtung, gesägt und entgratet (0 kg/Stk)"},null,null,null,null,null,null,null,0]
[null,null,0,0,{"$f":"VLOOKUP(\"[m]\",Sprachindex!$A:$Z,Haftungsausschluß!$O$6,FALSE)","v":"[m]"},{"$f":"IF($L$14=1,Preisliste!$E$16,Preisliste!$F$16)","v":"H801001"},{"$f":"VLOOKUP(\"Dammbalken 80/200 exkl. Dichtung, gesägt und entgratet\",Sprachindex!$A:$Z,Haftungsausschluß!$O$6,FALSE) & \" (\" & ROUNDUP(C94/1000*7.78,2) & \" \" & VLOOKUP(\"kg/Stk\",Sprachindex!$A:$Z,Haftungsausschluß!$O$6,FALSE) & \")\" & IF('Kalkulation 1'!$AH$33,\" \" & 'Kalkulation 1'!$R$9,\"\")","v":"Dammbalken 80/200 exkl. Dichtung, gesägt und entgratet (0 kg/Stk)"},null,null,null,null,null,null,null,0]
[null,null,0,0,{"$f":"VLOOKUP(\"[m]\",Sprachindex!$A:$Z,Haftungsausschluß!$O$6,FALSE)","v":"[m]"},{"$f":"IF($L$14=1,Preisliste!$E$16,Preisliste!$F$16)","v":"H801001"},{"$f":"VLOOKUP(\"Dammbalken 80/200 exkl. Dichtung, gesägt und entgratet\",Sprachindex!$A:$Z,Haftungsausschluß!$O$6,FALSE) & \" (\" & ROUNDUP(C95/1000*7.78,2) & \" \" & VLOOKUP(\"kg/Stk\",Sprachindex!$A:$Z,Haftungsausschluß!$O$6,FALSE) & \")\" & IF('Kalkulation 1'!$AH$33,\" \" & 'Kalkulation 1'!$R$9,\"\")","v":"Dammbalken 80/200 exkl. Dichtung, gesägt und entgratet (0 kg/Stk)"},null,null,null,null,null,null,null,0]
[null,null,750,{"$f":"B96","v":0},{"$f":"VLOOKUP(\"[Stk]\",Sprachindex!$A:$Z,Haftungsausschluß!$O$6,FALSE)","v":"[Stk]"},{"$f":"IF($L$14=1,Preisliste!$E$19,Preisliste!$F$19)","v":"H251020"},{"$f":"VLOOKUP(\"U-Profil 25 exkl. Dichtung, gebohrt und entgratet\",Sprachindex!$A:$Z,Haftungsausschluß!$O$6,FALSE) & IF('Kalkulation 1'!$AH$34,\" \" & 'Kalkulation 1'!$R$9,\"\")","v":"U-Profil 25 exkl. Dichtung, gebohrt und entgratet"},null,null,null,null,null,null,null,0]
[null,null,1350,{"$f":"B97","v":0},{"$f":"VLOOKUP(\"[Stk]\",Sprachindex!$A:$Z,Haftungsausschluß!$O$6,FALSE)","v":"[Stk]"},{"$f":"IF($L$14=1,Preisliste!$E$20,Preisliste!$F$20)","v":"H251021"},{"$f":"VLOOKUP(\"U-Profil 25 exkl. Dichtung, gebohrt und entgratet\",Sprachindex!$A:$Z,Haftungsausschluß!$O$6,FALSE) & IF('Kalkulation 1'!$AH$34,\" \" & 'Kalkulation 1'!$R$9,\"\")","v":"U-Profil 25 exkl. Dichtung, gebohrt und entgratet"},null,null,null,null,null,null,null,0]
[null,null,1520,0,{"$f":"VLOOKUP(\"[Stk]\",Sprachindex!$A:$Z,Haftungsausschluß!$O$6,FALSE)","v":"[Stk]"},{"$f":"IF($L$14=1,Preisliste!$E$21,Preisliste!$F$21)","v":0},{"$f":"VLOOKUP(\"U-Profil 25 Sonderlänge exkl. Dichtung, (Stangenware)\",Sprachindex!$A:$Z,Haftungsausschluß!$O$6,FALSE)","v":"U-Profil 25 Sonderlänge exkl. Dichtung, (Stangenware)"},null,null,null,null,null,null,null,0]
[null,null,750,0,{"$f":"VLOOKUP(\"[Stk]\",Sprachindex!$A:$Z,Haftungsausschluß!$O$6,FALSE)","v":"[Stk]"},{"$f":"IF($L$14=1,Preisliste!$E$38,Preisliste!$F$38)","v":"H251200"},{"$f":"VLOOKUP(\"Grundprofil 25 exkl. Dichtung, gebohrt und entgratet\",Sprachindex!$A:$Z,Haftungsausschluß!$O$6,FALSE) & IF('Kalkulation 1'!$AH$34,\" \" & 'Kalkulation 1'!$R$9,\"\")","v":"Grundprofil 25 exkl. Dichtung, gebohrt und entgratet"},null,null,null,null,null,null,null,0]
[null,null,1350,0,{"$f":"VLOOKUP(\"[Stk]\",Sprachindex!$A:$Z,Haftungsausschluß!$O$6,FALSE)","v":"[Stk]"},{"$f":"IF($L$14=1,Preisliste!$E$39,Preisliste!$F$39)","v":"H251201"},{"$f":"VLOOKUP(\"Grundprofil 25 exkl. Dichtung, gebohrt und entgratet\",Sprachindex!$A:$Z,Haftungsausschluß!$O$6,FALSE) & IF('Kalkulation 1'!$AH$34,\" \" & 'Kalkulation 1'!$R$9,\"\")","v":"Grundprofil 25 exkl. Dichtung, gebohrt und entgratet"},null,null,null,null,null,null,null,0]
[null,null,1720,0,{"$f":"VLOOKUP(\"[Stk]\",Sprachindex!$A:$Z,Haftungsausschluß!$O$6,FALSE)","v":"[Stk]"},{"$f":"IF($L$14=1,Preisliste!$E$40,Preisliste!$F$40)","v":"H251291"},{"$f":"VLOOKUP(\"Grundprofil 25 Sonderlänge exkl. Dichtung, (Stangenware)\",Sprachindex!$A:$Z,Haftungsausschluß!$O$6,FALSE)","v":"Grundprofil 25 Sonderlänge exkl. Dichtung, (Stangenware)"},null,null,null,null,null,null,null,0]
[null,null,750,0,{"$f":"VLOOKUP(\"[Stk]\",Sprachindex!$A:$Z,Haftungsausschluß!$O$6,FALSE)","v":"[Stk]"},{"$f":"IF($L$14=1,Preisliste!$E$24,Preisliste!$F$24)","v":"H501101"},{"$f":"VLOOKUP(\"U-Profil 50 exkl. Dichtung, gebohrt und entgratet\",Sprachindex!$A:$Z,Haftungsausschluß!$O$6,FALSE) & IF('Kalkulation 1'!$AH$34,\" \" & 'Kalkulation 1'!$R$9,\"\")","v":"U-Profil 50 exkl. Dichtung, gebohrt und entgratet"},null,null,null,null,null,null,null,0]
[null,null,1350,0,{"$f":"VLOOKUP(\"[Stk]\",Sprachindex!$A:$Z,Haftungsausschluß!$O$6,FALSE)","v":"[Stk]"},{"$f":"IF($L$14=1,Preisliste!$E$25,Preisliste!$F$25)","v":"H501111"},{"$f":"VLOOKUP(\"U-Profil 50 exkl. Dichtung, gebohrt und entgratet\",Sprachindex!$A:$Z,Haftungsausschluß!$O$6,FALSE) & IF('Kalkulation 1'!$AH$34,\" \" & 'Kalkulation 1'!$R$9,\"\")","v":"U-Profil 50 exkl. Dichtung, gebohrt und entgratet"},null,null,null,null,null,null,null,0]
[null,null,1750,0,{"$f":"VLOOKUP(\"[Stk]\",Sprachindex!$A:$Z,Haftungsausschluß!$O$6,FALSE)","v":"[Stk]"},{"$f":"IF($L$14=1,Preisliste!$E$26,Preisliste!$F$26)","v":"H501112"},{"$f":"VLOOKUP(\"U-Profil 50 exkl. Dichtung, gebohrt und entgratet\",Sprachindex!$A:$Z,Haftungsausschluß!$O$6,FALSE) & IF('Kalkulation 1'!$AH$34,\" \" & 'Kalkulation 1'!$R$9,\"\")","v":"U-Profil 50 exkl. Dichtung, gebohrt und entgratet"},null,null,null,null,null,null,null,0]
[null,null,2150,0,{"$f":"VLOOKUP(\"[Stk]\",Sprachindex!$A:$Z,Haftungsausschluß!$O$6,FALSE)","v":"[Stk]"},{"$f":"IF($L$14=1,Preisliste!$E$27,Preisliste!$F$27)","v":"H501122"},{"$f":"VLOOKUP(\"U-Profil 50 exkl. Dichtung, gebohrt und entgratet\",Sprachindex!$A:$Z,Haftungsausschluß!$O$6,FALSE) & IF('Kalkulation 1'!$AH$34,\" \" & 'Kalkulation 1'!$R$9,\"\")","v":"U-Profil 50 exkl. Dichtung, gebohrt und entgratet"},null,null,null,null,null,null,null,0]
[null,null,2320,0,{"$f":"VLOOKUP(\"[Stk]\",Sprachindex!$A:$Z,Haftungsausschluß!$O$6,FALSE)","v":"[Stk]"},{"$f":"IF($L$14=1,Preisliste!$E$28,Preisliste!$F$28)","v":0},{"$f":"VLOOKUP(\"U-Profil 50 Sonderlänge exkl. Dichtung, (Stangenware)\",Sprachindex!$A:$Z,Haftungsausschluß!$O$6,FALSE)","v":"U-Profil 50 Sonderlänge exkl. Dichtung, (Stangenware)"},null,null,null,null,null,null,null,0]
[null,null,750,0,{"$f":"VLOOKUP(\"[Stk]\",Sprachindex!$A:$Z,Haftungsausschluß!$O$6,FALSE)","v":"[Stk]"},{"$f":"IF($L$14=1,Preisliste!$E$31,Preisliste!$F$31)","v":"H801101"},{"$f":"VLOOKUP(\"U-Profil 80 exkl. Dichtung, gebohrt und entgratet\",Sprachindex!$A:$Z,Haftungsausschluß!$O$6,FALSE) & IF('Kalkulation 1'!$AH$34,\" \" & 'Kalkulation 1'!$R$9,\"\")","v":"U-Profil 80 exkl. Dichtung, gebohrt und entgratet"},null,null,null,null,null,null,null,0]
[null,null,1350,0,{"$f":"VLOOKUP(\"[Stk]\",Sprachindex!$A:$Z,Haftungsausschluß!$O$6,FALSE)","v":"[Stk]"},{"$f":"IF($L$14=1,Preisliste!$E$32,Preisliste!$F$32)","v":"H801111"},{"$f":"VLOOKUP(\"U-Profil 80 exkl. Dichtung, gebohrt und entgratet\",Sprachindex!$A:$Z,Haftungsausschluß!$O$6,FALSE) & IF('Kalkulation 1'!$AH$34,\" \" & 'Kalkulation 1'!$R$9,\"\")","v":"U-Profil 80 exkl. Dichtung, gebohrt und entgratet"},null,null,null,null,null,null,null,0]
[null,null,1750,0,{"$f":"VLOOKUP(\"[Stk]\",Sprachindex!$A:$Z,Haftungsausschluß!$O$6,FALSE)","v":"[Stk]"},{"$f":"IF($L$14=1,Preisliste!$E$33,Preisliste!$F$33)","v":"H801112"},{"$f":"VLOOKUP(\"U-Profil 80 exkl. Dichtung, gebohrt und entgratet\",Sprachindex!$A:$Z,Haftungsausschluß!$O$6,FALSE) & IF('Kalkulation 1'!$AH$34,\" \" & 'Kalkulation 1'!$R$9,\"\")","v":"U-Profil 80 exkl. Dichtung, gebohrt und entgratet"},null,null,null,null,null,null,null,0]
[null,null,2150,0,{"$f":"VLOOKUP(\"[Stk]\",Sprachindex!$A:$Z,Haftungsausschluß!$O$6,FALSE)","v":"[Stk]"},{"$f":"IF($L$14=1,Preisliste!$E$34,Preisliste!$F$34)","v":"H801122"},{"$f":"VLOOKUP(\"U-Profil 80 exkl. Dichtung, gebohrt und entgratet\",Sprachindex!$A:$Z,Haftungsausschluß!$O$6,FALSE) & IF('Kalkulation 1'!$AH$34,\" \" & 'Kalkulation 1'!$R$9,\"\")","v":"U-Profil 80 exkl. Dichtung, gebohrt und entgratet"},null,null,null,null,null,null,null,0]
[null,null,2320,0,{"$f":"VLOOKUP(\"[Stk]\",Sprachindex!$A:$Z,Haftungsausschluß!$O$6,FALSE)","v":"[Stk]"},{"$f":"IF($L$14=1,Preisliste!$E$35,Preisliste!$F$35)","v":0},{"$f":"VLOOKUP(\"U-Profil 80 Sonderlänge exkl. Dichtung, (Stangenware)\",Sprachindex!$A:$Z,Haftungsausschluß!$O$6,FALSE)","v":"U-Profil 80 Sonderlänge exkl. Dichtung, (Stangenware)"},null,null,null,null,null,null,null,0]
[null,null,750,0,{"$f":"VLOOKUP(\"[Stk]\",Sprachindex!$A:$Z,Haftungsausschluß!$O$6,FALSE)","v":"[Stk]"},{"$f":"IF($L$14=1,Preisliste!$E$42,Preisliste!$F$42)","v":"H501201"},{"$f":"VLOOKUP(\"Grundprofil 50 (H-Profil v.d.L.) exkl. Dichtung, gebohrt und entgratet\",Sprachindex!$A:$Z,Haftungsausschluß!$O$6,FALSE) & IF('Kalkulation 1'!$AH$34,\" \" & 'Kalkulation 1'!$R$9,\"\")","v":"Grundprofil 50 (H-Profil v.d.L.) exkl. Dichtung, gebohrt und entgratet"},null,null,null,null,null,null,null,0]
[null,null,1350,0,{"$f":"VLOOKUP(\"[Stk]\",Sprachindex!$A:$Z,Haftungsausschluß!$O$6,FALSE)","v":"[Stk]"},{"$f":"IF($L$14=1,Preisliste!$E$43,Preisliste!$F$43)","v":"H501211"},{"$f":"VLOOKUP(\"Grundprofil 50 exkl. Dichtung, gebohrt und entgratet\",Sprachindex!$A:$Z,Haftungsausschluß!$O$6,FALSE) & IF('Kalkulation 1'!$AH$34,\" \" & 'Kalkulation 1'!$R$9,\"\")","v":"Grundprofil 50 exkl. Dichtung, gebohrt und entgratet"},null,null,null,null,null,null,142.6,0]
[null,null,1750,0,{"$f":"VLOOKUP(\"[Stk]\",Sprachindex!$A:$Z,Haftungsausschluß!$O$6,FALSE)","v":"[Stk]"},{"$f":"IF($L$14=1,Preisliste!$E$44,Preisliste!$F$44)","v":"H501212"},{"$f":"VLOOKUP(\"Grundprofil 50 (H-Profil v.d.L.) exkl. Dichtung, gebohrt und entgratet\",Sprachindex!$A:$Z,Haftungsausschluß!$O$6,FALSE) & IF('Kalkulation 1'!$AH$34,\" \" & 'Kalkulation 1'!$R$9,\"\")","v":"Grundprofil 50 (H-Profil v.d.L.) exkl. Dichtung, gebohrt und entgratet"},null,null,null,null,null,null,null,0]
[null,null,2150,0,{"$f":"VLOOKUP(\"[Stk]\",Sprachindex!$A:$Z,Haftungsausschluß!$O$6,FALSE)","v":"[Stk]"},{"$f":"IF($L$14=1,Preisliste!$E$45,Preisliste!$F$45)","v":"H501222"},{"$f":"VLOOKUP(\"Grundprofil 50 (H-Profil v.d.L.) exkl. Dichtung, gebohrt und entgratet\",Sprachindex!$A:$Z,Haftungsausschluß!$O$6,FALSE) & IF('Kalkulation 1'!$AH$34,\" \" & 'Kalkulation 1'!$R$9,\"\")","v":"Grundprofil 50 (H-Profil v.d.L.) exkl. Dichtung, gebohrt und entgratet"},null,null,null,null,null,null,null,0]
[null,null,3420,0,{"$f":"VLOOKUP(\"[Stk]\",Sprachindex!$A:$Z,Haftungsausschluß!$O$6,FALSE)","v":"[Stk]"},{"$f":"IF($L$14=1,Preisliste!$E$46,Preisliste!$F$46)","v":0},{"$f":"VLOOKUP(\"Grundprofil 50 (H-Profil v.d.L.) Sonderlänge exkl. Dichtung, (Stangenware)\",Sprachindex!$A:$Z,Haftungsausschluß!$O$6,FALSE)","v":"Grundprofil 50 (H-Profil v.d.L.) Sonderlänge exkl. Dichtung, (Stangenware)"},null,null,null,null,null,null,null,0]
[null,null,750,0,{"$f":"VLOOKUP(\"[Stk]\",Sprachindex!$A:$Z,Haftungsausschluß!$O$6,FALSE)","v":"[Stk]"},{"$f":"IF($L$14=1,Preisliste!$E$49,Preisliste!$F$49)","v":"H801201"},{"$f":"VLOOKUP(\"Grundprofil 80 (H-Profil v.d.L.) exkl. Dichtung, gebohrt und entgratet\",Sprachindex!$A:$Z,Haftungsausschluß!$O$6,FALSE) & IF('Kalkulation 1'!$AH$34,\" \" & 'Kalkulation 1'!$R$9,\"\")","v":"Grundprofil 80 (H-Profil v.d.L.) exkl. Dichtung, gebohrt und entgratet"},null,null,null,null,null,null,null,0]
[null,null,1350,0,{"$f":"VLOOKUP(\"[Stk]\",Sprachindex!$A:$Z,Haftungsausschluß!$O$6,FALSE)","v":"[Stk]"},{"$f":"IF($L$14=1,Preisliste!$E$50,Preisliste!$F$50)","v":"H801211"},{"$f":"VLOOKUP(\"Grundprofil 80 (H-Profil v.d.L.) exkl. Dichtung, gebohrt und entgratet\",Sprachindex!$A:$Z,Haftungsausschluß!$O$6,FALSE) & IF('Kalkulation 1'!$AH$34,\" \" & 'Kalkulation 1'!$R$9,\"\")","v":"Grundprofil 80 (H-Profil v.d.L.) exkl. Dichtung, gebohrt und entgratet"},null,null,null,null,null,null,null,0]
[null,null,1750,0,{"$f":"VLOOKUP(\"[Stk]\",Sprachindex!$A:$Z,Haftungsausschluß!$O$6,FALSE)","v":"[Stk]"},{"$f":"IF($L$14=1,Preisliste!$E$51,Preisliste!$F$51)","v":"H801212"},{"$f":"VLOOKUP(\"Grundprofil 80 (H-Profil v.d.L.) exkl. Dichtung, gebohrt und entgratet\",Sprachindex!$A:$Z,Haftungsausschluß!$O$6,FALSE) & IF('Kalkulation 1'!$AH$34,\" \" & 'Kalkulation 1'!$R$9,\"\")","v":"Grundprofil 80 (H-Profil v.d.L.) exkl. Dichtung, gebohrt und entgratet"},null,null,null,null,null,null,null,0]
[null,null,2150,0,{"$f":"VLOOKUP(\"[Stk]\",Sprachindex!$A:$Z,Haftungsausschluß!$O$6,FALSE)","v":"[Stk]"},{"$f":"IF($L$14=1,Preisliste!$E$52,Preisliste!$F$52)","v":"H801222"},{"$f":"VLOOKUP(\"Grundprofil 80 (H-Profil v.d.L.) exkl. Dichtung, gebohrt und entgratet\",Sprachindex!$A:$Z,Haftungsausschluß!$O$6,FALSE) & IF('Kalkulation 1'!$AH$34,\" \" & 'Kalkulation 1'!$R$9,\"\")","v":"Grundprofil 80 (H-Profil v.d.L.) exkl. Dichtung, gebohrt und entgratet"},null,null,null,null,null,null,null,0]
[null,null,3320,0,{"$f":"VLOOKUP(\"[Stk]\",Sprachindex!$A:$Z,Haftungsausschluß!$O$6,FALSE)","v":"[Stk]"},{"$f":"IF($L$14=1,Preisliste!$E$53,Preisliste!$F$53)","v":0},{"$f":"VLOOKUP(\"Grundprofil 80 (H-Profil v.d.L.) Sonderlänge exkl. Dichtung, (Stangenware)\",Sprachindex!$A:$Z,Haftungsausschluß!$O$6,FALSE)","v":"Grundprofil 80 (H-Profil v.d.L.) Sonderlänge exkl. Dichtung, (Stangenware)"},null,null,null,null,null,null,null,0]
[null,null,750,0,{"$f":"VLOOKUP(\"[Stk]\",Sprachindex!$A:$Z,Haftungsausschluß!$O$6,FALSE)","v":"[Stk]"},{"$f":"IF($L$14=1,Preisliste!$E$56,Preisliste!$F$56)","v":"H501301"},{"$f":"VLOOKUP(\"Rundprofil 50 exkl. Dichtung, gebohrt und entgratet\",Sprachindex!$A:$Z,Haftungsausschluß!$O$6,FALSE) & \" (7,81\"  & \" \" & VLOOKUP(\"kg/Stk\",Sprachindex!$A:$Z,Haftungsausschluß!$O$6,FALSE) & \")\"","v":"Rundprofil 50 exkl. Dichtung, gebohrt und entgratet (7,81 kg/Stk)"},null,null,null,null,null,null,null,0]
[null,null,1350,0,{"$f":"VLOOKUP(\"[Stk]\",Sprachindex!$A:$Z,Haftungsausschluß!$O$6,FALSE)","v":"[Stk]"},{"$f":"IF($L$14=1,Preisliste!$E$57,Preisliste!$F$57)","v":"H501311"},{"$f":"VLOOKUP(\"Rundprofil 50 exkl. Dichtung, gebohrt und entgratet\",Sprachindex!$A:$Z,Haftungsausschluß!$O$6,FALSE) & \" (14,05\"  & \" \" & VLOOKUP(\"kg/Stk\",Sprachindex!$A:$Z,Haftungsausschluß!$O$6,FALSE) & \")\"","v":"Rundprofil 50 exkl. Dichtung, gebohrt und entgratet (14,05 kg/Stk)"},null,null,null,null,null,null,null,0]
[null,null,1750,0,{"$f":"VLOOKUP(\"[Stk]\",Sprachindex!$A:$Z,Haftungsausschluß!$O$6,FALSE)","v":"[Stk]"},{"$f":"IF($L$14=1,Preisliste!$E$58,Preisliste!$F$58)","v":"H501312"},{"$f":"VLOOKUP(\"Rundprofil 50 exkl. Dichtung, gebohrt und entgratet\",Sprachindex!$A:$Z,Haftungsausschluß!$O$6,FALSE) & \" (18,21\"  & \" \" & VLOOKUP(\"kg/Stk\",Sprachindex!$A:$Z,Haftungsausschluß!$O$6,FALSE) & \")\"","v":"Rundprofil 50 exkl. Dichtung, gebohrt und entgratet (18,21 kg/Stk)"},null,null,null,null,null,null,null,0]
[null,null,2150,0,{"$f":"VLOOKUP(\"[Stk]\",Sprachindex!$A:$Z,Haftungsausschluß!$O$6,FALSE)","v":"[Stk]"},{"$f":"IF($L$14=1,Preisliste!$E$59,Preisliste!$F$59)","v":"H501322"},{"$f":"VLOOKUP(\"Rundprofil 50 exkl. Dichtung, gebohrt und entgratet\",Sprachindex!$A:$Z,Haftungsausschluß!$O$6,FALSE) & \" (22,37\"  & \" \" & VLOOKUP(\"kg/Stk\",Sprachindex!$A:$Z,Haftungsausschluß!$O$6,FALSE) & \")\"","v":"Rundprofil 50 exkl. Dichtung, gebohrt und entgratet (22,37 kg/Stk)"},null,null,null,null,null,null,null,0]
[null,null,3420,0,{"$f":"VLOOKUP(\"[Stk]\",Sprachindex!$A:$Z,Haftungsausschluß!$O$6,FALSE)","v":"[Stk]"},{"$f":"IF($L$14=1,Preisliste!$E$60,Preisliste!$F$60)","v":0},{"$f":"VLOOKUP(\"Rundprofil 50 Sonderlänge exkl. Dichtung, (Stangenware)\",Sprachindex!$A:$Z,Haftungsausschluß!$O$6,FALSE)","v":"Rundprofil 50 Sonderlänge exkl. Dichtung, (Stangenware)"},null,null,null,null,null,null,null,0]
[null,null,750,0,{"$f":"VLOOKUP(\"[Stk]\",Sprachindex!$A:$Z,Haftungsausschluß!$O$6,FALSE)","v":"[Stk]"},{"$f":"IF($L$14=1,Preisliste!$E$62,Preisliste!$F$62)","v":"H801301"},{"$f":"VLOOKUP(\"Rundprofil 80 exkl. Dichtung, gebohrt und entgratet\",Sprachindex!$A:$Z,Haftungsausschluß!$O$6,FALSE) & \" (8,45\"  & \" \" & VLOOKUP(\"kg/Stk\",Sprachindex!$A:$Z,Haftungsausschluß!$O$6,FALSE) & \")\"","v":"Rundprofil 80 exkl. Dichtung, gebohrt und entgratet (8,45 kg/Stk)"},null,null,null,null,null,null,null,0]
[null,null,1350,0,{"$f":"VLOOKUP(\"[Stk]\",Sprachindex!$A:$Z,Haftungsausschluß!$O$6,FALSE)","v":"[Stk]"},{"$f":"IF($L$14=1,Preisliste!$E$63,Preisliste!$F$63)","v":"H801311"},{"$f":"VLOOKUP(\"Rundprofil 80 exkl. Dichtung, gebohrt und entgratet\",Sprachindex!$A:$Z,Haftungsausschluß!$O$6,FALSE) & \" (15,20\"  & \" \" & VLOOKUP(\"kg/Stk\",Sprachindex!$A:$Z,Haftungsausschluß!$O$6,FALSE) & \")\"","v":"Rundprofil 80 exkl. Dichtung, gebohrt und entgratet (15,20 kg/Stk)"},null,null,null,null,null,null,null,0]
[null,null,1750,0,{"$f":"VLOOKUP(\"[Stk]\",Sprachindex!$A:$Z,Haftungsausschluß!$O$6,FALSE)","v":"[Stk]"},{"$f":"IF($L$14=1,Preisliste!$E$64,Preisliste!$F$64)","v":"H801312"},{"$f":"VLOOKUP(\"Rundprofil 80 exkl. Dichtung, gebohrt und entgratet\",Sprachindex!$A:$Z,Haftungsausschluß!$O$6,FALSE) & \" (19,71\"  & \" \" & VLOOKUP(\"kg/Stk\",Sprachindex!$A:$Z,Haftungsausschluß!$O$6,FALSE) & \")\"","v":"Rundprofil 80 exkl. Dichtung, gebohrt und entgratet (19,71 kg/Stk)"},null,null,null,null,null,null,null,0]
[null,null,2150,0,{"$f":"VLOOKUP(\"[Stk]\",Sprachindex!$A:$Z,Haftungsausschluß!$O$6,FALSE)","v":"[Stk]"},{"$f":"IF($L$14=1,Preisliste!$E$65,Preisliste!$F$65)","v":"H801322"},{"$f":"VLOOKUP(\"Rundprofil 80 exkl. Dichtung, gebohrt und entgratet\",Sprachindex!$A:$Z,Haftungsausschluß!$O$6,FALSE) & \" (24,21\"  & \" \" & VLOOKUP(\"kg/Stk\",Sprachindex!$A:$Z,Haftungsausschluß!$O$6,FALSE) & \")\"","v":"Rundprofil 80 exkl. Dichtung, gebohrt und entgratet (24,21 kg/Stk)"},null,null,null,null,null,null,null,0]
[null,null,3320,0,{"$f":"VLOOKUP(\"[Stk]\",Sprachindex!$A:$Z,Haftungsausschluß!$O$6,FALSE)","v":"[Stk]"},{"$f":"IF($L$14=1,Preisliste!$E$66,Preisliste!$F$66)","v":0},{"$f":"VLOOKUP(\"Rundprofil 80 Sonderlänge exkl. Dichtung, (Stangenware)\",Sprachindex!$A:$Z,Haftungsausschluß!$O$6,FALSE)","v":"Rundprofil 80 Sonderlänge exkl. Dichtung, (Stangenware)"},null,null,null,null,null,null,null,0]
[null,null,750,0,{"$f":"VLOOKUP(\"[Stk]\",Sprachindex!$A:$Z,Haftungsausschluß!$O$6,FALSE)","v":"[Stk]"},{"$f":"IF($L$14=1,Preisliste!$E$68,Preisliste!$F$68)","v":"H801340"},{"$f":"VLOOKUP(\"Rundprofil 80 gr. exkl. Dichtung, gebohrt und entgratet\",Sprachindex!$A:$Z,Haftungsausschluß!$O$6,FALSE) & \" (10,93\"  & \" \" & VLOOKUP(\"kg/Stk\",Sprachindex!$A:$Z,Haftungsausschluß!$O$6,FALSE) & \")\"","v":"Rundprofil 80 gr. exkl. Dichtung, gebohrt und entgratet (10,93 kg/Stk)"},null,null,null,null,null,null,null,0]
[null,null,1350,0,{"$f":"VLOOKUP(\"[Stk]\",Sprachindex!$A:$Z,Haftungsausschluß!$O$6,FALSE)","v":"[Stk]"},{"$f":"IF($L$14=1,Preisliste!$E$69,Preisliste!$F$69)","v":"H801341"},{"$f":"VLOOKUP(\"Rundprofil 80 gr. exkl. Dichtung, gebohrt und entgratet\",Sprachindex!$A:$Z,Haftungsausschluß!$O$6,FALSE) & \" (19,67\"  & \" \" & VLOOKUP(\"kg/Stk\",Sprachindex!$A:$Z,Haftungsausschluß!$O$6,FALSE) & \")\"","v":"Rundprofil 80 gr. exkl. Dichtung, gebohrt und entgratet (19,67 kg/Stk)"},null,null,null,null,null,null,null,0]
[null,null,1750,0,{"$f":"VLOOKUP(\"[Stk]\",Sprachindex!$A:$Z,Haftungsausschluß!$O$6,FALSE)","v":"[Stk]"},{"$f":"IF($L$14=1,Preisliste!$E$70,Preisliste!$F$70)","v":"H801342"},{"$f":"VLOOKUP(\"Rundprofil 80 gr. exkl. Dichtung, gebohrt und entgratet\",Sprachindex!$A:$Z,Haftungsausschluß!$O$6,FALSE) & \" (25,50\"  & \" \" & VLOOKUP(\"kg/Stk\",Sprachindex!$A:$Z,Haftungsausschluß!$O$6,FALSE) & \")\"","v":"Rundprofil 80 gr. exkl. Dichtung, gebohrt und entgratet (25,50 kg/Stk)"},null,null,null,null,null,null,null,0]
[null,null,2150,0,{"$f":"VLOOKUP(\"[Stk]\",Sprachindex!$A:$Z,Haftungsausschluß!$O$6,FALSE)","v":"[Stk]"},{"$f":"IF($L$14=1,Preisliste!$E$71,Preisliste!$F$71)","v":"H801343"},{"$f":"VLOOKUP(\"Rundprofil 80 gr. exkl. Dichtung, gebohrt und entgratet\",Sprachindex!$A:$Z,Haftungsausschluß!$O$6,FALSE) & \" (31,33\"  & \" \" & VLOOKUP(\"kg/Stk\",Sprachindex!$A:$Z,Haftungsausschluß!$O$6,FALSE) & \")\"","v":"Rundprofil 80 gr. exkl. Dichtung, gebohrt und entgratet (31,33 kg/Stk)"},null,null,null,null,null,null,null,0]
[null,null,2320,0,{"$f":"VLOOKUP(\"[Stk]\",Sprachindex!$A:$Z,Haftungsausschluß!$O$6,FALSE)","v":"[Stk]"},{"$f":"IF($L$14=1,Preisliste!$E$72,Preisliste!$F$72)","v":0},{"$f":"VLOOKUP(\"Rundprofil 80 gr. Sonderlänge exkl. Dichtung, (Stangenware)\",Sprachindex!$A:$Z,Haftungsausschluß!$O$6,FALSE)","v":"Rundprofil 80 gr. Sonderlänge exkl. Dichtung, (Stangenware)"},null,null,null,null,null,null,null,0]
[null,null,750,0,{"$f":"VLOOKUP(\"[Stk]\",Sprachindex!$A:$Z,Haftungsausschluß!$O$6,FALSE)","v":"[Stk]"},{"$f":"IF($L$14=1,Preisliste!$E$74,Preisliste!$F$74)","v":"H501600"},{"$f":"VLOOKUP(\"Rundprofil 50-90° exkl. Dichtung, gebohrt und entgratet\",Sprachindex!$A:$Z,Haftungsausschluß!$O$6,FALSE)","v":"Rundprofil 50-90° exkl. Dichtung, gebohrt und entgratet"},null,null,null,null,null,null,null,0]
[null,null,1350,0,{"$f":"VLOOKUP(\"[Stk]\",Sprachindex!$A:$Z,Haftungsausschluß!$O$6,FALSE)","v":"[Stk]"},{"$f":"IF($L$14=1,Preisliste!$E$75,Preisliste!$F$75)","v":"H501601"},{"$f":"VLOOKUP(\"Rundprofil 50-90° exkl. Dichtung, gebohrt und entgratet\",Sprachindex!$A:$Z,Haftungsausschluß!$O$6,FALSE)","v":"Rundprofil 50-90° exkl. Dichtung, gebohrt und entgratet"},null,null,null,null,null,null,null,0]
[null,null,1750,0,{"$f":"VLOOKUP(\"[Stk]\",Sprachindex!$A:$Z,Haftungsausschluß!$O$6,FALSE)","v":"[Stk]"},{"$f":"IF($L$14=1,Preisliste!$E$76,Preisliste!$F$76)","v":"H501602"},{"$f":"VLOOKUP(\"Rundprofil 50-90° exkl. Dichtung, gebohrt und entgratet\",Sprachindex!$A:$Z,Haftungsausschluß!$O$6,FALSE)","v":"Rundprofil 50-90° exkl. Dichtung, gebohrt und entgratet"},null,null,null,null,null,null,null,0]
[null,null,2150,0,{"$f":"VLOOKUP(\"[Stk]\",Sprachindex!$A:$Z,Haftungsausschluß!$O$6,FALSE)","v":"[Stk]"},{"$f":"IF($L$14=1,Preisliste!$E$77,Preisliste!$F$77)","v":"H501603"},{"$f":"VLOOKUP(\"Rundprofil 50-90° exkl. Dichtung, gebohrt und entgratet\",Sprachindex!$A:$Z,Haftungsausschluß!$O$6,FALSE)","v":"Rundprofil 50-90° exkl. Dichtung, gebohrt und entgratet"},null,null,null,null,null,null,null,0]
[null,null,2320,0,{"$f":"VLOOKUP(\"[Stk]\",Sprachindex!$A:$Z,Haftungsausschluß!$O$6,FALSE)","v":"[Stk]"},{"$f":"IF($L$14=1,Preisliste!$E$78,Preisliste!$F$78)","v":0},{"$f":"VLOOKUP(\"Rundprofil 50-90° Sonderlänge exkl. Dichtung, (Stangenware)\",Sprachindex!$A:$Z,Haftungsausschluß!$O$6,FALSE)","v":"Rundprofil 50-90° Sonderlänge exkl. Dichtung, (Stangenware)"},null,null,null,null,null,null,null,0]
[null,null,750,0,{"$f":"VLOOKUP(\"[Stk]\",Sprachindex!$A:$Z,Haftungsausschluß!$O$6,FALSE)","v":"[Stk]"},{"$f":"IF($L$14=1,Preisliste!$E$80,Preisliste!$F$80)","v":"H801600"},{"$f":"VLOOKUP(\"Rundprofil 80-90° exkl. Dichtung, gebohrt und entgratet\",Sprachindex!$A:$Z,Haftungsausschluß!$O$6,FALSE)","v":"Rundprofil 80-90° exkl. Dichtung, gebohrt und entgratet"},null,null,null,null,null,null,null,0]
[null,null,1350,0,{"$f":"VLOOKUP(\"[Stk]\",Sprachindex!$A:$Z,Haftungsausschluß!$O$6,FALSE)","v":"[Stk]"},{"$f":"IF($L$14=1,Preisliste!$E$81,Preisliste!$F$81)","v":"H801601"},{"$f":"VLOOKUP(\"Rundprofil 80-90° exkl. Dichtung, gebohrt und entgratet\",Sprachindex!$A:$Z,Haftungsausschluß!$O$6,FALSE)","v":"Rundprofil 80-90° exkl. Dichtung, gebohrt und entgratet"},null,null,null,null,null,null,null,0]
[null,null,1750,0,{"$f":"VLOOKUP(\"[Stk]\",Sprachindex!$A:$Z,Haftungsausschluß!$O$6,FALSE)","v":"[Stk]"},{"$f":"IF($L$14=1,Preisliste!$E$82,Preisliste!$F$82)","v":"H801602"},{"$f":"VLOOKUP(\"Rundprofil 80-90° exkl. Dichtung, gebohrt und entgratet\",Sprachindex!$A:$Z,Haftungsausschluß!$O$6,FALSE)","v":"Rundprofil 80-90° exkl. Dichtung, gebohrt und entgratet"},null,null,null,null,null,null,null,0]
[null,null,2150,0,{"$f":"VLOOKUP(\"[Stk]\",Sprachindex!$A:$Z,Haftungsausschluß!$O$6,FALSE)","v":"[Stk]"},{"$f":"IF($L$14=1,Preisliste!$E$83,Preisliste!$F$83)","v":"H801603"},{"$f":"VLOOKUP(\"Rundprofil 80-90° exkl. Dichtung, gebohrt und entgratet\",Sprachindex!$A:$Z,Haftungsausschluß!$O$6,FALSE)","v":"Rundprofil 80-90° exkl. Dichtung, gebohrt und entgratet"},null,null,null,null,null,null,null,0]
[null,null,3320,0,{"$f":"VLOOKUP(\"[Stk]\",Sprachindex!$A:$Z,Haftungsausschluß!$O$6,FALSE)","v":"[Stk]"},{"$f":"IF($L$14=1,Preisliste!$E$84,Preisliste!$F$84)","v":0},{"$f":"VLOOKUP(\"Rundprofil 80-90° Sonderlänge exkl. Dichtung, (Stangenware)\",Sprachindex!$A:$Z,Haftungsausschluß!$O$6,FALSE)","v":"Rundprofil 80-90° Sonderlänge exkl. Dichtung, (Stangenware)"},null,null,null,null,null,null,null,{"$f":"N146*D146","v":0}]
[null,null,750,0,{"$f":"VLOOKUP(\"[Stk]\",Sprachindex!$A:$Z,Haftungsausschluß!$O$6,FALSE)","v":"[Stk]"},{"$f":"IF($L$14=1,Preisliste!$E$86,Preisliste!$F$86)","v":"H501610"},{"$f":"VLOOKUP(\"Rundprofil 50-Vario exkl. Dichtung, gebohrt und entgratet\",Sprachindex!$A:$Z,Haftungsausschluß!$O$6,FALSE)","v":"Rundprofil 50-Vario exkl. Dichtung, gebohrt und entgratet"},null,null,null,null,null,null,null,0]
[null,null,1350,0,{"$f":"VLOOKUP(\"[Stk]\",Sprachindex!$A:$Z,Haftungsausschluß!$O$6,FALSE)","v":"[Stk]"},{"$f":"IF($L$14=1,Preisliste!$E$87,Preisliste!$F$87)","v":"H501611"},{"$f":"VLOOKUP(\"Rundprofil 50-Vario exkl. Dichtung, gebohrt und entgratet\",Sprachindex!$A:$Z,Haftungsausschluß!$O$6,FALSE)","v":"Rundprofil 50-Vario exkl. Dichtung, gebohrt und entgratet"},null,null,null,null,null,null,null,0]
[null,null,1750,0,{"$f":"VLOOKUP(\"[Stk]\",Sprachindex!$A:$Z,Haftungsausschluß!$O$6,FALSE)","v":"[Stk]"},{"$f":"IF($L$14=1,Preisliste!$E$88,Preisliste!$F$88)","v":"H501612"},{"$f":"VLOOKUP(\"Rundprofil 50-Vario exkl. Dichtung, gebohrt und entgratet\",Sprachindex!$A:$Z,Haftungsausschluß!$O$6,FALSE)","v":"Rundprofil 50-Vario exkl. Dichtung, gebohrt und entgratet"},null,null,null,null,null,null,null,0]
[null,null,2150,0,{"$f":"VLOOKUP(\"[Stk]\",Sprachindex!$A:$Z,Haftungsausschluß!$O$6,FALSE)","v":"[Stk]"},{"$f":"IF($L$14=1,Preisliste!$E$89,Preisliste!$F$89)","v":"H501613"},{"$f":"VLOOKUP(\"Rundprofil 50-Vario exkl. Dichtung, gebohrt und entgratet\",Sprachindex!$A:$Z,Haftungsausschluß!$O$6,FALSE)","v":"Rundprofil 50-Vario exkl. Dichtung, gebohrt und entgratet"},null,null,null,null,null,null,null,0]
[null,null,3420,0,{"$f":"VLOOKUP(\"[Stk]\",Sprachindex!$A:$Z,Haftungsausschluß!$O$6,FALSE)","v":"[Stk]"},{"$f":"IF($L$14=1,Preisliste!$E$90,Preisliste!$F$90)","v":0},{"$f":"VLOOKUP(\"Rundprofil 50-Vario Sonderlänge exkl. Dichtung, (Stangenware)\",Sprachindex!$A:$Z,Haftungsausschluß!$O$6,FALSE)","v":"Rundprofil 50-Vario Sonderlänge exkl. Dichtung, (Stangenware)"},null,null,null,null,null,null,null,0]
[null,null,750,0,{"$f":"VLOOKUP(\"[Stk]\",Sprachindex!$A:$Z,Haftungsausschluß!$O$6,FALSE)","v":"[Stk]"},{"$f":"IF($L$14=1,Preisliste!$E$92,Preisliste!$F$92)","v":"H801610"},{"$f":"VLOOKUP(\"Rundprofil 80-Vario exkl. Dichtung, gebohrt und entgratet\",Sprachindex!$A:$Z,Haftungsausschluß!$O$6,FALSE)","v":"Rundprofil 80-Vario exkl. Dichtung, gebohrt und entgratet"},null,null,null,null,null,null,null,0]
[null,null,1350,0,{"$f":"VLOOKUP(\"[Stk]\",Sprachindex!$A:$Z,Haftungsausschluß!$O$6,FALSE)","v":"[Stk]"},{"$f":"IF($L$14=1,Preisliste!$E$93,Preisliste!$F$93)","v":"H801611"},{"$f":"VLOOKUP(\"Rundprofil 80-Vario exkl. Dichtung, gebohrt und entgratet\",Sprachindex!$A:$Z,Haftungsausschluß!$O$6,FALSE)","v":"Rundprofil 80-Vario exkl. Dichtung, gebohrt und entgratet"},null,null,null,null,null,null,null,0]
[null,null,1750,0,{"$f":"VLOOKUP(\"[Stk]\",Sprachindex!$A:$Z,Haftungsausschluß!$O$6,FALSE)","v":"[Stk]"},{"$f":"IF($L$14=1,Preisliste!$E$94,Preisliste!$F$94)","v":"H801612"},{"$f":"VLOOKUP(\"Rundprofil 80-Vario exkl. Dichtung, gebohrt und entgratet\",Sprachindex!$A:$Z,Haftungsausschluß!$O$6,FALSE)","v":"Rundprofil 80-Vario exkl. Dichtung, gebohrt und entgratet"},null,null,null,null,null,null,null,0]
[null,null,2150,0,{"$f":"VLOOKUP(\"[Stk]\",Sprachindex!$A:$Z,Haftungsausschluß!$O$6,FALSE)","v":"[Stk]"},{"$f":"IF($L$14=1,Preisliste!$E$95,Preisliste!$F$95)","v":"H801613"},{"$f":"VLOOKUP(\"Rundprofil 80-Vario exkl. Dichtung, gebohrt und entgratet\",Sprachindex!$A:$Z,Haftungsausschluß!$O$6,FALSE)","v":"Rundprofil 80-Vario exkl. Dichtung, gebohrt und entgratet"},null,null,null,null,null,null,null,0]
[null,null,3320,0,{"$f":"VLOOKUP(\"[Stk]\",Sprachindex!$A:$Z,Haftungsausschluß!$O$6,FALSE)","v":"[Stk]"},{"$f":"IF($L$14=1,Preisliste!$E$96,Preisliste!$F$96)","v":0},{"$f":"VLOOKUP(\"Rundprofil 80-Vario Sonderlänge exkl. Dichtung, (Stangenware)\",Sprachindex!$A:$Z,Haftungsausschluß!$O$6,FALSE)","v":"Rundprofil 80-Vario Sonderlänge exkl. Dichtung, (Stangenware)"},null,null,null,null,null,null,null,0]
[null,null,null,{"$f":"B157","v":0},{"$f":"VLOOKUP(\"[Stk]\",Sprachindex!$A:$Z,Haftungsausschluß!$O$6,FALSE)","v":"[Stk]"},{"$f":"IF($L$14=1,Preisliste!$E$98,Preisliste!$F$98)","v":"H001030"},{"$f":"VLOOKUP(\"Bodenhülse 50/80 beschichtet inkl. Aluminiumdeckel und Dichtung\",Sprachindex!$A:$Z,Haftungsausschluß!$O$6,FALSE)","v":"Bodenhülse 50/80 beschichtet inkl. Aluminiumdeckel und Dichtung"},null,null,null,null,null,null,null,0]
[null,null,null,{"$f":"B158","v":0},{"$f":"VLOOKUP(\"[Stk]\",Sprachindex!$A:$Z,Haftungsausschluß!$O$6,FALSE)","v":"[Stk]"},{"$f":"IF($L$14=1,Preisliste!$E$99,Preisliste!$F$99)","v":"H001040"},{"$f":"VLOOKUP(\"Bodenhülse 50/80 beschichtet inkl. Edelstahldeckel und Dichtung\",Sprachindex!$A:$Z,Haftungsausschluß!$O$6,FALSE)","v":"Bodenhülse 50/80 beschichtet inkl. Edelstahldeckel und Dichtung"},null,null,null,null,null,null,null,0]
[null,null,null,0,{"$f":"VLOOKUP(\"[Stk]\",Sprachindex!$A:$Z,Haftungsausschluß!$O$6,FALSE)","v":"[Stk]"},{"$f":"IF($L$14=1,Preisliste!$E$101,Preisliste!$F$101)","v":"H001031"},{"$f":"VLOOKUP(\"Bodenhülse (GROSS) 50 Vario und 80 beschichtet inkl. Aluminiumdeckel und Dichtung\",Sprachindex!$A:$Z,Haftungsausschluß!$O$6,FALSE)","v":"Bodenhülse (GROSS) 50 Vario und 80 beschichtet inkl. Aluminiumdeckel und Dichtung"},null,null,null,null,null,null,null,0]
[null,null,null,0,{"$f":"VLOOKUP(\"[Stk]\",Sprachindex!$A:$Z,Haftungsausschluß!$O$6,FALSE)","v":"[Stk]"},{"$f":"IF($L$14=1,Preisliste!$E$102,Preisliste!$F$102)","v":"H001041"},{"$f":"VLOOKUP(\"Bodenhülse (GROSS) 50 Vario und 80 beschichtet inkl. Edelstahldeckel und Dichtung\",Sprachindex!$A:$Z,Haftungsausschluß!$O$6,FALSE)","v":"Bodenhülse (GROSS) 50 Vario und 80 beschichtet inkl. Edelstahldeckel und Dichtung"},null,null,null,null,null,null,null,0]
[null,null,750,0,{"$f":"VLOOKUP(\"[Stk]\",Sprachindex!$A:$Z,Haftungsausschluß!$O$6,FALSE)","v":"[Stk]"},{"$f":"IF($L$14=1,Preisliste!$E$104,Preisliste!$F$104)","v":"H501031"},{"$f":"VLOOKUP(\"Niederhalter inkl. Spannstück, Verbundanker und Gewindestange\",Sprachindex!$A:$Z,Haftungsausschluß!$O$6,FALSE)","v":"Niederhalter inkl. Spannstück, Verbundanker und Gewindestange"},null,null,null,null,null,null,null,0]
[null,null,1350,0,{"$f":"VLOOKUP(\"[Stk]\",Sprachindex!$A:$Z,Haftungsausschluß!$O$6,FALSE)","v":"[Stk]"},{"$f":"IF($L$14=1,Preisliste!$E$105,Preisliste!$F$105)","v":"H501041"},{"$f":"VLOOKUP(\"Niederhalter inkl. Spannstück, Verbundanker und Gewindestange\",Sprachindex!$A:$Z,Haftungsausschluß!$O$6,FALSE)","v":"Niederhalter inkl. Spannstück, Verbundanker und Gewindestange"},null,null,null,null,null,null,null,0]
[null,null,1750,0,{"$f":"VLOOKUP(\"[Stk]\",Sprachindex!$A:$Z,Haftungsausschluß!$O$6,FALSE)","v":"[Stk]"},{"$f":"IF($L$14=1,Preisliste!$E$106,Preisliste!$F$106)","v":"H501042"},{"$f":"VLOOKUP(\"Niederhalter inkl. Spannstück, Verbundanker und Gewindestange\",Sprachindex!$A:$Z,Haftungsausschluß!$O$6,FALSE)","v":"Niederhalter inkl. Spannstück, Verbundanker und Gewindestange"},null,null,null,null,null,null,null,0]
[null,null,null,0,{"$f":"VLOOKUP(\"[Stk]\",Sprachindex!$A:$Z,Haftungsausschluß!$O$6,FALSE)","v":"[Stk]"},{"$f":"IF($L$14=1,Preisliste!$E$109,Preisliste!$F$109)","v":"H001071"},{"$f":"VLOOKUP(\"Spannstück mit Sterngriff\",Sprachindex!$A:$Z,Haftungsausschluß!$O$6,FALSE)","v":"Spannstück mit Sterngriff"},null,null,null,null,null,null,65.63,0]
[null,null,null,0,{"$f":"VLOOKUP(\"[Stk]\",Sprachindex!$A:$Z,Haftungsausschluß!$O$6,FALSE)","v":"[Stk]"},{"$f":"IF($L$14=1,Preisliste!$E$110,Preisliste!$F$110)","v":"H001061"},{"$f":"VLOOKUP(\"Spannstück mit 6-Kantschraube\",Sprachindex!$A:$Z,Haftungsausschluß!$O$6,FALSE)","v":"Spannstück mit 6-Kantschraube"},null,null,null,null,null,null,null,0]
[null,null,null,0,{"$f":"VLOOKUP(\"[lfm]\",Sprachindex!$A:$Z,Haftungsausschluß!$O$6,FALSE)","v":"[lfm]"},{"$f":"IF($L$14=1,Preisliste!$E$114,Preisliste!$F$114)","v":"H251900"},{"$f":"VLOOKUP(\"Bodendichtung 25\",Sprachindex!$A:$Z,Haftungsausschluß!$O$6,FALSE)","v":"Bodendichtung 25"},null,null,null,null,null,null,null,0]
[null,null,null,0,{"$f":"VLOOKUP(\"[lfm]\",Sprachindex!$A:$Z,Haftungsausschluß!$O$6,FALSE)","v":"[lfm]"},{"$f":"IF($L$14=1,Preisliste!$E$115,Preisliste!$F$115)","v":"H501901"},{"$f":"VLOOKUP(\"Bodendichtung 50\",Sprachindex!$A:$Z,Haftungsausschluß!$O$6,FALSE)","v":"Bodendichtung 50"},null,null,null,null,null,null,18.600000000000001,0]
[null,null,null,0,{"$f":"VLOOKUP(\"[lfm]\",Sprachindex!$A:$Z,Haftungsausschluß!$O$6,FALSE)","v":"[lfm]"},{"$f":"IF($L$14=1,Preisliste!$E$116,Preisliste!$F$116)","v":"H801901"},{"$f":"VLOOKUP(\"Bodendichtung 80\",Sprachindex!$A:$Z,Haftungsausschluß!$O$6,FALSE)","v":"Bodendichtung 80"},null,null,null,null,null,null,null,0]
[null,null,null,0,{"$f":"VLOOKUP(\"[VPE]\",Sprachindex!$A:$Z,Haftungsausschluß!$O$6,FALSE)","v":"[VPE]"},{"$f":"IF($L$14=1,Preisliste!$E$117,Preisliste!$F$117)","v":"H001080"},{"$f":"VLOOKUP(\"Dammbalkendichtung (50+80)\",Sprachindex!$A:$Z,Haftungsausschluß!$O$6,FALSE)","v":"Dammbalkendichtung (50+80)"},null,null,null,null,null,null,45.86,0]
[null,null,null,0,{"$f":"VLOOKUP(\"[VPE]\",Sprachindex!$A:$Z,Haftungsausschluß!$O$6,FALSE)","v":"[VPE]"},{"$f":"IF($L$14=1,Preisliste!$E$118,Preisliste!$F$118)","v":"H251901"},{"$f":"VLOOKUP(\"Dammbalkendichtung (25)\",Sprachindex!$A:$Z,Haftungsausschluß!$O$6,FALSE)","v":"Dammbalkendichtung (25)"},null,null,null,null,null,null,null,0]
[null,null,null,0,{"$f":"VLOOKUP(\"[VPE]\",Sprachindex!$A:$Z,Haftungsausschluß!$O$6,FALSE)","v":"[VPE]"},{"$f":"IF($L$14=1,Preisliste!$E$119,Preisliste!$F$119)","v":"H001090"},{"$f":"VLOOKUP(\"Grundprofildichtung\",Sprachindex!$A:$Z,Haftungsausschluß!$O$6,FALSE)","v":"Grundprofildichtung"},null,null,null,null,null,null,41.93,0]
[null,null,null,0,{"$f":"VLOOKUP(\"[lfm]\",Sprachindex!$A:$Z,Haftungsausschluß!$O$6,FALSE)","v":"[lfm]"},{"$f":"IF($L$14=1,Preisliste!$E$120,Preisliste!$F$120)","v":"H001081"},{"$f":"VLOOKUP(\"Dauerbodendichtung 50\",Sprachindex!$A:$Z,Haftungsausschluß!$O$6,FALSE)","v":"Dauerbodendichtung 50"},null,null,null,null,null,null,null,0]
[null,null,null,0,{"$f":"VLOOKUP(\"[lfm]\",Sprachindex!$A:$Z,Haftungsausschluß!$O$6,FALSE)","v":"[lfm]"},{"$f":"IF($L$14=1,Preisliste!$E$121,Preisliste!$F$121)","v":"H001082"},{"$f":"VLOOKUP(\"Dauerbodendichtung 80\",Sprachindex!$A:$Z,Haftungsausschluß!$O$6,FALSE)","v":"Dauerbodendichtung 80"},null,null,null,null,null,null,null,0]
[null,null,750,0,{"$f":"VLOOKUP(\"[Stk]\",Sprachindex!$A:$Z,Haftungsausschluß!$O$6,FALSE)","v":"[Stk]"},{"$f":"IF($L$14=1,Preisliste!$E$123,Preisliste!$F$123)","v":"H251050"},{"$f":"VLOOKUP(\"Abdeckung VO 25, entgratet\",Sprachindex!$A:$Z,Haftungsausschluß!$O$6,FALSE) & IF('Kalkulation 1'!$AH$35,\" \" & 'Kalkulation 1'!$R$9,\"\")","v":"Abdeckung VO 25, entgratet"},null,null,null,null,null,null,null,0]
[null,null,1350,0,{"$f":"VLOOKUP(\"[Stk]\",Sprachindex!$A:$Z,Haftungsausschluß!$O$6,FALSE)","v":"[Stk]"},{"$f":"IF($L$14=1,Preisliste!$E$124,Preisliste!$F$124)","v":"H251051"},{"$f":"VLOOKUP(\"Abdeckung VO 25, entgratet\",Sprachindex!$A:$Z,Haftungsausschluß!$O$6,FALSE) & IF('Kalkulation 1'!$AH$35,\" \" & 'Kalkulation 1'!$R$9,\"\")","v":"Abdeckung VO 25, entgratet"},null,null,null,null,null,null,null,0]
[null,null,750,0,{"$f":"VLOOKUP(\"[Stk]\",Sprachindex!$A:$Z,Haftungsausschluß!$O$6,FALSE)","v":"[Stk]"},{"$f":"IF($L$14=1,Preisliste!$E$126,Preisliste!$F$126)","v":"H501401"},{"$f":"VLOOKUP(\"Abdeckung VO 50, gebohrt und entgratet\",Sprachindex!$A:$Z,Haftungsausschluß!$O$6,FALSE) & IF('Kalkulation 1'!$AH$35,\" \" & 'Kalkulation 1'!$R$9,\"\")","v":"Abdeckung VO 50, gebohrt und entgratet"},null,null,null,null,null,null,null,0]
[null,null,1350,0,{"$f":"VLOOKUP(\"[Stk]\",Sprachindex!$A:$Z,Haftungsausschluß!$O$6,FALSE)","v":"[Stk]"},{"$f":"IF($L$14=1,Preisliste!$E$127,Preisliste!$F$127)","v":"H501411"},{"$f":"VLOOKUP(\"Abdeckung VO 50, gebohrt und entgratet\",Sprachindex!$A:$Z,Haftungsausschluß!$O$6,FALSE) & IF('Kalkulation 1'!$AH$35,\" \" & 'Kalkulation 1'!$R$9,\"\")","v":"Abdeckung VO 50, gebohrt und entgratet"},null,null,null,null,null,null,null,0]
[null,null,1750,0,{"$f":"VLOOKUP(\"[Stk]\",Sprachindex!$A:$Z,Haftungsausschluß!$O$6,FALSE)","v":"[Stk]"},{"$f":"IF($L$14=1,Preisliste!$E$128,Preisliste!$F$128)","v":"H501412"},{"$f":"VLOOKUP(\"Abdeckung VO 50, gebohrt und entgratet\",Sprachindex!$A:$Z,Haftungsausschluß!$O$6,FALSE) & IF('Kalkulation 1'!$AH$35,\" \" & 'Kalkulation 1'!$R$9,\"\")","v":"Abdeckung VO 50, gebohrt und entgratet"},null,null,null,null,null,null,null,0]
[null,null,2150,0,{"$f":"VLOOKUP(\"[Stk]\",Sprachindex!$A:$Z,Haftungsausschluß!$O$6,FALSE)","v":"[Stk]"},{"$f":"IF($L$14=1,Preisliste!$E$129,Preisliste!$F$129)","v":"H501422"},{"$f":"VLOOKUP(\"Abdeckung VO 50, gebohrt und entgratet\",Sprachindex!$A:$Z,Haftungsausschluß!$O$6,FALSE) & IF('Kalkulation 1'!$AH$35,\" \" & 'Kalkulation 1'!$R$9,\"\")","v":"Abdeckung VO 50, gebohrt und entgratet"},null,null,null,null,null,null,null,0]
[null,null,750,0,{"$f":"VLOOKUP(\"[Stk]\",Sprachindex!$A:$Z,Haftungsausschluß!$O$6,FALSE)","v":"[Stk]"},{"$f":"IF($L$14=1,Preisliste!$E$141,Preisliste!$F$141)","v":"H801401"},{"$f":"VLOOKUP(\"Abdeckung VO 80, gebohrt und entgratet\",Sprachindex!$A:$Z,Haftungsausschluß!$O$6,FALSE) & IF('Kalkulation 1'!$AH$35,\" \" & 'Kalkulation 1'!$R$9,\"\")","v":"Abdeckung VO 80, gebohrt und entgratet"},null,null,null,null,null,null,null,0]
[null,null,1350,0,{"$f":"VLOOKUP(\"[Stk]\",Sprachindex!$A:$Z,Haftungsausschluß!$O$6,FALSE)","v":"[Stk]"},{"$f":"IF($L$14=1,Preisliste!$E$142,Preisliste!$F$142)","v":"H801411"},{"$f":"VLOOKUP(\"Abdeckung VO 80, gebohrt und entgratet\",Sprachindex!$A:$Z,Haftungsausschluß!$O$6,FALSE) & IF('Kalkulation 1'!$AH$35,\" \" & 'Kalkulation 1'!$R$9,\"\")","v":"Abdeckung VO 80, gebohrt und entgratet"},null,null,null,null,null,null,null,0]
[null,null,1750,0,{"$f":"VLOOKUP(\"[Stk]\",Sprachindex!$A:$Z,Haftungsausschluß!$O$6,FALSE)","v":"[Stk]"},{"$f":"IF($L$14=1,Preisliste!$E$143,Preisliste!$F$143)","v":"H801412"},{"$f":"VLOOKUP(\"Abdeckung VO 80, gebohrt und entgratet\",Sprachindex!$A:$Z,Haftungsausschluß!$O$6,FALSE) & IF('Kalkulation 1'!$AH$35,\" \" & 'Kalkulation 1'!$R$9,\"\")","v":"Abdeckung VO 80, gebohrt und entgratet"},null,null,null,null,null,null,null,0]
[null,null,2150,0,{"$f":"VLOOKUP(\"[Stk]\",Sprachindex!$A:$Z,Haftungsausschluß!$O$6,FALSE)","v":"[Stk]"},{"$f":"IF($L$14=1,Preisliste!$E$144,Preisliste!$F$144)","v":"H801422"},{"$f":"VLOOKUP(\"Abdeckung VO 80, gebohrt und entgratet\",Sprachindex!$A:$Z,Haftungsausschluß!$O$6,FALSE) & IF('Kalkulation 1'!$AH$35,\" \" & 'Kalkulation 1'!$R$9,\"\")","v":"Abdeckung VO 80, gebohrt und entgratet"},null,null,null,null,null,null,null,0]
[null,null,750,0,{"$f":"VLOOKUP(\"[Stk]\",Sprachindex!$A:$Z,Haftungsausschluß!$O$6,FALSE)","v":"[Stk]"},{"$f":"IF($L$14=1,Preisliste!$E$131,Preisliste!$F$131)","v":"H251040"},{"$f":"VLOOKUP(\"Abdeckung V 25, entgratet\",Sprachindex!$A:$Z,Haftungsausschluß!$O$6,FALSE) & IF('Kalkulation 1'!$AH$35,\" \" & 'Kalkulation 1'!$R$9,\"\")","v":"Abdeckung V 25, entgratet"},null,null,null,null,null,null,null,0]
[null,null,1350,0,{"$f":"VLOOKUP(\"[Stk]\",Sprachindex!$A:$Z,Haftungsausschluß!$O$6,FALSE)","v":"[Stk]"},{"$f":"IF($L$14=1,Preisliste!$E$132,Preisliste!$F$132)","v":"H251041"},{"$f":"VLOOKUP(\"Abdeckung V 25, entgratet\",Sprachindex!$A:$Z,Haftungsausschluß!$O$6,FALSE) & IF('Kalkulation 1'!$AH$35,\" \" & 'Kalkulation 1'!$R$9,\"\")","v":"Abdeckung V 25, entgratet"},null,null,null,null,null,null,null,0]
[null,null,750,0,{"$f":"VLOOKUP(\"[Stk]\",Sprachindex!$A:$Z,Haftungsausschluß!$O$6,FALSE)","v":"[Stk]"},{"$f":"IF($L$14=1,Preisliste!$E$135,Preisliste!$F$135)","v":"H501501"},{"$f":"VLOOKUP(\"Abdeckung V 50, gebohrt und entgratet\",Sprachindex!$A:$Z,Haftungsausschluß!$O$6,FALSE) & IF('Kalkulation 1'!$AH$35,\" \" & 'Kalkulation 1'!$R$9,\"\")","v":"Abdeckung V 50, gebohrt und entgratet"},null,null,null,null,null,null,null,0]
[null,null,1350,0,{"$f":"VLOOKUP(\"[Stk]\",Sprachindex!$A:$Z,Haftungsausschluß!$O$6,FALSE)","v":"[Stk]"},{"$f":"IF($L$14=1,Preisliste!$E$136,Preisliste!$F$136)","v":"H501511"},{"$f":"VLOOKUP(\"Abdeckung V 50, gebohrt und entgratet\",Sprachindex!$A:$Z,Haftungsausschluß!$O$6,FALSE) & IF('Kalkulation 1'!$AH$35,\" \" & 'Kalkulation 1'!$R$9,\"\")","v":"Abdeckung V 50, gebohrt und entgratet"},null,null,null,null,null,null,21,0]
[null,null,1750,0,{"$f":"VLOOKUP(\"[Stk]\",Sprachindex!$A:$Z,Haftungsausschluß!$O$6,FALSE)","v":"[Stk]"},{"$f":"IF($L$14=1,Preisliste!$E$137,Preisliste!$F$137)","v":"H501512"},{"$f":"VLOOKUP(\"Abdeckung V 50, gebohrt und entgratet\",Sprachindex!$A:$Z,Haftungsausschluß!$O$6,FALSE) & IF('Kalkulation 1'!$AH$35,\" \" & 'Kalkulation 1'!$R$9,\"\")","v":"Abdeckung V 50, gebohrt und entgratet"},null,null,null,null,null,null,null,0]
[null,null,2150,0,{"$f":"VLOOKUP(\"[Stk]\",Sprachindex!$A:$Z,Haftungsausschluß!$O$6,FALSE)","v":"[Stk]"},{"$f":"IF($L$14=1,Preisliste!$E$138,Preisliste!$F$138)","v":"H501522"},{"$f":"VLOOKUP(\"Abdeckung V 50, gebohrt und entgratet\",Sprachindex!$A:$Z,Haftungsausschluß!$O$6,FALSE) & IF('Kalkulation 1'!$AH$35,\" \" & 'Kalkulation 1'!$R$9,\"\")","v":"Abdeckung V 50, gebohrt und entgratet"},null,null,null,null,null,null,null,0]
[null,null,750,0,{"$f":"VLOOKUP(\"[Stk]\",Sprachindex!$A:$Z,Haftungsausschluß!$O$6,FALSE)","v":"[Stk]"},{"$f":"IF($L$14=1,Preisliste!$E$146,Preisliste!$F$146)","v":"H801501"},{"$f":"VLOOKUP(\"Abdeckung V 80, gebohrt und entgratet\",Sprachindex!$A:$Z,Haftungsausschluß!$O$6,FALSE) & IF('Kalkulation 1'!$AH$35,\" \" & 'Kalkulation 1'!$R$9,\"\")","v":"Abdeckung V 80, gebohrt und entgratet"},null,null,null,null,null,null,null,0]
[null,null,1350,0,{"$f":"VLOOKUP(\"[Stk]\",Sprachindex!$A:$Z,Haftungsausschluß!$O$6,FALSE)","v":"[Stk]"},{"$f":"IF($L$14=1,Preisliste!$E$147,Preisliste!$F$147)","v":"H801511"},{"$f":"VLOOKUP(\"Abdeckung V 80, gebohrt und entgratet\",Sprachindex!$A:$Z,Haftungsausschluß!$O$6,FALSE) & IF('Kalkulation 1'!$AH$35,\" \" & 'Kalkulation 1'!$R$9,\"\")","v":"Abdeckung V 80, gebohrt und entgratet"},null,null,null,null,null,null,null,0]
[null,null,1750,0,{"$f":"VLOOKUP(\"[Stk]\",Sprachindex!$A:$Z,Haftungsausschluß!$O$6,FALSE)","v":"[Stk]"},{"$f":"IF($L$14=1,Preisliste!$E$148,Preisliste!$F$148)","v":"H801512"},{"$f":"VLOOKUP(\"Abdeckung V 80, gebohrt und entgratet\",Sprachindex!$A:$Z,Haftungsausschluß!$O$6,FALSE) & IF('Kalkulation 1'!$AH$35,\" \" & 'Kalkulation 1'!$R$9,\"\")","v":"Abdeckung V 80, gebohrt und entgratet"},null,null,null,null,null,null,null,0]
[null,null,2150,0,{"$f":"VLOOKUP(\"[Stk]\",Sprachindex!$A:$Z,Haftungsausschluß!$O$6,FALSE)","v":"[Stk]"},{"$f":"IF($L$14=1,Preisliste!$E$149,Preisliste!$F$149)","v":"H801522"},{"$f":"VLOOKUP(\"Abdeckung V 80, gebohrt und entgratet\",Sprachindex!$A:$Z,Haftungsausschluß!$O$6,FALSE) & IF('Kalkulation 1'!$AH$35,\" \" & 'Kalkulation 1'!$R$9,\"\")","v":"Abdeckung V 80, gebohrt und entgratet"},null,null,null,null,null,null,null,0]
[null,null,null,0,{"$f":"VLOOKUP(\"[Stk]\",Sprachindex!$A:$Z,Haftungsausschluß!$O$6,FALSE)","v":"[Stk]"},{"$f":"IF($L$14=1,Preisliste!$E$152,Preisliste!$F$152)","v":"H001010"},{"$f":"VLOOKUP(\"Sicherungsschraube für Abdeckung\",Sprachindex!$A:$Z,Haftungsausschluß!$O$6,FALSE)","v":"Sicherungsschraube für Abdeckung"},null,null,null,null,null,null,null,0]
[null,null,null,0,{"$f":"VLOOKUP(\"[Paar]\",Sprachindex!$A:$Z,Haftungsausschluß!$O$6,FALSE)","v":"[Paar]"},{"$f":"IF($L$14=1,Preisliste!$E$154,Preisliste!$F$154)","v":"H001020"},{"$f":"VLOOKUP(\"Halterung für Dammbalken\",Sprachindex!$A:$Z,Haftungsausschluß!$O$6,FALSE)","v":"Halterung für Dammbalken"},null,null,null,null,null,null,null,0]
[null,null,null,0,{"$f":"VLOOKUP(\"[Stk]\",Sprachindex!$A:$Z,Haftungsausschluß!$O$6,FALSE)","v":"[Stk]"},{"$f":"IF($L$14=1,Preisliste!$E$155,Preisliste!$F$155)","v":"H002010"},{"$f":"VLOOKUP(\"Lagerabdeckung (Mittelteil)\",Sprachindex!$A:$Z,Haftungsausschluß!$O$6,FALSE) & IF('Kalkulation 1'!AH36,\" \" & 'Kalkulation 1'!R9,\"\")","v":"Lagerabdeckung (Mittelteil)"},null,null,null,null,null,null,null,0]
[null,null,null,{"$f":"B197","v":0},{"$f":"VLOOKUP(\"[lfm]\",Sprachindex!$A:$Z,Haftungsausschluß!$O$6,FALSE)","v":"[lfm]"},{"$f":"IF($L$14=1,Preisliste!$E$113,Preisliste!$F$113)","v":"H001083"},{"$f":"VLOOKUP(\"Dauerbodendichtung 25\",Sprachindex!$A:$Z,Haftungsausschluß!$O$6,FALSE)","v":"Dauerbodendichtung 25"},null,null,null,null,null,null,null,0]
[null,null,null,0,{"$f":"VLOOKUP(\"[Stk]\",Sprachindex!$A:$Z,Haftungsausschluß!$O$6,FALSE)","v":"[Stk]"},{"$f":"IF($L$14=1,Preisliste!$E$156,Preisliste!$F$156)","v":"H002011"},{"$f":"VLOOKUP(\"Lagerabdeckung (Seitenteil)\",Sprachindex!$A:$Z,Haftungsausschluß!$O$6,FALSE) & IF('Kalkulation 1'!AH36,\" \" & 'Kalkulation 1'!R9,\"\")","v":"Lagerabdeckung (Seitenteil)"},null,null,null,null,null,null,null,0]
[null,null,null,0,{"$f":"VLOOKUP(\"[Stk]\",Sprachindex!$A:$Z,Haftungsausschluß!$O$6,FALSE)","v":"[Stk]"},{"$f":"IF($L$14=1,Preisliste!$E$162,Preisliste!$F$162)","v":"H001101"},{"$f":"VLOOKUP(\"Hebehilfe für Bodenhülsendeckel\",Sprachindex!$A:$Z,Haftungsausschluß!$O$6,FALSE)","v":"Hebehilfe für Bodenhülsendeckel"},null,null,null,null,null,null,null,{"$f":"N199*D199","v":0}]
[null,null,null,0,{"$f":"VLOOKUP(\"[Stk]\",Sprachindex!$A:$Z,Haftungsausschluß!$O$6,FALSE)","v":"[Stk]"},{"$f":"IF($L$14=1,Preisliste!$E$165,Preisliste!$F$165)","v":"-"},{"$f":"VLOOKUP(\"Aufpreis Ausfräsung Wandprofil für Dammbalken\",Sprachindex!$A:$Z,Haftungsausschluß!$O$6,FALSE)","v":"Aufpreis Ausfräsung Wandprofil für Dammbalken"},null,null,null,null,null,null,null,0]
[null,null,null,0,{"$f":"VLOOKUP(\"[Stk]\",Sprachindex!$A:$Z,Haftungsausschluß!$O$6,FALSE)","v":"[Stk]"},{"$f":"IF($L$14=1,Preisliste!$E$166,Preisliste!$F$166)","v":"-"},{"$f":"VLOOKUP(\"Aufpreis Längenänderung Wandprofil\",Sprachindex!$A:$Z,Haftungsausschluß!$O$6,FALSE)","v":"Aufpreis Längenänderung Wandprofil"},null,null,null,null,null,null,null,0]
[null,null,null,0,{"$f":"VLOOKUP(\"[Stk]\",Sprachindex!$A:$Z,Haftungsausschluß!$O$6,FALSE)","v":"[Stk]"},{"$f":"IF($L$14=1,Preisliste!$E$167,Preisliste!$F$167)","v":"-"},{"$f":"VLOOKUP(\"Aufpreis Verankerung aufgeschweißt (a 300mm)\",Sprachindex!$A:$Z,Haftungsausschluß!$O$6,FALSE)","v":"Aufpreis Verankerung aufgeschweißt (a 300mm)"},null,null,null,null,null,null,null,0]
[null,null,null,1,{"$f":"VLOOKUP(\"[Stk]\",Sprachindex!$A:$Z,Haftungsausschluß!$O$6,FALSE)","v":"[Stk]"},"H001103",{"$f":"VLOOKUP(\"Dammbalkenhaken\",Sprachindex!$A:$Z,Haftungsausschluß!$O$6,FALSE)","v":"Dammbalkenhaken"},null,null,null,null,null,null,0,0]
[null,null,null,0,{"$f":"VLOOKUP(\"[Stk]\",Sprachindex!$A:$Z,Haftungsausschluß!$O$6,FALSE)","v":"[Stk]"},"H002050",{"$f":"VLOOKUP(\"Dichtungsroller 25/50\",Sprachindex!$A:$Z,Haftungsausschluß!$O$6,FALSE)","v":"Dichtungsroller 25/50"},null,null,null,null,null,null,null,0]
[null,null,null,{"$f":"B205","v":0},"-",920005,"Beschichtungspauschale",null,null,null,null,null,null,90,0,null,null,null,null,null,null,null,null,null,null,null,null,null,null,null,null,null,null,null,{"$f":"Q6","v":0},{"$f":"IF(Q5=2,Q6,0)","v":0}]
[null,null,null,0,{"$f":"VLOOKUP(\"[EH]\",Sprachindex!$A:$Z,Haftungsausschluß!$O$6,FALSE)","v":"[EH]"},{"$f":"IF($L$14=1,Preisliste!$E$169,Preisliste!$F$169)","v":"-"},{"$f":"VLOOKUP(\"Aufpreis Planungsstunde\",Sprachindex!$A:$Z,Haftungsausschluß!$O$6,FALSE)","v":"Aufpreis Planungsstunde"},null,null,null,null,null,null,null,0]
[null,null,875,{"$f":"B207*C207/1000","v":0},{"$f":"VLOOKUP(\"[m]\",Sprachindex!$A:$Z,Haftungsausschluß!$O$6,FALSE)","v":"[m]"},{"$f":"IF($L$14=1,Preisliste!$E$7,Preisliste!$F$7)","v":"H251000"},{"$f":"VLOOKUP(\"Dammbalken 25/200 exkl. Dichtung, gesägt und entgratet\",Sprachindex!$A:$Z,Haftungsausschluß!$O$6,FALSE) & \" (\" & ROUNDUP(C207/1000*2.99,2) & \" \" & VLOOKUP(\"kg/Stk\",Sprachindex!$A:$Z,Haftungsausschluß!$O$6,FALSE) & \")\" & IF('Kalkulation 1'!$AH$33,\" \" & 'Kalkulation 1'!$R$9,\"\")","v":"Dammbalken 25/200 exkl. Dichtung, gesägt und entgratet (2.62 kg/Stk)"},null,null,null,null,null,null,null,{"$f":"N207*D207","v":0}]
[null,null,1275,0,{"$f":"VLOOKUP(\"[m]\",Sprachindex!$A:$Z,Haftungsausschluß!$O$6,FALSE)","v":"[m]"},{"$f":"IF($L$14=1,Preisliste!$E$7,Preisliste!$F$7)","v":"H251000"},{"$f":"VLOOKUP(\"Dammbalken 25/200 exkl. Dichtung, gesägt und entgratet\",Sprachindex!$A:$Z,Haftungsausschluß!$O$6,FALSE) & \" (\" & ROUNDUP(C208/1000*2.99,2) & \" \" & VLOOKUP(\"kg/Stk\",Sprachindex!$A:$Z,Haftungsausschluß!$O$6,FALSE) & \")\" & IF('Kalkulation 1'!$AH$33,\" \" & 'Kalkulation 1'!$R$9,\"\")","v":"Dammbalken 25/200 exkl. Dichtung, gesägt und entgratet (3.82 kg/Stk)"},null,null,null,null,null,null,null,0]
[null,null,1275,0,{"$f":"VLOOKUP(\"[m]\",Sprachindex!$A:$Z,Haftungsausschluß!$O$6,FALSE)","v":"[m]"},{"$f":"IF($L$14=1,Preisliste!$E$7,Preisliste!$F$7)","v":"H251000"},{"$f":"VLOOKUP(\"Dammbalken 25/200 exkl. Dichtung, gesägt und entgratet\",Sprachindex!$A:$Z,Haftungsausschluß!$O$6,FALSE) & \" (\" & ROUNDUP(C209/1000*2.99,2) & \" \" & VLOOKUP(\"kg/Stk\",Sprachindex!$A:$Z,Haftungsausschluß!$O$6,FALSE) & \")\" & IF('Kalkulation 1'!$AH$33,\" \" & 'Kalkulation 1'!$R$9,\"\")","v":"Dammbalken 25/200 exkl. Dichtung, gesägt und entgratet (3.82 kg/Stk)"},null,null,null,null,null,null,null,0]
[null,null,0,0,{"$f":"VLOOKUP(\"[m]\",Sprachindex!$A:$Z,Haftungsausschluß!$O$6,FALSE)","v":"[m]"},{"$f":"IF($L$14=1,Preisliste!$E$7,Preisliste!$F$7)","v":"H251000"},{"$f":"VLOOKUP(\"Dammbalken 25/200 exkl. Dichtung, gesägt und entgratet\",Sprachindex!$A:$Z,Haftungsausschluß!$O$6,FALSE) & \" (\" & ROUNDUP(C210/1000*2.99,2) & \" \" & VLOOKUP(\"kg/Stk\",Sprachindex!$A:$Z,Haftungsausschluß!$O$6,FALSE) & \")\" & IF('Kalkulation 1'!$AH$33,\" \" & 'Kalkulation 1'!$R$9,\"\")","v":"Dammbalken 25/200 exkl. Dichtung, gesägt und entgratet (0 kg/Stk)"},null,null,null,null,null,null,null,0]
[null,null,0,0,{"$f":"VLOOKUP(\"[m]\",Sprachindex!$A:$Z,Haftungsausschluß!$O$6,FALSE)","v":"[m]"},{"$f":"IF($L$14=1,Preisliste!$E$7,Preisliste!$F$7)","v":"H251000"},{"$f":"VLOOKUP(\"Dammbalken 25/200 exkl. Dichtung, gesägt und entgratet\",Sprachindex!$A:$Z,Haftungsausschluß!$O$6,FALSE) & \" (\" & ROUNDUP(C211/1000*2.99,2) & \" \" & VLOOKUP(\"kg/Stk\",Sprachindex!$A:$Z,Haftungsausschluß!$O$6,FALSE) & \")\" & IF('Kalkulation 1'!$AH$33,\" \" & 'Kalkulation 1'!$R$9,\"\")","v":"Dammbalken 25/200 exkl. Dichtung, gesägt und entgratet (0 kg/Stk)"},null,null,null,null,null,null,null,0]
[null,null,0,0,{"$f":"VLOOKUP(\"[m]\",Sprachindex!$A:$Z,Haftungsausschluß!$O$6,FALSE)","v":"[m]"},{"$f":"IF($L$14=1,Preisliste!$E$7,Preisliste!$F$7)","v":"H251000"},{"$f":"VLOOKUP(\"Dammbalken 25/200 exkl. Dichtung, gesägt und entgratet\",Sprachindex!$A:$Z,Haftungsausschluß!$O$6,FALSE) & \" (\" & ROUNDUP(C212/1000*2.99,2) & \" \" & VLOOKUP(\"kg/Stk\",Sprachindex!$A:$Z,Haftungsausschluß!$O$6,FALSE) & \")\" & IF('Kalkulation 1'!$AH$33,\" \" & 'Kalkulation 1'!$R$9,\"\")","v":"Dammbalken 25/200 exkl. Dichtung, gesägt und entgratet (0 kg/Stk)"},null,null,null,null,null,null,null,0]
[null,null,0,0,{"$f":"VLOOKUP(\"[m]\",Sprachindex!$A:$Z,Haftungsausschluß!$O$6,FALSE)","v":"[m]"},{"$f":"IF($L$14=1,Preisliste!$E$7,Preisliste!$F$7)","v":"H251000"},{"$f":"VLOOKUP(\"Dammbalken 25/200 exkl. Dichtung, gesägt und entgratet\",Sprachindex!$A:$Z,Haftungsausschluß!$O$6,FALSE) & \" (\" & ROUNDUP(C213/1000*2.99,2) & \" \" & VLOOKUP(\"kg/Stk\",Sprachindex!$A:$Z,Haftungsausschluß!$O$6,FALSE) & \")\" & IF('Kalkulation 1'!$AH$33,\" \" & 'Kalkulation 1'!$R$9,\"\")","v":"Dammbalken 25/200 exkl. Dichtung, gesägt und entgratet (0 kg/Stk)"},null,null,null,null,null,null,null,0]
[null,null,0,0,{"$f":"VLOOKUP(\"[m]\",Sprachindex!$A:$Z,Haftungsausschluß!$O$6,FALSE)","v":"[m]"},{"$f":"IF($L$14=1,Preisliste!$E$7,Preisliste!$F$7)","v":"H251000"},{"$f":"VLOOKUP(\"Dammbalken 25/200 exkl. Dichtung, gesägt und entgratet\",Sprachindex!$A:$Z,Haftungsausschluß!$O$6,FALSE) & \" (\" & ROUNDUP(C214/1000*2.99,2) & \" \" & VLOOKUP(\"kg/Stk\",Sprachindex!$A:$Z,Haftungsausschluß!$O$6,FALSE) & \")\" & IF('Kalkulation 1'!$AH$33,\" \" & 'Kalkulation 1'!$R$9,\"\")","v":"Dammbalken 25/200 exkl. Dichtung, gesägt und entgratet (0 kg/Stk)"},null,null,null,null,null,null,null,0]
[null,null,0,0,{"$f":"VLOOKUP(\"[m]\",Sprachindex!$A:$Z,Haftungsausschluß!$O$6,FALSE)","v":"[m]"},{"$f":"IF($L$14=1,Preisliste!$E$7,Preisliste!$F$7)","v":"H251000"},{"$f":"VLOOKUP(\"Dammbalken 25/200 exkl. Dichtung, gesägt und entgratet\",Sprachindex!$A:$Z,Haftungsausschluß!$O$6,FALSE) & \" (\" & ROUNDUP(C215/1000*2.99,2) & \" \" & VLOOKUP(\"kg/Stk\",Sprachindex!$A:$Z,Haftungsausschluß!$O$6,FALSE) & \")\" & IF('Kalkulation 1'!$AH$33,\" \" & 'Kalkulation 1'!$R$9,\"\")","v":"Dammbalken 25/200 exkl. Dichtung, gesägt und entgratet (0 kg/Stk)"},null,null,null,null,null,null,null,0]
[null,null,0,0,{"$f":"VLOOKUP(\"[m]\",Sprachindex!$A:$Z,Haftungsausschluß!$O$6,FALSE)","v":"[m]"},{"$f":"IF($L$14=1,Preisliste!$E$7,Preisliste!$F$7)","v":"H251000"},{"$f":"VLOOKUP(\"Dammbalken 25/200 exkl. Dichtung, gesägt und entgratet\",Sprachindex!$A:$Z,Haftungsausschluß!$O$6,FALSE) & \" (\" & ROUNDUP(C216/1000*2.99,2) & \" \" & VLOOKUP(\"kg/Stk\",Sprachindex!$A:$Z,Haftungsausschluß!$O$6,FALSE) & \")\" & IF('Kalkulation 1'!$AH$33,\" \" & 'Kalkulation 1'!$R$9,\"\")","v":"Dammbalken 25/200 exkl. Dichtung, gesägt und entgratet (0 kg/Stk)"},null,null,null,null,null,null,null,0]
[null,null,0,0,{"$f":"VLOOKUP(\"[m]\",Sprachindex!$A:$Z,Haftungsausschluß!$O$6,FALSE)","v":"[m]"},{"$f":"IF($L$14=1,Preisliste!$E$7,Preisliste!$F$7)","v":"H251000"},{"$f":"VLOOKUP(\"Dammbalken 25/200 exkl. Dichtung, gesägt und entgratet\",Sprachindex!$A:$Z,Haftungsausschluß!$O$6,FALSE) & \" (\" & ROUNDUP(C217/1000*2.99,2) & \" \" & VLOOKUP(\"kg/Stk\",Sprachindex!$A:$Z,Haftungsausschluß!$O$6,FALSE) & \")\" & IF('Kalkulation 1'!$AH$33,\" \" & 'Kalkulation 1'!$R$9,\"\")","v":"Dammbalken 25/200 exkl. Dichtung, gesägt und entgratet (0 kg/Stk)"},null,null,null,null,null,null,null,0]
[null,null,0,0,{"$f":"VLOOKUP(\"[m]\",Sprachindex!$A:$Z,Haftungsausschluß!$O$6,FALSE)","v":"[m]"},{"$f":"IF($L$14=1,Preisliste!$E$7,Preisliste!$F$7)","v":"H251000"},{"$f":"VLOOKUP(\"Dammbalken 25/200 exkl. Dichtung, gesägt und entgratet\",Sprachindex!$A:$Z,Haftungsausschluß!$O$6,FALSE) & \" (\" & ROUNDUP(C218/1000*2.99,2) & \" \" & VLOOKUP(\"kg/Stk\",Sprachindex!$A:$Z,Haftungsausschluß!$O$6,FALSE) & \")\" & IF('Kalkulation 1'!$AH$33,\" \" & 'Kalkulation 1'!$R$9,\"\")","v":"Dammbalken 25/200 exkl. Dichtung, gesägt und entgratet (0 kg/Stk)"},null,null,null,null,null,null,null,0]
[null,null,0,0,{"$f":"VLOOKUP(\"[m]\",Sprachindex!$A:$Z,Haftungsausschluß!$O$6,FALSE)","v":"[m]"},{"$f":"IF($L$14=1,Preisliste!$E$7,Preisliste!$F$7)","v":"H251000"},{"$f":"VLOOKUP(\"Dammbalken 25/200 exkl. Dichtung, gesägt und entgratet\",Sprachindex!$A:$Z,Haftungsausschluß!$O$6,FALSE) & \" (\" & ROUNDUP(C219/1000*2.99,2) & \" \" & VLOOKUP(\"kg/Stk\",Sprachindex!$A:$Z,Haftungsausschluß!$O$6,FALSE) & \")\" & IF('Kalkulation 1'!$AH$33,\" \" & 'Kalkulation 1'!$R$9,\"\")","v":"Dammbalken 25/200 exkl. Dichtung, gesägt und entgratet (0 kg/Stk)"},null,null,null,null,null,null,null,0]
[null,null,0,0,{"$f":"VLOOKUP(\"[m]\",Sprachindex!$A:$Z,Haftungsausschluß!$O$6,FALSE)","v":"[m]"},{"$f":"IF($L$14=1,Preisliste!$E$7,Preisliste!$F$7)","v":"H251000"},{"$f":"VLOOKUP(\"Dammbalken 25/200 exkl. Dichtung, gesägt und entgratet\",Sprachindex!$A:$Z,Haftungsausschluß!$O$6,FALSE) & \" (\" & ROUNDUP(C220/1000*2.99,2) & \" \" & VLOOKUP(\"kg/Stk\",Sprachindex!$A:$Z,Haftungsausschluß!$O$6,FALSE) & \")\" & IF('Kalkulation 1'!$AH$33,\" \" & 'Kalkulation 1'!$R$9,\"\")","v":"Dammbalken 25/200 exkl. Dichtung, gesägt und entgratet (0 kg/Stk)"},null,null,null,null,null,null,null,0]
[null,null,0,0,{"$f":"VLOOKUP(\"[m]\",Sprachindex!$A:$Z,Haftungsausschluß!$O$6,FALSE)","v":"[m]"},{"$f":"IF($L$14=1,Preisliste!$E$7,Preisliste!$F$7)","v":"H251000"},{"$f":"VLOOKUP(\"Dammbalken 25/200 exkl. Dichtung, gesägt und entgratet\",Sprachindex!$A:$Z,Haftungsausschluß!$O$6,FALSE) & \" (\" & ROUNDUP(C221/1000*2.99,2) & \" \" & VLOOKUP(\"kg/Stk\",Sprachindex!$A:$Z,Haftungsausschluß!$O$6,FALSE) & \")\" & IF('Kalkulation 1'!$AH$33,\" \" & 'Kalkulation 1'!$R$9,\"\")","v":"Dammbalken 25/200 exkl. Dichtung, gesägt und entgratet (0 kg/Stk)"},null,null,null,null,null,null,null,0]
[null,null,0,0,{"$f":"VLOOKUP(\"[m]\",Sprachindex!$A:$Z,Haftungsausschluß!$O$6,FALSE)","v":"[m]"},{"$f":"IF($L$14=1,Preisliste!$E$7,Preisliste!$F$7)","v":"H251000"},{"$f":"VLOOKUP(\"Dammbalken 25/200 exkl. Dichtung, gesägt und entgratet\",Sprachindex!$A:$Z,Haftungsausschluß!$O$6,FALSE) & \" (\" & ROUNDUP(C222/1000*2.99,2) & \" \" & VLOOKUP(\"kg/Stk\",Sprachindex!$A:$Z,Haftungsausschluß!$O$6,FALSE) & \")\" & IF('Kalkulation 1'!$AH$33,\" \" & 'Kalkulation 1'!$R$9,\"\")","v":"Dammbalken 25/200 exkl. Dichtung, gesägt und entgratet (0 kg/Stk)"},null,null,null,null,null,null,null,0]
[null,null,0,0,{"$f":"VLOOKUP(\"[m]\",Sprachindex!$A:$Z,Haftungsausschluß!$O$6,FALSE)","v":"[m]"},{"$f":"IF($L$14=1,Preisliste!$E$7,Preisliste!$F$7)","v":"H251000"},{"$f":"VLOOKUP(\"Dammbalken 25/200 exkl. Dichtung, gesägt und entgratet\",Sprachindex!$A:$Z,Haftungsausschluß!$O$6,FALSE) & \" (\" & ROUNDUP(C223/1000*2.99,2) & \" \" & VLOOKUP(\"kg/Stk\",Sprachindex!$A:$Z,Haftungsausschluß!$O$6,FALSE) & \")\" & IF('Kalkulation 1'!$AH$33,\" \" & 'Kalkulation 1'!$R$9,\"\")","v":"Dammbalken 25/200 exkl. Dichtung, gesägt und entgratet (0 kg/Stk)"},null,null,null,null,null,null,null,0]
[null,null,0,0,{"$f":"VLOOKUP(\"[m]\",Sprachindex!$A:$Z,Haftungsausschluß!$O$6,FALSE)","v":"[m]"},{"$f":"IF($L$14=1,Preisliste!$E$7,Preisliste!$F$7)","v":"H251000"},{"$f":"VLOOKUP(\"Dammbalken 25/200 exkl. Dichtung, gesägt und entgratet\",Sprachindex!$A:$Z,Haftungsausschluß!$O$6,FALSE) & \" (\" & ROUNDUP(C224/1000*2.99,2) & \" \" & VLOOKUP(\"kg/Stk\",Sprachindex!$A:$Z,Haftungsausschluß!$O$6,FALSE) & \")\" & IF('Kalkulation 1'!$AH$33,\" \" & 'Kalkulation 1'!$R$9,\"\")","v":"Dammbalken 25/200 exkl. Dichtung, gesägt und entgratet (0 kg/Stk)"},null,null,null,null,null,null,null,0]
[null,null,0,0,{"$f":"VLOOKUP(\"[m]\",Sprachindex!$A:$Z,Haftungsausschluß!$O$6,FALSE)","v":"[m]"},{"$f":"IF($L$14=1,Preisliste!$E$7,Preisliste!$F$7)","v":"H251000"},{"$f":"VLOOKUP(\"Dammbalken 25/200 exkl. Dichtung, gesägt und entgratet\",Sprachindex!$A:$Z,Haftungsausschluß!$O$6,FALSE) & \" (\" & ROUNDUP(C225/1000*2.99,2) & \" \" & VLOOKUP(\"kg/Stk\",Sprachindex!$A:$Z,Haftungsausschluß!$O$6,FALSE) & \")\" & IF('Kalkulation 1'!$AH$33,\" \" & 'Kalkulation 1'!$R$9,\"\")","v":"Dammbalken 25/200 exkl. Dichtung, gesägt und entgratet (0 kg/Stk)"},null,null,null,null,null,null,null,0]
[null,null,0,0,{"$f":"VLOOKUP(\"[m]\",Sprachindex!$A:$Z,Haftungsausschluß!$O$6,FALSE)","v":"[m]"},{"$f":"IF($L$14=1,Preisliste!$E$7,Preisliste!$F$7)","v":"H251000"},{"$f":"VLOOKUP(\"Dammbalken 25/200 exkl. Dichtung, gesägt und entgratet\",Sprachindex!$A:$Z,Haftungsausschluß!$O$6,FALSE) & \" (\" & ROUNDUP(C226/1000*2.99,2) & \" \" & VLOOKUP(\"kg/Stk\",Sprachindex!$A:$Z,Haftungsausschluß!$O$6,FALSE) & \")\" & IF('Kalkulation 1'!$AH$33,\" \" & 'Kalkulation 1'!$R$9,\"\")","v":"Dammbalken 25/200 exkl. Dichtung, gesägt und entgratet (0 kg/Stk)"},null,null,null,null,null,null,null,0]
[null,null,0,0,{"$f":"VLOOKUP(\"[m]\",Sprachindex!$A:$Z,Haftungsausschluß!$O$6,FALSE)","v":"[m]"},{"$f":"IF($L$14=1,Preisliste!$E$7,Preisliste!$F$7)","v":"H251000"},{"$f":"VLOOKUP(\"Dammbalken 25/200 exkl. Dichtung, gesägt und entgratet\",Sprachindex!$A:$Z,Haftungsausschluß!$O$6,FALSE) & \" (\" & ROUNDUP(C227/1000*2.99,2) & \" \" & VLOOKUP(\"kg/Stk\",Sprachindex!$A:$Z,Haftungsausschluß!$O$6,FALSE) & \")\" & IF('Kalkulation 1'!$AH$33,\" \" & 'Kalkulation 1'!$R$9,\"\")","v":"Dammbalken 25/200 exkl. Dichtung, gesägt und entgratet (0 kg/Stk)"},null,null,null,null,null,null,null,0]
[null,null,0,0,{"$f":"VLOOKUP(\"[m]\",Sprachindex!$A:$Z,Haftungsausschluß!$O$6,FALSE)","v":"[m]"},{"$f":"IF($L$14=1,Preisliste!$E$7,Preisliste!$F$7)","v":"H251000"},{"$f":"VLOOKUP(\"Dammbalken 25/200 exkl. Dichtung, gesägt und entgratet\",Sprachindex!$A:$Z,Haftungsausschluß!$O$6,FALSE) & \" (\" & ROUNDUP(C228/1000*2.99,2) & \" \" & VLOOKUP(\"kg/Stk\",Sprachindex!$A:$Z,Haftungsausschluß!$O$6,FALSE) & \")\" & IF('Kalkulation 1'!$AH$33,\" \" & 'Kalkulation 1'!$R$9,\"\")","v":"Dammbalken 25/200 exkl. Dichtung, gesägt und entgratet (0 kg/Stk)"},null,null,null,null,null,null,null,0]
[null,null,0,0,{"$f":"VLOOKUP(\"[m]\",Sprachindex!$A:$Z,Haftungsausschluß!$O$6,FALSE)","v":"[m]"},{"$f":"IF($L$14=1,Preisliste!$E$7,Preisliste!$F$7)","v":"H251000"},{"$f":"VLOOKUP(\"Dammbalken 25/200 exkl. Dichtung, gesägt und entgratet\",Sprachindex!$A:$Z,Haftungsausschluß!$O$6,FALSE) & \" (\" & ROUNDUP(C229/1000*2.99,2) & \" \" & VLOOKUP(\"kg/Stk\",Sprachindex!$A:$Z,Haftungsausschluß!$O$6,FALSE) & \")\" & IF('Kalkulation 1'!$AH$33,\" \" & 'Kalkulation 1'!$R$9,\"\")","v":"Dammbalken 25/200 exkl. Dichtung, gesägt und entgratet (0 kg/Stk)"},null,null,null,null,null,null,null,0]
[null,null,0,0,{"$f":"VLOOKUP(\"[m]\",Sprachindex!$A:$Z,Haftungsausschluß!$O$6,FALSE)","v":"[m]"},{"$f":"IF($L$14=1,Preisliste!$E$7,Preisliste!$F$7)","v":"H251000"},{"$f":"VLOOKUP(\"Dammbalken 25/200 exkl. Dichtung, gesägt und entgratet\",Sprachindex!$A:$Z,Haftungsausschluß!$O$6,FALSE) & \" (\" & ROUNDUP(C230/1000*2.99,2) & \" \" & VLOOKUP(\"kg/Stk\",Sprachindex!$A:$Z,Haftungsausschluß!$O$6,FALSE) & \")\" & IF('Kalkulation 1'!$AH$33,\" \" & 'Kalkulation 1'!$R$9,\"\")","v":"Dammbalken 25/200 exkl. Dichtung, gesägt und entgratet (0 kg/Stk)"},null,null,null,null,null,null,null,0]
[null,null,0,0,{"$f":"VLOOKUP(\"[m]\",Sprachindex!$A:$Z,Haftungsausschluß!$O$6,FALSE)","v":"[m]"},{"$f":"IF($L$14=1,Preisliste!$E$7,Preisliste!$F$7)","v":"H251000"},{"$f":"VLOOKUP(\"Dammbalken 25/200 exkl. Dichtung, gesägt und entgratet\",Sprachindex!$A:$Z,Haftungsausschluß!$O$6,FALSE) & \" (\" & ROUNDUP(C231/1000*2.99,2) & \" \" & VLOOKUP(\"kg/Stk\",Sprachindex!$A:$Z,Haftungsausschluß!$O$6,FALSE) & \")\" & IF('Kalkulation 1'!$AH$33,\" \" & 'Kalkulation 1'!$R$9,\"\")","v":"Dammbalken 25/200 exkl. Dichtung, gesägt und entgratet (0 kg/Stk)"},null,null,null,null,null,null,null,0]
[null,null,0,0,{"$f":"VLOOKUP(\"[m]\",Sprachindex!$A:$Z,Haftungsausschluß!$O$6,FALSE)","v":"[m]"},{"$f":"IF($L$14=1,Preisliste!$E$7,Preisliste!$F$7)","v":"H251000"},{"$f":"VLOOKUP(\"Dammbalken 25/200 exkl. Dichtung, gesägt und entgratet\",Sprachindex!$A:$Z,Haftungsausschluß!$O$6,FALSE) & \" (\" & ROUNDUP(C232/1000*2.99,2) & \" \" & VLOOKUP(\"kg/Stk\",Sprachindex!$A:$Z,Haftungsausschluß!$O$6,FALSE) & \")\" & IF('Kalkulation 1'!$AH$33,\" \" & 'Kalkulation 1'!$R$9,\"\")","v":"Dammbalken 25/200 exkl. Dichtung, gesägt und entgratet (0 kg/Stk)"},null,null,null,null,null,null,null,0]
[null,null,0,0,{"$f":"VLOOKUP(\"[m]\",Sprachindex!$A:$Z,Haftungsausschluß!$O$6,FALSE)","v":"[m]"},{"$f":"IF($L$14=1,Preisliste!$E$7,Preisliste!$F$7)","v":"H251000"},{"$f":"VLOOKUP(\"Dammbalken 25/200 exkl. Dichtung, gesägt und entgratet\",Sprachindex!$A:$Z,Haftungsausschluß!$O$6,FALSE) & \" (\" & ROUNDUP(C233/1000*2.99,2) & \" \" & VLOOKUP(\"kg/Stk\",Sprachindex!$A:$Z,Haftungsausschluß!$O$6,FALSE) & \")\" & IF('Kalkulation 1'!$AH$33,\" \" & 'Kalkulation 1'!$R$9,\"\")","v":"Dammbalken 25/200 exkl. Dichtung, gesägt und entgratet (0 kg/Stk)"},null,null,null,null,null,null,null,0]
[null,null,0,0,{"$f":"VLOOKUP(\"[m]\",Sprachindex!$A:$Z,Haftungsausschluß!$O$6,FALSE)","v":"[m]"},{"$f":"IF($L$14=1,Preisliste!$E$7,Preisliste!$F$7)","v":"H251000"},{"$f":"VLOOKUP(\"Dammbalken 25/200 exkl. Dichtung, gesägt und entgratet\",Sprachindex!$A:$Z,Haftungsausschluß!$O$6,FALSE) & \" (\" & ROUNDUP(C234/1000*2.99,2) & \" \" & VLOOKUP(\"kg/Stk\",Sprachindex!$A:$Z,Haftungsausschluß!$O$6,FALSE) & \")\" & IF('Kalkulation 1'!$AH$33,\" \" & 'Kalkulation 1'!$R$9,\"\")","v":"Dammbalken 25/200 exkl. Dichtung, gesägt und entgratet (0 kg/Stk)"},null,null,null,null,null,null,null,0]
[null,null,0,0,{"$f":"VLOOKUP(\"[m]\",Sprachindex!$A:$Z,Haftungsausschluß!$O$6,FALSE)","v":"[m]"},{"$f":"IF($L$14=1,Preisliste!$E$7,Preisliste!$F$7)","v":"H251000"},{"$f":"VLOOKUP(\"Dammbalken 25/200 exkl. Dichtung, gesägt und entgratet\",Sprachindex!$A:$Z,Haftungsausschluß!$O$6,FALSE) & \" (\" & ROUNDUP(C235/1000*2.99,2) & \" \" & VLOOKUP(\"kg/Stk\",Sprachindex!$A:$Z,Haftungsausschluß!$O$6,FALSE) & \")\" & IF('Kalkulation 1'!$AH$33,\" \" & 'Kalkulation 1'!$R$9,\"\")","v":"Dammbalken 25/200 exkl. Dichtung, gesägt und entgratet (0 kg/Stk)"},null,null,null,null,null,null,null,0]
[null,null,0,0,{"$f":"VLOOKUP(\"[m]\",Sprachindex!$A:$Z,Haftungsausschluß!$O$6,FALSE)","v":"[m]"},{"$f":"IF($L$14=1,Preisliste!$E$7,Preisliste!$F$7)","v":"H251000"},{"$f":"VLOOKUP(\"Dammbalken 25/200 exkl. Dichtung, gesägt und entgratet\",Sprachindex!$A:$Z,Haftungsausschluß!$O$6,FALSE) & \" (\" & ROUNDUP(C236/1000*2.99,2) & \" \" & VLOOKUP(\"kg/Stk\",Sprachindex!$A:$Z,Haftungsausschluß!$O$6,FALSE) & \")\" & IF('Kalkulation 1'!$AH$33,\" \" & 'Kalkulation 1'!$R$9,\"\")","v":"Dammbalken 25/200 exkl. Dichtung, gesägt und entgratet (0 kg/Stk)"},null,null,null,null,null,null,null,0]
[null,null,0,0,{"$f":"VLOOKUP(\"[m]\",Sprachindex!$A:$Z,Haftungsausschluß!$O$6,FALSE)","v":"[m]"},{"$f":"IF($L$14=1,Preisliste!$E$7,Preisliste!$F$7)","v":"H251000"},{"$f":"VLOOKUP(\"Dammbalken 25/200 exkl. Dichtung, gesägt und entgratet\",Sprachindex!$A:$Z,Haftungsausschluß!$O$6,FALSE) & \" (\" & ROUNDUP(C237/1000*2.99,2) & \" \" & VLOOKUP(\"kg/Stk\",Sprachindex!$A:$Z,Haftungsausschluß!$O$6,FALSE) & \")\" & IF('Kalkulation 1'!$AH$33,\" \" & 'Kalkulation 1'!$R$9,\"\")","v":"Dammbalken 25/200 exkl. Dichtung, gesägt und entgratet (0 kg/Stk)"},null,null,null,null,null,null,null,0]
[null,null,0,0,{"$f":"VLOOKUP(\"[m]\",Sprachindex!$A:$Z,Haftungsausschluß!$O$6,FALSE)","v":"[m]"},{"$f":"IF($L$14=1,Preisliste!$E$7,Preisliste!$F$7)","v":"H251000"},{"$f":"VLOOKUP(\"Dammbalken 25/200 exkl. Dichtung, gesägt und entgratet\",Sprachindex!$A:$Z,Haftungsausschluß!$O$6,FALSE) & \" (\" & ROUNDUP(C238/1000*2.99,2) & \" \" & VLOOKUP(\"kg/Stk\",Sprachindex!$A:$Z,Haftungsausschluß!$O$6,FALSE) & \")\" & IF('Kalkulation 1'!$AH$33,\" \" & 'Kalkulation 1'!$R$9,\"\")","v":"Dammbalken 25/200 exkl. Dichtung, gesägt und entgratet (0 kg/Stk)"},null,null,null,null,null,null,null,0]
[null,null,0,0,{"$f":"VLOOKUP(\"[m]\",Sprachindex!$A:$Z,Haftungsausschluß!$O$6,FALSE)","v":"[m]"},{"$f":"IF($L$14=1,Preisliste!$E$7,Preisliste!$F$7)","v":"H251000"},{"$f":"VLOOKUP(\"Dammbalken 25/200 exkl. Dichtung, gesägt und entgratet\",Sprachindex!$A:$Z,Haftungsausschluß!$O$6,FALSE) & \" (\" & ROUNDUP(C239/1000*2.99,2) & \" \" & VLOOKUP(\"kg/Stk\",Sprachindex!$A:$Z,Haftungsausschluß!$O$6,FALSE) & \")\" & IF('Kalkulation 1'!$AH$33,\" \" & 'Kalkulation 1'!$R$9,\"\")","v":"Dammbalken 25/200 exkl. Dichtung, gesägt und entgratet (0 kg/Stk)"},null,null,null,null,null,null,null,0]
[null,null,0,0,{"$f":"VLOOKUP(\"[m]\",Sprachindex!$A:$Z,Haftungsausschluß!$O$6,FALSE)","v":"[m]"},{"$f":"IF($L$14=1,Preisliste!$E$7,Preisliste!$F$7)","v":"H251000"},{"$f":"VLOOKUP(\"Dammbalken 25/200 exkl. Dichtung, gesägt und entgratet\",Sprachindex!$A:$Z,Haftungsausschluß!$O$6,FALSE) & \" (\" & ROUNDUP(C240/1000*2.99,2) & \" \" & VLOOKUP(\"kg/Stk\",Sprachindex!$A:$Z,Haftungsausschluß!$O$6,FALSE) & \")\" & IF('Kalkulation 1'!$AH$33,\" \" & 'Kalkulation 1'!$R$9,\"\")","v":"Dammbalken 25/200 exkl. Dichtung, gesägt und entgratet (0 kg/Stk)"},null,null,null,null,null,null,null,0]
[null,null,0,0,{"$f":"VLOOKUP(\"[m]\",Sprachindex!$A:$Z,Haftungsausschluß!$O$6,FALSE)","v":"[m]"},{"$f":"IF($L$14=1,Preisliste!$E$7,Preisliste!$F$7)","v":"H251000"},{"$f":"VLOOKUP(\"Dammbalken 25/200 exkl. Dichtung, gesägt und entgratet\",Sprachindex!$A:$Z,Haftungsausschluß!$O$6,FALSE) & \" (\" & ROUNDUP(C241/1000*2.99,2) & \" \" & VLOOKUP(\"kg/Stk\",Sprachindex!$A:$Z,Haftungsausschluß!$O$6,FALSE) & \")\" & IF('Kalkulation 1'!$AH$33,\" \" & 'Kalkulation 1'!$R$9,\"\")","v":"Dammbalken 25/200 exkl. Dichtung, gesägt und entgratet (0 kg/Stk)"},null,null,null,null,null,null,null,0]
[null,null,0,0,{"$f":"VLOOKUP(\"[m]\",Sprachindex!$A:$Z,Haftungsausschluß!$O$6,FALSE)","v":"[m]"},{"$f":"IF($L$14=1,Preisliste!$E$7,Preisliste!$F$7)","v":"H251000"},{"$f":"VLOOKUP(\"Dammbalken 25/200 exkl. Dichtung, gesägt und entgratet\",Sprachindex!$A:$Z,Haftungsausschluß!$O$6,FALSE) & \" (\" & ROUNDUP(C242/1000*2.99,2) & \" \" & VLOOKUP(\"kg/Stk\",Sprachindex!$A:$Z,Haftungsausschluß!$O$6,FALSE) & \")\" & IF('Kalkulation 1'!$AH$33,\" \" & 'Kalkulation 1'!$R$9,\"\")","v":"Dammbalken 25/200 exkl. Dichtung, gesägt und entgratet (0 kg/Stk)"},null,null,null,null,null,null,null,0]
[null,null,0,0,{"$f":"VLOOKUP(\"[m]\",Sprachindex!$A:$Z,Haftungsausschluß!$O$6,FALSE)","v":"[m]"},{"$f":"IF($L$14=1,Preisliste!$E$7,Preisliste!$F$7)","v":"H251000"},{"$f":"VLOOKUP(\"Dammbalken 25/200 exkl. Dichtung, gesägt und entgratet\",Sprachindex!$A:$Z,Haftungsausschluß!$O$6,FALSE) & \" (\" & ROUNDUP(C243/1000*2.99,2) & \" \" & VLOOKUP(\"kg/Stk\",Sprachindex!$A:$Z,Haftungsausschluß!$O$6,FALSE) & \")\" & IF('Kalkulation 1'!$AH$33,\" \" & 'Kalkulation 1'!$R$9,\"\")","v":"Dammbalken 25/200 exkl. Dichtung, gesägt und entgratet (0 kg/Stk)"},null,null,null,null,null,null,null,0]
[null,null,0,0,{"$f":"VLOOKUP(\"[m]\",Sprachindex!$A:$Z,Haftungsausschluß!$O$6,FALSE)","v":"[m]"},{"$f":"IF($L$14=1,Preisliste!$E$7,Preisliste!$F$7)","v":"H251000"},{"$f":"VLOOKUP(\"Dammbalken 25/200 exkl. Dichtung, gesägt und entgratet\",Sprachindex!$A:$Z,Haftungsausschluß!$O$6,FALSE) & \" (\" & ROUNDUP(C244/1000*2.99,2) & \" \" & VLOOKUP(\"kg/Stk\",Sprachindex!$A:$Z,Haftungsausschluß!$O$6,FALSE) & \")\" & IF('Kalkulation 1'!$AH$33,\" \" & 'Kalkulation 1'!$R$9,\"\")","v":"Dammbalken 25/200 exkl. Dichtung, gesägt und entgratet (0 kg/Stk)"},null,null,null,null,null,null,null,0]
[null,null,0,0,{"$f":"VLOOKUP(\"[m]\",Sprachindex!$A:$Z,Haftungsausschluß!$O$6,FALSE)","v":"[m]"},{"$f":"IF($L$14=1,Preisliste!$E$7,Preisliste!$F$7)","v":"H251000"},{"$f":"VLOOKUP(\"Dammbalken 25/200 exkl. Dichtung, gesägt und entgratet\",Sprachindex!$A:$Z,Haftungsausschluß!$O$6,FALSE) & \" (\" & ROUNDUP(C245/1000*2.99,2) & \" \" & VLOOKUP(\"kg/Stk\",Sprachindex!$A:$Z,Haftungsausschluß!$O$6,FALSE) & \")\" & IF('Kalkulation 1'!$AH$33,\" \" & 'Kalkulation 1'!$R$9,\"\")","v":"Dammbalken 25/200 exkl. Dichtung, gesägt und entgratet (0 kg/Stk)"},null,null,null,null,null,null,null,0]
[null,null,0,0,{"$f":"VLOOKUP(\"[m]\",Sprachindex!$A:$Z,Haftungsausschluß!$O$6,FALSE)","v":"[m]"},{"$f":"IF($L$14=1,Preisliste!$E$7,Preisliste!$F$7)","v":"H251000"},{"$f":"VLOOKUP(\"Dammbalken 25/200 exkl. Dichtung, gesägt und entgratet\",Sprachindex!$A:$Z,Haftungsausschluß!$O$6,FALSE) & \" (\" & ROUNDUP(C246/1000*2.99,2) & \" \" & VLOOKUP(\"kg/Stk\",Sprachindex!$A:$Z,Haftungsausschluß!$O$6,FALSE) & \")\" & IF('Kalkulation 1'!$AH$33,\" \" & 'Kalkulation 1'!$R$9,\"\")","v":"Dammbalken 25/200 exkl. Dichtung, gesägt und entgratet (0 kg/Stk)"},null,null,null,null,null,null,null,0]
[null,null,0,0,{"$f":"VLOOKUP(\"[m]\",Sprachindex!$A:$Z,Haftungsausschluß!$O$6,FALSE)","v":"[m]"},{"$f":"IF($L$14=1,Preisliste!$E$7,Preisliste!$F$7)","v":"H251000"},{"$f":"VLOOKUP(\"Dammbalken 25/200 exkl. Dichtung, gesägt und entgratet\",Sprachindex!$A:$Z,Haftungsausschluß!$O$6,FALSE) & \" (\" & ROUNDUP(C247/1000*2.99,2) & \" \" & VLOOKUP(\"kg/Stk\",Sprachindex!$A:$Z,Haftungsausschluß!$O$6,FALSE) & \")\" & IF('Kalkulation 1'!$AH$33,\" \" & 'Kalkulation 1'!$R$9,\"\")","v":"Dammbalken 25/200 exkl. Dichtung, gesägt und entgratet (0 kg/Stk)"},null,null,null,null,null,null,null,0]
[null,null,0,0,{"$f":"VLOOKUP(\"[m]\",Sprachindex!$A:$Z,Haftungsausschluß!$O$6,FALSE)","v":"[m]"},{"$f":"IF($L$14=1,Preisliste!$E$7,Preisliste!$F$7)","v":"H251000"},{"$f":"VLOOKUP(\"Dammbalken 25/200 exkl. Dichtung, gesägt und entgratet\",Sprachindex!$A:$Z,Haftungsausschluß!$O$6,FALSE) & \" (\" & ROUNDUP(C248/1000*2.99,2) & \" \" & VLOOKUP(\"kg/Stk\",Sprachindex!$A:$Z,Haftungsausschluß!$O$6,FALSE) & \")\" & IF('Kalkulation 1'!$AH$33,\" \" & 'Kalkulation 1'!$R$9,\"\")","v":"Dammbalken 25/200 exkl. Dichtung, gesägt und entgratet (0 kg/Stk)"},null,null,null,null,null,null,null,0]
[null,null,0,0,{"$f":"VLOOKUP(\"[m]\",Sprachindex!$A:$Z,Haftungsausschluß!$O$6,FALSE)","v":"[m]"},{"$f":"IF($L$14=1,Preisliste!$E$7,Preisliste!$F$7)","v":"H251000"},{"$f":"VLOOKUP(\"Dammbalken 25/200 exkl. Dichtung, gesägt und entgratet\",Sprachindex!$A:$Z,Haftungsausschluß!$O$6,FALSE) & \" (\" & ROUNDUP(C249/1000*2.99,2) & \" \" & VLOOKUP(\"kg/Stk\",Sprachindex!$A:$Z,Haftungsausschluß!$O$6,FALSE) & \")\" & IF('Kalkulation 1'!$AH$33,\" \" & 'Kalkulation 1'!$R$9,\"\")","v":"Dammbalken 25/200 exkl. Dichtung, gesägt und entgratet (0 kg/Stk)"},null,null,null,null,null,null,null,0]
[null,null,0,0,{"$f":"VLOOKUP(\"[m]\",Sprachindex!$A:$Z,Haftungsausschluß!$O$6,FALSE)","v":"[m]"},{"$f":"IF($L$14=1,Preisliste!$E$7,Preisliste!$F$7)","v":"H251000"},{"$f":"VLOOKUP(\"Dammbalken 25/200 exkl. Dichtung, gesägt und entgratet\",Sprachindex!$A:$Z,Haftungsausschluß!$O$6,FALSE) & \" (\" & ROUNDUP(C250/1000*2.99,2) & \" \" & VLOOKUP(\"kg/Stk\",Sprachindex!$A:$Z,Haftungsausschluß!$O$6,FALSE) & \")\" & IF('Kalkulation 1'!$AH$33,\" \" & 'Kalkulation 1'!$R$9,\"\")","v":"Dammbalken 25/200 exkl. Dichtung, gesägt und entgratet (0 kg/Stk)"},null,null,null,null,null,null,null,0]
[null,null,0,0,{"$f":"VLOOKUP(\"[m]\",Sprachindex!$A:$Z,Haftungsausschluß!$O$6,FALSE)","v":"[m]"},{"$f":"IF($L$14=1,Preisliste!$E$7,Preisliste!$F$7)","v":"H251000"},{"$f":"VLOOKUP(\"Dammbalken 25/200 exkl. Dichtung, gesägt und entgratet\",Sprachindex!$A:$Z,Haftungsausschluß!$O$6,FALSE) & \" (\" & ROUNDUP(C251/1000*2.99,2) & \" \" & VLOOKUP(\"kg/Stk\",Sprachindex!$A:$Z,Haftungsausschluß!$O$6,FALSE) & \")\" & IF('Kalkulation 1'!$AH$33,\" \" & 'Kalkulation 1'!$R$9,\"\")","v":"Dammbalken 25/200 exkl. Dichtung, gesägt und entgratet (0 kg/Stk)"},null,null,null,null,null,null,null,0]
[null,null,0,0,{"$f":"VLOOKUP(\"[m]\",Sprachindex!$A:$Z,Haftungsausschluß!$O$6,FALSE)","v":"[m]"},{"$f":"IF($L$14=1,Preisliste!$E$7,Preisliste!$F$7)","v":"H251000"},{"$f":"VLOOKUP(\"Dammbalken 25/200 exkl. Dichtung, gesägt und entgratet\",Sprachindex!$A:$Z,Haftungsausschluß!$O$6,FALSE) & \" (\" & ROUNDUP(C252/1000*2.99,2) & \" \" & VLOOKUP(\"kg/Stk\",Sprachindex!$A:$Z,Haftungsausschluß!$O$6,FALSE) & \")\" & IF('Kalkulation 1'!$AH$33,\" \" & 'Kalkulation 1'!$R$9,\"\")","v":"Dammbalken 25/200 exkl. Dichtung, gesägt und entgratet (0 kg/Stk)"},null,null,null,null,null,null,null,0]
[null,null,0,0,{"$f":"VLOOKUP(\"[m]\",Sprachindex!$A:$Z,Haftungsausschluß!$O$6,FALSE)","v":"[m]"},{"$f":"IF($L$14=1,Preisliste!$E$7,Preisliste!$F$7)","v":"H251000"},{"$f":"VLOOKUP(\"Dammbalken 25/200 exkl. Dichtung, gesägt und entgratet\",Sprachindex!$A:$Z,Haftungsausschluß!$O$6,FALSE) & \" (\" & ROUNDUP(C253/1000*2.99,2) & \" \" & VLOOKUP(\"kg/Stk\",Sprachindex!$A:$Z,Haftungsausschluß!$O$6,FALSE) & \")\" & IF('Kalkulation 1'!$AH$33,\" \" & 'Kalkulation 1'!$R$9,\"\")","v":"Dammbalken 25/200 exkl. Dichtung, gesägt und entgratet (0 kg/Stk)"},null,null,null,null,null,null,null,0]
[null,null,0,0,{"$f":"VLOOKUP(\"[m]\",Sprachindex!$A:$Z,Haftungsausschluß!$O$6,FALSE)","v":"[m]"},{"$f":"IF($L$14=1,Preisliste!$E$7,Preisliste!$F$7)","v":"H251000"},{"$f":"VLOOKUP(\"Dammbalken 25/200 exkl. Dichtung, gesägt und entgratet\",Sprachindex!$A:$Z,Haftungsausschluß!$O$6,FALSE) & \" (\" & ROUNDUP(C254/1000*2.99,2) & \" \" & VLOOKUP(\"kg/Stk\",Sprachindex!$A:$Z,Haftungsausschluß!$O$6,FALSE) & \")\" & IF('Kalkulation 1'!$AH$33,\" \" & 'Kalkulation 1'!$R$9,\"\")","v":"Dammbalken 25/200 exkl. Dichtung, gesägt und entgratet (0 kg/Stk)"},null,null,null,null,null,null,null,0]
[null,null,0,0,{"$f":"VLOOKUP(\"[m]\",Sprachindex!$A:$Z,Haftungsausschluß!$O$6,FALSE)","v":"[m]"},{"$f":"IF($L$14=1,Preisliste!$E$7,Preisliste!$F$7)","v":"H251000"},{"$f":"VLOOKUP(\"Dammbalken 25/200 exkl. Dichtung, gesägt und entgratet\",Sprachindex!$A:$Z,Haftungsausschluß!$O$6,FALSE) & \" (\" & ROUNDUP(C255/1000*2.99,2) & \" \" & VLOOKUP(\"kg/Stk\",Sprachindex!$A:$Z,Haftungsausschluß!$O$6,FALSE) & \")\" & IF('Kalkulation 1'!$AH$33,\" \" & 'Kalkulation 1'!$R$9,\"\")","v":"Dammbalken 25/200 exkl. Dichtung, gesägt und entgratet (0 kg/Stk)"},null,null,null,null,null,null,null,0]
[null,null,0,0,{"$f":"VLOOKUP(\"[m]\",Sprachindex!$A:$Z,Haftungsausschluß!$O$6,FALSE)","v":"[m]"},{"$f":"IF($L$14=1,Preisliste!$E$7,Preisliste!$F$7)","v":"H251000"},{"$f":"VLOOKUP(\"Dammbalken 25/200 exkl. Dichtung, gesägt und entgratet\",Sprachindex!$A:$Z,Haftungsausschluß!$O$6,FALSE) & \" (\" & ROUNDUP(C256/1000*2.99,2) & \" \" & VLOOKUP(\"kg/Stk\",Sprachindex!$A:$Z,Haftungsausschluß!$O$6,FALSE) & \")\" & IF('Kalkulation 1'!$AH$33,\" \" & 'Kalkulation 1'!$R$9,\"\")","v":"Dammbalken 25/200 exkl. Dichtung, gesägt und entgratet (0 kg/Stk)"},null,null,null,null,null,null,null,0]
[null,null,0,0,{"$f":"VLOOKUP(\"[m]\",Sprachindex!$A:$Z,Haftungsausschluß!$O$6,FALSE)","v":"[m]"},{"$f":"IF($L$14=1,Preisliste!$E$7,Preisliste!$F$7)","v":"H251000"},{"$f":"VLOOKUP(\"Dammbalken 25/200 exkl. Dichtung, gesägt und entgratet\",Sprachindex!$A:$Z,Haftungsausschluß!$O$6,FALSE) & \" (\" & ROUNDUP(C257/1000*2.99,2) & \" \" & VLOOKUP(\"kg/Stk\",Sprachindex!$A:$Z,Haftungsausschluß!$O$6,FALSE) & \")\" & IF('Kalkulation 1'!$AH$33,\" \" & 'Kalkulation 1'!$R$9,\"\")","v":"Dammbalken 25/200 exkl. Dichtung, gesägt und entgratet (0 kg/Stk)"},null,null,null,null,null,null,null,0]
[null,null,0,0,{"$f":"VLOOKUP(\"[m]\",Sprachindex!$A:$Z,Haftungsausschluß!$O$6,FALSE)","v":"[m]"},{"$f":"IF($L$14=1,Preisliste!$E$7,Preisliste!$F$7)","v":"H251000"},{"$f":"VLOOKUP(\"Dammbalken 25/200 exkl. Dichtung, gesägt und entgratet\",Sprachindex!$A:$Z,Haftungsausschluß!$O$6,FALSE) & \" (\" & ROUNDUP(C258/1000*2.99,2) & \" \" & VLOOKUP(\"kg/Stk\",Sprachindex!$A:$Z,Haftungsausschluß!$O$6,FALSE) & \")\" & IF('Kalkulation 1'!$AH$33,\" \" & 'Kalkulation 1'!$R$9,\"\")","v":"Dammbalken 25/200 exkl. Dichtung, gesägt und entgratet (0 kg/Stk)"},null,null,null,null,null,null,null,0]
[null,null,0,0,{"$f":"VLOOKUP(\"[m]\",Sprachindex!$A:$Z,Haftungsausschluß!$O$6,FALSE)","v":"[m]"},{"$f":"IF($L$14=1,Preisliste!$E$7,Preisliste!$F$7)","v":"H251000"},{"$f":"VLOOKUP(\"Dammbalken 25/200 exkl. Dichtung, gesägt und entgratet\",Sprachindex!$A:$Z,Haftungsausschluß!$O$6,FALSE) & \" (\" & ROUNDUP(C259/1000*2.99,2) & \" \" & VLOOKUP(\"kg/Stk\",Sprachindex!$A:$Z,Haftungsausschluß!$O$6,FALSE) & \")\" & IF('Kalkulation 1'!$AH$33,\" \" & 'Kalkulation 1'!$R$9,\"\")","v":"Dammbalken 25/200 exkl. Dichtung, gesägt und entgratet (0 kg/Stk)"},null,null,null,null,null,null,null,0]
[null,null,0,0,{"$f":"VLOOKUP(\"[m]\",Sprachindex!$A:$Z,Haftungsausschluß!$O$6,FALSE)","v":"[m]"},{"$f":"IF($L$14=1,Preisliste!$E$7,Preisliste!$F$7)","v":"H251000"},{"$f":"VLOOKUP(\"Dammbalken 25/200 exkl. Dichtung, gesägt und entgratet\",Sprachindex!$A:$Z,Haftungsausschluß!$O$6,FALSE) & \" (\" & ROUNDUP(C260/1000*2.99,2) & \" \" & VLOOKUP(\"kg/Stk\",Sprachindex!$A:$Z,Haftungsausschluß!$O$6,FALSE) & \")\" & IF('Kalkulation 1'!$AH$33,\" \" & 'Kalkulation 1'!$R$9,\"\")","v":"Dammbalken 25/200 exkl. Dichtung, gesägt und entgratet (0 kg/Stk)"},null,null,null,null,null,null,null,0]
[null,null,0,0,{"$f":"VLOOKUP(\"[m]\",Sprachindex!$A:$Z,Haftungsausschluß!$O$6,FALSE)","v":"[m]"},{"$f":"IF($L$14=1,Preisliste!$E$7,Preisliste!$F$7)","v":"H251000"},{"$f":"VLOOKUP(\"Dammbalken 25/200 exkl. Dichtung, gesägt und entgratet\",Sprachindex!$A:$Z,Haftungsausschluß!$O$6,FALSE) & \" (\" & ROUNDUP(C261/1000*2.99,2) & \" \" & VLOOKUP(\"kg/Stk\",Sprachindex!$A:$Z,Haftungsausschluß!$O$6,FALSE) & \")\" & IF('Kalkulation 1'!$AH$33,\" \" & 'Kalkulation 1'!$R$9,\"\")","v":"Dammbalken 25/200 exkl. Dichtung, gesägt und entgratet (0 kg/Stk)"},null,null,null,null,null,null,null,0]
[null,null,0,0,{"$f":"VLOOKUP(\"[m]\",Sprachindex!$A:$Z,Haftungsausschluß!$O$6,FALSE)","v":"[m]"},{"$f":"IF($L$14=1,Preisliste!$E$7,Preisliste!$F$7)","v":"H251000"},{"$f":"VLOOKUP(\"Dammbalken 25/200 exkl. Dichtung, gesägt und entgratet\",Sprachindex!$A:$Z,Haftungsausschluß!$O$6,FALSE) & \" (\" & ROUNDUP(C262/1000*2.99,2) & \" \" & VLOOKUP(\"kg/Stk\",Sprachindex!$A:$Z,Haftungsausschluß!$O$6,FALSE) & \")\" & IF('Kalkulation 1'!$AH$33,\" \" & 'Kalkulation 1'!$R$9,\"\")","v":"Dammbalken 25/200 exkl. Dichtung, gesägt und entgratet (0 kg/Stk)"},null,null,null,null,null,null,null,0]
[null,null,0,0,{"$f":"VLOOKUP(\"[m]\",Sprachindex!$A:$Z,Haftungsausschluß!$O$6,FALSE)","v":"[m]"},{"$f":"IF($L$14=1,Preisliste!$E$7,Preisliste!$F$7)","v":"H251000"},{"$f":"VLOOKUP(\"Dammbalken 25/200 exkl. Dichtung, gesägt und entgratet\",Sprachindex!$A:$Z,Haftungsausschluß!$O$6,FALSE) & \" (\" & ROUNDUP(C263/1000*2.99,2) & \" \" & VLOOKUP(\"kg/Stk\",Sprachindex!$A:$Z,Haftungsausschluß!$O$6,FALSE) & \")\" & IF('Kalkulation 1'!$AH$33,\" \" & 'Kalkulation 1'!$R$9,\"\")","v":"Dammbalken 25/200 exkl. Dichtung, gesägt und entgratet (0 kg/Stk)"},null,null,null,null,null,null,null,0]
[null,null,0,0,{"$f":"VLOOKUP(\"[m]\",Sprachindex!$A:$Z,Haftungsausschluß!$O$6,FALSE)","v":"[m]"},{"$f":"IF($L$14=1,Preisliste!$E$7,Preisliste!$F$7)","v":"H251000"},{"$f":"VLOOKUP(\"Dammbalken 25/200 exkl. Dichtung, gesägt und entgratet\",Sprachindex!$A:$Z,Haftungsausschluß!$O$6,FALSE) & \" (\" & ROUNDUP(C264/1000*2.99,2) & \" \" & VLOOKUP(\"kg/Stk\",Sprachindex!$A:$Z,Haftungsausschluß!$O$6,FALSE) & \")\" & IF('Kalkulation 1'!$AH$33,\" \" & 'Kalkulation 1'!$R$9,\"\")","v":"Dammbalken 25/200 exkl. Dichtung, gesägt und entgratet (0 kg/Stk)"},null,null,null,null,null,null,null,0]
[null,null,0,0,{"$f":"VLOOKUP(\"[m]\",Sprachindex!$A:$Z,Haftungsausschluß!$O$6,FALSE)","v":"[m]"},{"$f":"IF($L$14=1,Preisliste!$E$7,Preisliste!$F$7)","v":"H251000"},{"$f":"VLOOKUP(\"Dammbalken 25/200 exkl. Dichtung, gesägt und entgratet\",Sprachindex!$A:$Z,Haftungsausschluß!$O$6,FALSE) & \" (\" & ROUNDUP(C265/1000*2.99,2) & \" \" & VLOOKUP(\"kg/Stk\",Sprachindex!$A:$Z,Haftungsausschluß!$O$6,FALSE) & \")\" & IF('Kalkulation 1'!$AH$33,\" \" & 'Kalkulation 1'!$R$9,\"\")","v":"Dammbalken 25/200 exkl. Dichtung, gesägt und entgratet (0 kg/Stk)"},null,null,null,null,null,null,null,0]
[null,null,0,0,{"$f":"VLOOKUP(\"[m]\",Sprachindex!$A:$Z,Haftungsausschluß!$O$6,FALSE)","v":"[m]"},{"$f":"IF($L$14=1,Preisliste!$E$7,Preisliste!$F$7)","v":"H251000"},{"$f":"VLOOKUP(\"Dammbalken 25/200 exkl. Dichtung, gesägt und entgratet\",Sprachindex!$A:$Z,Haftungsausschluß!$O$6,FALSE) & \" (\" & ROUNDUP(C266/1000*2.99,2) & \" \" & VLOOKUP(\"kg/Stk\",Sprachindex!$A:$Z,Haftungsausschluß!$O$6,FALSE) & \")\" & IF('Kalkulation 1'!$AH$33,\" \" & 'Kalkulation 1'!$R$9,\"\")","v":"Dammbalken 25/200 exkl. Dichtung, gesägt und entgratet (0 kg/Stk)"},null,null,null,null,null,null,null,0]
[null,null,0,0,{"$f":"VLOOKUP(\"[m]\",Sprachindex!$A:$Z,Haftungsausschluß!$O$6,FALSE)","v":"[m]"},{"$f":"IF($L$14=1,Preisliste!$E$7,Preisliste!$F$7)","v":"H251000"},{"$f":"VLOOKUP(\"Dammbalken 25/200 exkl. Dichtung, gesägt und entgratet\",Sprachindex!$A:$Z,Haftungsausschluß!$O$6,FALSE) & \" (\" & ROUNDUP(C267/1000*2.99,2) & \" \" & VLOOKUP(\"kg/Stk\",Sprachindex!$A:$Z,Haftungsausschluß!$O$6,FALSE) & \")\" & IF('Kalkulation 1'!$AH$33,\" \" & 'Kalkulation 1'!$R$9,\"\")","v":"Dammbalken 25/200 exkl. Dichtung, gesägt und entgratet (0 kg/Stk)"},null,null,null,null,null,null,null,0]
[null,null,0,0,{"$f":"VLOOKUP(\"[m]\",Sprachindex!$A:$Z,Haftungsausschluß!$O$6,FALSE)","v":"[m]"},{"$f":"IF($L$14=1,Preisliste!$E$7,Preisliste!$F$7)","v":"H251000"},{"$f":"VLOOKUP(\"Dammbalken 25/200 exkl. Dichtung, gesägt und entgratet\",Sprachindex!$A:$Z,Haftungsausschluß!$O$6,FALSE) & \" (\" & ROUNDUP(C268/1000*2.99,2) & \" \" & VLOOKUP(\"kg/Stk\",Sprachindex!$A:$Z,Haftungsausschluß!$O$6,FALSE) & \")\" & IF('Kalkulation 1'!$AH$33,\" \" & 'Kalkulation 1'!$R$9,\"\")","v":"Dammbalken 25/200 exkl. Dichtung, gesägt und entgratet (0 kg/Stk)"},null,null,null,null,null,null,null,0]
[null,null,0,0,{"$f":"VLOOKUP(\"[m]\",Sprachindex!$A:$Z,Haftungsausschluß!$O$6,FALSE)","v":"[m]"},{"$f":"IF($L$14=1,Preisliste!$E$7,Preisliste!$F$7)","v":"H251000"},{"$f":"VLOOKUP(\"Dammbalken 25/200 exkl. Dichtung, gesägt und entgratet\",Sprachindex!$A:$Z,Haftungsausschluß!$O$6,FALSE) & \" (\" & ROUNDUP(C269/1000*2.99,2) & \" \" & VLOOKUP(\"kg/Stk\",Sprachindex!$A:$Z,Haftungsausschluß!$O$6,FALSE) & \")\" & IF('Kalkulation 1'!$AH$33,\" \" & 'Kalkulation 1'!$R$9,\"\")","v":"Dammbalken 25/200 exkl. Dichtung, gesägt und entgratet (0 kg/Stk)"},null,null,null,null,null,null,null,0]
[null,null,0,0,{"$f":"VLOOKUP(\"[m]\",Sprachindex!$A:$Z,Haftungsausschluß!$O$6,FALSE)","v":"[m]"},{"$f":"IF($L$14=1,Preisliste!$E$7,Preisliste!$F$7)","v":"H251000"},{"$f":"VLOOKUP(\"Dammbalken 25/200 exkl. Dichtung, gesägt und entgratet\",Sprachindex!$A:$Z,Haftungsausschluß!$O$6,FALSE) & \" (\" & ROUNDUP(C270/1000*2.99,2) & \" \" & VLOOKUP(\"kg/Stk\",Sprachindex!$A:$Z,Haftungsausschluß!$O$6,FALSE) & \")\" & IF('Kalkulation 1'!$AH$33,\" \" & 'Kalkulation 1'!$R$9,\"\")","v":"Dammbalken 25/200 exkl. Dichtung, gesägt und entgratet (0 kg/Stk)"},null,null,null,null,null,null,null,0]
[null,null,0,{"$f":"B271*C271/1000","v":0},{"$f":"VLOOKUP(\"[m]\",Sprachindex!$A:$Z,Haftungsausschluß!$O$6,FALSE)","v":"[m]"},{"$f":"IF($L$14=1,Preisliste!$E$7,Preisliste!$F$7)","v":"H251000"},{"$f":"VLOOKUP(\"Dammbalken 25/200 exkl. Dichtung, gesägt und entgratet\",Sprachindex!$A:$Z,Haftungsausschluß!$O$6,FALSE) & \" (\" & ROUNDUP(C271/1000*2.99,2) & \" \" & VLOOKUP(\"kg/Stk\",Sprachindex!$A:$Z,Haftungsausschluß!$O$6,FALSE) & \")\" & IF('Kalkulation 1'!$AH$33,\" \" & 'Kalkulation 1'!$R$9,\"\")","v":"Dammbalken 25/200 exkl. Dichtung, gesägt und entgratet (0 kg/Stk)"},null,null,null,null,null,null,null,{"$f":"N271*D271","v":0}]
[null,null,0,0,{"$f":"VLOOKUP(\"[m]\",Sprachindex!$A:$Z,Haftungsausschluß!$O$6,FALSE)","v":"[m]"},{"$f":"IF($L$14=1,Preisliste!$E$7,Preisliste!$F$7)","v":"H251000"},{"$f":"VLOOKUP(\"Dammbalken 25/200 exkl. Dichtung, gesägt und entgratet\",Sprachindex!$A:$Z,Haftungsausschluß!$O$6,FALSE) & \" (\" & ROUNDUP(C272/1000*2.99,2) & \" \" & VLOOKUP(\"kg/Stk\",Sprachindex!$A:$Z,Haftungsausschluß!$O$6,FALSE) & \")\" & IF('Kalkulation 1'!$AH$33,\" \" & 'Kalkulation 1'!$R$9,\"\")","v":"Dammbalken 25/200 exkl. Dichtung, gesägt und entgratet (0 kg/Stk)"},null,null,null,null,null,null,null,0]
[null,null,0,0,{"$f":"VLOOKUP(\"[m]\",Sprachindex!$A:$Z,Haftungsausschluß!$O$6,FALSE)","v":"[m]"},{"$f":"IF($L$14=1,Preisliste!$E$7,Preisliste!$F$7)","v":"H251000"},{"$f":"VLOOKUP(\"Dammbalken 25/200 exkl. Dichtung, gesägt und entgratet\",Sprachindex!$A:$Z,Haftungsausschluß!$O$6,FALSE) & \" (\" & ROUNDUP(C273/1000*2.99,2) & \" \" & VLOOKUP(\"kg/Stk\",Sprachindex!$A:$Z,Haftungsausschluß!$O$6,FALSE) & \")\" & IF('Kalkulation 1'!$AH$33,\" \" & 'Kalkulation 1'!$R$9,\"\")","v":"Dammbalken 25/200 exkl. Dichtung, gesägt und entgratet (0 kg/Stk)"},null,null,null,null,null,null,null,0]
[null,null,0,0,{"$f":"VLOOKUP(\"[m]\",Sprachindex!$A:$Z,Haftungsausschluß!$O$6,FALSE)","v":"[m]"},{"$f":"IF($L$14=1,Preisliste!$E$7,Preisliste!$F$7)","v":"H251000"},{"$f":"VLOOKUP(\"Dammbalken 25/200 exkl. Dichtung, gesägt und entgratet\",Sprachindex!$A:$Z,Haftungsausschluß!$O$6,FALSE) & \" (\" & ROUNDUP(C274/1000*2.99,2) & \" \" & VLOOKUP(\"kg/Stk\",Sprachindex!$A:$Z,Haftungsausschluß!$O$6,FALSE) & \")\" & IF('Kalkulation 1'!$AH$33,\" \" & 'Kalkulation 1'!$R$9,\"\")","v":"Dammbalken 25/200 exkl. Dichtung, gesägt und entgratet (0 kg/Stk)"},null,null,null,null,null,null,null,0]
[null,null,0,0,{"$f":"VLOOKUP(\"[m]\",Sprachindex!$A:$Z,Haftungsausschluß!$O$6,FALSE)","v":"[m]"},{"$f":"IF($L$14=1,Preisliste!$E$7,Preisliste!$F$7)","v":"H251000"},{"$f":"VLOOKUP(\"Dammbalken 25/200 exkl. Dichtung, gesägt und entgratet\",Sprachindex!$A:$Z,Haftungsausschluß!$O$6,FALSE) & \" (\" & ROUNDUP(C275/1000*2.99,2) & \" \" & VLOOKUP(\"kg/Stk\",Sprachindex!$A:$Z,Haftungsausschluß!$O$6,FALSE) & \")\" & IF('Kalkulation 1'!$AH$33,\" \" & 'Kalkulation 1'!$R$9,\"\")","v":"Dammbalken 25/200 exkl. Dichtung, gesägt und entgratet (0 kg/Stk)"},null,null,null,null,null,null,null,0]
[null,null,0,0,{"$f":"VLOOKUP(\"[m]\",Sprachindex!$A:$Z,Haftungsausschluß!$O$6,FALSE)","v":"[m]"},{"$f":"IF($L$14=1,Preisliste!$E$7,Preisliste!$F$7)","v":"H251000"},{"$f":"VLOOKUP(\"Dammbalken 25/200 exkl. Dichtung, gesägt und entgratet\",Sprachindex!$A:$Z,Haftungsausschluß!$O$6,FALSE) & \" (\" & ROUNDUP(C276/1000*2.99,2) & \" \" & VLOOKUP(\"kg/Stk\",Sprachindex!$A:$Z,Haftungsausschluß!$O$6,FALSE) & \")\" & IF('Kalkulation 1'!$AH$33,\" \" & 'Kalkulation 1'!$R$9,\"\")","v":"Dammbalken 25/200 exkl. Dichtung, gesägt und entgratet (0 kg/Stk)"},null,null,null,null,null,null,null,0]
[null,null,0,0,{"$f":"VLOOKUP(\"[m]\",Sprachindex!$A:$Z,Haftungsausschluß!$O$6,FALSE)","v":"[m]"},{"$f":"IF($L$14=1,Preisliste!$E$7,Preisliste!$F$7)","v":"H251000"},{"$f":"VLOOKUP(\"Dammbalken 25/200 exkl. Dichtung, gesägt und entgratet\",Sprachindex!$A:$Z,Haftungsausschluß!$O$6,FALSE) & \" (\" & ROUNDUP(C277/1000*2.99,2) & \" \" & VLOOKUP(\"kg/Stk\",Sprachindex!$A:$Z,Haftungsausschluß!$O$6,FALSE) & \")\" & IF('Kalkulation 1'!$AH$33,\" \" & 'Kalkulation 1'!$R$9,\"\")","v":"Dammbalken 25/200 exkl. Dichtung, gesägt und entgratet (0 kg/Stk)"},null,null,null,null,null,null,null,0]
[null,null,0,0,{"$f":"VLOOKUP(\"[m]\",Sprachindex!$A:$Z,Haftungsausschluß!$O$6,FALSE)","v":"[m]"},{"$f":"IF($L$14=1,Preisliste!$E$7,Preisliste!$F$7)","v":"H251000"},{"$f":"VLOOKUP(\"Dammbalken 25/200 exkl. Dichtung, gesägt und entgratet\",Sprachindex!$A:$Z,Haftungsausschluß!$O$6,FALSE) & \" (\" & ROUNDUP(C278/1000*2.99,2) & \" \" & VLOOKUP(\"kg/Stk\",Sprachindex!$A:$Z,Haftungsausschluß!$O$6,FALSE) & \")\" & IF('Kalkulation 1'!$AH$33,\" \" & 'Kalkulation 1'!$R$9,\"\")","v":"Dammbalken 25/200 exkl. Dichtung, gesägt und entgratet (0 kg/Stk)"},null,null,null,null,null,null,null,0]
[null,null,0,0,{"$f":"VLOOKUP(\"[m]\",Sprachindex!$A:$Z,Haftungsausschluß!$O$6,FALSE)","v":"[m]"},{"$f":"IF($L$14=1,Preisliste!$E$7,Preisliste!$F$7)","v":"H251000"},{"$f":"VLOOKUP(\"Dammbalken 25/200 exkl. Dichtung, gesägt und entgratet\",Sprachindex!$A:$Z,Haftungsausschluß!$O$6,FALSE) & \" (\" & ROUNDUP(C279/1000*2.99,2) & \" \" & VLOOKUP(\"kg/Stk\",Sprachindex!$A:$Z,Haftungsausschluß!$O$6,FALSE) & \")\" & IF('Kalkulation 1'!$AH$33,\" \" & 'Kalkulation 1'!$R$9,\"\")","v":"Dammbalken 25/200 exkl. Dichtung, gesägt und entgratet (0 kg/Stk)"},null,null,null,null,null,null,null,0]
[null,null,0,0,{"$f":"VLOOKUP(\"[m]\",Sprachindex!$A:$Z,Haftungsausschluß!$O$6,FALSE)","v":"[m]"},{"$f":"IF($L$14=1,Preisliste!$E$7,Preisliste!$F$7)","v":"H251000"},{"$f":"VLOOKUP(\"Dammbalken 25/200 exkl. Dichtung, gesägt und entgratet\",Sprachindex!$A:$Z,Haftungsausschluß!$O$6,FALSE) & \" (\" & ROUNDUP(C280/1000*2.99,2) & \" \" & VLOOKUP(\"kg/Stk\",Sprachindex!$A:$Z,Haftungsausschluß!$O$6,FALSE) & \")\" & IF('Kalkulation 1'!$AH$33,\" \" & 'Kalkulation 1'!$R$9,\"\")","v":"Dammbalken 25/200 exkl. Dichtung, gesägt und entgratet (0 kg/Stk)"},null,null,null,null,null,null,null,0]
[null,null,0,0,{"$f":"VLOOKUP(\"[m]\",Sprachindex!$A:$Z,Haftungsausschluß!$O$6,FALSE)","v":"[m]"},{"$f":"IF($L$14=1,Preisliste!$E$7,Preisliste!$F$7)","v":"H251000"},{"$f":"VLOOKUP(\"Dammbalken 25/200 exkl. Dichtung, gesägt und entgratet\",Sprachindex!$A:$Z,Haftungsausschluß!$O$6,FALSE) & \" (\" & ROUNDUP(C281/1000*2.99,2) & \" \" & VLOOKUP(\"kg/Stk\",Sprachindex!$A:$Z,Haftungsausschluß!$O$6,FALSE) & \")\" & IF('Kalkulation 1'!$AH$33,\" \" & 'Kalkulation 1'!$R$9,\"\")","v":"Dammbalken 25/200 exkl. Dichtung, gesägt und entgratet (0 kg/Stk)"},null,null,null,null,null,null,null,0]
[null,null,0,0,{"$f":"VLOOKUP(\"[m]\",Sprachindex!$A:$Z,Haftungsausschluß!$O$6,FALSE)","v":"[m]"},{"$f":"IF($L$14=1,Preisliste!$E$7,Preisliste!$F$7)","v":"H251000"},{"$f":"VLOOKUP(\"Dammbalken 25/200 exkl. Dichtung, gesägt und entgratet\",Sprachindex!$A:$Z,Haftungsausschluß!$O$6,FALSE) & \" (\" & ROUNDUP(C282/1000*2.99,2) & \" \" & VLOOKUP(\"kg/Stk\",Sprachindex!$A:$Z,Haftungsausschluß!$O$6,FALSE) & \")\" & IF('Kalkulation 1'!$AH$33,\" \" & 'Kalkulation 1'!$R$9,\"\")","v":"Dammbalken 25/200 exkl. Dichtung, gesägt und entgratet (0 kg/Stk)"},null,null,null,null,null,null,null,0]
[null,null,0,0,{"$f":"VLOOKUP(\"[m]\",Sprachindex!$A:$Z,Haftungsausschluß!$O$6,FALSE)","v":"[m]"},{"$f":"IF($L$14=1,Preisliste!$E$7,Preisliste!$F$7)","v":"H251000"},{"$f":"VLOOKUP(\"Dammbalken 25/200 exkl. Dichtung, gesägt und entgratet\",Sprachindex!$A:$Z,Haftungsausschluß!$O$6,FALSE) & \" (\" & ROUNDUP(C283/1000*2.99,2) & \" \" & VLOOKUP(\"kg/Stk\",Sprachindex!$A:$Z,Haftungsausschluß!$O$6,FALSE) & \")\" & IF('Kalkulation 1'!$AH$33,\" \" & 'Kalkulation 1'!$R$9,\"\")","v":"Dammbalken 25/200 exkl. Dichtung, gesägt und entgratet (0 kg/Stk)"},null,null,null,null,null,null,null,0]
[null,null,0,0,{"$f":"VLOOKUP(\"[m]\",Sprachindex!$A:$Z,Haftungsausschluß!$O$6,FALSE)","v":"[m]"},{"$f":"IF($L$14=1,Preisliste!$E$7,Preisliste!$F$7)","v":"H251000"},{"$f":"VLOOKUP(\"Dammbalken 25/200 exkl. Dichtung, gesägt und entgratet\",Sprachindex!$A:$Z,Haftungsausschluß!$O$6,FALSE) & \" (\" & ROUNDUP(C284/1000*2.99,2) & \" \" & VLOOKUP(\"kg/Stk\",Sprachindex!$A:$Z,Haftungsausschluß!$O$6,FALSE) & \")\" & IF('Kalkulation 1'!$AH$33,\" \" & 'Kalkulation 1'!$R$9,\"\")","v":"Dammbalken 25/200 exkl. Dichtung, gesägt und entgratet (0 kg/Stk)"},null,null,null,null,null,null,null,0]
[null,null,0,0,{"$f":"VLOOKUP(\"[m]\",Sprachindex!$A:$Z,Haftungsausschluß!$O$6,FALSE)","v":"[m]"},{"$f":"IF($L$14=1,Preisliste!$E$7,Preisliste!$F$7)","v":"H251000"},{"$f":"VLOOKUP(\"Dammbalken 25/200 exkl. Dichtung, gesägt und entgratet\",Sprachindex!$A:$Z,Haftungsausschluß!$O$6,FALSE) & \" (\" & ROUNDUP(C285/1000*2.99,2) & \" \" & VLOOKUP(\"kg/Stk\",Sprachindex!$A:$Z,Haftungsausschluß!$O$6,FALSE) & \")\" & IF('Kalkulation 1'!$AH$33,\" \" & 'Kalkulation 1'!$R$9,\"\")","v":"Dammbalken 25/200 exkl. Dichtung, gesägt und entgratet (0 kg/Stk)"},null,null,null,null,null,null,null,0]
[null,null,0,0,{"$f":"VLOOKUP(\"[m]\",Sprachindex!$A:$Z,Haftungsausschluß!$O$6,FALSE)","v":"[m]"},{"$f":"IF($L$14=1,Preisliste!$E$7,Preisliste!$F$7)","v":"H251000"},{"$f":"VLOOKUP(\"Dammbalken 25/200 exkl. Dichtung, gesägt und entgratet\",Sprachindex!$A:$Z,Haftungsausschluß!$O$6,FALSE) & \" (\" & ROUNDUP(C286/1000*2.99,2) & \" \" & VLOOKUP(\"kg/Stk\",Sprachindex!$A:$Z,Haftungsausschluß!$O$6,FALSE) & \")\" & IF('Kalkulation 1'!$AH$33,\" \" & 'Kalkulation 1'!$R$9,\"\")","v":"Dammbalken 25/200 exkl. Dichtung, gesägt und entgratet (0 kg/Stk)"},null,null,null,null,null,null,null,0]
[null,null,0,0,{"$f":"VLOOKUP(\"[m]\",Sprachindex!$A:$Z,Haftungsausschluß!$O$6,FALSE)","v":"[m]"},{"$f":"IF($L$14=1,Preisliste!$E$7,Preisliste!$F$7)","v":"H251000"},{"$f":"VLOOKUP(\"Dammbalken 25/200 exkl. Dichtung, gesägt und entgratet\",Sprachindex!$A:$Z,Haftungsausschluß!$O$6,FALSE) & \" (\" & ROUNDUP(C287/1000*2.99,2) & \" \" & VLOOKUP(\"kg/Stk\",Sprachindex!$A:$Z,Haftungsausschluß!$O$6,FALSE) & \")\" & IF('Kalkulation 1'!$AH$33,\" \" & 'Kalkulation 1'!$R$9,\"\")","v":"Dammbalken 25/200 exkl. Dichtung, gesägt und entgratet (0 kg/Stk)"},null,null,null,null,null,null,null,0]
[null,null,0,0,{"$f":"VLOOKUP(\"[m]\",Sprachindex!$A:$Z,Haftungsausschluß!$O$6,FALSE)","v":"[m]"},{"$f":"IF($L$14=1,Preisliste!$E$7,Preisliste!$F$7)","v":"H251000"},{"$f":"VLOOKUP(\"Dammbalken 25/200 exkl. Dichtung, gesägt und entgratet\",Sprachindex!$A:$Z,Haftungsausschluß!$O$6,FALSE) & \" (\" & ROUNDUP(C288/1000*2.99,2) & \" \" & VLOOKUP(\"kg/Stk\",Sprachindex!$A:$Z,Haftungsausschluß!$O$6,FALSE) & \")\" & IF('Kalkulation 1'!$AH$33,\" \" & 'Kalkulation 1'!$R$9,\"\")","v":"Dammbalken 25/200 exkl. Dichtung, gesägt und entgratet (0 kg/Stk)"},null,null,null,null,null,null,null,0]
[null,null,0,0,{"$f":"VLOOKUP(\"[m]\",Sprachindex!$A:$Z,Haftungsausschluß!$O$6,FALSE)","v":"[m]"},{"$f":"IF($L$14=1,Preisliste!$E$7,Preisliste!$F$7)","v":"H251000"},{"$f":"VLOOKUP(\"Dammbalken 25/200 exkl. Dichtung, gesägt und entgratet\",Sprachindex!$A:$Z,Haftungsausschluß!$O$6,FALSE) & \" (\" & ROUNDUP(C289/1000*2.99,2) & \" \" & VLOOKUP(\"kg/Stk\",Sprachindex!$A:$Z,Haftungsausschluß!$O$6,FALSE) & \")\" & IF('Kalkulation 1'!$AH$33,\" \" & 'Kalkulation 1'!$R$9,\"\")","v":"Dammbalken 25/200 exkl. Dichtung, gesägt und entgratet (0 kg/Stk)"},null,null,null,null,null,null,null,0]
[null,null,0,0,{"$f":"VLOOKUP(\"[m]\",Sprachindex!$A:$Z,Haftungsausschluß!$O$6,FALSE)","v":"[m]"},{"$f":"IF($L$14=1,Preisliste!$E$7,Preisliste!$F$7)","v":"H251000"},{"$f":"VLOOKUP(\"Dammbalken 25/200 exkl. Dichtung, gesägt und entgratet\",Sprachindex!$A:$Z,Haftungsausschluß!$O$6,FALSE) & \" (\" & ROUNDUP(C290/1000*2.99,2) & \" \" & VLOOKUP(\"kg/Stk\",Sprachindex!$A:$Z,Haftungsausschluß!$O$6,FALSE) & \")\" & IF('Kalkulation 1'!$AH$33,\" \" & 'Kalkulation 1'!$R$9,\"\")","v":"Dammbalken 25/200 exkl. Dichtung, gesägt und entgratet (0 kg/Stk)"},null,null,null,null,null,null,null,0]
[null,null,0,0,{"$f":"VLOOKUP(\"[m]\",Sprachindex!$A:$Z,Haftungsausschluß!$O$6,FALSE)","v":"[m]"},{"$f":"IF($L$14=1,Preisliste!$E$7,Preisliste!$F$7)","v":"H251000"},{"$f":"VLOOKUP(\"Dammbalken 25/200 exkl. Dichtung, gesägt und entgratet\",Sprachindex!$A:$Z,Haftungsausschluß!$O$6,FALSE) & \" (\" & ROUNDUP(C291/1000*2.99,2) & \" \" & VLOOKUP(\"kg/Stk\",Sprachindex!$A:$Z,Haftungsausschluß!$O$6,FALSE) & \")\" & IF('Kalkulation 1'!$AH$33,\" \" & 'Kalkulation 1'!$R$9,\"\")","v":"Dammbalken 25/200 exkl. Dichtung, gesägt und entgratet (0 kg/Stk)"},null,null,null,null,null,null,null,0]
[null,null,0,0,{"$f":"VLOOKUP(\"[m]\",Sprachindex!$A:$Z,Haftungsausschluß!$O$6,FALSE)","v":"[m]"},{"$f":"IF($L$14=1,Preisliste!$E$7,Preisliste!$F$7)","v":"H251000"},{"$f":"VLOOKUP(\"Dammbalken 25/200 exkl. Dichtung, gesägt und entgratet\",Sprachindex!$A:$Z,Haftungsausschluß!$O$6,FALSE) & \" (\" & ROUNDUP(C292/1000*2.99,2) & \" \" & VLOOKUP(\"kg/Stk\",Sprachindex!$A:$Z,Haftungsausschluß!$O$6,FALSE) & \")\" & IF('Kalkulation 1'!$AH$33,\" \" & 'Kalkulation 1'!$R$9,\"\")","v":"Dammbalken 25/200 exkl. Dichtung, gesägt und entgratet (0 kg/Stk)"},null,null,null,null,null,null,null,0]
[null,null,0,0,{"$f":"VLOOKUP(\"[m]\",Sprachindex!$A:$Z,Haftungsausschluß!$O$6,FALSE)","v":"[m]"},{"$f":"IF($L$14=1,Preisliste!$E$7,Preisliste!$F$7)","v":"H251000"},{"$f":"VLOOKUP(\"Dammbalken 25/200 exkl. Dichtung, gesägt und entgratet\",Sprachindex!$A:$Z,Haftungsausschluß!$O$6,FALSE) & \" (\" & ROUNDUP(C293/1000*2.99,2) & \" \" & VLOOKUP(\"kg/Stk\",Sprachindex!$A:$Z,Haftungsausschluß!$O$6,FALSE) & \")\" & IF('Kalkulation 1'!$AH$33,\" \" & 'Kalkulation 1'!$R$9,\"\")","v":"Dammbalken 25/200 exkl. Dichtung, gesägt und entgratet (0 kg/Stk)"},null,null,null,null,null,null,null,0]
[null,null,0,0,{"$f":"VLOOKUP(\"[m]\",Sprachindex!$A:$Z,Haftungsausschluß!$O$6,FALSE)","v":"[m]"},{"$f":"IF($L$14=1,Preisliste!$E$7,Preisliste!$F$7)","v":"H251000"},{"$f":"VLOOKUP(\"Dammbalken 25/200 exkl. Dichtung, gesägt und entgratet\",Sprachindex!$A:$Z,Haftungsausschluß!$O$6,FALSE) & \" (\" & ROUNDUP(C294/1000*2.99,2) & \" \" & VLOOKUP(\"kg/Stk\",Sprachindex!$A:$Z,Haftungsausschluß!$O$6,FALSE) & \")\" & IF('Kalkulation 1'!$AH$33,\" \" & 'Kalkulation 1'!$R$9,\"\")","v":"Dammbalken 25/200 exkl. Dichtung, gesägt und entgratet (0 kg/Stk)"},null,null,null,null,null,null,null,0]
[null,null,0,0,{"$f":"VLOOKUP(\"[m]\",Sprachindex!$A:$Z,Haftungsausschluß!$O$6,FALSE)","v":"[m]"},{"$f":"IF($L$14=1,Preisliste!$E$7,Preisliste!$F$7)","v":"H251000"},{"$f":"VLOOKUP(\"Dammbalken 25/200 exkl. Dichtung, gesägt und entgratet\",Sprachindex!$A:$Z,Haftungsausschluß!$O$6,FALSE) & \" (\" & ROUNDUP(C295/1000*2.99,2) & \" \" & VLOOKUP(\"kg/Stk\",Sprachindex!$A:$Z,Haftungsausschluß!$O$6,FALSE) & \")\" & IF('Kalkulation 1'!$AH$33,\" \" & 'Kalkulation 1'!$R$9,\"\")","v":"Dammbalken 25/200 exkl. Dichtung, gesägt und entgratet (0 kg/Stk)"},null,null,null,null,null,null,null,0]
[null,null,0,0,{"$f":"VLOOKUP(\"[m]\",Sprachindex!$A:$Z,Haftungsausschluß!$O$6,FALSE)","v":"[m]"},{"$f":"IF($L$14=1,Preisliste!$E$7,Preisliste!$F$7)","v":"H251000"},{"$f":"VLOOKUP(\"Dammbalken 25/200 exkl. Dichtung, gesägt und entgratet\",Sprachindex!$A:$Z,Haftungsausschluß!$O$6,FALSE) & \" (\" & ROUNDUP(C296/1000*2.99,2) & \" \" & VLOOKUP(\"kg/Stk\",Sprachindex!$A:$Z,Haftungsausschluß!$O$6,FALSE) & \")\" & IF('Kalkulation 1'!$AH$33,\" \" & 'Kalkulation 1'!$R$9,\"\")","v":"Dammbalken 25/200 exkl. Dichtung, gesägt und entgratet (0 kg/Stk)"},null,null,null,null,null,null,null,0]
[null,null,0,0,{"$f":"VLOOKUP(\"[m]\",Sprachindex!$A:$Z,Haftungsausschluß!$O$6,FALSE)","v":"[m]"},{"$f":"IF($L$14=1,Preisliste!$E$7,Preisliste!$F$7)","v":"H251000"},{"$f":"VLOOKUP(\"Dammbalken 25/200 exkl. Dichtung, gesägt und entgratet\",Sprachindex!$A:$Z,Haftungsausschluß!$O$6,FALSE) & \" (\" & ROUNDUP(C297/1000*2.99,2) & \" \" & VLOOKUP(\"kg/Stk\",Sprachindex!$A:$Z,Haftungsausschluß!$O$6,FALSE) & \")\" & IF('Kalkulation 1'!$AH$33,\" \" & 'Kalkulation 1'!$R$9,\"\")","v":"Dammbalken 25/200 exkl. Dichtung, gesägt und entgratet (0 kg/Stk)"},null,null,null,null,null,null,null,0]
[null,null,0,0,{"$f":"VLOOKUP(\"[m]\",Sprachindex!$A:$Z,Haftungsausschluß!$O$6,FALSE)","v":"[m]"},{"$f":"IF($L$14=1,Preisliste!$E$7,Preisliste!$F$7)","v":"H251000"},{"$f":"VLOOKUP(\"Dammbalken 25/200 exkl. Dichtung, gesägt und entgratet\",Sprachindex!$A:$Z,Haftungsausschluß!$O$6,FALSE) & \" (\" & ROUNDUP(C298/1000*2.99,2) & \" \" & VLOOKUP(\"kg/Stk\",Sprachindex!$A:$Z,Haftungsausschluß!$O$6,FALSE) & \")\" & IF('Kalkulation 1'!$AH$33,\" \" & 'Kalkulation 1'!$R$9,\"\")","v":"Dammbalken 25/200 exkl. Dichtung, gesägt und entgratet (0 kg/Stk)"},null,null,null,null,null,null,null,0]
[null,null,0,0,{"$f":"VLOOKUP(\"[m]\",Sprachindex!$A:$Z,Haftungsausschluß!$O$6,FALSE)","v":"[m]"},{"$f":"IF($L$14=1,Preisliste!$E$7,Preisliste!$F$7)","v":"H251000"},{"$f":"VLOOKUP(\"Dammbalken 25/200 exkl. Dichtung, gesägt und entgratet\",Sprachindex!$A:$Z,Haftungsausschluß!$O$6,FALSE) & \" (\" & ROUNDUP(C299/1000*2.99,2) & \" \" & VLOOKUP(\"kg/Stk\",Sprachindex!$A:$Z,Haftungsausschluß!$O$6,FALSE) & \")\" & IF('Kalkulation 1'!$AH$33,\" \" & 'Kalkulation 1'!$R$9,\"\")","v":"Dammbalken 25/200 exkl. Dichtung, gesägt und entgratet (0 kg/Stk)"},null,null,null,null,null,null,null,0]
[null,null,0,0,{"$f":"VLOOKUP(\"[m]\",Sprachindex!$A:$Z,Haftungsausschluß!$O$6,FALSE)","v":"[m]"},{"$f":"IF($L$14=1,Preisliste!$E$7,Preisliste!$F$7)","v":"H251000"},{"$f":"VLOOKUP(\"Dammbalken 25/200 exkl. Dichtung, gesägt und entgratet\",Sprachindex!$A:$Z,Haftungsausschluß!$O$6,FALSE) & \" (\" & ROUNDUP(C300/1000*2.99,2) & \" \" & VLOOKUP(\"kg/Stk\",Sprachindex!$A:$Z,Haftungsausschluß!$O$6,FALSE) & \")\" & IF('Kalkulation 1'!$AH$33,\" \" & 'Kalkulation 1'!$R$9,\"\")","v":"Dammbalken 25/200 exkl. Dichtung, gesägt und entgratet (0 kg/Stk)"},null,null,null,null,null,null,null,0]
[null,null,0,0,{"$f":"VLOOKUP(\"[m]\",Sprachindex!$A:$Z,Haftungsausschluß!$O$6,FALSE)","v":"[m]"},{"$f":"IF($L$14=1,Preisliste!$E$7,Preisliste!$F$7)","v":"H251000"},{"$f":"VLOOKUP(\"Dammbalken 25/200 exkl. Dichtung, gesägt und entgratet\",Sprachindex!$A:$Z,Haftungsausschluß!$O$6,FALSE) & \" (\" & ROUNDUP(C301/1000*2.99,2) & \" \" & VLOOKUP(\"kg/Stk\",Sprachindex!$A:$Z,Haftungsausschluß!$O$6,FALSE) & \")\" & IF('Kalkulation 1'!$AH$33,\" \" & 'Kalkulation 1'!$R$9,\"\")","v":"Dammbalken 25/200 exkl. Dichtung, gesägt und entgratet (0 kg/Stk)"},null,null,null,null,null,null,null,0]
[null,null,0,0,{"$f":"VLOOKUP(\"[m]\",Sprachindex!$A:$Z,Haftungsausschluß!$O$6,FALSE)","v":"[m]"},{"$f":"IF($L$14=1,Preisliste!$E$7,Preisliste!$F$7)","v":"H251000"},{"$f":"VLOOKUP(\"Dammbalken 25/200 exkl. Dichtung, gesägt und entgratet\",Sprachindex!$A:$Z,Haftungsausschluß!$O$6,FALSE) & \" (\" & ROUNDUP(C302/1000*2.99,2) & \" \" & VLOOKUP(\"kg/Stk\",Sprachindex!$A:$Z,Haftungsausschluß!$O$6,FALSE) & \")\" & IF('Kalkulation 1'!$AH$33,\" \" & 'Kalkulation 1'!$R$9,\"\")","v":"Dammbalken 25/200 exkl. Dichtung, gesägt und entgratet (0 kg/Stk)"},null,null,null,null,null,null,null,0]
[null,null,0,0,{"$f":"VLOOKUP(\"[m]\",Sprachindex!$A:$Z,Haftungsausschluß!$O$6,FALSE)","v":"[m]"},{"$f":"IF($L$14=1,Preisliste!$E$7,Preisliste!$F$7)","v":"H251000"},{"$f":"VLOOKUP(\"Dammbalken 25/200 exkl. Dichtung, gesägt und entgratet\",Sprachindex!$A:$Z,Haftungsausschluß!$O$6,FALSE) & \" (\" & ROUNDUP(C303/1000*2.99,2) & \" \" & VLOOKUP(\"kg/Stk\",Sprachindex!$A:$Z,Haftungsausschluß!$O$6,FALSE) & \")\" & IF('Kalkulation 1'!$AH$33,\" \" & 'Kalkulation 1'!$R$9,\"\")","v":"Dammbalken 25/200 exkl. Dichtung, gesägt und entgratet (0 kg/Stk)"},null,null,null,null,null,null,null,0]
[null,null,0,0,{"$f":"VLOOKUP(\"[m]\",Sprachindex!$A:$Z,Haftungsausschluß!$O$6,FALSE)","v":"[m]"},{"$f":"IF($L$14=1,Preisliste!$E$7,Preisliste!$F$7)","v":"H251000"},{"$f":"VLOOKUP(\"Dammbalken 25/200 exkl. Dichtung, gesägt und entgratet\",Sprachindex!$A:$Z,Haftungsausschluß!$O$6,FALSE) & \" (\" & ROUNDUP(C304/1000*2.99,2) & \" \" & VLOOKUP(\"kg/Stk\",Sprachindex!$A:$Z,Haftungsausschluß!$O$6,FALSE) & \")\" & IF('Kalkulation 1'!$AH$33,\" \" & 'Kalkulation 1'!$R$9,\"\")","v":"Dammbalken 25/200 exkl. Dichtung, gesägt und entgratet (0 kg/Stk)"},null,null,null,null,null,null,null,0]
[null,null,0,0,{"$f":"VLOOKUP(\"[m]\",Sprachindex!$A:$Z,Haftungsausschluß!$O$6,FALSE)","v":"[m]"},{"$f":"IF($L$14=1,Preisliste!$E$7,Preisliste!$F$7)","v":"H251000"},{"$f":"VLOOKUP(\"Dammbalken 25/200 exkl. Dichtung, gesägt und entgratet\",Sprachindex!$A:$Z,Haftungsausschluß!$O$6,FALSE) & \" (\" & ROUNDUP(C305/1000*2.99,2) & \" \" & VLOOKUP(\"kg/Stk\",Sprachindex!$A:$Z,Haftungsausschluß!$O$6,FALSE) & \")\" & IF('Kalkulation 1'!$AH$33,\" \" & 'Kalkulation 1'!$R$9,\"\")","v":"Dammbalken 25/200 exkl. Dichtung, gesägt und entgratet (0 kg/Stk)"},null,null,null,null,null,null,null,0]
[null,null,0,0,{"$f":"VLOOKUP(\"[m]\",Sprachindex!$A:$Z,Haftungsausschluß!$O$6,FALSE)","v":"[m]"},{"$f":"IF($L$14=1,Preisliste!$E$7,Preisliste!$F$7)","v":"H251000"},{"$f":"VLOOKUP(\"Dammbalken 25/200 exkl. Dichtung, gesägt und entgratet\",Sprachindex!$A:$Z,Haftungsausschluß!$O$6,FALSE) & \" (\" & ROUNDUP(C306/1000*2.99,2) & \" \" & VLOOKUP(\"kg/Stk\",Sprachindex!$A:$Z,Haftungsausschluß!$O$6,FALSE) & \")\" & IF('Kalkulation 1'!$AH$33,\" \" & 'Kalkulation 1'!$R$9,\"\")","v":"Dammbalken 25/200 exkl. Dichtung, gesägt und entgratet (0 kg/Stk)"},null,null,null,null,null,null,null,0]
[null,null,1086,0,{"$f":"VLOOKUP(\"[m]\",Sprachindex!$A:$Z,Haftungsausschluß!$O$6,FALSE)","v":"[m]"},{"$f":"IF($L$14=1,Preisliste!$E$10,Preisliste!$F$10)","v":"H501000"},{"$f":"VLOOKUP(\"Dammbalken 50/150 exkl. Dichtung, gesägt und entgratet\",Sprachindex!$A:$Z,Haftungsausschluß!$O$6,FALSE) & \" (\" & ROUNDUP(C307/1000*5.62,2) & \" \" & VLOOKUP(\"kg/Stk\",Sprachindex!$A:$Z,Haftungsausschluß!$O$6,FALSE) & \")\" & IF('Kalkulation 1'!$AH$33,\" \" & 'Kalkulation 1'!$R$9,\"\")","v":"Dammbalken 50/150 exkl. Dichtung, gesägt und entgratet (6.11 kg/Stk)"},null,null,null,null,null,null,null,0]
[null,null,0,0,{"$f":"VLOOKUP(\"[m]\",Sprachindex!$A:$Z,Haftungsausschluß!$O$6,FALSE)","v":"[m]"},{"$f":"IF($L$14=1,Preisliste!$E$10,Preisliste!$F$10)","v":"H501000"},{"$f":"VLOOKUP(\"Dammbalken 50/150 exkl. Dichtung, gesägt und entgratet\",Sprachindex!$A:$Z,Haftungsausschluß!$O$6,FALSE) & \" (\" & ROUNDUP(C308/1000*5.62,2) & \" \" & VLOOKUP(\"kg/Stk\",Sprachindex!$A:$Z,Haftungsausschluß!$O$6,FALSE) & \")\" & IF('Kalkulation 1'!$AH$33,\" \" & 'Kalkulation 1'!$R$9,\"\")","v":"Dammbalken 50/150 exkl. Dichtung, gesägt und entgratet (0 kg/Stk)"},null,null,null,null,null,null,null,0]
[null,null,0,0,{"$f":"VLOOKUP(\"[m]\",Sprachindex!$A:$Z,Haftungsausschluß!$O$6,FALSE)","v":"[m]"},{"$f":"IF($L$14=1,Preisliste!$E$10,Preisliste!$F$10)","v":"H501000"},{"$f":"VLOOKUP(\"Dammbalken 50/150 exkl. Dichtung, gesägt und entgratet\",Sprachindex!$A:$Z,Haftungsausschluß!$O$6,FALSE) & \" (\" & ROUNDUP(C309/1000*5.62,2) & \" \" & VLOOKUP(\"kg/Stk\",Sprachindex!$A:$Z,Haftungsausschluß!$O$6,FALSE) & \")\" & IF('Kalkulation 1'!$AH$33,\" \" & 'Kalkulation 1'!$R$9,\"\")","v":"Dammbalken 50/150 exkl. Dichtung, gesägt und entgratet (0 kg/Stk)"},null,null,null,null,null,null,null,0]
[null,null,0,0,{"$f":"VLOOKUP(\"[m]\",Sprachindex!$A:$Z,Haftungsausschluß!$O$6,FALSE)","v":"[m]"},{"$f":"IF($L$14=1,Preisliste!$E$10,Preisliste!$F$10)","v":"H501000"},{"$f":"VLOOKUP(\"Dammbalken 50/150 exkl. Dichtung, gesägt und entgratet\",Sprachindex!$A:$Z,Haftungsausschluß!$O$6,FALSE) & \" (\" & ROUNDUP(C310/1000*5.62,2) & \" \" & VLOOKUP(\"kg/Stk\",Sprachindex!$A:$Z,Haftungsausschluß!$O$6,FALSE) & \")\" & IF('Kalkulation 1'!$AH$33,\" \" & 'Kalkulation 1'!$R$9,\"\")","v":"Dammbalken 50/150 exkl. Dichtung, gesägt und entgratet (0 kg/Stk)"},null,null,null,null,null,null,null,0]
[null,null,0,0,{"$f":"VLOOKUP(\"[m]\",Sprachindex!$A:$Z,Haftungsausschluß!$O$6,FALSE)","v":"[m]"},{"$f":"IF($L$14=1,Preisliste!$E$10,Preisliste!$F$10)","v":"H501000"},{"$f":"VLOOKUP(\"Dammbalken 50/150 exkl. Dichtung, gesägt und entgratet\",Sprachindex!$A:$Z,Haftungsausschluß!$O$6,FALSE) & \" (\" & ROUNDUP(C311/1000*5.62,2) & \" \" & VLOOKUP(\"kg/Stk\",Sprachindex!$A:$Z,Haftungsausschluß!$O$6,FALSE) & \")\" & IF('Kalkulation 1'!$AH$33,\" \" & 'Kalkulation 1'!$R$9,\"\")","v":"Dammbalken 50/150 exkl. Dichtung, gesägt und entgratet (0 kg/Stk)"},null,null,null,null,null,null,null,0]
[null,null,0,0,{"$f":"VLOOKUP(\"[m]\",Sprachindex!$A:$Z,Haftungsausschluß!$O$6,FALSE)","v":"[m]"},{"$f":"IF($L$14=1,Preisliste!$E$10,Preisliste!$F$10)","v":"H501000"},{"$f":"VLOOKUP(\"Dammbalken 50/150 exkl. Dichtung, gesägt und entgratet\",Sprachindex!$A:$Z,Haftungsausschluß!$O$6,FALSE) & \" (\" & ROUNDUP(C312/1000*5.62,2) & \" \" & VLOOKUP(\"kg/Stk\",Sprachindex!$A:$Z,Haftungsausschluß!$O$6,FALSE) & \")\" & IF('Kalkulation 1'!$AH$33,\" \" & 'Kalkulation 1'!$R$9,\"\")","v":"Dammbalken 50/150 exkl. Dichtung, gesägt und entgratet (0 kg/Stk)"},null,null,null,null,null,null,null,0]
[null,null,0,0,{"$f":"VLOOKUP(\"[m]\",Sprachindex!$A:$Z,Haftungsausschluß!$O$6,FALSE)","v":"[m]"},{"$f":"IF($L$14=1,Preisliste!$E$10,Preisliste!$F$10)","v":"H501000"},{"$f":"VLOOKUP(\"Dammbalken 50/150 exkl. Dichtung, gesägt und entgratet\",Sprachindex!$A:$Z,Haftungsausschluß!$O$6,FALSE) & \" (\" & ROUNDUP(C313/1000*5.62,2) & \" \" & VLOOKUP(\"kg/Stk\",Sprachindex!$A:$Z,Haftungsausschluß!$O$6,FALSE) & \")\" & IF('Kalkulation 1'!$AH$33,\" \" & 'Kalkulation 1'!$R$9,\"\")","v":"Dammbalken 50/150 exkl. Dichtung, gesägt und entgratet (0 kg/Stk)"},null,null,null,null,null,null,null,0]
[null,null,0,0,{"$f":"VLOOKUP(\"[m]\",Sprachindex!$A:$Z,Haftungsausschluß!$O$6,FALSE)","v":"[m]"},{"$f":"IF($L$14=1,Preisliste!$E$10,Preisliste!$F$10)","v":"H501000"},{"$f":"VLOOKUP(\"Dammbalken 50/150 exkl. Dichtung, gesägt und entgratet\",Sprachindex!$A:$Z,Haftungsausschluß!$O$6,FALSE) & \" (\" & ROUNDUP(C314/1000*5.62,2) & \" \" & VLOOKUP(\"kg/Stk\",Sprachindex!$A:$Z,Haftungsausschluß!$O$6,FALSE) & \")\" & IF('Kalkulation 1'!$AH$33,\" \" & 'Kalkulation 1'!$R$9,\"\")","v":"Dammbalken 50/150 exkl. Dichtung, gesägt und entgratet (0 kg/Stk)"},null,null,null,null,null,null,null,0]
[null,null,0,0,{"$f":"VLOOKUP(\"[m]\",Sprachindex!$A:$Z,Haftungsausschluß!$O$6,FALSE)","v":"[m]"},{"$f":"IF($L$14=1,Preisliste!$E$10,Preisliste!$F$10)","v":"H501000"},{"$f":"VLOOKUP(\"Dammbalken 50/150 exkl. Dichtung, gesägt und entgratet\",Sprachindex!$A:$Z,Haftungsausschluß!$O$6,FALSE) & \" (\" & ROUNDUP(C315/1000*5.62,2) & \" \" & VLOOKUP(\"kg/Stk\",Sprachindex!$A:$Z,Haftungsausschluß!$O$6,FALSE) & \")\" & IF('Kalkulation 1'!$AH$33,\" \" & 'Kalkulation 1'!$R$9,\"\")","v":"Dammbalken 50/150 exkl. Dichtung, gesägt und entgratet (0 kg/Stk)"},null,null,null,null,null,null,null,0]
[null,null,0,0,{"$f":"VLOOKUP(\"[m]\",Sprachindex!$A:$Z,Haftungsausschluß!$O$6,FALSE)","v":"[m]"},{"$f":"IF($L$14=1,Preisliste!$E$10,Preisliste!$F$10)","v":"H501000"},{"$f":"VLOOKUP(\"Dammbalken 50/150 exkl. Dichtung, gesägt und entgratet\",Sprachindex!$A:$Z,Haftungsausschluß!$O$6,FALSE) & \" (\" & ROUNDUP(C316/1000*5.62,2) & \" \" & VLOOKUP(\"kg/Stk\",Sprachindex!$A:$Z,Haftungsausschluß!$O$6,FALSE) & \")\" & IF('Kalkulation 1'!$AH$33,\" \" & 'Kalkulation 1'!$R$9,\"\")","v":"Dammbalken 50/150 exkl. Dichtung, gesägt und entgratet (0 kg/Stk)"},null,null,null,null,null,null,null,0]
[null,null,0,0,{"$f":"VLOOKUP(\"[m]\",Sprachindex!$A:$Z,Haftungsausschluß!$O$6,FALSE)","v":"[m]"},{"$f":"IF($L$14=1,Preisliste!$E$10,Preisliste!$F$10)","v":"H501000"},{"$f":"VLOOKUP(\"Dammbalken 50/150 exkl. Dichtung, gesägt und entgratet\",Sprachindex!$A:$Z,Haftungsausschluß!$O$6,FALSE) & \" (\" & ROUNDUP(C317/1000*5.62,2) & \" \" & VLOOKUP(\"kg/Stk\",Sprachindex!$A:$Z,Haftungsausschluß!$O$6,FALSE) & \")\" & IF('Kalkulation 1'!$AH$33,\" \" & 'Kalkulation 1'!$R$9,\"\")","v":"Dammbalken 50/150 exkl. Dichtung, gesägt und entgratet (0 kg/Stk)"},null,null,null,null,null,null,null,0]
[null,null,0,0,{"$f":"VLOOKUP(\"[m]\",Sprachindex!$A:$Z,Haftungsausschluß!$O$6,FALSE)","v":"[m]"},{"$f":"IF($L$14=1,Preisliste!$E$10,Preisliste!$F$10)","v":"H501000"},{"$f":"VLOOKUP(\"Dammbalken 50/150 exkl. Dichtung, gesägt und entgratet\",Sprachindex!$A:$Z,Haftungsausschluß!$O$6,FALSE) & \" (\" & ROUNDUP(C318/1000*5.62,2) & \" \" & VLOOKUP(\"kg/Stk\",Sprachindex!$A:$Z,Haftungsausschluß!$O$6,FALSE) & \")\" & IF('Kalkulation 1'!$AH$33,\" \" & 'Kalkulation 1'!$R$9,\"\")","v":"Dammbalken 50/150 exkl. Dichtung, gesägt und entgratet (0 kg/Stk)"},null,null,null,null,null,null,null,0]
[null,null,0,0,{"$f":"VLOOKUP(\"[m]\",Sprachindex!$A:$Z,Haftungsausschluß!$O$6,FALSE)","v":"[m]"},{"$f":"IF($L$14=1,Preisliste!$E$10,Preisliste!$F$10)","v":"H501000"},{"$f":"VLOOKUP(\"Dammbalken 50/150 exkl. Dichtung, gesägt und entgratet\",Sprachindex!$A:$Z,Haftungsausschluß!$O$6,FALSE) & \" (\" & ROUNDUP(C319/1000*5.62,2) & \" \" & VLOOKUP(\"kg/Stk\",Sprachindex!$A:$Z,Haftungsausschluß!$O$6,FALSE) & \")\" & IF('Kalkulation 1'!$AH$33,\" \" & 'Kalkulation 1'!$R$9,\"\")","v":"Dammbalken 50/150 exkl. Dichtung, gesägt und entgratet (0 kg/Stk)"},null,null,null,null,null,null,null,0]
[null,null,0,0,{"$f":"VLOOKUP(\"[m]\",Sprachindex!$A:$Z,Haftungsausschluß!$O$6,FALSE)","v":"[m]"},{"$f":"IF($L$14=1,Preisliste!$E$10,Preisliste!$F$10)","v":"H501000"},{"$f":"VLOOKUP(\"Dammbalken 50/150 exkl. Dichtung, gesägt und entgratet\",Sprachindex!$A:$Z,Haftungsausschluß!$O$6,FALSE) & \" (\" & ROUNDUP(C320/1000*5.62,2) & \" \" & VLOOKUP(\"kg/Stk\",Sprachindex!$A:$Z,Haftungsausschluß!$O$6,FALSE) & \")\" & IF('Kalkulation 1'!$AH$33,\" \" & 'Kalkulation 1'!$R$9,\"\")","v":"Dammbalken 50/150 exkl. Dichtung, gesägt und entgratet (0 kg/Stk)"},null,null,null,null,null,null,null,0]
[null,null,0,0,{"$f":"VLOOKUP(\"[m]\",Sprachindex!$A:$Z,Haftungsausschluß!$O$6,FALSE)","v":"[m]"},{"$f":"IF($L$14=1,Preisliste!$E$10,Preisliste!$F$10)","v":"H501000"},{"$f":"VLOOKUP(\"Dammbalken 50/150 exkl. Dichtung, gesägt und entgratet\",Sprachindex!$A:$Z,Haftungsausschluß!$O$6,FALSE) & \" (\" & ROUNDUP(C321/1000*5.62,2) & \" \" & VLOOKUP(\"kg/Stk\",Sprachindex!$A:$Z,Haftungsausschluß!$O$6,FALSE) & \")\" & IF('Kalkulation 1'!$AH$33,\" \" & 'Kalkulation 1'!$R$9,\"\")","v":"Dammbalken 50/150 exkl. Dichtung, gesägt und entgratet (0 kg/Stk)"},null,null,null,null,null,null,null,0]
[null,null,0,0,{"$f":"VLOOKUP(\"[m]\",Sprachindex!$A:$Z,Haftungsausschluß!$O$6,FALSE)","v":"[m]"},{"$f":"IF($L$14=1,Preisliste!$E$10,Preisliste!$F$10)","v":"H501000"},{"$f":"VLOOKUP(\"Dammbalken 50/150 exkl. Dichtung, gesägt und entgratet\",Sprachindex!$A:$Z,Haftungsausschluß!$O$6,FALSE) & \" (\" & ROUNDUP(C322/1000*5.62,2) & \" \" & VLOOKUP(\"kg/Stk\",Sprachindex!$A:$Z,Haftungsausschluß!$O$6,FALSE) & \")\" & IF('Kalkulation 1'!$AH$33,\" \" & 'Kalkulation 1'!$R$9,\"\")","v":"Dammbalken 50/150 exkl. Dichtung, gesägt und entgratet (0 kg/Stk)"},null,null,null,null,null,null,null,0]
[null,null,0,0,{"$f":"VLOOKUP(\"[m]\",Sprachindex!$A:$Z,Haftungsausschluß!$O$6,FALSE)","v":"[m]"},{"$f":"IF($L$14=1,Preisliste!$E$10,Preisliste!$F$10)","v":"H501000"},{"$f":"VLOOKUP(\"Dammbalken 50/150 exkl. Dichtung, gesägt und entgratet\",Sprachindex!$A:$Z,Haftungsausschluß!$O$6,FALSE) & \" (\" & ROUNDUP(C323/1000*5.62,2) & \" \" & VLOOKUP(\"kg/Stk\",Sprachindex!$A:$Z,Haftungsausschluß!$O$6,FALSE) & \")\" & IF('Kalkulation 1'!$AH$33,\" \" & 'Kalkulation 1'!$R$9,\"\")","v":"Dammbalken 50/150 exkl. Dichtung, gesägt und entgratet (0 kg/Stk)"},null,null,null,null,null,null,null,0]
[null,null,0,0,{"$f":"VLOOKUP(\"[m]\",Sprachindex!$A:$Z,Haftungsausschluß!$O$6,FALSE)","v":"[m]"},{"$f":"IF($L$14=1,Preisliste!$E$10,Preisliste!$F$10)","v":"H501000"},{"$f":"VLOOKUP(\"Dammbalken 50/150 exkl. Dichtung, gesägt und entgratet\",Sprachindex!$A:$Z,Haftungsausschluß!$O$6,FALSE) & \" (\" & ROUNDUP(C324/1000*5.62,2) & \" \" & VLOOKUP(\"kg/Stk\",Sprachindex!$A:$Z,Haftungsausschluß!$O$6,FALSE) & \")\" & IF('Kalkulation 1'!$AH$33,\" \" & 'Kalkulation 1'!$R$9,\"\")","v":"Dammbalken 50/150 exkl. Dichtung, gesägt und entgratet (0 kg/Stk)"},null,null,null,null,null,null,null,0]
[null,null,0,0,{"$f":"VLOOKUP(\"[m]\",Sprachindex!$A:$Z,Haftungsausschluß!$O$6,FALSE)","v":"[m]"},{"$f":"IF($L$14=1,Preisliste!$E$10,Preisliste!$F$10)","v":"H501000"},{"$f":"VLOOKUP(\"Dammbalken 50/150 exkl. Dichtung, gesägt und entgratet\",Sprachindex!$A:$Z,Haftungsausschluß!$O$6,FALSE) & \" (\" & ROUNDUP(C325/1000*5.62,2) & \" \" & VLOOKUP(\"kg/Stk\",Sprachindex!$A:$Z,Haftungsausschluß!$O$6,FALSE) & \")\" & IF('Kalkulation 1'!$AH$33,\" \" & 'Kalkulation 1'!$R$9,\"\")","v":"Dammbalken 50/150 exkl. Dichtung, gesägt und entgratet (0 kg/Stk)"},null,null,null,null,null,null,null,0]
[null,null,0,0,{"$f":"VLOOKUP(\"[m]\",Sprachindex!$A:$Z,Haftungsausschluß!$O$6,FALSE)","v":"[m]"},{"$f":"IF($L$14=1,Preisliste!$E$10,Preisliste!$F$10)","v":"H501000"},{"$f":"VLOOKUP(\"Dammbalken 50/150 exkl. Dichtung, gesägt und entgratet\",Sprachindex!$A:$Z,Haftungsausschluß!$O$6,FALSE) & \" (\" & ROUNDUP(C326/1000*5.62,2) & \" \" & VLOOKUP(\"kg/Stk\",Sprachindex!$A:$Z,Haftungsausschluß!$O$6,FALSE) & \")\" & IF('Kalkulation 1'!$AH$33,\" \" & 'Kalkulation 1'!$R$9,\"\")","v":"Dammbalken 50/150 exkl. Dichtung, gesägt und entgratet (0 kg/Stk)"},null,null,null,null,null,null,null,0]
[null,null,0,0,{"$f":"VLOOKUP(\"[m]\",Sprachindex!$A:$Z,Haftungsausschluß!$O$6,FALSE)","v":"[m]"},{"$f":"IF($L$14=1,Preisliste!$E$10,Preisliste!$F$10)","v":"H501000"},{"$f":"VLOOKUP(\"Dammbalken 50/150 exkl. Dichtung, gesägt und entgratet\",Sprachindex!$A:$Z,Haftungsausschluß!$O$6,FALSE) & \" (\" & ROUNDUP(C327/1000*5.62,2) & \" \" & VLOOKUP(\"kg/Stk\",Sprachindex!$A:$Z,Haftungsausschluß!$O$6,FALSE) & \")\" & IF('Kalkulation 1'!$AH$33,\" \" & 'Kalkulation 1'!$R$9,\"\")","v":"Dammbalken 50/150 exkl. Dichtung, gesägt und entgratet (0 kg/Stk)"},null,null,null,null,null,null,null,0]
[null,null,0,0,{"$f":"VLOOKUP(\"[m]\",Sprachindex!$A:$Z,Haftungsausschluß!$O$6,FALSE)","v":"[m]"},{"$f":"IF($L$14=1,Preisliste!$E$10,Preisliste!$F$10)","v":"H501000"},{"$f":"VLOOKUP(\"Dammbalken 50/150 exkl. Dichtung, gesägt und entgratet\",Sprachindex!$A:$Z,Haftungsausschluß!$O$6,FALSE) & \" (\" & ROUNDUP(C328/1000*5.62,2) & \" \" & VLOOKUP(\"kg/Stk\",Sprachindex!$A:$Z,Haftungsausschluß!$O$6,FALSE) & \")\" & IF('Kalkulation 1'!$AH$33,\" \" & 'Kalkulation 1'!$R$9,\"\")","v":"Dammbalken 50/150 exkl. Dichtung, gesägt und entgratet (0 kg/Stk)"},null,null,null,null,null,null,null,0]
[null,null,0,0,{"$f":"VLOOKUP(\"[m]\",Sprachindex!$A:$Z,Haftungsausschluß!$O$6,FALSE)","v":"[m]"},{"$f":"IF($L$14=1,Preisliste!$E$10,Preisliste!$F$10)","v":"H501000"},{"$f":"VLOOKUP(\"Dammbalken 50/150 exkl. Dichtung, gesägt und entgratet\",Sprachindex!$A:$Z,Haftungsausschluß!$O$6,FALSE) & \" (\" & ROUNDUP(C329/1000*5.62,2) & \" \" & VLOOKUP(\"kg/Stk\",Sprachindex!$A:$Z,Haftungsausschluß!$O$6,FALSE) & \")\" & IF('Kalkulation 1'!$AH$33,\" \" & 'Kalkulation 1'!$R$9,\"\")","v":"Dammbalken 50/150 exkl. Dichtung, gesägt und entgratet (0 kg/Stk)"},null,null,null,null,null,null,null,0]
[null,null,0,0,{"$f":"VLOOKUP(\"[m]\",Sprachindex!$A:$Z,Haftungsausschluß!$O$6,FALSE)","v":"[m]"},{"$f":"IF($L$14=1,Preisliste!$E$10,Preisliste!$F$10)","v":"H501000"},{"$f":"VLOOKUP(\"Dammbalken 50/150 exkl. Dichtung, gesägt und entgratet\",Sprachindex!$A:$Z,Haftungsausschluß!$O$6,FALSE) & \" (\" & ROUNDUP(C330/1000*5.62,2) & \" \" & VLOOKUP(\"kg/Stk\",Sprachindex!$A:$Z,Haftungsausschluß!$O$6,FALSE) & \")\" & IF('Kalkulation 1'!$AH$33,\" \" & 'Kalkulation 1'!$R$9,\"\")","v":"Dammbalken 50/150 exkl. Dichtung, gesägt und entgratet (0 kg/Stk)"},null,null,null,null,null,null,null,0]
[null,null,0,0,{"$f":"VLOOKUP(\"[m]\",Sprachindex!$A:$Z,Haftungsausschluß!$O$6,FALSE)","v":"[m]"},{"$f":"IF($L$14=1,Preisliste!$E$10,Preisliste!$F$10)","v":"H501000"},{"$f":"VLOOKUP(\"Dammbalken 50/150 exkl. Dichtung, gesägt und entgratet\",Sprachindex!$A:$Z,Haftungsausschluß!$O$6,FALSE) & \" (\" & ROUNDUP(C331/1000*5.62,2) & \" \" & VLOOKUP(\"kg/Stk\",Sprachindex!$A:$Z,Haftungsausschluß!$O$6,FALSE) & \")\" & IF('Kalkulation 1'!$AH$33,\" \" & 'Kalkulation 1'!$R$9,\"\")","v":"Dammbalken 50/150 exkl. Dichtung, gesägt und entgratet (0 kg/Stk)"},null,null,null,null,null,null,null,0]
[null,null,0,0,{"$f":"VLOOKUP(\"[m]\",Sprachindex!$A:$Z,Haftungsausschluß!$O$6,FALSE)","v":"[m]"},{"$f":"IF($L$14=1,Preisliste!$E$10,Preisliste!$F$10)","v":"H501000"},{"$f":"VLOOKUP(\"Dammbalken 50/150 exkl. Dichtung, gesägt und entgratet\",Sprachindex!$A:$Z,Haftungsausschluß!$O$6,FALSE) & \" (\" & ROUNDUP(C332/1000*5.62,2) & \" \" & VLOOKUP(\"kg/Stk\",Sprachindex!$A:$Z,Haftungsausschluß!$O$6,FALSE) & \")\" & IF('Kalkulation 1'!$AH$33,\" \" & 'Kalkulation 1'!$R$9,\"\")","v":"Dammbalken 50/150 exkl. Dichtung, gesägt und entgratet (0 kg/Stk)"},null,null,null,null,null,null,null,0]
[null,null,0,0,{"$f":"VLOOKUP(\"[m]\",Sprachindex!$A:$Z,Haftungsausschluß!$O$6,FALSE)","v":"[m]"},{"$f":"IF($L$14=1,Preisliste!$E$10,Preisliste!$F$10)","v":"H501000"},{"$f":"VLOOKUP(\"Dammbalken 50/150 exkl. Dichtung, gesägt und entgratet\",Sprachindex!$A:$Z,Haftungsausschluß!$O$6,FALSE) & \" (\" & ROUNDUP(C333/1000*5.62,2) & \" \" & VLOOKUP(\"kg/Stk\",Sprachindex!$A:$Z,Haftungsausschluß!$O$6,FALSE) & \")\" & IF('Kalkulation 1'!$AH$33,\" \" & 'Kalkulation 1'!$R$9,\"\")","v":"Dammbalken 50/150 exkl. Dichtung, gesägt und entgratet (0 kg/Stk)"},null,null,null,null,null,null,null,0]
[null,null,0,0,{"$f":"VLOOKUP(\"[m]\",Sprachindex!$A:$Z,Haftungsausschluß!$O$6,FALSE)","v":"[m]"},{"$f":"IF($L$14=1,Preisliste!$E$10,Preisliste!$F$10)","v":"H501000"},{"$f":"VLOOKUP(\"Dammbalken 50/150 exkl. Dichtung, gesägt und entgratet\",Sprachindex!$A:$Z,Haftungsausschluß!$O$6,FALSE) & \" (\" & ROUNDUP(C334/1000*5.62,2) & \" \" & VLOOKUP(\"kg/Stk\",Sprachindex!$A:$Z,Haftungsausschluß!$O$6,FALSE) & \")\" & IF('Kalkulation 1'!$AH$33,\" \" & 'Kalkulation 1'!$R$9,\"\")","v":"Dammbalken 50/150 exkl. Dichtung, gesägt und entgratet (0 kg/Stk)"},null,null,null,null,null,null,null,0]
[null,null,0,{"$f":"B335*C335/1000","v":0},{"$f":"VLOOKUP(\"[m]\",Sprachindex!$A:$Z,Haftungsausschluß!$O$6,FALSE)","v":"[m]"},{"$f":"IF($L$14=1,Preisliste!$E$10,Preisliste!$F$10)","v":"H501000"},{"$f":"VLOOKUP(\"Dammbalken 50/150 exkl. Dichtung, gesägt und entgratet\",Sprachindex!$A:$Z,Haftungsausschluß!$O$6,FALSE) & \" (\" & ROUNDUP(C335/1000*5.62,2) & \" \" & VLOOKUP(\"kg/Stk\",Sprachindex!$A:$Z,Haftungsausschluß!$O$6,FALSE) & \")\" & IF('Kalkulation 1'!$AH$33,\" \" & 'Kalkulation 1'!$R$9,\"\")","v":"Dammbalken 50/150 exkl. Dichtung, gesägt und entgratet (0 kg/Stk)"},null,null,null,null,null,null,null,{"$f":"N335*D335","v":0}]
[null,null,0,0,{"$f":"VLOOKUP(\"[m]\",Sprachindex!$A:$Z,Haftungsausschluß!$O$6,FALSE)","v":"[m]"},{"$f":"IF($L$14=1,Preisliste!$E$10,Preisliste!$F$10)","v":"H501000"},{"$f":"VLOOKUP(\"Dammbalken 50/150 exkl. Dichtung, gesägt und entgratet\",Sprachindex!$A:$Z,Haftungsausschluß!$O$6,FALSE) & \" (\" & ROUNDUP(C336/1000*5.62,2) & \" \" & VLOOKUP(\"kg/Stk\",Sprachindex!$A:$Z,Haftungsausschluß!$O$6,FALSE) & \")\" & IF('Kalkulation 1'!$AH$33,\" \" & 'Kalkulation 1'!$R$9,\"\")","v":"Dammbalken 50/150 exkl. Dichtung, gesägt und entgratet (0 kg/Stk)"},null,null,null,null,null,null,null,0]
[null,null,0,0,{"$f":"VLOOKUP(\"[m]\",Sprachindex!$A:$Z,Haftungsausschluß!$O$6,FALSE)","v":"[m]"},{"$f":"IF($L$14=1,Preisliste!$E$10,Preisliste!$F$10)","v":"H501000"},{"$f":"VLOOKUP(\"Dammbalken 50/150 exkl. Dichtung, gesägt und entgratet\",Sprachindex!$A:$Z,Haftungsausschluß!$O$6,FALSE) & \" (\" & ROUNDUP(C337/1000*5.62,2) & \" \" & VLOOKUP(\"kg/Stk\",Sprachindex!$A:$Z,Haftungsausschluß!$O$6,FALSE) & \")\" & IF('Kalkulation 1'!$AH$33,\" \" & 'Kalkulation 1'!$R$9,\"\")","v":"Dammbalken 50/150 exkl. Dichtung, gesägt und entgratet (0 kg/Stk)"},null,null,null,null,null,null,null,0]
[null,null,0,0,{"$f":"VLOOKUP(\"[m]\",Sprachindex!$A:$Z,Haftungsausschluß!$O$6,FALSE)","v":"[m]"},{"$f":"IF($L$14=1,Preisliste!$E$10,Preisliste!$F$10)","v":"H501000"},{"$f":"VLOOKUP(\"Dammbalken 50/150 exkl. Dichtung, gesägt und entgratet\",Sprachindex!$A:$Z,Haftungsausschluß!$O$6,FALSE) & \" (\" & ROUNDUP(C338/1000*5.62,2) & \" \" & VLOOKUP(\"kg/Stk\",Sprachindex!$A:$Z,Haftungsausschluß!$O$6,FALSE) & \")\" & IF('Kalkulation 1'!$AH$33,\" \" & 'Kalkulation 1'!$R$9,\"\")","v":"Dammbalken 50/150 exkl. Dichtung, gesägt und entgratet (0 kg/Stk)"},null,null,null,null,null,null,null,0]
[null,null,0,0,{"$f":"VLOOKUP(\"[m]\",Sprachindex!$A:$Z,Haftungsausschluß!$O$6,FALSE)","v":"[m]"},{"$f":"IF($L$14=1,Preisliste!$E$10,Preisliste!$F$10)","v":"H501000"},{"$f":"VLOOKUP(\"Dammbalken 50/150 exkl. Dichtung, gesägt und entgratet\",Sprachindex!$A:$Z,Haftungsausschluß!$O$6,FALSE) & \" (\" & ROUNDUP(C339/1000*5.62,2) & \" \" & VLOOKUP(\"kg/Stk\",Sprachindex!$A:$Z,Haftungsausschluß!$O$6,FALSE) & \")\" & IF('Kalkulation 1'!$AH$33,\" \" & 'Kalkulation 1'!$R$9,\"\")","v":"Dammbalken 50/150 exkl. Dichtung, gesägt und entgratet (0 kg/Stk)"},null,null,null,null,null,null,null,0]
[null,null,0,0,{"$f":"VLOOKUP(\"[m]\",Sprachindex!$A:$Z,Haftungsausschluß!$O$6,FALSE)","v":"[m]"},{"$f":"IF($L$14=1,Preisliste!$E$10,Preisliste!$F$10)","v":"H501000"},{"$f":"VLOOKUP(\"Dammbalken 50/150 exkl. Dichtung, gesägt und entgratet\",Sprachindex!$A:$Z,Haftungsausschluß!$O$6,FALSE) & \" (\" & ROUNDUP(C340/1000*5.62,2) & \" \" & VLOOKUP(\"kg/Stk\",Sprachindex!$A:$Z,Haftungsausschluß!$O$6,FALSE) & \")\" & IF('Kalkulation 1'!$AH$33,\" \" & 'Kalkulation 1'!$R$9,\"\")","v":"Dammbalken 50/150 exkl. Dichtung, gesägt und entgratet (0 kg/Stk)"},null,null,null,null,null,null,null,0]
[null,null,0,0,{"$f":"VLOOKUP(\"[m]\",Sprachindex!$A:$Z,Haftungsausschluß!$O$6,FALSE)","v":"[m]"},{"$f":"IF($L$14=1,Preisliste!$E$10,Preisliste!$F$10)","v":"H501000"},{"$f":"VLOOKUP(\"Dammbalken 50/150 exkl. Dichtung, gesägt und entgratet\",Sprachindex!$A:$Z,Haftungsausschluß!$O$6,FALSE) & \" (\" & ROUNDUP(C341/1000*5.62,2) & \" \" & VLOOKUP(\"kg/Stk\",Sprachindex!$A:$Z,Haftungsausschluß!$O$6,FALSE) & \")\" & IF('Kalkulation 1'!$AH$33,\" \" & 'Kalkulation 1'!$R$9,\"\")","v":"Dammbalken 50/150 exkl. Dichtung, gesägt und entgratet (0 kg/Stk)"},null,null,null,null,null,null,null,0]
[null,null,0,0,{"$f":"VLOOKUP(\"[m]\",Sprachindex!$A:$Z,Haftungsausschluß!$O$6,FALSE)","v":"[m]"},{"$f":"IF($L$14=1,Preisliste!$E$10,Preisliste!$F$10)","v":"H501000"},{"$f":"VLOOKUP(\"Dammbalken 50/150 exkl. Dichtung, gesägt und entgratet\",Sprachindex!$A:$Z,Haftungsausschluß!$O$6,FALSE) & \" (\" & ROUNDUP(C342/1000*5.62,2) & \" \" & VLOOKUP(\"kg/Stk\",Sprachindex!$A:$Z,Haftungsausschluß!$O$6,FALSE) & \")\" & IF('Kalkulation 1'!$AH$33,\" \" & 'Kalkulation 1'!$R$9,\"\")","v":"Dammbalken 50/150 exkl. Dichtung, gesägt und entgratet (0 kg/Stk)"},null,null,null,null,null,null,null,0]
[null,null,0,0,{"$f":"VLOOKUP(\"[m]\",Sprachindex!$A:$Z,Haftungsausschluß!$O$6,FALSE)","v":"[m]"},{"$f":"IF($L$14=1,Preisliste!$E$10,Preisliste!$F$10)","v":"H501000"},{"$f":"VLOOKUP(\"Dammbalken 50/150 exkl. Dichtung, gesägt und entgratet\",Sprachindex!$A:$Z,Haftungsausschluß!$O$6,FALSE) & \" (\" & ROUNDUP(C343/1000*5.62,2) & \" \" & VLOOKUP(\"kg/Stk\",Sprachindex!$A:$Z,Haftungsausschluß!$O$6,FALSE) & \")\" & IF('Kalkulation 1'!$AH$33,\" \" & 'Kalkulation 1'!$R$9,\"\")","v":"Dammbalken 50/150 exkl. Dichtung, gesägt und entgratet (0 kg/Stk)"},null,null,null,null,null,null,null,0]
[null,null,0,0,{"$f":"VLOOKUP(\"[m]\",Sprachindex!$A:$Z,Haftungsausschluß!$O$6,FALSE)","v":"[m]"},{"$f":"IF($L$14=1,Preisliste!$E$10,Preisliste!$F$10)","v":"H501000"},{"$f":"VLOOKUP(\"Dammbalken 50/150 exkl. Dichtung, gesägt und entgratet\",Sprachindex!$A:$Z,Haftungsausschluß!$O$6,FALSE) & \" (\" & ROUNDUP(C344/1000*5.62,2) & \" \" & VLOOKUP(\"kg/Stk\",Sprachindex!$A:$Z,Haftungsausschluß!$O$6,FALSE) & \")\" & IF('Kalkulation 1'!$AH$33,\" \" & 'Kalkulation 1'!$R$9,\"\")","v":"Dammbalken 50/150 exkl. Dichtung, gesägt und entgratet (0 kg/Stk)"},null,null,null,null,null,null,null,0]
[null,null,0,0,{"$f":"VLOOKUP(\"[m]\",Sprachindex!$A:$Z,Haftungsausschluß!$O$6,FALSE)","v":"[m]"},{"$f":"IF($L$14=1,Preisliste!$E$10,Preisliste!$F$10)","v":"H501000"},{"$f":"VLOOKUP(\"Dammbalken 50/150 exkl. Dichtung, gesägt und entgratet\",Sprachindex!$A:$Z,Haftungsausschluß!$O$6,FALSE) & \" (\" & ROUNDUP(C345/1000*5.62,2) & \" \" & VLOOKUP(\"kg/Stk\",Sprachindex!$A:$Z,Haftungsausschluß!$O$6,FALSE) & \")\" & IF('Kalkulation 1'!$AH$33,\" \" & 'Kalkulation 1'!$R$9,\"\")","v":"Dammbalken 50/150 exkl. Dichtung, gesägt und entgratet (0 kg/Stk)"},null,null,null,null,null,null,null,0]
[null,null,0,0,{"$f":"VLOOKUP(\"[m]\",Sprachindex!$A:$Z,Haftungsausschluß!$O$6,FALSE)","v":"[m]"},{"$f":"IF($L$14=1,Preisliste!$E$10,Preisliste!$F$10)","v":"H501000"},{"$f":"VLOOKUP(\"Dammbalken 50/150 exkl. Dichtung, gesägt und entgratet\",Sprachindex!$A:$Z,Haftungsausschluß!$O$6,FALSE) & \" (\" & ROUNDUP(C346/1000*5.62,2) & \" \" & VLOOKUP(\"kg/Stk\",Sprachindex!$A:$Z,Haftungsausschluß!$O$6,FALSE) & \")\" & IF('Kalkulation 1'!$AH$33,\" \" & 'Kalkulation 1'!$R$9,\"\")","v":"Dammbalken 50/150 exkl. Dichtung, gesägt und entgratet (0 kg/Stk)"},null,null,null,null,null,null,null,0]
[null,null,0,0,{"$f":"VLOOKUP(\"[m]\",Sprachindex!$A:$Z,Haftungsausschluß!$O$6,FALSE)","v":"[m]"},{"$f":"IF($L$14=1,Preisliste!$E$10,Preisliste!$F$10)","v":"H501000"},{"$f":"VLOOKUP(\"Dammbalken 50/150 exkl. Dichtung, gesägt und entgratet\",Sprachindex!$A:$Z,Haftungsausschluß!$O$6,FALSE) & \" (\" & ROUNDUP(C347/1000*5.62,2) & \" \" & VLOOKUP(\"kg/Stk\",Sprachindex!$A:$Z,Haftungsausschluß!$O$6,FALSE) & \")\" & IF('Kalkulation 1'!$AH$33,\" \" & 'Kalkulation 1'!$R$9,\"\")","v":"Dammbalken 50/150 exkl. Dichtung, gesägt und entgratet (0 kg/Stk)"},null,null,null,null,null,null,null,0]
[null,null,0,0,{"$f":"VLOOKUP(\"[m]\",Sprachindex!$A:$Z,Haftungsausschluß!$O$6,FALSE)","v":"[m]"},{"$f":"IF($L$14=1,Preisliste!$E$10,Preisliste!$F$10)","v":"H501000"},{"$f":"VLOOKUP(\"Dammbalken 50/150 exkl. Dichtung, gesägt und entgratet\",Sprachindex!$A:$Z,Haftungsausschluß!$O$6,FALSE) & \" (\" & ROUNDUP(C348/1000*5.62,2) & \" \" & VLOOKUP(\"kg/Stk\",Sprachindex!$A:$Z,Haftungsausschluß!$O$6,FALSE) & \")\" & IF('Kalkulation 1'!$AH$33,\" \" & 'Kalkulation 1'!$R$9,\"\")","v":"Dammbalken 50/150 exkl. Dichtung, gesägt und entgratet (0 kg/Stk)"},null,null,null,null,null,null,null,0]
[null,null,0,0,{"$f":"VLOOKUP(\"[m]\",Sprachindex!$A:$Z,Haftungsausschluß!$O$6,FALSE)","v":"[m]"},{"$f":"IF($L$14=1,Preisliste!$E$10,Preisliste!$F$10)","v":"H501000"},{"$f":"VLOOKUP(\"Dammbalken 50/150 exkl. Dichtung, gesägt und entgratet\",Sprachindex!$A:$Z,Haftungsausschluß!$O$6,FALSE) & \" (\" & ROUNDUP(C349/1000*5.62,2) & \" \" & VLOOKUP(\"kg/Stk\",Sprachindex!$A:$Z,Haftungsausschluß!$O$6,FALSE) & \")\" & IF('Kalkulation 1'!$AH$33,\" \" & 'Kalkulation 1'!$R$9,\"\")","v":"Dammbalken 50/150 exkl. Dichtung, gesägt und entgratet (0 kg/Stk)"},null,null,null,null,null,null,null,0]
[null,null,0,0,{"$f":"VLOOKUP(\"[m]\",Sprachindex!$A:$Z,Haftungsausschluß!$O$6,FALSE)","v":"[m]"},{"$f":"IF($L$14=1,Preisliste!$E$10,Preisliste!$F$10)","v":"H501000"},{"$f":"VLOOKUP(\"Dammbalken 50/150 exkl. Dichtung, gesägt und entgratet\",Sprachindex!$A:$Z,Haftungsausschluß!$O$6,FALSE) & \" (\" & ROUNDUP(C350/1000*5.62,2) & \" \" & VLOOKUP(\"kg/Stk\",Sprachindex!$A:$Z,Haftungsausschluß!$O$6,FALSE) & \")\" & IF('Kalkulation 1'!$AH$33,\" \" & 'Kalkulation 1'!$R$9,\"\")","v":"Dammbalken 50/150 exkl. Dichtung, gesägt und entgratet (0 kg/Stk)"},null,null,null,null,null,null,null,0]
[null,null,0,0,{"$f":"VLOOKUP(\"[m]\",Sprachindex!$A:$Z,Haftungsausschluß!$O$6,FALSE)","v":"[m]"},{"$f":"IF($L$14=1,Preisliste!$E$10,Preisliste!$F$10)","v":"H501000"},{"$f":"VLOOKUP(\"Dammbalken 50/150 exkl. Dichtung, gesägt und entgratet\",Sprachindex!$A:$Z,Haftungsausschluß!$O$6,FALSE) & \" (\" & ROUNDUP(C351/1000*5.62,2) & \" \" & VLOOKUP(\"kg/Stk\",Sprachindex!$A:$Z,Haftungsausschluß!$O$6,FALSE) & \")\" & IF('Kalkulation 1'!$AH$33,\" \" & 'Kalkulation 1'!$R$9,\"\")","v":"Dammbalken 50/150 exkl. Dichtung, gesägt und entgratet (0 kg/Stk)"},null,null,null,null,null,null,null,0]
[null,null,0,0,{"$f":"VLOOKUP(\"[m]\",Sprachindex!$A:$Z,Haftungsausschluß!$O$6,FALSE)","v":"[m]"},{"$f":"IF($L$14=1,Preisliste!$E$10,Preisliste!$F$10)","v":"H501000"},{"$f":"VLOOKUP(\"Dammbalken 50/150 exkl. Dichtung, gesägt und entgratet\",Sprachindex!$A:$Z,Haftungsausschluß!$O$6,FALSE) & \" (\" & ROUNDUP(C352/1000*5.62,2) & \" \" & VLOOKUP(\"kg/Stk\",Sprachindex!$A:$Z,Haftungsausschluß!$O$6,FALSE) & \")\" & IF('Kalkulation 1'!$AH$33,\" \" & 'Kalkulation 1'!$R$9,\"\")","v":"Dammbalken 50/150 exkl. Dichtung, gesägt und entgratet (0 kg/Stk)"},null,null,null,null,null,null,null,0]
[null,null,0,0,{"$f":"VLOOKUP(\"[m]\",Sprachindex!$A:$Z,Haftungsausschluß!$O$6,FALSE)","v":"[m]"},{"$f":"IF($L$14=1,Preisliste!$E$10,Preisliste!$F$10)","v":"H501000"},{"$f":"VLOOKUP(\"Dammbalken 50/150 exkl. Dichtung, gesägt und entgratet\",Sprachindex!$A:$Z,Haftungsausschluß!$O$6,FALSE) & \" (\" & ROUNDUP(C353/1000*5.62,2) & \" \" & VLOOKUP(\"kg/Stk\",Sprachindex!$A:$Z,Haftungsausschluß!$O$6,FALSE) & \")\" & IF('Kalkulation 1'!$AH$33,\" \" & 'Kalkulation 1'!$R$9,\"\")","v":"Dammbalken 50/150 exkl. Dichtung, gesägt und entgratet (0 kg/Stk)"},null,null,null,null,null,null,null,0]
[null,null,0,0,{"$f":"VLOOKUP(\"[m]\",Sprachindex!$A:$Z,Haftungsausschluß!$O$6,FALSE)","v":"[m]"},{"$f":"IF($L$14=1,Preisliste!$E$10,Preisliste!$F$10)","v":"H501000"},{"$f":"VLOOKUP(\"Dammbalken 50/150 exkl. Dichtung, gesägt und entgratet\",Sprachindex!$A:$Z,Haftungsausschluß!$O$6,FALSE) & \" (\" & ROUNDUP(C354/1000*5.62,2) & \" \" & VLOOKUP(\"kg/Stk\",Sprachindex!$A:$Z,Haftungsausschluß!$O$6,FALSE) & \")\" & IF('Kalkulation 1'!$AH$33,\" \" & 'Kalkulation 1'!$R$9,\"\")","v":"Dammbalken 50/150 exkl. Dichtung, gesägt und entgratet (0 kg/Stk)"},null,null,null,null,null,null,null,0]
[null,null,0,0,{"$f":"VLOOKUP(\"[m]\",Sprachindex!$A:$Z,Haftungsausschluß!$O$6,FALSE)","v":"[m]"},{"$f":"IF($L$14=1,Preisliste!$E$10,Preisliste!$F$10)","v":"H501000"},{"$f":"VLOOKUP(\"Dammbalken 50/150 exkl. Dichtung, gesägt und entgratet\",Sprachindex!$A:$Z,Haftungsausschluß!$O$6,FALSE) & \" (\" & ROUNDUP(C355/1000*5.62,2) & \" \" & VLOOKUP(\"kg/Stk\",Sprachindex!$A:$Z,Haftungsausschluß!$O$6,FALSE) & \")\" & IF('Kalkulation 1'!$AH$33,\" \" & 'Kalkulation 1'!$R$9,\"\")","v":"Dammbalken 50/150 exkl. Dichtung, gesägt und entgratet (0 kg/Stk)"},null,null,null,null,null,null,null,0]
[null,null,0,0,{"$f":"VLOOKUP(\"[m]\",Sprachindex!$A:$Z,Haftungsausschluß!$O$6,FALSE)","v":"[m]"},{"$f":"IF($L$14=1,Preisliste!$E$10,Preisliste!$F$10)","v":"H501000"},{"$f":"VLOOKUP(\"Dammbalken 50/150 exkl. Dichtung, gesägt und entgratet\",Sprachindex!$A:$Z,Haftungsausschluß!$O$6,FALSE) & \" (\" & ROUNDUP(C356/1000*5.62,2) & \" \" & VLOOKUP(\"kg/Stk\",Sprachindex!$A:$Z,Haftungsausschluß!$O$6,FALSE) & \")\" & IF('Kalkulation 1'!$AH$33,\" \" & 'Kalkulation 1'!$R$9,\"\")","v":"Dammbalken 50/150 exkl. Dichtung, gesägt und entgratet (0 kg/Stk)"},null,null,null,null,null,null,null,0]
[null,null,0,0,{"$f":"VLOOKUP(\"[m]\",Sprachindex!$A:$Z,Haftungsausschluß!$O$6,FALSE)","v":"[m]"},{"$f":"IF($L$14=1,Preisliste!$E$10,Preisliste!$F$10)","v":"H501000"},{"$f":"VLOOKUP(\"Dammbalken 50/150 exkl. Dichtung, gesägt und entgratet\",Sprachindex!$A:$Z,Haftungsausschluß!$O$6,FALSE) & \" (\" & ROUNDUP(C357/1000*5.62,2) & \" \" & VLOOKUP(\"kg/Stk\",Sprachindex!$A:$Z,Haftungsausschluß!$O$6,FALSE) & \")\" & IF('Kalkulation 1'!$AH$33,\" \" & 'Kalkulation 1'!$R$9,\"\")","v":"Dammbalken 50/150 exkl. Dichtung, gesägt und entgratet (0 kg/Stk)"},null,null,null,null,null,null,null,0]
[null,null,0,0,{"$f":"VLOOKUP(\"[m]\",Sprachindex!$A:$Z,Haftungsausschluß!$O$6,FALSE)","v":"[m]"},{"$f":"IF($L$14=1,Preisliste!$E$10,Preisliste!$F$10)","v":"H501000"},{"$f":"VLOOKUP(\"Dammbalken 50/150 exkl. Dichtung, gesägt und entgratet\",Sprachindex!$A:$Z,Haftungsausschluß!$O$6,FALSE) & \" (\" & ROUNDUP(C358/1000*5.62,2) & \" \" & VLOOKUP(\"kg/Stk\",Sprachindex!$A:$Z,Haftungsausschluß!$O$6,FALSE) & \")\" & IF('Kalkulation 1'!$AH$33,\" \" & 'Kalkulation 1'!$R$9,\"\")","v":"Dammbalken 50/150 exkl. Dichtung, gesägt und entgratet (0 kg/Stk)"},null,null,null,null,null,null,null,0]
[null,null,0,0,{"$f":"VLOOKUP(\"[m]\",Sprachindex!$A:$Z,Haftungsausschluß!$O$6,FALSE)","v":"[m]"},{"$f":"IF($L$14=1,Preisliste!$E$10,Preisliste!$F$10)","v":"H501000"},{"$f":"VLOOKUP(\"Dammbalken 50/150 exkl. Dichtung, gesägt und entgratet\",Sprachindex!$A:$Z,Haftungsausschluß!$O$6,FALSE) & \" (\" & ROUNDUP(C359/1000*5.62,2) & \" \" & VLOOKUP(\"kg/Stk\",Sprachindex!$A:$Z,Haftungsausschluß!$O$6,FALSE) & \")\" & IF('Kalkulation 1'!$AH$33,\" \" & 'Kalkulation 1'!$R$9,\"\")","v":"Dammbalken 50/150 exkl. Dichtung, gesägt und entgratet (0 kg/Stk)"},null,null,null,null,null,null,null,0]
[null,null,0,0,{"$f":"VLOOKUP(\"[m]\",Sprachindex!$A:$Z,Haftungsausschluß!$O$6,FALSE)","v":"[m]"},{"$f":"IF($L$14=1,Preisliste!$E$10,Preisliste!$F$10)","v":"H501000"},{"$f":"VLOOKUP(\"Dammbalken 50/150 exkl. Dichtung, gesägt und entgratet\",Sprachindex!$A:$Z,Haftungsausschluß!$O$6,FALSE) & \" (\" & ROUNDUP(C360/1000*5.62,2) & \" \" & VLOOKUP(\"kg/Stk\",Sprachindex!$A:$Z,Haftungsausschluß!$O$6,FALSE) & \")\" & IF('Kalkulation 1'!$AH$33,\" \" & 'Kalkulation 1'!$R$9,\"\")","v":"Dammbalken 50/150 exkl. Dichtung, gesägt und entgratet (0 kg/Stk)"},null,null,null,null,null,null,null,0]
[null,null,0,0,{"$f":"VLOOKUP(\"[m]\",Sprachindex!$A:$Z,Haftungsausschluß!$O$6,FALSE)","v":"[m]"},{"$f":"IF($L$14=1,Preisliste!$E$10,Preisliste!$F$10)","v":"H501000"},{"$f":"VLOOKUP(\"Dammbalken 50/150 exkl. Dichtung, gesägt und entgratet\",Sprachindex!$A:$Z,Haftungsausschluß!$O$6,FALSE) & \" (\" & ROUNDUP(C361/1000*5.62,2) & \" \" & VLOOKUP(\"kg/Stk\",Sprachindex!$A:$Z,Haftungsausschluß!$O$6,FALSE) & \")\" & IF('Kalkulation 1'!$AH$33,\" \" & 'Kalkulation 1'!$R$9,\"\")","v":"Dammbalken 50/150 exkl. Dichtung, gesägt und entgratet (0 kg/Stk)"},null,null,null,null,null,null,null,0]
[null,null,0,0,{"$f":"VLOOKUP(\"[m]\",Sprachindex!$A:$Z,Haftungsausschluß!$O$6,FALSE)","v":"[m]"},{"$f":"IF($L$14=1,Preisliste!$E$10,Preisliste!$F$10)","v":"H501000"},{"$f":"VLOOKUP(\"Dammbalken 50/150 exkl. Dichtung, gesägt und entgratet\",Sprachindex!$A:$Z,Haftungsausschluß!$O$6,FALSE) & \" (\" & ROUNDUP(C362/1000*5.62,2) & \" \" & VLOOKUP(\"kg/Stk\",Sprachindex!$A:$Z,Haftungsausschluß!$O$6,FALSE) & \")\" & IF('Kalkulation 1'!$AH$33,\" \" & 'Kalkulation 1'!$R$9,\"\")","v":"Dammbalken 50/150 exkl. Dichtung, gesägt und entgratet (0 kg/Stk)"},null,null,null,null,null,null,null,0]
[null,null,0,0,{"$f":"VLOOKUP(\"[m]\",Sprachindex!$A:$Z,Haftungsausschluß!$O$6,FALSE)","v":"[m]"},{"$f":"IF($L$14=1,Preisliste!$E$10,Preisliste!$F$10)","v":"H501000"},{"$f":"VLOOKUP(\"Dammbalken 50/150 exkl. Dichtung, gesägt und entgratet\",Sprachindex!$A:$Z,Haftungsausschluß!$O$6,FALSE) & \" (\" & ROUNDUP(C363/1000*5.62,2) & \" \" & VLOOKUP(\"kg/Stk\",Sprachindex!$A:$Z,Haftungsausschluß!$O$6,FALSE) & \")\" & IF('Kalkulation 1'!$AH$33,\" \" & 'Kalkulation 1'!$R$9,\"\")","v":"Dammbalken 50/150 exkl. Dichtung, gesägt und entgratet (0 kg/Stk)"},null,null,null,null,null,null,null,0]
[null,null,0,0,{"$f":"VLOOKUP(\"[m]\",Sprachindex!$A:$Z,Haftungsausschluß!$O$6,FALSE)","v":"[m]"},{"$f":"IF($L$14=1,Preisliste!$E$10,Preisliste!$F$10)","v":"H501000"},{"$f":"VLOOKUP(\"Dammbalken 50/150 exkl. Dichtung, gesägt und entgratet\",Sprachindex!$A:$Z,Haftungsausschluß!$O$6,FALSE) & \" (\" & ROUNDUP(C364/1000*5.62,2) & \" \" & VLOOKUP(\"kg/Stk\",Sprachindex!$A:$Z,Haftungsausschluß!$O$6,FALSE) & \")\" & IF('Kalkulation 1'!$AH$33,\" \" & 'Kalkulation 1'!$R$9,\"\")","v":"Dammbalken 50/150 exkl. Dichtung, gesägt und entgratet (0 kg/Stk)"},null,null,null,null,null,null,null,0]
[null,null,0,0,{"$f":"VLOOKUP(\"[m]\",Sprachindex!$A:$Z,Haftungsausschluß!$O$6,FALSE)","v":"[m]"},{"$f":"IF($L$14=1,Preisliste!$E$10,Preisliste!$F$10)","v":"H501000"},{"$f":"VLOOKUP(\"Dammbalken 50/150 exkl. Dichtung, gesägt und entgratet\",Sprachindex!$A:$Z,Haftungsausschluß!$O$6,FALSE) & \" (\" & ROUNDUP(C365/1000*5.62,2) & \" \" & VLOOKUP(\"kg/Stk\",Sprachindex!$A:$Z,Haftungsausschluß!$O$6,FALSE) & \")\" & IF('Kalkulation 1'!$AH$33,\" \" & 'Kalkulation 1'!$R$9,\"\")","v":"Dammbalken 50/150 exkl. Dichtung, gesägt und entgratet (0 kg/Stk)"},null,null,null,null,null,null,null,0]
[null,null,0,0,{"$f":"VLOOKUP(\"[m]\",Sprachindex!$A:$Z,Haftungsausschluß!$O$6,FALSE)","v":"[m]"},{"$f":"IF($L$14=1,Preisliste!$E$10,Preisliste!$F$10)","v":"H501000"},{"$f":"VLOOKUP(\"Dammbalken 50/150 exkl. Dichtung, gesägt und entgratet\",Sprachindex!$A:$Z,Haftungsausschluß!$O$6,FALSE) & \" (\" & ROUNDUP(C366/1000*5.62,2) & \" \" & VLOOKUP(\"kg/Stk\",Sprachindex!$A:$Z,Haftungsausschluß!$O$6,FALSE) & \")\" & IF('Kalkulation 1'!$AH$33,\" \" & 'Kalkulation 1'!$R$9,\"\")","v":"Dammbalken 50/150 exkl. Dichtung, gesägt und entgratet (0 kg/Stk)"},null,null,null,null,null,null,null,0]
[null,null,0,0,{"$f":"VLOOKUP(\"[m]\",Sprachindex!$A:$Z,Haftungsausschluß!$O$6,FALSE)","v":"[m]"},{"$f":"IF($L$14=1,Preisliste!$E$10,Preisliste!$F$10)","v":"H501000"},{"$f":"VLOOKUP(\"Dammbalken 50/150 exkl. Dichtung, gesägt und entgratet\",Sprachindex!$A:$Z,Haftungsausschluß!$O$6,FALSE) & \" (\" & ROUNDUP(C367/1000*5.62,2) & \" \" & VLOOKUP(\"kg/Stk\",Sprachindex!$A:$Z,Haftungsausschluß!$O$6,FALSE) & \")\" & IF('Kalkulation 1'!$AH$33,\" \" & 'Kalkulation 1'!$R$9,\"\")","v":"Dammbalken 50/150 exkl. Dichtung, gesägt und entgratet (0 kg/Stk)"},null,null,null,null,null,null,null,0]
[null,null,0,0,{"$f":"VLOOKUP(\"[m]\",Sprachindex!$A:$Z,Haftungsausschluß!$O$6,FALSE)","v":"[m]"},{"$f":"IF($L$14=1,Preisliste!$E$10,Preisliste!$F$10)","v":"H501000"},{"$f":"VLOOKUP(\"Dammbalken 50/150 exkl. Dichtung, gesägt und entgratet\",Sprachindex!$A:$Z,Haftungsausschluß!$O$6,FALSE) & \" (\" & ROUNDUP(C368/1000*5.62,2) & \" \" & VLOOKUP(\"kg/Stk\",Sprachindex!$A:$Z,Haftungsausschluß!$O$6,FALSE) & \")\" & IF('Kalkulation 1'!$AH$33,\" \" & 'Kalkulation 1'!$R$9,\"\")","v":"Dammbalken 50/150 exkl. Dichtung, gesägt und entgratet (0 kg/Stk)"},null,null,null,null,null,null,null,0]
[null,null,0,0,{"$f":"VLOOKUP(\"[m]\",Sprachindex!$A:$Z,Haftungsausschluß!$O$6,FALSE)","v":"[m]"},{"$f":"IF($L$14=1,Preisliste!$E$10,Preisliste!$F$10)","v":"H501000"},{"$f":"VLOOKUP(\"Dammbalken 50/150 exkl. Dichtung, gesägt und entgratet\",Sprachindex!$A:$Z,Haftungsausschluß!$O$6,FALSE) & \" (\" & ROUNDUP(C369/1000*5.62,2) & \" \" & VLOOKUP(\"kg/Stk\",Sprachindex!$A:$Z,Haftungsausschluß!$O$6,FALSE) & \")\" & IF('Kalkulation 1'!$AH$33,\" \" & 'Kalkulation 1'!$R$9,\"\")","v":"Dammbalken 50/150 exkl. Dichtung, gesägt und entgratet (0 kg/Stk)"},null,null,null,null,null,null,null,0]
[null,null,0,0,{"$f":"VLOOKUP(\"[m]\",Sprachindex!$A:$Z,Haftungsausschluß!$O$6,FALSE)","v":"[m]"},{"$f":"IF($L$14=1,Preisliste!$E$10,Preisliste!$F$10)","v":"H501000"},{"$f":"VLOOKUP(\"Dammbalken 50/150 exkl. Dichtung, gesägt und entgratet\",Sprachindex!$A:$Z,Haftungsausschluß!$O$6,FALSE) & \" (\" & ROUNDUP(C370/1000*5.62,2) & \" \" & VLOOKUP(\"kg/Stk\",Sprachindex!$A:$Z,Haftungsausschluß!$O$6,FALSE) & \")\" & IF('Kalkulation 1'!$AH$33,\" \" & 'Kalkulation 1'!$R$9,\"\")","v":"Dammbalken 50/150 exkl. Dichtung, gesägt und entgratet (0 kg/Stk)"},null,null,null,null,null,null,null,0]
[null,null,0,0,{"$f":"VLOOKUP(\"[m]\",Sprachindex!$A:$Z,Haftungsausschluß!$O$6,FALSE)","v":"[m]"},{"$f":"IF($L$14=1,Preisliste!$E$10,Preisliste!$F$10)","v":"H501000"},{"$f":"VLOOKUP(\"Dammbalken 50/150 exkl. Dichtung, gesägt und entgratet\",Sprachindex!$A:$Z,Haftungsausschluß!$O$6,FALSE) & \" (\" & ROUNDUP(C371/1000*5.62,2) & \" \" & VLOOKUP(\"kg/Stk\",Sprachindex!$A:$Z,Haftungsausschluß!$O$6,FALSE) & \")\" & IF('Kalkulation 1'!$AH$33,\" \" & 'Kalkulation 1'!$R$9,\"\")","v":"Dammbalken 50/150 exkl. Dichtung, gesägt und entgratet (0 kg/Stk)"},null,null,null,null,null,null,null,0]
[null,null,0,0,{"$f":"VLOOKUP(\"[m]\",Sprachindex!$A:$Z,Haftungsausschluß!$O$6,FALSE)","v":"[m]"},{"$f":"IF($L$14=1,Preisliste!$E$10,Preisliste!$F$10)","v":"H501000"},{"$f":"VLOOKUP(\"Dammbalken 50/150 exkl. Dichtung, gesägt und entgratet\",Sprachindex!$A:$Z,Haftungsausschluß!$O$6,FALSE) & \" (\" & ROUNDUP(C372/1000*5.62,2) & \" \" & VLOOKUP(\"kg/Stk\",Sprachindex!$A:$Z,Haftungsausschluß!$O$6,FALSE) & \")\" & IF('Kalkulation 1'!$AH$33,\" \" & 'Kalkulation 1'!$R$9,\"\")","v":"Dammbalken 50/150 exkl. Dichtung, gesägt und entgratet (0 kg/Stk)"},null,null,null,null,null,null,null,0]
[null,null,0,0,{"$f":"VLOOKUP(\"[m]\",Sprachindex!$A:$Z,Haftungsausschluß!$O$6,FALSE)","v":"[m]"},{"$f":"IF($L$14=1,Preisliste!$E$10,Preisliste!$F$10)","v":"H501000"},{"$f":"VLOOKUP(\"Dammbalken 50/150 exkl. Dichtung, gesägt und entgratet\",Sprachindex!$A:$Z,Haftungsausschluß!$O$6,FALSE) & \" (\" & ROUNDUP(C373/1000*5.62,2) & \" \" & VLOOKUP(\"kg/Stk\",Sprachindex!$A:$Z,Haftungsausschluß!$O$6,FALSE) & \")\" & IF('Kalkulation 1'!$AH$33,\" \" & 'Kalkulation 1'!$R$9,\"\")","v":"Dammbalken 50/150 exkl. Dichtung, gesägt und entgratet (0 kg/Stk)"},null,null,null,null,null,null,null,0]
[null,null,0,0,{"$f":"VLOOKUP(\"[m]\",Sprachindex!$A:$Z,Haftungsausschluß!$O$6,FALSE)","v":"[m]"},{"$f":"IF($L$14=1,Preisliste!$E$10,Preisliste!$F$10)","v":"H501000"},{"$f":"VLOOKUP(\"Dammbalken 50/150 exkl. Dichtung, gesägt und entgratet\",Sprachindex!$A:$Z,Haftungsausschluß!$O$6,FALSE) & \" (\" & ROUNDUP(C374/1000*5.62,2) & \" \" & VLOOKUP(\"kg/Stk\",Sprachindex!$A:$Z,Haftungsausschluß!$O$6,FALSE) & \")\" & IF('Kalkulation 1'!$AH$33,\" \" & 'Kalkulation 1'!$R$9,\"\")","v":"Dammbalken 50/150 exkl. Dichtung, gesägt und entgratet (0 kg/Stk)"},null,null,null,null,null,null,null,0]
[null,null,0,0,{"$f":"VLOOKUP(\"[m]\",Sprachindex!$A:$Z,Haftungsausschluß!$O$6,FALSE)","v":"[m]"},{"$f":"IF($L$14=1,Preisliste!$E$10,Preisliste!$F$10)","v":"H501000"},{"$f":"VLOOKUP(\"Dammbalken 50/150 exkl. Dichtung, gesägt und entgratet\",Sprachindex!$A:$Z,Haftungsausschluß!$O$6,FALSE) & \" (\" & ROUNDUP(C375/1000*5.62,2) & \" \" & VLOOKUP(\"kg/Stk\",Sprachindex!$A:$Z,Haftungsausschluß!$O$6,FALSE) & \")\" & IF('Kalkulation 1'!$AH$33,\" \" & 'Kalkulation 1'!$R$9,\"\")","v":"Dammbalken 50/150 exkl. Dichtung, gesägt und entgratet (0 kg/Stk)"},null,null,null,null,null,null,null,0]
[null,null,0,0,{"$f":"VLOOKUP(\"[m]\",Sprachindex!$A:$Z,Haftungsausschluß!$O$6,FALSE)","v":"[m]"},{"$f":"IF($L$14=1,Preisliste!$E$10,Preisliste!$F$10)","v":"H501000"},{"$f":"VLOOKUP(\"Dammbalken 50/150 exkl. Dichtung, gesägt und entgratet\",Sprachindex!$A:$Z,Haftungsausschluß!$O$6,FALSE) & \" (\" & ROUNDUP(C376/1000*5.62,2) & \" \" & VLOOKUP(\"kg/Stk\",Sprachindex!$A:$Z,Haftungsausschluß!$O$6,FALSE) & \")\" & IF('Kalkulation 1'!$AH$33,\" \" & 'Kalkulation 1'!$R$9,\"\")","v":"Dammbalken 50/150 exkl. Dichtung, gesägt und entgratet (0 kg/Stk)"},null,null,null,null,null,null,null,0]
[null,null,0,0,{"$f":"VLOOKUP(\"[m]\",Sprachindex!$A:$Z,Haftungsausschluß!$O$6,FALSE)","v":"[m]"},{"$f":"IF($L$14=1,Preisliste!$E$10,Preisliste!$F$10)","v":"H501000"},{"$f":"VLOOKUP(\"Dammbalken 50/150 exkl. Dichtung, gesägt und entgratet\",Sprachindex!$A:$Z,Haftungsausschluß!$O$6,FALSE) & \" (\" & ROUNDUP(C377/1000*5.62,2) & \" \" & VLOOKUP(\"kg/Stk\",Sprachindex!$A:$Z,Haftungsausschluß!$O$6,FALSE) & \")\" & IF('Kalkulation 1'!$AH$33,\" \" & 'Kalkulation 1'!$R$9,\"\")","v":"Dammbalken 50/150 exkl. Dichtung, gesägt und entgratet (0 kg/Stk)"},null,null,null,null,null,null,null,0]
[null,null,0,0,{"$f":"VLOOKUP(\"[m]\",Sprachindex!$A:$Z,Haftungsausschluß!$O$6,FALSE)","v":"[m]"},{"$f":"IF($L$14=1,Preisliste!$E$10,Preisliste!$F$10)","v":"H501000"},{"$f":"VLOOKUP(\"Dammbalken 50/150 exkl. Dichtung, gesägt und entgratet\",Sprachindex!$A:$Z,Haftungsausschluß!$O$6,FALSE) & \" (\" & ROUNDUP(C378/1000*5.62,2) & \" \" & VLOOKUP(\"kg/Stk\",Sprachindex!$A:$Z,Haftungsausschluß!$O$6,FALSE) & \")\" & IF('Kalkulation 1'!$AH$33,\" \" & 'Kalkulation 1'!$R$9,\"\")","v":"Dammbalken 50/150 exkl. Dichtung, gesägt und entgratet (0 kg/Stk)"},null,null,null,null,null,null,null,0]
[null,null,0,0,{"$f":"VLOOKUP(\"[m]\",Sprachindex!$A:$Z,Haftungsausschluß!$O$6,FALSE)","v":"[m]"},{"$f":"IF($L$14=1,Preisliste!$E$10,Preisliste!$F$10)","v":"H501000"},{"$f":"VLOOKUP(\"Dammbalken 50/150 exkl. Dichtung, gesägt und entgratet\",Sprachindex!$A:$Z,Haftungsausschluß!$O$6,FALSE) & \" (\" & ROUNDUP(C379/1000*5.62,2) & \" \" & VLOOKUP(\"kg/Stk\",Sprachindex!$A:$Z,Haftungsausschluß!$O$6,FALSE) & \")\" & IF('Kalkulation 1'!$AH$33,\" \" & 'Kalkulation 1'!$R$9,\"\")","v":"Dammbalken 50/150 exkl. Dichtung, gesägt und entgratet (0 kg/Stk)"},null,null,null,null,null,null,null,0]
[null,null,0,0,{"$f":"VLOOKUP(\"[m]\",Sprachindex!$A:$Z,Haftungsausschluß!$O$6,FALSE)","v":"[m]"},{"$f":"IF($L$14=1,Preisliste!$E$10,Preisliste!$F$10)","v":"H501000"},{"$f":"VLOOKUP(\"Dammbalken 50/150 exkl. Dichtung, gesägt und entgratet\",Sprachindex!$A:$Z,Haftungsausschluß!$O$6,FALSE) & \" (\" & ROUNDUP(C380/1000*5.62,2) & \" \" & VLOOKUP(\"kg/Stk\",Sprachindex!$A:$Z,Haftungsausschluß!$O$6,FALSE) & \")\" & IF('Kalkulation 1'!$AH$33,\" \" & 'Kalkulation 1'!$R$9,\"\")","v":"Dammbalken 50/150 exkl. Dichtung, gesägt und entgratet (0 kg/Stk)"},null,null,null,null,null,null,null,0]
[null,null,0,0,{"$f":"VLOOKUP(\"[m]\",Sprachindex!$A:$Z,Haftungsausschluß!$O$6,FALSE)","v":"[m]"},{"$f":"IF($L$14=1,Preisliste!$E$10,Preisliste!$F$10)","v":"H501000"},{"$f":"VLOOKUP(\"Dammbalken 50/150 exkl. Dichtung, gesägt und entgratet\",Sprachindex!$A:$Z,Haftungsausschluß!$O$6,FALSE) & \" (\" & ROUNDUP(C381/1000*5.62,2) & \" \" & VLOOKUP(\"kg/Stk\",Sprachindex!$A:$Z,Haftungsausschluß!$O$6,FALSE) & \")\" & IF('Kalkulation 1'!$AH$33,\" \" & 'Kalkulation 1'!$R$9,\"\")","v":"Dammbalken 50/150 exkl. Dichtung, gesägt und entgratet (0 kg/Stk)"},null,null,null,null,null,null,null,0]
[null,null,0,0,{"$f":"VLOOKUP(\"[m]\",Sprachindex!$A:$Z,Haftungsausschluß!$O$6,FALSE)","v":"[m]"},{"$f":"IF($L$14=1,Preisliste!$E$10,Preisliste!$F$10)","v":"H501000"},{"$f":"VLOOKUP(\"Dammbalken 50/150 exkl. Dichtung, gesägt und entgratet\",Sprachindex!$A:$Z,Haftungsausschluß!$O$6,FALSE) & \" (\" & ROUNDUP(C382/1000*5.62,2) & \" \" & VLOOKUP(\"kg/Stk\",Sprachindex!$A:$Z,Haftungsausschluß!$O$6,FALSE) & \")\" & IF('Kalkulation 1'!$AH$33,\" \" & 'Kalkulation 1'!$R$9,\"\")","v":"Dammbalken 50/150 exkl. Dichtung, gesägt und entgratet (0 kg/Stk)"},null,null,null,null,null,null,null,0]
[null,null,0,0,{"$f":"VLOOKUP(\"[m]\",Sprachindex!$A:$Z,Haftungsausschluß!$O$6,FALSE)","v":"[m]"},{"$f":"IF($L$14=1,Preisliste!$E$10,Preisliste!$F$10)","v":"H501000"},{"$f":"VLOOKUP(\"Dammbalken 50/150 exkl. Dichtung, gesägt und entgratet\",Sprachindex!$A:$Z,Haftungsausschluß!$O$6,FALSE) & \" (\" & ROUNDUP(C383/1000*5.62,2) & \" \" & VLOOKUP(\"kg/Stk\",Sprachindex!$A:$Z,Haftungsausschluß!$O$6,FALSE) & \")\" & IF('Kalkulation 1'!$AH$33,\" \" & 'Kalkulation 1'!$R$9,\"\")","v":"Dammbalken 50/150 exkl. Dichtung, gesägt und entgratet (0 kg/Stk)"},null,null,null,null,null,null,null,0]
[null,null,0,0,{"$f":"VLOOKUP(\"[m]\",Sprachindex!$A:$Z,Haftungsausschluß!$O$6,FALSE)","v":"[m]"},{"$f":"IF($L$14=1,Preisliste!$E$10,Preisliste!$F$10)","v":"H501000"},{"$f":"VLOOKUP(\"Dammbalken 50/150 exkl. Dichtung, gesägt und entgratet\",Sprachindex!$A:$Z,Haftungsausschluß!$O$6,FALSE) & \" (\" & ROUNDUP(C384/1000*5.62,2) & \" \" & VLOOKUP(\"kg/Stk\",Sprachindex!$A:$Z,Haftungsausschluß!$O$6,FALSE) & \")\" & IF('Kalkulation 1'!$AH$33,\" \" & 'Kalkulation 1'!$R$9,\"\")","v":"Dammbalken 50/150 exkl. Dichtung, gesägt und entgratet (0 kg/Stk)"},null,null,null,null,null,null,null,0]
[null,null,0,0,{"$f":"VLOOKUP(\"[m]\",Sprachindex!$A:$Z,Haftungsausschluß!$O$6,FALSE)","v":"[m]"},{"$f":"IF($L$14=1,Preisliste!$E$10,Preisliste!$F$10)","v":"H501000"},{"$f":"VLOOKUP(\"Dammbalken 50/150 exkl. Dichtung, gesägt und entgratet\",Sprachindex!$A:$Z,Haftungsausschluß!$O$6,FALSE) & \" (\" & ROUNDUP(C385/1000*5.62,2) & \" \" & VLOOKUP(\"kg/Stk\",Sprachindex!$A:$Z,Haftungsausschluß!$O$6,FALSE) & \")\" & IF('Kalkulation 1'!$AH$33,\" \" & 'Kalkulation 1'!$R$9,\"\")","v":"Dammbalken 50/150 exkl. Dichtung, gesägt und entgratet (0 kg/Stk)"},null,null,null,null,null,null,null,0]
[null,null,0,0,{"$f":"VLOOKUP(\"[m]\",Sprachindex!$A:$Z,Haftungsausschluß!$O$6,FALSE)","v":"[m]"},{"$f":"IF($L$14=1,Preisliste!$E$10,Preisliste!$F$10)","v":"H501000"},{"$f":"VLOOKUP(\"Dammbalken 50/150 exkl. Dichtung, gesägt und entgratet\",Sprachindex!$A:$Z,Haftungsausschluß!$O$6,FALSE) & \" (\" & ROUNDUP(C386/1000*5.62,2) & \" \" & VLOOKUP(\"kg/Stk\",Sprachindex!$A:$Z,Haftungsausschluß!$O$6,FALSE) & \")\" & IF('Kalkulation 1'!$AH$33,\" \" & 'Kalkulation 1'!$R$9,\"\")","v":"Dammbalken 50/150 exkl. Dichtung, gesägt und entgratet (0 kg/Stk)"},null,null,null,null,null,null,null,0]
[null,null,0,0,{"$f":"VLOOKUP(\"[m]\",Sprachindex!$A:$Z,Haftungsausschluß!$O$6,FALSE)","v":"[m]"},{"$f":"IF($L$14=1,Preisliste!$E$10,Preisliste!$F$10)","v":"H501000"},{"$f":"VLOOKUP(\"Dammbalken 50/150 exkl. Dichtung, gesägt und entgratet\",Sprachindex!$A:$Z,Haftungsausschluß!$O$6,FALSE) & \" (\" & ROUNDUP(C387/1000*5.62,2) & \" \" & VLOOKUP(\"kg/Stk\",Sprachindex!$A:$Z,Haftungsausschluß!$O$6,FALSE) & \")\" & IF('Kalkulation 1'!$AH$33,\" \" & 'Kalkulation 1'!$R$9,\"\")","v":"Dammbalken 50/150 exkl. Dichtung, gesägt und entgratet (0 kg/Stk)"},null,null,null,null,null,null,null,0]
[null,null,0,0,{"$f":"VLOOKUP(\"[m]\",Sprachindex!$A:$Z,Haftungsausschluß!$O$6,FALSE)","v":"[m]"},{"$f":"IF($L$14=1,Preisliste!$E$10,Preisliste!$F$10)","v":"H501000"},{"$f":"VLOOKUP(\"Dammbalken 50/150 exkl. Dichtung, gesägt und entgratet\",Sprachindex!$A:$Z,Haftungsausschluß!$O$6,FALSE) & \" (\" & ROUNDUP(C388/1000*5.62,2) & \" \" & VLOOKUP(\"kg/Stk\",Sprachindex!$A:$Z,Haftungsausschluß!$O$6,FALSE) & \")\" & IF('Kalkulation 1'!$AH$33,\" \" & 'Kalkulation 1'!$R$9,\"\")","v":"Dammbalken 50/150 exkl. Dichtung, gesägt und entgratet (0 kg/Stk)"},null,null,null,null,null,null,null,0]
[null,null,0,0,{"$f":"VLOOKUP(\"[m]\",Sprachindex!$A:$Z,Haftungsausschluß!$O$6,FALSE)","v":"[m]"},{"$f":"IF($L$14=1,Preisliste!$E$10,Preisliste!$F$10)","v":"H501000"},{"$f":"VLOOKUP(\"Dammbalken 50/150 exkl. Dichtung, gesägt und entgratet\",Sprachindex!$A:$Z,Haftungsausschluß!$O$6,FALSE) & \" (\" & ROUNDUP(C389/1000*5.62,2) & \" \" & VLOOKUP(\"kg/Stk\",Sprachindex!$A:$Z,Haftungsausschluß!$O$6,FALSE) & \")\" & IF('Kalkulation 1'!$AH$33,\" \" & 'Kalkulation 1'!$R$9,\"\")","v":"Dammbalken 50/150 exkl. Dichtung, gesägt und entgratet (0 kg/Stk)"},null,null,null,null,null,null,null,0]
[null,null,0,0,{"$f":"VLOOKUP(\"[m]\",Sprachindex!$A:$Z,Haftungsausschluß!$O$6,FALSE)","v":"[m]"},{"$f":"IF($L$14=1,Preisliste!$E$10,Preisliste!$F$10)","v":"H501000"},{"$f":"VLOOKUP(\"Dammbalken 50/150 exkl. Dichtung, gesägt und entgratet\",Sprachindex!$A:$Z,Haftungsausschluß!$O$6,FALSE) & \" (\" & ROUNDUP(C390/1000*5.62,2) & \" \" & VLOOKUP(\"kg/Stk\",Sprachindex!$A:$Z,Haftungsausschluß!$O$6,FALSE) & \")\" & IF('Kalkulation 1'!$AH$33,\" \" & 'Kalkulation 1'!$R$9,\"\")","v":"Dammbalken 50/150 exkl. Dichtung, gesägt und entgratet (0 kg/Stk)"},null,null,null,null,null,null,null,0]
[null,null,0,0,{"$f":"VLOOKUP(\"[m]\",Sprachindex!$A:$Z,Haftungsausschluß!$O$6,FALSE)","v":"[m]"},{"$f":"IF($L$14=1,Preisliste!$E$10,Preisliste!$F$10)","v":"H501000"},{"$f":"VLOOKUP(\"Dammbalken 50/150 exkl. Dichtung, gesägt und entgratet\",Sprachindex!$A:$Z,Haftungsausschluß!$O$6,FALSE) & \" (\" & ROUNDUP(C391/1000*5.62,2) & \" \" & VLOOKUP(\"kg/Stk\",Sprachindex!$A:$Z,Haftungsausschluß!$O$6,FALSE) & \")\" & IF('Kalkulation 1'!$AH$33,\" \" & 'Kalkulation 1'!$R$9,\"\")","v":"Dammbalken 50/150 exkl. Dichtung, gesägt und entgratet (0 kg/Stk)"},null,null,null,null,null,null,null,0]
[null,null,0,0,{"$f":"VLOOKUP(\"[m]\",Sprachindex!$A:$Z,Haftungsausschluß!$O$6,FALSE)","v":"[m]"},{"$f":"IF($L$14=1,Preisliste!$E$10,Preisliste!$F$10)","v":"H501000"},{"$f":"VLOOKUP(\"Dammbalken 50/150 exkl. Dichtung, gesägt und entgratet\",Sprachindex!$A:$Z,Haftungsausschluß!$O$6,FALSE) & \" (\" & ROUNDUP(C392/1000*5.62,2) & \" \" & VLOOKUP(\"kg/Stk\",Sprachindex!$A:$Z,Haftungsausschluß!$O$6,FALSE) & \")\" & IF('Kalkulation 1'!$AH$33,\" \" & 'Kalkulation 1'!$R$9,\"\")","v":"Dammbalken 50/150 exkl. Dichtung, gesägt und entgratet (0 kg/Stk)"},null,null,null,null,null,null,null,0]
[null,null,0,0,{"$f":"VLOOKUP(\"[m]\",Sprachindex!$A:$Z,Haftungsausschluß!$O$6,FALSE)","v":"[m]"},{"$f":"IF($L$14=1,Preisliste!$E$10,Preisliste!$F$10)","v":"H501000"},{"$f":"VLOOKUP(\"Dammbalken 50/150 exkl. Dichtung, gesägt und entgratet\",Sprachindex!$A:$Z,Haftungsausschluß!$O$6,FALSE) & \" (\" & ROUNDUP(C393/1000*5.62,2) & \" \" & VLOOKUP(\"kg/Stk\",Sprachindex!$A:$Z,Haftungsausschluß!$O$6,FALSE) & \")\" & IF('Kalkulation 1'!$AH$33,\" \" & 'Kalkulation 1'!$R$9,\"\")","v":"Dammbalken 50/150 exkl. Dichtung, gesägt und entgratet (0 kg/Stk)"},null,null,null,null,null,null,null,0]
[null,null,0,0,{"$f":"VLOOKUP(\"[m]\",Sprachindex!$A:$Z,Haftungsausschluß!$O$6,FALSE)","v":"[m]"},{"$f":"IF($L$14=1,Preisliste!$E$10,Preisliste!$F$10)","v":"H501000"},{"$f":"VLOOKUP(\"Dammbalken 50/150 exkl. Dichtung, gesägt und entgratet\",Sprachindex!$A:$Z,Haftungsausschluß!$O$6,FALSE) & \" (\" & ROUNDUP(C394/1000*5.62,2) & \" \" & VLOOKUP(\"kg/Stk\",Sprachindex!$A:$Z,Haftungsausschluß!$O$6,FALSE) & \")\" & IF('Kalkulation 1'!$AH$33,\" \" & 'Kalkulation 1'!$R$9,\"\")","v":"Dammbalken 50/150 exkl. Dichtung, gesägt und entgratet (0 kg/Stk)"},null,null,null,null,null,null,null,0]
[null,null,0,0,{"$f":"VLOOKUP(\"[m]\",Sprachindex!$A:$Z,Haftungsausschluß!$O$6,FALSE)","v":"[m]"},{"$f":"IF($L$14=1,Preisliste!$E$10,Preisliste!$F$10)","v":"H501000"},{"$f":"VLOOKUP(\"Dammbalken 50/150 exkl. Dichtung, gesägt und entgratet\",Sprachindex!$A:$Z,Haftungsausschluß!$O$6,FALSE) & \" (\" & ROUNDUP(C395/1000*5.62,2) & \" \" & VLOOKUP(\"kg/Stk\",Sprachindex!$A:$Z,Haftungsausschluß!$O$6,FALSE) & \")\" & IF('Kalkulation 1'!$AH$33,\" \" & 'Kalkulation 1'!$R$9,\"\")","v":"Dammbalken 50/150 exkl. Dichtung, gesägt und entgratet (0 kg/Stk)"},null,null,null,null,null,null,null,0]
[null,null,0,0,{"$f":"VLOOKUP(\"[m]\",Sprachindex!$A:$Z,Haftungsausschluß!$O$6,FALSE)","v":"[m]"},{"$f":"IF($L$14=1,Preisliste!$E$10,Preisliste!$F$10)","v":"H501000"},{"$f":"VLOOKUP(\"Dammbalken 50/150 exkl. Dichtung, gesägt und entgratet\",Sprachindex!$A:$Z,Haftungsausschluß!$O$6,FALSE) & \" (\" & ROUNDUP(C396/1000*5.62,2) & \" \" & VLOOKUP(\"kg/Stk\",Sprachindex!$A:$Z,Haftungsausschluß!$O$6,FALSE) & \")\" & IF('Kalkulation 1'!$AH$33,\" \" & 'Kalkulation 1'!$R$9,\"\")","v":"Dammbalken 50/150 exkl. Dichtung, gesägt und entgratet (0 kg/Stk)"},null,null,null,null,null,null,null,0]
[null,null,0,0,{"$f":"VLOOKUP(\"[m]\",Sprachindex!$A:$Z,Haftungsausschluß!$O$6,FALSE)","v":"[m]"},{"$f":"IF($L$14=1,Preisliste!$E$10,Preisliste!$F$10)","v":"H501000"},{"$f":"VLOOKUP(\"Dammbalken 50/150 exkl. Dichtung, gesägt und entgratet\",Sprachindex!$A:$Z,Haftungsausschluß!$O$6,FALSE) & \" (\" & ROUNDUP(C397/1000*5.62,2) & \" \" & VLOOKUP(\"kg/Stk\",Sprachindex!$A:$Z,Haftungsausschluß!$O$6,FALSE) & \")\" & IF('Kalkulation 1'!$AH$33,\" \" & 'Kalkulation 1'!$R$9,\"\")","v":"Dammbalken 50/150 exkl. Dichtung, gesägt und entgratet (0 kg/Stk)"},null,null,null,null,null,null,null,0]
[null,null,0,0,{"$f":"VLOOKUP(\"[m]\",Sprachindex!$A:$Z,Haftungsausschluß!$O$6,FALSE)","v":"[m]"},{"$f":"IF($L$14=1,Preisliste!$E$10,Preisliste!$F$10)","v":"H501000"},{"$f":"VLOOKUP(\"Dammbalken 50/150 exkl. Dichtung, gesägt und entgratet\",Sprachindex!$A:$Z,Haftungsausschluß!$O$6,FALSE) & \" (\" & ROUNDUP(C398/1000*5.62,2) & \" \" & VLOOKUP(\"kg/Stk\",Sprachindex!$A:$Z,Haftungsausschluß!$O$6,FALSE) & \")\" & IF('Kalkulation 1'!$AH$33,\" \" & 'Kalkulation 1'!$R$9,\"\")","v":"Dammbalken 50/150 exkl. Dichtung, gesägt und entgratet (0 kg/Stk)"},null,null,null,null,null,null,null,0]
[null,null,0,{"$f":"B399*C399/1000","v":0},{"$f":"VLOOKUP(\"[m]\",Sprachindex!$A:$Z,Haftungsausschluß!$O$6,FALSE)","v":"[m]"},{"$f":"IF($L$14=1,Preisliste!$E$10,Preisliste!$F$10)","v":"H501000"},{"$f":"VLOOKUP(\"Dammbalken 50/150 exkl. Dichtung, gesägt und entgratet\",Sprachindex!$A:$Z,Haftungsausschluß!$O$6,FALSE) & \" (\" & ROUNDUP(C399/1000*5.62,2) & \" \" & VLOOKUP(\"kg/Stk\",Sprachindex!$A:$Z,Haftungsausschluß!$O$6,FALSE) & \")\" & IF('Kalkulation 1'!$AH$33,\" \" & 'Kalkulation 1'!$R$9,\"\")","v":"Dammbalken 50/150 exkl. Dichtung, gesägt und entgratet (0 kg/Stk)"},null,null,null,null,null,null,null,{"$f":"N399*D399","v":0}]
[null,null,0,0,{"$f":"VLOOKUP(\"[m]\",Sprachindex!$A:$Z,Haftungsausschluß!$O$6,FALSE)","v":"[m]"},{"$f":"IF($L$14=1,Preisliste!$E$10,Preisliste!$F$10)","v":"H501000"},{"$f":"VLOOKUP(\"Dammbalken 50/150 exkl. Dichtung, gesägt und entgratet\",Sprachindex!$A:$Z,Haftungsausschluß!$O$6,FALSE) & \" (\" & ROUNDUP(C400/1000*5.62,2) & \" \" & VLOOKUP(\"kg/Stk\",Sprachindex!$A:$Z,Haftungsausschluß!$O$6,FALSE) & \")\" & IF('Kalkulation 1'!$AH$33,\" \" & 'Kalkulation 1'!$R$9,\"\")","v":"Dammbalken 50/150 exkl. Dichtung, gesägt und entgratet (0 kg/Stk)"},null,null,null,null,null,null,null,0]
[null,null,0,0,{"$f":"VLOOKUP(\"[m]\",Sprachindex!$A:$Z,Haftungsausschluß!$O$6,FALSE)","v":"[m]"},{"$f":"IF($L$14=1,Preisliste!$E$10,Preisliste!$F$10)","v":"H501000"},{"$f":"VLOOKUP(\"Dammbalken 50/150 exkl. Dichtung, gesägt und entgratet\",Sprachindex!$A:$Z,Haftungsausschluß!$O$6,FALSE) & \" (\" & ROUNDUP(C401/1000*5.62,2) & \" \" & VLOOKUP(\"kg/Stk\",Sprachindex!$A:$Z,Haftungsausschluß!$O$6,FALSE) & \")\" & IF('Kalkulation 1'!$AH$33,\" \" & 'Kalkulation 1'!$R$9,\"\")","v":"Dammbalken 50/150 exkl. Dichtung, gesägt und entgratet (0 kg/Stk)"},null,null,null,null,null,null,null,0]
[null,null,0,0,{"$f":"VLOOKUP(\"[m]\",Sprachindex!$A:$Z,Haftungsausschluß!$O$6,FALSE)","v":"[m]"},{"$f":"IF($L$14=1,Preisliste!$E$10,Preisliste!$F$10)","v":"H501000"},{"$f":"VLOOKUP(\"Dammbalken 50/150 exkl. Dichtung, gesägt und entgratet\",Sprachindex!$A:$Z,Haftungsausschluß!$O$6,FALSE) & \" (\" & ROUNDUP(C402/1000*5.62,2) & \" \" & VLOOKUP(\"kg/Stk\",Sprachindex!$A:$Z,Haftungsausschluß!$O$6,FALSE) & \")\" & IF('Kalkulation 1'!$AH$33,\" \" & 'Kalkulation 1'!$R$9,\"\")","v":"Dammbalken 50/150 exkl. Dichtung, gesägt und entgratet (0 kg/Stk)"},null,null,null,null,null,null,null,0]
[null,null,0,0,{"$f":"VLOOKUP(\"[m]\",Sprachindex!$A:$Z,Haftungsausschluß!$O$6,FALSE)","v":"[m]"},{"$f":"IF($L$14=1,Preisliste!$E$10,Preisliste!$F$10)","v":"H501000"},{"$f":"VLOOKUP(\"Dammbalken 50/150 exkl. Dichtung, gesägt und entgratet\",Sprachindex!$A:$Z,Haftungsausschluß!$O$6,FALSE) & \" (\" & ROUNDUP(C403/1000*5.62,2) & \" \" & VLOOKUP(\"kg/Stk\",Sprachindex!$A:$Z,Haftungsausschluß!$O$6,FALSE) & \")\" & IF('Kalkulation 1'!$AH$33,\" \" & 'Kalkulation 1'!$R$9,\"\")","v":"Dammbalken 50/150 exkl. Dichtung, gesägt und entgratet (0 kg/Stk)"},null,null,null,null,null,null,null,0]
[null,null,0,0,{"$f":"VLOOKUP(\"[m]\",Sprachindex!$A:$Z,Haftungsausschluß!$O$6,FALSE)","v":"[m]"},{"$f":"IF($L$14=1,Preisliste!$E$10,Preisliste!$F$10)","v":"H501000"},{"$f":"VLOOKUP(\"Dammbalken 50/150 exkl. Dichtung, gesägt und entgratet\",Sprachindex!$A:$Z,Haftungsausschluß!$O$6,FALSE) & \" (\" & ROUNDUP(C404/1000*5.62,2) & \" \" & VLOOKUP(\"kg/Stk\",Sprachindex!$A:$Z,Haftungsausschluß!$O$6,FALSE) & \")\" & IF('Kalkulation 1'!$AH$33,\" \" & 'Kalkulation 1'!$R$9,\"\")","v":"Dammbalken 50/150 exkl. Dichtung, gesägt und entgratet (0 kg/Stk)"},null,null,null,null,null,null,null,0]
[null,null,0,0,{"$f":"VLOOKUP(\"[m]\",Sprachindex!$A:$Z,Haftungsausschluß!$O$6,FALSE)","v":"[m]"},{"$f":"IF($L$14=1,Preisliste!$E$10,Preisliste!$F$10)","v":"H501000"},{"$f":"VLOOKUP(\"Dammbalken 50/150 exkl. Dichtung, gesägt und entgratet\",Sprachindex!$A:$Z,Haftungsausschluß!$O$6,FALSE) & \" (\" & ROUNDUP(C405/1000*5.62,2) & \" \" & VLOOKUP(\"kg/Stk\",Sprachindex!$A:$Z,Haftungsausschluß!$O$6,FALSE) & \")\" & IF('Kalkulation 1'!$AH$33,\" \" & 'Kalkulation 1'!$R$9,\"\")","v":"Dammbalken 50/150 exkl. Dichtung, gesägt und entgratet (0 kg/Stk)"},null,null,null,null,null,null,null,0]
[null,null,0,0,{"$f":"VLOOKUP(\"[m]\",Sprachindex!$A:$Z,Haftungsausschluß!$O$6,FALSE)","v":"[m]"},{"$f":"IF($L$14=1,Preisliste!$E$10,Preisliste!$F$10)","v":"H501000"},{"$f":"VLOOKUP(\"Dammbalken 50/150 exkl. Dichtung, gesägt und entgratet\",Sprachindex!$A:$Z,Haftungsausschluß!$O$6,FALSE) & \" (\" & ROUNDUP(C406/1000*5.62,2) & \" \" & VLOOKUP(\"kg/Stk\",Sprachindex!$A:$Z,Haftungsausschluß!$O$6,FALSE) & \")\" & IF('Kalkulation 1'!$AH$33,\" \" & 'Kalkulation 1'!$R$9,\"\")","v":"Dammbalken 50/150 exkl. Dichtung, gesägt und entgratet (0 kg/Stk)"},null,null,null,null,null,null,null,0]
[null,null,null,0,{"$f":"VLOOKUP(\"[m]\",Sprachindex!$A:$Z,Haftungsausschluß!$O$6,FALSE)","v":"[m]"},{"$f":"IF($L$14=1,Preisliste!$E$13,Preisliste!$F$13)","v":"H501001"},{"$f":"VLOOKUP(\"Dammbalken 50/200 exkl. Dichtung, gesägt und entgratet\",Sprachindex!$A:$Z,Haftungsausschluß!$O$6,FALSE) & \" (\" & ROUNDUP(C407/1000*4.12,2) & \" \" & VLOOKUP(\"kg/Stk\",Sprachindex!$A:$Z,Haftungsausschluß!$O$6,FALSE) & \")\" & IF('Kalkulation 1'!$AH$33,\" \" & 'Kalkulation 1'!$R$9,\"\")","v":"Dammbalken 50/200 exkl. Dichtung, gesägt und entgratet (0 kg/Stk)"},null,null,null,null,null,null,86.41,0]
[null,null,1290,0,{"$f":"VLOOKUP(\"[m]\",Sprachindex!$A:$Z,Haftungsausschluß!$O$6,FALSE)","v":"[m]"},{"$f":"IF($L$14=1,Preisliste!$E$13,Preisliste!$F$13)","v":"H501001"},{"$f":"VLOOKUP(\"Dammbalken 50/200 exkl. Dichtung, gesägt und entgratet\",Sprachindex!$A:$Z,Haftungsausschluß!$O$6,FALSE) & \" (\" & ROUNDUP(C408/1000*4.12,2) & \" \" & VLOOKUP(\"kg/Stk\",Sprachindex!$A:$Z,Haftungsausschluß!$O$6,FALSE) & \")\" & IF('Kalkulation 1'!$AH$33,\" \" & 'Kalkulation 1'!$R$9,\"\")","v":"Dammbalken 50/200 exkl. Dichtung, gesägt und entgratet (5.32 kg/Stk)"},null,null,null,null,null,null,null,0]
[null,null,945,0,{"$f":"VLOOKUP(\"[m]\",Sprachindex!$A:$Z,Haftungsausschluß!$O$6,FALSE)","v":"[m]"},{"$f":"IF($L$14=1,Preisliste!$E$13,Preisliste!$F$13)","v":"H501001"},{"$f":"VLOOKUP(\"Dammbalken 50/200 exkl. Dichtung, gesägt und entgratet\",Sprachindex!$A:$Z,Haftungsausschluß!$O$6,FALSE) & \" (\" & ROUNDUP(C409/1000*4.12,2) & \" \" & VLOOKUP(\"kg/Stk\",Sprachindex!$A:$Z,Haftungsausschluß!$O$6,FALSE) & \")\" & IF('Kalkulation 1'!$AH$33,\" \" & 'Kalkulation 1'!$R$9,\"\")","v":"Dammbalken 50/200 exkl. Dichtung, gesägt und entgratet (3.9 kg/Stk)"},null,null,null,null,null,null,null,0]
[null,null,568,0,{"$f":"VLOOKUP(\"[m]\",Sprachindex!$A:$Z,Haftungsausschluß!$O$6,FALSE)","v":"[m]"},{"$f":"IF($L$14=1,Preisliste!$E$13,Preisliste!$F$13)","v":"H501001"},{"$f":"VLOOKUP(\"Dammbalken 50/200 exkl. Dichtung, gesägt und entgratet\",Sprachindex!$A:$Z,Haftungsausschluß!$O$6,FALSE) & \" (\" & ROUNDUP(C410/1000*4.12,2) & \" \" & VLOOKUP(\"kg/Stk\",Sprachindex!$A:$Z,Haftungsausschluß!$O$6,FALSE) & \")\" & IF('Kalkulation 1'!$AH$33,\" \" & 'Kalkulation 1'!$R$9,\"\")","v":"Dammbalken 50/200 exkl. Dichtung, gesägt und entgratet (2.35 kg/Stk)"},null,null,null,null,null,null,null,0]
[null,null,945,0,{"$f":"VLOOKUP(\"[m]\",Sprachindex!$A:$Z,Haftungsausschluß!$O$6,FALSE)","v":"[m]"},{"$f":"IF($L$14=1,Preisliste!$E$13,Preisliste!$F$13)","v":"H501001"},{"$f":"VLOOKUP(\"Dammbalken 50/200 exkl. Dichtung, gesägt und entgratet\",Sprachindex!$A:$Z,Haftungsausschluß!$O$6,FALSE) & \" (\" & ROUNDUP(C411/1000*4.12,2) & \" \" & VLOOKUP(\"kg/Stk\",Sprachindex!$A:$Z,Haftungsausschluß!$O$6,FALSE) & \")\" & IF('Kalkulation 1'!$AH$33,\" \" & 'Kalkulation 1'!$R$9,\"\")","v":"Dammbalken 50/200 exkl. Dichtung, gesägt und entgratet (3.9 kg/Stk)"},null,null,null,null,null,null,null,0]
[null,null,0,0,{"$f":"VLOOKUP(\"[m]\",Sprachindex!$A:$Z,Haftungsausschluß!$O$6,FALSE)","v":"[m]"},{"$f":"IF($L$14=1,Preisliste!$E$13,Preisliste!$F$13)","v":"H501001"},{"$f":"VLOOKUP(\"Dammbalken 50/200 exkl. Dichtung, gesägt und entgratet\",Sprachindex!$A:$Z,Haftungsausschluß!$O$6,FALSE) & \" (\" & ROUNDUP(C412/1000*4.12,2) & \" \" & VLOOKUP(\"kg/Stk\",Sprachindex!$A:$Z,Haftungsausschluß!$O$6,FALSE) & \")\" & IF('Kalkulation 1'!$AH$33,\" \" & 'Kalkulation 1'!$R$9,\"\")","v":"Dammbalken 50/200 exkl. Dichtung, gesägt und entgratet (0 kg/Stk)"},null,null,null,null,null,null,null,0]
[null,null,0,0,{"$f":"VLOOKUP(\"[m]\",Sprachindex!$A:$Z,Haftungsausschluß!$O$6,FALSE)","v":"[m]"},{"$f":"IF($L$14=1,Preisliste!$E$13,Preisliste!$F$13)","v":"H501001"},{"$f":"VLOOKUP(\"Dammbalken 50/200 exkl. Dichtung, gesägt und entgratet\",Sprachindex!$A:$Z,Haftungsausschluß!$O$6,FALSE) & \" (\" & ROUNDUP(C413/1000*4.12,2) & \" \" & VLOOKUP(\"kg/Stk\",Sprachindex!$A:$Z,Haftungsausschluß!$O$6,FALSE) & \")\" & IF('Kalkulation 1'!$AH$33,\" \" & 'Kalkulation 1'!$R$9,\"\")","v":"Dammbalken 50/200 exkl. Dichtung, gesägt und entgratet (0 kg/Stk)"},null,null,null,null,null,null,null,0]
[null,null,0,0,{"$f":"VLOOKUP(\"[m]\",Sprachindex!$A:$Z,Haftungsausschluß!$O$6,FALSE)","v":"[m]"},{"$f":"IF($L$14=1,Preisliste!$E$13,Preisliste!$F$13)","v":"H501001"},{"$f":"VLOOKUP(\"Dammbalken 50/200 exkl. Dichtung, gesägt und entgratet\",Sprachindex!$A:$Z,Haftungsausschluß!$O$6,FALSE) & \" (\" & ROUNDUP(C414/1000*4.12,2) & \" \" & VLOOKUP(\"kg/Stk\",Sprachindex!$A:$Z,Haftungsausschluß!$O$6,FALSE) & \")\" & IF('Kalkulation 1'!$AH$33,\" \" & 'Kalkulation 1'!$R$9,\"\")","v":"Dammbalken 50/200 exkl. Dichtung, gesägt und entgratet (0 kg/Stk)"},null,null,null,null,null,null,null,0]
[null,null,0,0,{"$f":"VLOOKUP(\"[m]\",Sprachindex!$A:$Z,Haftungsausschluß!$O$6,FALSE)","v":"[m]"},{"$f":"IF($L$14=1,Preisliste!$E$13,Preisliste!$F$13)","v":"H501001"},{"$f":"VLOOKUP(\"Dammbalken 50/200 exkl. Dichtung, gesägt und entgratet\",Sprachindex!$A:$Z,Haftungsausschluß!$O$6,FALSE) & \" (\" & ROUNDUP(C415/1000*4.12,2) & \" \" & VLOOKUP(\"kg/Stk\",Sprachindex!$A:$Z,Haftungsausschluß!$O$6,FALSE) & \")\" & IF('Kalkulation 1'!$AH$33,\" \" & 'Kalkulation 1'!$R$9,\"\")","v":"Dammbalken 50/200 exkl. Dichtung, gesägt und entgratet (0 kg/Stk)"},null,null,null,null,null,null,null,0]
[null,null,0,0,{"$f":"VLOOKUP(\"[m]\",Sprachindex!$A:$Z,Haftungsausschluß!$O$6,FALSE)","v":"[m]"},{"$f":"IF($L$14=1,Preisliste!$E$13,Preisliste!$F$13)","v":"H501001"},{"$f":"VLOOKUP(\"Dammbalken 50/200 exkl. Dichtung, gesägt und entgratet\",Sprachindex!$A:$Z,Haftungsausschluß!$O$6,FALSE) & \" (\" & ROUNDUP(C416/1000*4.12,2) & \" \" & VLOOKUP(\"kg/Stk\",Sprachindex!$A:$Z,Haftungsausschluß!$O$6,FALSE) & \")\" & IF('Kalkulation 1'!$AH$33,\" \" & 'Kalkulation 1'!$R$9,\"\")","v":"Dammbalken 50/200 exkl. Dichtung, gesägt und entgratet (0 kg/Stk)"},null,null,null,null,null,null,null,0]
[null,null,0,0,{"$f":"VLOOKUP(\"[m]\",Sprachindex!$A:$Z,Haftungsausschluß!$O$6,FALSE)","v":"[m]"},{"$f":"IF($L$14=1,Preisliste!$E$13,Preisliste!$F$13)","v":"H501001"},{"$f":"VLOOKUP(\"Dammbalken 50/200 exkl. Dichtung, gesägt und entgratet\",Sprachindex!$A:$Z,Haftungsausschluß!$O$6,FALSE) & \" (\" & ROUNDUP(C417/1000*4.12,2) & \" \" & VLOOKUP(\"kg/Stk\",Sprachindex!$A:$Z,Haftungsausschluß!$O$6,FALSE) & \")\" & IF('Kalkulation 1'!$AH$33,\" \" & 'Kalkulation 1'!$R$9,\"\")","v":"Dammbalken 50/200 exkl. Dichtung, gesägt und entgratet (0 kg/Stk)"},null,null,null,null,null,null,null,0]
[null,null,0,0,{"$f":"VLOOKUP(\"[m]\",Sprachindex!$A:$Z,Haftungsausschluß!$O$6,FALSE)","v":"[m]"},{"$f":"IF($L$14=1,Preisliste!$E$13,Preisliste!$F$13)","v":"H501001"},{"$f":"VLOOKUP(\"Dammbalken 50/200 exkl. Dichtung, gesägt und entgratet\",Sprachindex!$A:$Z,Haftungsausschluß!$O$6,FALSE) & \" (\" & ROUNDUP(C418/1000*4.12,2) & \" \" & VLOOKUP(\"kg/Stk\",Sprachindex!$A:$Z,Haftungsausschluß!$O$6,FALSE) & \")\" & IF('Kalkulation 1'!$AH$33,\" \" & 'Kalkulation 1'!$R$9,\"\")","v":"Dammbalken 50/200 exkl. Dichtung, gesägt und entgratet (0 kg/Stk)"},null,null,null,null,null,null,null,0]
[null,null,0,0,{"$f":"VLOOKUP(\"[m]\",Sprachindex!$A:$Z,Haftungsausschluß!$O$6,FALSE)","v":"[m]"},{"$f":"IF($L$14=1,Preisliste!$E$13,Preisliste!$F$13)","v":"H501001"},{"$f":"VLOOKUP(\"Dammbalken 50/200 exkl. Dichtung, gesägt und entgratet\",Sprachindex!$A:$Z,Haftungsausschluß!$O$6,FALSE) & \" (\" & ROUNDUP(C419/1000*4.12,2) & \" \" & VLOOKUP(\"kg/Stk\",Sprachindex!$A:$Z,Haftungsausschluß!$O$6,FALSE) & \")\" & IF('Kalkulation 1'!$AH$33,\" \" & 'Kalkulation 1'!$R$9,\"\")","v":"Dammbalken 50/200 exkl. Dichtung, gesägt und entgratet (0 kg/Stk)"},null,null,null,null,null,null,null,0]
[null,null,0,0,{"$f":"VLOOKUP(\"[m]\",Sprachindex!$A:$Z,Haftungsausschluß!$O$6,FALSE)","v":"[m]"},{"$f":"IF($L$14=1,Preisliste!$E$13,Preisliste!$F$13)","v":"H501001"},{"$f":"VLOOKUP(\"Dammbalken 50/200 exkl. Dichtung, gesägt und entgratet\",Sprachindex!$A:$Z,Haftungsausschluß!$O$6,FALSE) & \" (\" & ROUNDUP(C420/1000*4.12,2) & \" \" & VLOOKUP(\"kg/Stk\",Sprachindex!$A:$Z,Haftungsausschluß!$O$6,FALSE) & \")\" & IF('Kalkulation 1'!$AH$33,\" \" & 'Kalkulation 1'!$R$9,\"\")","v":"Dammbalken 50/200 exkl. Dichtung, gesägt und entgratet (0 kg/Stk)"},null,null,null,null,null,null,null,0]
[null,null,0,0,{"$f":"VLOOKUP(\"[m]\",Sprachindex!$A:$Z,Haftungsausschluß!$O$6,FALSE)","v":"[m]"},{"$f":"IF($L$14=1,Preisliste!$E$13,Preisliste!$F$13)","v":"H501001"},{"$f":"VLOOKUP(\"Dammbalken 50/200 exkl. Dichtung, gesägt und entgratet\",Sprachindex!$A:$Z,Haftungsausschluß!$O$6,FALSE) & \" (\" & ROUNDUP(C421/1000*4.12,2) & \" \" & VLOOKUP(\"kg/Stk\",Sprachindex!$A:$Z,Haftungsausschluß!$O$6,FALSE) & \")\" & IF('Kalkulation 1'!$AH$33,\" \" & 'Kalkulation 1'!$R$9,\"\")","v":"Dammbalken 50/200 exkl. Dichtung, gesägt und entgratet (0 kg/Stk)"},null,null,null,null,null,null,null,0]
[null,null,0,0,{"$f":"VLOOKUP(\"[m]\",Sprachindex!$A:$Z,Haftungsausschluß!$O$6,FALSE)","v":"[m]"},{"$f":"IF($L$14=1,Preisliste!$E$13,Preisliste!$F$13)","v":"H501001"},{"$f":"VLOOKUP(\"Dammbalken 50/200 exkl. Dichtung, gesägt und entgratet\",Sprachindex!$A:$Z,Haftungsausschluß!$O$6,FALSE) & \" (\" & ROUNDUP(C422/1000*4.12,2) & \" \" & VLOOKUP(\"kg/Stk\",Sprachindex!$A:$Z,Haftungsausschluß!$O$6,FALSE) & \")\" & IF('Kalkulation 1'!$AH$33,\" \" & 'Kalkulation 1'!$R$9,\"\")","v":"Dammbalken 50/200 exkl. Dichtung, gesägt und entgratet (0 kg/Stk)"},null,null,null,null,null,null,null,0]
[null,null,0,0,{"$f":"VLOOKUP(\"[m]\",Sprachindex!$A:$Z,Haftungsausschluß!$O$6,FALSE)","v":"[m]"},{"$f":"IF($L$14=1,Preisliste!$E$13,Preisliste!$F$13)","v":"H501001"},{"$f":"VLOOKUP(\"Dammbalken 50/200 exkl. Dichtung, gesägt und entgratet\",Sprachindex!$A:$Z,Haftungsausschluß!$O$6,FALSE) & \" (\" & ROUNDUP(C423/1000*4.12,2) & \" \" & VLOOKUP(\"kg/Stk\",Sprachindex!$A:$Z,Haftungsausschluß!$O$6,FALSE) & \")\" & IF('Kalkulation 1'!$AH$33,\" \" & 'Kalkulation 1'!$R$9,\"\")","v":"Dammbalken 50/200 exkl. Dichtung, gesägt und entgratet (0 kg/Stk)"},null,null,null,null,null,null,null,0]
[null,null,0,0,{"$f":"VLOOKUP(\"[m]\",Sprachindex!$A:$Z,Haftungsausschluß!$O$6,FALSE)","v":"[m]"},{"$f":"IF($L$14=1,Preisliste!$E$13,Preisliste!$F$13)","v":"H501001"},{"$f":"VLOOKUP(\"Dammbalken 50/200 exkl. Dichtung, gesägt und entgratet\",Sprachindex!$A:$Z,Haftungsausschluß!$O$6,FALSE) & \" (\" & ROUNDUP(C424/1000*4.12,2) & \" \" & VLOOKUP(\"kg/Stk\",Sprachindex!$A:$Z,Haftungsausschluß!$O$6,FALSE) & \")\" & IF('Kalkulation 1'!$AH$33,\" \" & 'Kalkulation 1'!$R$9,\"\")","v":"Dammbalken 50/200 exkl. Dichtung, gesägt und entgratet (0 kg/Stk)"},null,null,null,null,null,null,null,0]
[null,null,0,0,{"$f":"VLOOKUP(\"[m]\",Sprachindex!$A:$Z,Haftungsausschluß!$O$6,FALSE)","v":"[m]"},{"$f":"IF($L$14=1,Preisliste!$E$13,Preisliste!$F$13)","v":"H501001"},{"$f":"VLOOKUP(\"Dammbalken 50/200 exkl. Dichtung, gesägt und entgratet\",Sprachindex!$A:$Z,Haftungsausschluß!$O$6,FALSE) & \" (\" & ROUNDUP(C425/1000*4.12,2) & \" \" & VLOOKUP(\"kg/Stk\",Sprachindex!$A:$Z,Haftungsausschluß!$O$6,FALSE) & \")\" & IF('Kalkulation 1'!$AH$33,\" \" & 'Kalkulation 1'!$R$9,\"\")","v":"Dammbalken 50/200 exkl. Dichtung, gesägt und entgratet (0 kg/Stk)"},null,null,null,null,null,null,null,0]
[null,null,0,0,{"$f":"VLOOKUP(\"[m]\",Sprachindex!$A:$Z,Haftungsausschluß!$O$6,FALSE)","v":"[m]"},{"$f":"IF($L$14=1,Preisliste!$E$13,Preisliste!$F$13)","v":"H501001"},{"$f":"VLOOKUP(\"Dammbalken 50/200 exkl. Dichtung, gesägt und entgratet\",Sprachindex!$A:$Z,Haftungsausschluß!$O$6,FALSE) & \" (\" & ROUNDUP(C426/1000*4.12,2) & \" \" & VLOOKUP(\"kg/Stk\",Sprachindex!$A:$Z,Haftungsausschluß!$O$6,FALSE) & \")\" & IF('Kalkulation 1'!$AH$33,\" \" & 'Kalkulation 1'!$R$9,\"\")","v":"Dammbalken 50/200 exkl. Dichtung, gesägt und entgratet (0 kg/Stk)"},null,null,null,null,null,null,null,0]
[null,null,0,0,{"$f":"VLOOKUP(\"[m]\",Sprachindex!$A:$Z,Haftungsausschluß!$O$6,FALSE)","v":"[m]"},{"$f":"IF($L$14=1,Preisliste!$E$13,Preisliste!$F$13)","v":"H501001"},{"$f":"VLOOKUP(\"Dammbalken 50/200 exkl. Dichtung, gesägt und entgratet\",Sprachindex!$A:$Z,Haftungsausschluß!$O$6,FALSE) & \" (\" & ROUNDUP(C427/1000*4.12,2) & \" \" & VLOOKUP(\"kg/Stk\",Sprachindex!$A:$Z,Haftungsausschluß!$O$6,FALSE) & \")\" & IF('Kalkulation 1'!$AH$33,\" \" & 'Kalkulation 1'!$R$9,\"\")","v":"Dammbalken 50/200 exkl. Dichtung, gesägt und entgratet (0 kg/Stk)"},null,null,null,null,null,null,null,0]
[null,null,0,0,{"$f":"VLOOKUP(\"[m]\",Sprachindex!$A:$Z,Haftungsausschluß!$O$6,FALSE)","v":"[m]"},{"$f":"IF($L$14=1,Preisliste!$E$13,Preisliste!$F$13)","v":"H501001"},{"$f":"VLOOKUP(\"Dammbalken 50/200 exkl. Dichtung, gesägt und entgratet\",Sprachindex!$A:$Z,Haftungsausschluß!$O$6,FALSE) & \" (\" & ROUNDUP(C428/1000*4.12,2) & \" \" & VLOOKUP(\"kg/Stk\",Sprachindex!$A:$Z,Haftungsausschluß!$O$6,FALSE) & \")\" & IF('Kalkulation 1'!$AH$33,\" \" & 'Kalkulation 1'!$R$9,\"\")","v":"Dammbalken 50/200 exkl. Dichtung, gesägt und entgratet (0 kg/Stk)"},null,null,null,null,null,null,null,0]
[null,null,0,0,{"$f":"VLOOKUP(\"[m]\",Sprachindex!$A:$Z,Haftungsausschluß!$O$6,FALSE)","v":"[m]"},{"$f":"IF($L$14=1,Preisliste!$E$13,Preisliste!$F$13)","v":"H501001"},{"$f":"VLOOKUP(\"Dammbalken 50/200 exkl. Dichtung, gesägt und entgratet\",Sprachindex!$A:$Z,Haftungsausschluß!$O$6,FALSE) & \" (\" & ROUNDUP(C429/1000*4.12,2) & \" \" & VLOOKUP(\"kg/Stk\",Sprachindex!$A:$Z,Haftungsausschluß!$O$6,FALSE) & \")\" & IF('Kalkulation 1'!$AH$33,\" \" & 'Kalkulation 1'!$R$9,\"\")","v":"Dammbalken 50/200 exkl. Dichtung, gesägt und entgratet (0 kg/Stk)"},null,null,null,null,null,null,null,0]
[null,null,0,0,{"$f":"VLOOKUP(\"[m]\",Sprachindex!$A:$Z,Haftungsausschluß!$O$6,FALSE)","v":"[m]"},{"$f":"IF($L$14=1,Preisliste!$E$13,Preisliste!$F$13)","v":"H501001"},{"$f":"VLOOKUP(\"Dammbalken 50/200 exkl. Dichtung, gesägt und entgratet\",Sprachindex!$A:$Z,Haftungsausschluß!$O$6,FALSE) & \" (\" & ROUNDUP(C430/1000*4.12,2) & \" \" & VLOOKUP(\"kg/Stk\",Sprachindex!$A:$Z,Haftungsausschluß!$O$6,FALSE) & \")\" & IF('Kalkulation 1'!$AH$33,\" \" & 'Kalkulation 1'!$R$9,\"\")","v":"Dammbalken 50/200 exkl. Dichtung, gesägt und entgratet (0 kg/Stk)"},null,null,null,null,null,null,null,0]
[null,null,0,0,{"$f":"VLOOKUP(\"[m]\",Sprachindex!$A:$Z,Haftungsausschluß!$O$6,FALSE)","v":"[m]"},{"$f":"IF($L$14=1,Preisliste!$E$13,Preisliste!$F$13)","v":"H501001"},{"$f":"VLOOKUP(\"Dammbalken 50/200 exkl. Dichtung, gesägt und entgratet\",Sprachindex!$A:$Z,Haftungsausschluß!$O$6,FALSE) & \" (\" & ROUNDUP(C431/1000*4.12,2) & \" \" & VLOOKUP(\"kg/Stk\",Sprachindex!$A:$Z,Haftungsausschluß!$O$6,FALSE) & \")\" & IF('Kalkulation 1'!$AH$33,\" \" & 'Kalkulation 1'!$R$9,\"\")","v":"Dammbalken 50/200 exkl. Dichtung, gesägt und entgratet (0 kg/Stk)"},null,null,null,null,null,null,null,0]
[null,null,0,0,{"$f":"VLOOKUP(\"[m]\",Sprachindex!$A:$Z,Haftungsausschluß!$O$6,FALSE)","v":"[m]"},{"$f":"IF($L$14=1,Preisliste!$E$13,Preisliste!$F$13)","v":"H501001"},{"$f":"VLOOKUP(\"Dammbalken 50/200 exkl. Dichtung, gesägt und entgratet\",Sprachindex!$A:$Z,Haftungsausschluß!$O$6,FALSE) & \" (\" & ROUNDUP(C432/1000*4.12,2) & \" \" & VLOOKUP(\"kg/Stk\",Sprachindex!$A:$Z,Haftungsausschluß!$O$6,FALSE) & \")\" & IF('Kalkulation 1'!$AH$33,\" \" & 'Kalkulation 1'!$R$9,\"\")","v":"Dammbalken 50/200 exkl. Dichtung, gesägt und entgratet (0 kg/Stk)"},null,null,null,null,null,null,null,0]
[null,null,0,0,{"$f":"VLOOKUP(\"[m]\",Sprachindex!$A:$Z,Haftungsausschluß!$O$6,FALSE)","v":"[m]"},{"$f":"IF($L$14=1,Preisliste!$E$13,Preisliste!$F$13)","v":"H501001"},{"$f":"VLOOKUP(\"Dammbalken 50/200 exkl. Dichtung, gesägt und entgratet\",Sprachindex!$A:$Z,Haftungsausschluß!$O$6,FALSE) & \" (\" & ROUNDUP(C433/1000*4.12,2) & \" \" & VLOOKUP(\"kg/Stk\",Sprachindex!$A:$Z,Haftungsausschluß!$O$6,FALSE) & \")\" & IF('Kalkulation 1'!$AH$33,\" \" & 'Kalkulation 1'!$R$9,\"\")","v":"Dammbalken 50/200 exkl. Dichtung, gesägt und entgratet (0 kg/Stk)"},null,null,null,null,null,null,null,0]
[null,null,0,0,{"$f":"VLOOKUP(\"[m]\",Sprachindex!$A:$Z,Haftungsausschluß!$O$6,FALSE)","v":"[m]"},{"$f":"IF($L$14=1,Preisliste!$E$13,Preisliste!$F$13)","v":"H501001"},{"$f":"VLOOKUP(\"Dammbalken 50/200 exkl. Dichtung, gesägt und entgratet\",Sprachindex!$A:$Z,Haftungsausschluß!$O$6,FALSE) & \" (\" & ROUNDUP(C434/1000*4.12,2) & \" \" & VLOOKUP(\"kg/Stk\",Sprachindex!$A:$Z,Haftungsausschluß!$O$6,FALSE) & \")\" & IF('Kalkulation 1'!$AH$33,\" \" & 'Kalkulation 1'!$R$9,\"\")","v":"Dammbalken 50/200 exkl. Dichtung, gesägt und entgratet (0 kg/Stk)"},null,null,null,null,null,null,null,0]
[null,null,0,0,{"$f":"VLOOKUP(\"[m]\",Sprachindex!$A:$Z,Haftungsausschluß!$O$6,FALSE)","v":"[m]"},{"$f":"IF($L$14=1,Preisliste!$E$13,Preisliste!$F$13)","v":"H501001"},{"$f":"VLOOKUP(\"Dammbalken 50/200 exkl. Dichtung, gesägt und entgratet\",Sprachindex!$A:$Z,Haftungsausschluß!$O$6,FALSE) & \" (\" & ROUNDUP(C435/1000*4.12,2) & \" \" & VLOOKUP(\"kg/Stk\",Sprachindex!$A:$Z,Haftungsausschluß!$O$6,FALSE) & \")\" & IF('Kalkulation 1'!$AH$33,\" \" & 'Kalkulation 1'!$R$9,\"\")","v":"Dammbalken 50/200 exkl. Dichtung, gesägt und entgratet (0 kg/Stk)"},null,null,null,null,null,null,null,0]
[null,null,0,0,{"$f":"VLOOKUP(\"[m]\",Sprachindex!$A:$Z,Haftungsausschluß!$O$6,FALSE)","v":"[m]"},{"$f":"IF($L$14=1,Preisliste!$E$13,Preisliste!$F$13)","v":"H501001"},{"$f":"VLOOKUP(\"Dammbalken 50/200 exkl. Dichtung, gesägt und entgratet\",Sprachindex!$A:$Z,Haftungsausschluß!$O$6,FALSE) & \" (\" & ROUNDUP(C436/1000*4.12,2) & \" \" & VLOOKUP(\"kg/Stk\",Sprachindex!$A:$Z,Haftungsausschluß!$O$6,FALSE) & \")\" & IF('Kalkulation 1'!$AH$33,\" \" & 'Kalkulation 1'!$R$9,\"\")","v":"Dammbalken 50/200 exkl. Dichtung, gesägt und entgratet (0 kg/Stk)"},null,null,null,null,null,null,null,0]
[null,null,0,0,{"$f":"VLOOKUP(\"[m]\",Sprachindex!$A:$Z,Haftungsausschluß!$O$6,FALSE)","v":"[m]"},{"$f":"IF($L$14=1,Preisliste!$E$13,Preisliste!$F$13)","v":"H501001"},{"$f":"VLOOKUP(\"Dammbalken 50/200 exkl. Dichtung, gesägt und entgratet\",Sprachindex!$A:$Z,Haftungsausschluß!$O$6,FALSE) & \" (\" & ROUNDUP(C437/1000*4.12,2) & \" \" & VLOOKUP(\"kg/Stk\",Sprachindex!$A:$Z,Haftungsausschluß!$O$6,FALSE) & \")\" & IF('Kalkulation 1'!$AH$33,\" \" & 'Kalkulation 1'!$R$9,\"\")","v":"Dammbalken 50/200 exkl. Dichtung, gesägt und entgratet (0 kg/Stk)"},null,null,null,null,null,null,null,0]
[null,null,0,0,{"$f":"VLOOKUP(\"[m]\",Sprachindex!$A:$Z,Haftungsausschluß!$O$6,FALSE)","v":"[m]"},{"$f":"IF($L$14=1,Preisliste!$E$13,Preisliste!$F$13)","v":"H501001"},{"$f":"VLOOKUP(\"Dammbalken 50/200 exkl. Dichtung, gesägt und entgratet\",Sprachindex!$A:$Z,Haftungsausschluß!$O$6,FALSE) & \" (\" & ROUNDUP(C438/1000*4.12,2) & \" \" & VLOOKUP(\"kg/Stk\",Sprachindex!$A:$Z,Haftungsausschluß!$O$6,FALSE) & \")\" & IF('Kalkulation 1'!$AH$33,\" \" & 'Kalkulation 1'!$R$9,\"\")","v":"Dammbalken 50/200 exkl. Dichtung, gesägt und entgratet (0 kg/Stk)"},null,null,null,null,null,null,null,0]
[null,null,0,0,{"$f":"VLOOKUP(\"[m]\",Sprachindex!$A:$Z,Haftungsausschluß!$O$6,FALSE)","v":"[m]"},{"$f":"IF($L$14=1,Preisliste!$E$13,Preisliste!$F$13)","v":"H501001"},{"$f":"VLOOKUP(\"Dammbalken 50/200 exkl. Dichtung, gesägt und entgratet\",Sprachindex!$A:$Z,Haftungsausschluß!$O$6,FALSE) & \" (\" & ROUNDUP(C439/1000*4.12,2) & \" \" & VLOOKUP(\"kg/Stk\",Sprachindex!$A:$Z,Haftungsausschluß!$O$6,FALSE) & \")\" & IF('Kalkulation 1'!$AH$33,\" \" & 'Kalkulation 1'!$R$9,\"\")","v":"Dammbalken 50/200 exkl. Dichtung, gesägt und entgratet (0 kg/Stk)"},null,null,null,null,null,null,null,0]
[null,null,0,0,{"$f":"VLOOKUP(\"[m]\",Sprachindex!$A:$Z,Haftungsausschluß!$O$6,FALSE)","v":"[m]"},{"$f":"IF($L$14=1,Preisliste!$E$13,Preisliste!$F$13)","v":"H501001"},{"$f":"VLOOKUP(\"Dammbalken 50/200 exkl. Dichtung, gesägt und entgratet\",Sprachindex!$A:$Z,Haftungsausschluß!$O$6,FALSE) & \" (\" & ROUNDUP(C440/1000*4.12,2) & \" \" & VLOOKUP(\"kg/Stk\",Sprachindex!$A:$Z,Haftungsausschluß!$O$6,FALSE) & \")\" & IF('Kalkulation 1'!$AH$33,\" \" & 'Kalkulation 1'!$R$9,\"\")","v":"Dammbalken 50/200 exkl. Dichtung, gesägt und entgratet (0 kg/Stk)"},null,null,null,null,null,null,null,0]
[null,null,0,0,{"$f":"VLOOKUP(\"[m]\",Sprachindex!$A:$Z,Haftungsausschluß!$O$6,FALSE)","v":"[m]"},{"$f":"IF($L$14=1,Preisliste!$E$13,Preisliste!$F$13)","v":"H501001"},{"$f":"VLOOKUP(\"Dammbalken 50/200 exkl. Dichtung, gesägt und entgratet\",Sprachindex!$A:$Z,Haftungsausschluß!$O$6,FALSE) & \" (\" & ROUNDUP(C441/1000*4.12,2) & \" \" & VLOOKUP(\"kg/Stk\",Sprachindex!$A:$Z,Haftungsausschluß!$O$6,FALSE) & \")\" & IF('Kalkulation 1'!$AH$33,\" \" & 'Kalkulation 1'!$R$9,\"\")","v":"Dammbalken 50/200 exkl. Dichtung, gesägt und entgratet (0 kg/Stk)"},null,null,null,null,null,null,null,0]
[null,null,0,0,{"$f":"VLOOKUP(\"[m]\",Sprachindex!$A:$Z,Haftungsausschluß!$O$6,FALSE)","v":"[m]"},{"$f":"IF($L$14=1,Preisliste!$E$13,Preisliste!$F$13)","v":"H501001"},{"$f":"VLOOKUP(\"Dammbalken 50/200 exkl. Dichtung, gesägt und entgratet\",Sprachindex!$A:$Z,Haftungsausschluß!$O$6,FALSE) & \" (\" & ROUNDUP(C442/1000*4.12,2) & \" \" & VLOOKUP(\"kg/Stk\",Sprachindex!$A:$Z,Haftungsausschluß!$O$6,FALSE) & \")\" & IF('Kalkulation 1'!$AH$33,\" \" & 'Kalkulation 1'!$R$9,\"\")","v":"Dammbalken 50/200 exkl. Dichtung, gesägt und entgratet (0 kg/Stk)"},null,null,null,null,null,null,null,0]
[null,null,0,0,{"$f":"VLOOKUP(\"[m]\",Sprachindex!$A:$Z,Haftungsausschluß!$O$6,FALSE)","v":"[m]"},{"$f":"IF($L$14=1,Preisliste!$E$13,Preisliste!$F$13)","v":"H501001"},{"$f":"VLOOKUP(\"Dammbalken 50/200 exkl. Dichtung, gesägt und entgratet\",Sprachindex!$A:$Z,Haftungsausschluß!$O$6,FALSE) & \" (\" & ROUNDUP(C443/1000*4.12,2) & \" \" & VLOOKUP(\"kg/Stk\",Sprachindex!$A:$Z,Haftungsausschluß!$O$6,FALSE) & \")\" & IF('Kalkulation 1'!$AH$33,\" \" & 'Kalkulation 1'!$R$9,\"\")","v":"Dammbalken 50/200 exkl. Dichtung, gesägt und entgratet (0 kg/Stk)"},null,null,null,null,null,null,null,0]
[null,null,0,0,{"$f":"VLOOKUP(\"[m]\",Sprachindex!$A:$Z,Haftungsausschluß!$O$6,FALSE)","v":"[m]"},{"$f":"IF($L$14=1,Preisliste!$E$13,Preisliste!$F$13)","v":"H501001"},{"$f":"VLOOKUP(\"Dammbalken 50/200 exkl. Dichtung, gesägt und entgratet\",Sprachindex!$A:$Z,Haftungsausschluß!$O$6,FALSE) & \" (\" & ROUNDUP(C444/1000*4.12,2) & \" \" & VLOOKUP(\"kg/Stk\",Sprachindex!$A:$Z,Haftungsausschluß!$O$6,FALSE) & \")\" & IF('Kalkulation 1'!$AH$33,\" \" & 'Kalkulation 1'!$R$9,\"\")","v":"Dammbalken 50/200 exkl. Dichtung, gesägt und entgratet (0 kg/Stk)"},null,null,null,null,null,null,null,0]
[null,null,0,0,{"$f":"VLOOKUP(\"[m]\",Sprachindex!$A:$Z,Haftungsausschluß!$O$6,FALSE)","v":"[m]"},{"$f":"IF($L$14=1,Preisliste!$E$13,Preisliste!$F$13)","v":"H501001"},{"$f":"VLOOKUP(\"Dammbalken 50/200 exkl. Dichtung, gesägt und entgratet\",Sprachindex!$A:$Z,Haftungsausschluß!$O$6,FALSE) & \" (\" & ROUNDUP(C445/1000*4.12,2) & \" \" & VLOOKUP(\"kg/Stk\",Sprachindex!$A:$Z,Haftungsausschluß!$O$6,FALSE) & \")\" & IF('Kalkulation 1'!$AH$33,\" \" & 'Kalkulation 1'!$R$9,\"\")","v":"Dammbalken 50/200 exkl. Dichtung, gesägt und entgratet (0 kg/Stk)"},null,null,null,null,null,null,null,0]
[null,null,0,0,{"$f":"VLOOKUP(\"[m]\",Sprachindex!$A:$Z,Haftungsausschluß!$O$6,FALSE)","v":"[m]"},{"$f":"IF($L$14=1,Preisliste!$E$13,Preisliste!$F$13)","v":"H501001"},{"$f":"VLOOKUP(\"Dammbalken 50/200 exkl. Dichtung, gesägt und entgratet\",Sprachindex!$A:$Z,Haftungsausschluß!$O$6,FALSE) & \" (\" & ROUNDUP(C446/1000*4.12,2) & \" \" & VLOOKUP(\"kg/Stk\",Sprachindex!$A:$Z,Haftungsausschluß!$O$6,FALSE) & \")\" & IF('Kalkulation 1'!$AH$33,\" \" & 'Kalkulation 1'!$R$9,\"\")","v":"Dammbalken 50/200 exkl. Dichtung, gesägt und entgratet (0 kg/Stk)"},null,null,null,null,null,null,null,0]
[null,null,0,0,{"$f":"VLOOKUP(\"[m]\",Sprachindex!$A:$Z,Haftungsausschluß!$O$6,FALSE)","v":"[m]"},{"$f":"IF($L$14=1,Preisliste!$E$13,Preisliste!$F$13)","v":"H501001"},{"$f":"VLOOKUP(\"Dammbalken 50/200 exkl. Dichtung, gesägt und entgratet\",Sprachindex!$A:$Z,Haftungsausschluß!$O$6,FALSE) & \" (\" & ROUNDUP(C447/1000*4.12,2) & \" \" & VLOOKUP(\"kg/Stk\",Sprachindex!$A:$Z,Haftungsausschluß!$O$6,FALSE) & \")\" & IF('Kalkulation 1'!$AH$33,\" \" & 'Kalkulation 1'!$R$9,\"\")","v":"Dammbalken 50/200 exkl. Dichtung, gesägt und entgratet (0 kg/Stk)"},null,null,null,null,null,null,null,0]
[null,null,0,0,{"$f":"VLOOKUP(\"[m]\",Sprachindex!$A:$Z,Haftungsausschluß!$O$6,FALSE)","v":"[m]"},{"$f":"IF($L$14=1,Preisliste!$E$13,Preisliste!$F$13)","v":"H501001"},{"$f":"VLOOKUP(\"Dammbalken 50/200 exkl. Dichtung, gesägt und entgratet\",Sprachindex!$A:$Z,Haftungsausschluß!$O$6,FALSE) & \" (\" & ROUNDUP(C448/1000*4.12,2) & \" \" & VLOOKUP(\"kg/Stk\",Sprachindex!$A:$Z,Haftungsausschluß!$O$6,FALSE) & \")\" & IF('Kalkulation 1'!$AH$33,\" \" & 'Kalkulation 1'!$R$9,\"\")","v":"Dammbalken 50/200 exkl. Dichtung, gesägt und entgratet (0 kg/Stk)"},null,null,null,null,null,null,null,0]
[null,null,0,0,{"$f":"VLOOKUP(\"[m]\",Sprachindex!$A:$Z,Haftungsausschluß!$O$6,FALSE)","v":"[m]"},{"$f":"IF($L$14=1,Preisliste!$E$13,Preisliste!$F$13)","v":"H501001"},{"$f":"VLOOKUP(\"Dammbalken 50/200 exkl. Dichtung, gesägt und entgratet\",Sprachindex!$A:$Z,Haftungsausschluß!$O$6,FALSE) & \" (\" & ROUNDUP(C449/1000*4.12,2) & \" \" & VLOOKUP(\"kg/Stk\",Sprachindex!$A:$Z,Haftungsausschluß!$O$6,FALSE) & \")\" & IF('Kalkulation 1'!$AH$33,\" \" & 'Kalkulation 1'!$R$9,\"\")","v":"Dammbalken 50/200 exkl. Dichtung, gesägt und entgratet (0 kg/Stk)"},null,null,null,null,null,null,null,0]
[null,null,0,0,{"$f":"VLOOKUP(\"[m]\",Sprachindex!$A:$Z,Haftungsausschluß!$O$6,FALSE)","v":"[m]"},{"$f":"IF($L$14=1,Preisliste!$E$13,Preisliste!$F$13)","v":"H501001"},{"$f":"VLOOKUP(\"Dammbalken 50/200 exkl. Dichtung, gesägt und entgratet\",Sprachindex!$A:$Z,Haftungsausschluß!$O$6,FALSE) & \" (\" & ROUNDUP(C450/1000*4.12,2) & \" \" & VLOOKUP(\"kg/Stk\",Sprachindex!$A:$Z,Haftungsausschluß!$O$6,FALSE) & \")\" & IF('Kalkulation 1'!$AH$33,\" \" & 'Kalkulation 1'!$R$9,\"\")","v":"Dammbalken 50/200 exkl. Dichtung, gesägt und entgratet (0 kg/Stk)"},null,null,null,null,null,null,null,0]
[null,null,0,0,{"$f":"VLOOKUP(\"[m]\",Sprachindex!$A:$Z,Haftungsausschluß!$O$6,FALSE)","v":"[m]"},{"$f":"IF($L$14=1,Preisliste!$E$13,Preisliste!$F$13)","v":"H501001"},{"$f":"VLOOKUP(\"Dammbalken 50/200 exkl. Dichtung, gesägt und entgratet\",Sprachindex!$A:$Z,Haftungsausschluß!$O$6,FALSE) & \" (\" & ROUNDUP(C451/1000*4.12,2) & \" \" & VLOOKUP(\"kg/Stk\",Sprachindex!$A:$Z,Haftungsausschluß!$O$6,FALSE) & \")\" & IF('Kalkulation 1'!$AH$33,\" \" & 'Kalkulation 1'!$R$9,\"\")","v":"Dammbalken 50/200 exkl. Dichtung, gesägt und entgratet (0 kg/Stk)"},null,null,null,null,null,null,null,0]
[null,null,0,0,{"$f":"VLOOKUP(\"[m]\",Sprachindex!$A:$Z,Haftungsausschluß!$O$6,FALSE)","v":"[m]"},{"$f":"IF($L$14=1,Preisliste!$E$13,Preisliste!$F$13)","v":"H501001"},{"$f":"VLOOKUP(\"Dammbalken 50/200 exkl. Dichtung, gesägt und entgratet\",Sprachindex!$A:$Z,Haftungsausschluß!$O$6,FALSE) & \" (\" & ROUNDUP(C452/1000*4.12,2) & \" \" & VLOOKUP(\"kg/Stk\",Sprachindex!$A:$Z,Haftungsausschluß!$O$6,FALSE) & \")\" & IF('Kalkulation 1'!$AH$33,\" \" & 'Kalkulation 1'!$R$9,\"\")","v":"Dammbalken 50/200 exkl. Dichtung, gesägt und entgratet (0 kg/Stk)"},null,null,null,null,null,null,null,0]
[null,null,0,0,{"$f":"VLOOKUP(\"[m]\",Sprachindex!$A:$Z,Haftungsausschluß!$O$6,FALSE)","v":"[m]"},{"$f":"IF($L$14=1,Preisliste!$E$13,Preisliste!$F$13)","v":"H501001"},{"$f":"VLOOKUP(\"Dammbalken 50/200 exkl. Dichtung, gesägt und entgratet\",Sprachindex!$A:$Z,Haftungsausschluß!$O$6,FALSE) & \" (\" & ROUNDUP(C453/1000*4.12,2) & \" \" & VLOOKUP(\"kg/Stk\",Sprachindex!$A:$Z,Haftungsausschluß!$O$6,FALSE) & \")\" & IF('Kalkulation 1'!$AH$33,\" \" & 'Kalkulation 1'!$R$9,\"\")","v":"Dammbalken 50/200 exkl. Dichtung, gesägt und entgratet (0 kg/Stk)"},null,null,null,null,null,null,null,0]
[null,null,0,0,{"$f":"VLOOKUP(\"[m]\",Sprachindex!$A:$Z,Haftungsausschluß!$O$6,FALSE)","v":"[m]"},{"$f":"IF($L$14=1,Preisliste!$E$13,Preisliste!$F$13)","v":"H501001"},{"$f":"VLOOKUP(\"Dammbalken 50/200 exkl. Dichtung, gesägt und entgratet\",Sprachindex!$A:$Z,Haftungsausschluß!$O$6,FALSE) & \" (\" & ROUNDUP(C454/1000*4.12,2) & \" \" & VLOOKUP(\"kg/Stk\",Sprachindex!$A:$Z,Haftungsausschluß!$O$6,FALSE) & \")\" & IF('Kalkulation 1'!$AH$33,\" \" & 'Kalkulation 1'!$R$9,\"\")","v":"Dammbalken 50/200 exkl. Dichtung, gesägt und entgratet (0 kg/Stk)"},null,null,null,null,null,null,null,0]
[null,null,0,0,{"$f":"VLOOKUP(\"[m]\",Sprachindex!$A:$Z,Haftungsausschluß!$O$6,FALSE)","v":"[m]"},{"$f":"IF($L$14=1,Preisliste!$E$13,Preisliste!$F$13)","v":"H501001"},{"$f":"VLOOKUP(\"Dammbalken 50/200 exkl. Dichtung, gesägt und entgratet\",Sprachindex!$A:$Z,Haftungsausschluß!$O$6,FALSE) & \" (\" & ROUNDUP(C455/1000*4.12,2) & \" \" & VLOOKUP(\"kg/Stk\",Sprachindex!$A:$Z,Haftungsausschluß!$O$6,FALSE) & \")\" & IF('Kalkulation 1'!$AH$33,\" \" & 'Kalkulation 1'!$R$9,\"\")","v":"Dammbalken 50/200 exkl. Dichtung, gesägt und entgratet (0 kg/Stk)"},null,null,null,null,null,null,null,0]
[null,null,0,0,{"$f":"VLOOKUP(\"[m]\",Sprachindex!$A:$Z,Haftungsausschluß!$O$6,FALSE)","v":"[m]"},{"$f":"IF($L$14=1,Preisliste!$E$13,Preisliste!$F$13)","v":"H501001"},{"$f":"VLOOKUP(\"Dammbalken 50/200 exkl. Dichtung, gesägt und entgratet\",Sprachindex!$A:$Z,Haftungsausschluß!$O$6,FALSE) & \" (\" & ROUNDUP(C456/1000*4.12,2) & \" \" & VLOOKUP(\"kg/Stk\",Sprachindex!$A:$Z,Haftungsausschluß!$O$6,FALSE) & \")\" & IF('Kalkulation 1'!$AH$33,\" \" & 'Kalkulation 1'!$R$9,\"\")","v":"Dammbalken 50/200 exkl. Dichtung, gesägt und entgratet (0 kg/Stk)"},null,null,null,null,null,null,null,0]
[null,null,0,0,{"$f":"VLOOKUP(\"[m]\",Sprachindex!$A:$Z,Haftungsausschluß!$O$6,FALSE)","v":"[m]"},{"$f":"IF($L$14=1,Preisliste!$E$13,Preisliste!$F$13)","v":"H501001"},{"$f":"VLOOKUP(\"Dammbalken 50/200 exkl. Dichtung, gesägt und entgratet\",Sprachindex!$A:$Z,Haftungsausschluß!$O$6,FALSE) & \" (\" & ROUNDUP(C457/1000*4.12,2) & \" \" & VLOOKUP(\"kg/Stk\",Sprachindex!$A:$Z,Haftungsausschluß!$O$6,FALSE) & \")\" & IF('Kalkulation 1'!$AH$33,\" \" & 'Kalkulation 1'!$R$9,\"\")","v":"Dammbalken 50/200 exkl. Dichtung, gesägt und entgratet (0 kg/Stk)"},null,null,null,null,null,null,null,0]
[null,null,0,0,{"$f":"VLOOKUP(\"[m]\",Sprachindex!$A:$Z,Haftungsausschluß!$O$6,FALSE)","v":"[m]"},{"$f":"IF($L$14=1,Preisliste!$E$13,Preisliste!$F$13)","v":"H501001"},{"$f":"VLOOKUP(\"Dammbalken 50/200 exkl. Dichtung, gesägt und entgratet\",Sprachindex!$A:$Z,Haftungsausschluß!$O$6,FALSE) & \" (\" & ROUNDUP(C458/1000*4.12,2) & \" \" & VLOOKUP(\"kg/Stk\",Sprachindex!$A:$Z,Haftungsausschluß!$O$6,FALSE) & \")\" & IF('Kalkulation 1'!$AH$33,\" \" & 'Kalkulation 1'!$R$9,\"\")","v":"Dammbalken 50/200 exkl. Dichtung, gesägt und entgratet (0 kg/Stk)"},null,null,null,null,null,null,null,0]
[null,null,0,0,{"$f":"VLOOKUP(\"[m]\",Sprachindex!$A:$Z,Haftungsausschluß!$O$6,FALSE)","v":"[m]"},{"$f":"IF($L$14=1,Preisliste!$E$13,Preisliste!$F$13)","v":"H501001"},{"$f":"VLOOKUP(\"Dammbalken 50/200 exkl. Dichtung, gesägt und entgratet\",Sprachindex!$A:$Z,Haftungsausschluß!$O$6,FALSE) & \" (\" & ROUNDUP(C459/1000*4.12,2) & \" \" & VLOOKUP(\"kg/Stk\",Sprachindex!$A:$Z,Haftungsausschluß!$O$6,FALSE) & \")\" & IF('Kalkulation 1'!$AH$33,\" \" & 'Kalkulation 1'!$R$9,\"\")","v":"Dammbalken 50/200 exkl. Dichtung, gesägt und entgratet (0 kg/Stk)"},null,null,null,null,null,null,null,0]
[null,null,0,0,{"$f":"VLOOKUP(\"[m]\",Sprachindex!$A:$Z,Haftungsausschluß!$O$6,FALSE)","v":"[m]"},{"$f":"IF($L$14=1,Preisliste!$E$13,Preisliste!$F$13)","v":"H501001"},{"$f":"VLOOKUP(\"Dammbalken 50/200 exkl. Dichtung, gesägt und entgratet\",Sprachindex!$A:$Z,Haftungsausschluß!$O$6,FALSE) & \" (\" & ROUNDUP(C460/1000*4.12,2) & \" \" & VLOOKUP(\"kg/Stk\",Sprachindex!$A:$Z,Haftungsausschluß!$O$6,FALSE) & \")\" & IF('Kalkulation 1'!$AH$33,\" \" & 'Kalkulation 1'!$R$9,\"\")","v":"Dammbalken 50/200 exkl. Dichtung, gesägt und entgratet (0 kg/Stk)"},null,null,null,null,null,null,null,0]
[null,null,0,0,{"$f":"VLOOKUP(\"[m]\",Sprachindex!$A:$Z,Haftungsausschluß!$O$6,FALSE)","v":"[m]"},{"$f":"IF($L$14=1,Preisliste!$E$13,Preisliste!$F$13)","v":"H501001"},{"$f":"VLOOKUP(\"Dammbalken 50/200 exkl. Dichtung, gesägt und entgratet\",Sprachindex!$A:$Z,Haftungsausschluß!$O$6,FALSE) & \" (\" & ROUNDUP(C461/1000*4.12,2) & \" \" & VLOOKUP(\"kg/Stk\",Sprachindex!$A:$Z,Haftungsausschluß!$O$6,FALSE) & \")\" & IF('Kalkulation 1'!$AH$33,\" \" & 'Kalkulation 1'!$R$9,\"\")","v":"Dammbalken 50/200 exkl. Dichtung, gesägt und entgratet (0 kg/Stk)"},null,null,null,null,null,null,null,0]
[null,null,0,0,{"$f":"VLOOKUP(\"[m]\",Sprachindex!$A:$Z,Haftungsausschluß!$O$6,FALSE)","v":"[m]"},{"$f":"IF($L$14=1,Preisliste!$E$13,Preisliste!$F$13)","v":"H501001"},{"$f":"VLOOKUP(\"Dammbalken 50/200 exkl. Dichtung, gesägt und entgratet\",Sprachindex!$A:$Z,Haftungsausschluß!$O$6,FALSE) & \" (\" & ROUNDUP(C462/1000*4.12,2) & \" \" & VLOOKUP(\"kg/Stk\",Sprachindex!$A:$Z,Haftungsausschluß!$O$6,FALSE) & \")\" & IF('Kalkulation 1'!$AH$33,\" \" & 'Kalkulation 1'!$R$9,\"\")","v":"Dammbalken 50/200 exkl. Dichtung, gesägt und entgratet (0 kg/Stk)"},null,null,null,null,null,null,null,0]
[null,null,0,{"$f":"B463*C463/1000","v":0},{"$f":"VLOOKUP(\"[m]\",Sprachindex!$A:$Z,Haftungsausschluß!$O$6,FALSE)","v":"[m]"},{"$f":"IF($L$14=1,Preisliste!$E$13,Preisliste!$F$13)","v":"H501001"},{"$f":"VLOOKUP(\"Dammbalken 50/200 exkl. Dichtung, gesägt und entgratet\",Sprachindex!$A:$Z,Haftungsausschluß!$O$6,FALSE) & \" (\" & ROUNDUP(C463/1000*4.12,2) & \" \" & VLOOKUP(\"kg/Stk\",Sprachindex!$A:$Z,Haftungsausschluß!$O$6,FALSE) & \")\" & IF('Kalkulation 1'!$AH$33,\" \" & 'Kalkulation 1'!$R$9,\"\")","v":"Dammbalken 50/200 exkl. Dichtung, gesägt und entgratet (0 kg/Stk)"},null,null,null,null,null,null,null,{"$f":"N463*D463","v":0}]
[null,null,0,0,{"$f":"VLOOKUP(\"[m]\",Sprachindex!$A:$Z,Haftungsausschluß!$O$6,FALSE)","v":"[m]"},{"$f":"IF($L$14=1,Preisliste!$E$13,Preisliste!$F$13)","v":"H501001"},{"$f":"VLOOKUP(\"Dammbalken 50/200 exkl. Dichtung, gesägt und entgratet\",Sprachindex!$A:$Z,Haftungsausschluß!$O$6,FALSE) & \" (\" & ROUNDUP(C464/1000*4.12,2) & \" \" & VLOOKUP(\"kg/Stk\",Sprachindex!$A:$Z,Haftungsausschluß!$O$6,FALSE) & \")\" & IF('Kalkulation 1'!$AH$33,\" \" & 'Kalkulation 1'!$R$9,\"\")","v":"Dammbalken 50/200 exkl. Dichtung, gesägt und entgratet (0 kg/Stk)"},null,null,null,null,null,null,null,0]
[null,null,0,0,{"$f":"VLOOKUP(\"[m]\",Sprachindex!$A:$Z,Haftungsausschluß!$O$6,FALSE)","v":"[m]"},{"$f":"IF($L$14=1,Preisliste!$E$13,Preisliste!$F$13)","v":"H501001"},{"$f":"VLOOKUP(\"Dammbalken 50/200 exkl. Dichtung, gesägt und entgratet\",Sprachindex!$A:$Z,Haftungsausschluß!$O$6,FALSE) & \" (\" & ROUNDUP(C465/1000*4.12,2) & \" \" & VLOOKUP(\"kg/Stk\",Sprachindex!$A:$Z,Haftungsausschluß!$O$6,FALSE) & \")\" & IF('Kalkulation 1'!$AH$33,\" \" & 'Kalkulation 1'!$R$9,\"\")","v":"Dammbalken 50/200 exkl. Dichtung, gesägt und entgratet (0 kg/Stk)"},null,null,null,null,null,null,null,0]
[null,null,0,0,{"$f":"VLOOKUP(\"[m]\",Sprachindex!$A:$Z,Haftungsausschluß!$O$6,FALSE)","v":"[m]"},{"$f":"IF($L$14=1,Preisliste!$E$13,Preisliste!$F$13)","v":"H501001"},{"$f":"VLOOKUP(\"Dammbalken 50/200 exkl. Dichtung, gesägt und entgratet\",Sprachindex!$A:$Z,Haftungsausschluß!$O$6,FALSE) & \" (\" & ROUNDUP(C466/1000*4.12,2) & \" \" & VLOOKUP(\"kg/Stk\",Sprachindex!$A:$Z,Haftungsausschluß!$O$6,FALSE) & \")\" & IF('Kalkulation 1'!$AH$33,\" \" & 'Kalkulation 1'!$R$9,\"\")","v":"Dammbalken 50/200 exkl. Dichtung, gesägt und entgratet (0 kg/Stk)"},null,null,null,null,null,null,null,0]
[null,null,0,0,{"$f":"VLOOKUP(\"[m]\",Sprachindex!$A:$Z,Haftungsausschluß!$O$6,FALSE)","v":"[m]"},{"$f":"IF($L$14=1,Preisliste!$E$13,Preisliste!$F$13)","v":"H501001"},{"$f":"VLOOKUP(\"Dammbalken 50/200 exkl. Dichtung, gesägt und entgratet\",Sprachindex!$A:$Z,Haftungsausschluß!$O$6,FALSE) & \" (\" & ROUNDUP(C467/1000*4.12,2) & \" \" & VLOOKUP(\"kg/Stk\",Sprachindex!$A:$Z,Haftungsausschluß!$O$6,FALSE) & \")\" & IF('Kalkulation 1'!$AH$33,\" \" & 'Kalkulation 1'!$R$9,\"\")","v":"Dammbalken 50/200 exkl. Dichtung, gesägt und entgratet (0 kg/Stk)"},null,null,null,null,null,null,null,0]
[null,null,0,0,{"$f":"VLOOKUP(\"[m]\",Sprachindex!$A:$Z,Haftungsausschluß!$O$6,FALSE)","v":"[m]"},{"$f":"IF($L$14=1,Preisliste!$E$13,Preisliste!$F$13)","v":"H501001"},{"$f":"VLOOKUP(\"Dammbalken 50/200 exkl. Dichtung, gesägt und entgratet\",Sprachindex!$A:$Z,Haftungsausschluß!$O$6,FALSE) & \" (\" & ROUNDUP(C468/1000*4.12,2) & \" \" & VLOOKUP(\"kg/Stk\",Sprachindex!$A:$Z,Haftungsausschluß!$O$6,FALSE) & \")\" & IF('Kalkulation 1'!$AH$33,\" \" & 'Kalkulation 1'!$R$9,\"\")","v":"Dammbalken 50/200 exkl. Dichtung, gesägt und entgratet (0 kg/Stk)"},null,null,null,null,null,null,null,0]
[null,null,0,0,{"$f":"VLOOKUP(\"[m]\",Sprachindex!$A:$Z,Haftungsausschluß!$O$6,FALSE)","v":"[m]"},{"$f":"IF($L$14=1,Preisliste!$E$13,Preisliste!$F$13)","v":"H501001"},{"$f":"VLOOKUP(\"Dammbalken 50/200 exkl. Dichtung, gesägt und entgratet\",Sprachindex!$A:$Z,Haftungsausschluß!$O$6,FALSE) & \" (\" & ROUNDUP(C469/1000*4.12,2) & \" \" & VLOOKUP(\"kg/Stk\",Sprachindex!$A:$Z,Haftungsausschluß!$O$6,FALSE) & \")\" & IF('Kalkulation 1'!$AH$33,\" \" & 'Kalkulation 1'!$R$9,\"\")","v":"Dammbalken 50/200 exkl. Dichtung, gesägt und entgratet (0 kg/Stk)"},null,null,null,null,null,null,null,0]
[null,null,0,0,{"$f":"VLOOKUP(\"[m]\",Sprachindex!$A:$Z,Haftungsausschluß!$O$6,FALSE)","v":"[m]"},{"$f":"IF($L$14=1,Preisliste!$E$13,Preisliste!$F$13)","v":"H501001"},{"$f":"VLOOKUP(\"Dammbalken 50/200 exkl. Dichtung, gesägt und entgratet\",Sprachindex!$A:$Z,Haftungsausschluß!$O$6,FALSE) & \" (\" & ROUNDUP(C470/1000*4.12,2) & \" \" & VLOOKUP(\"kg/Stk\",Sprachindex!$A:$Z,Haftungsausschluß!$O$6,FALSE) & \")\" & IF('Kalkulation 1'!$AH$33,\" \" & 'Kalkulation 1'!$R$9,\"\")","v":"Dammbalken 50/200 exkl. Dichtung, gesägt und entgratet (0 kg/Stk)"},null,null,null,null,null,null,null,0]
[null,null,0,0,{"$f":"VLOOKUP(\"[m]\",Sprachindex!$A:$Z,Haftungsausschluß!$O$6,FALSE)","v":"[m]"},{"$f":"IF($L$14=1,Preisliste!$E$13,Preisliste!$F$13)","v":"H501001"},{"$f":"VLOOKUP(\"Dammbalken 50/200 exkl. Dichtung, gesägt und entgratet\",Sprachindex!$A:$Z,Haftungsausschluß!$O$6,FALSE) & \" (\" & ROUNDUP(C471/1000*4.12,2) & \" \" & VLOOKUP(\"kg/Stk\",Sprachindex!$A:$Z,Haftungsausschluß!$O$6,FALSE) & \")\" & IF('Kalkulation 1'!$AH$33,\" \" & 'Kalkulation 1'!$R$9,\"\")","v":"Dammbalken 50/200 exkl. Dichtung, gesägt und entgratet (0 kg/Stk)"},null,null,null,null,null,null,null,0]
[null,null,0,0,{"$f":"VLOOKUP(\"[m]\",Sprachindex!$A:$Z,Haftungsausschluß!$O$6,FALSE)","v":"[m]"},{"$f":"IF($L$14=1,Preisliste!$E$13,Preisliste!$F$13)","v":"H501001"},{"$f":"VLOOKUP(\"Dammbalken 50/200 exkl. Dichtung, gesägt und entgratet\",Sprachindex!$A:$Z,Haftungsausschluß!$O$6,FALSE) & \" (\" & ROUNDUP(C472/1000*4.12,2) & \" \" & VLOOKUP(\"kg/Stk\",Sprachindex!$A:$Z,Haftungsausschluß!$O$6,FALSE) & \")\" & IF('Kalkulation 1'!$AH$33,\" \" & 'Kalkulation 1'!$R$9,\"\")","v":"Dammbalken 50/200 exkl. Dichtung, gesägt und entgratet (0 kg/Stk)"},null,null,null,null,null,null,null,0]
[null,null,0,0,{"$f":"VLOOKUP(\"[m]\",Sprachindex!$A:$Z,Haftungsausschluß!$O$6,FALSE)","v":"[m]"},{"$f":"IF($L$14=1,Preisliste!$E$13,Preisliste!$F$13)","v":"H501001"},{"$f":"VLOOKUP(\"Dammbalken 50/200 exkl. Dichtung, gesägt und entgratet\",Sprachindex!$A:$Z,Haftungsausschluß!$O$6,FALSE) & \" (\" & ROUNDUP(C473/1000*4.12,2) & \" \" & VLOOKUP(\"kg/Stk\",Sprachindex!$A:$Z,Haftungsausschluß!$O$6,FALSE) & \")\" & IF('Kalkulation 1'!$AH$33,\" \" & 'Kalkulation 1'!$R$9,\"\")","v":"Dammbalken 50/200 exkl. Dichtung, gesägt und entgratet (0 kg/Stk)"},null,null,null,null,null,null,null,0]
[null,null,0,0,{"$f":"VLOOKUP(\"[m]\",Sprachindex!$A:$Z,Haftungsausschluß!$O$6,FALSE)","v":"[m]"},{"$f":"IF($L$14=1,Preisliste!$E$13,Preisliste!$F$13)","v":"H501001"},{"$f":"VLOOKUP(\"Dammbalken 50/200 exkl. Dichtung, gesägt und entgratet\",Sprachindex!$A:$Z,Haftungsausschluß!$O$6,FALSE) & \" (\" & ROUNDUP(C474/1000*4.12,2) & \" \" & VLOOKUP(\"kg/Stk\",Sprachindex!$A:$Z,Haftungsausschluß!$O$6,FALSE) & \")\" & IF('Kalkulation 1'!$AH$33,\" \" & 'Kalkulation 1'!$R$9,\"\")","v":"Dammbalken 50/200 exkl. Dichtung, gesägt und entgratet (0 kg/Stk)"},null,null,null,null,null,null,null,0]
[null,null,0,0,{"$f":"VLOOKUP(\"[m]\",Sprachindex!$A:$Z,Haftungsausschluß!$O$6,FALSE)","v":"[m]"},{"$f":"IF($L$14=1,Preisliste!$E$13,Preisliste!$F$13)","v":"H501001"},{"$f":"VLOOKUP(\"Dammbalken 50/200 exkl. Dichtung, gesägt und entgratet\",Sprachindex!$A:$Z,Haftungsausschluß!$O$6,FALSE) & \" (\" & ROUNDUP(C475/1000*4.12,2) & \" \" & VLOOKUP(\"kg/Stk\",Sprachindex!$A:$Z,Haftungsausschluß!$O$6,FALSE) & \")\" & IF('Kalkulation 1'!$AH$33,\" \" & 'Kalkulation 1'!$R$9,\"\")","v":"Dammbalken 50/200 exkl. Dichtung, gesägt und entgratet (0 kg/Stk)"},null,null,null,null,null,null,null,0]
[null,null,0,0,{"$f":"VLOOKUP(\"[m]\",Sprachindex!$A:$Z,Haftungsausschluß!$O$6,FALSE)","v":"[m]"},{"$f":"IF($L$14=1,Preisliste!$E$13,Preisliste!$F$13)","v":"H501001"},{"$f":"VLOOKUP(\"Dammbalken 50/200 exkl. Dichtung, gesägt und entgratet\",Sprachindex!$A:$Z,Haftungsausschluß!$O$6,FALSE) & \" (\" & ROUNDUP(C476/1000*4.12,2) & \" \" & VLOOKUP(\"kg/Stk\",Sprachindex!$A:$Z,Haftungsausschluß!$O$6,FALSE) & \")\" & IF('Kalkulation 1'!$AH$33,\" \" & 'Kalkulation 1'!$R$9,\"\")","v":"Dammbalken 50/200 exkl. Dichtung, gesägt und entgratet (0 kg/Stk)"},null,null,null,null,null,null,null,0]
[null,null,0,0,{"$f":"VLOOKUP(\"[m]\",Sprachindex!$A:$Z,Haftungsausschluß!$O$6,FALSE)","v":"[m]"},{"$f":"IF($L$14=1,Preisliste!$E$13,Preisliste!$F$13)","v":"H501001"},{"$f":"VLOOKUP(\"Dammbalken 50/200 exkl. Dichtung, gesägt und entgratet\",Sprachindex!$A:$Z,Haftungsausschluß!$O$6,FALSE) & \" (\" & ROUNDUP(C477/1000*4.12,2) & \" \" & VLOOKUP(\"kg/Stk\",Sprachindex!$A:$Z,Haftungsausschluß!$O$6,FALSE) & \")\" & IF('Kalkulation 1'!$AH$33,\" \" & 'Kalkulation 1'!$R$9,\"\")","v":"Dammbalken 50/200 exkl. Dichtung, gesägt und entgratet (0 kg/Stk)"},null,null,null,null,null,null,null,0]
[null,null,0,0,{"$f":"VLOOKUP(\"[m]\",Sprachindex!$A:$Z,Haftungsausschluß!$O$6,FALSE)","v":"[m]"},{"$f":"IF($L$14=1,Preisliste!$E$13,Preisliste!$F$13)","v":"H501001"},{"$f":"VLOOKUP(\"Dammbalken 50/200 exkl. Dichtung, gesägt und entgratet\",Sprachindex!$A:$Z,Haftungsausschluß!$O$6,FALSE) & \" (\" & ROUNDUP(C478/1000*4.12,2) & \" \" & VLOOKUP(\"kg/Stk\",Sprachindex!$A:$Z,Haftungsausschluß!$O$6,FALSE) & \")\" & IF('Kalkulation 1'!$AH$33,\" \" & 'Kalkulation 1'!$R$9,\"\")","v":"Dammbalken 50/200 exkl. Dichtung, gesägt und entgratet (0 kg/Stk)"},null,null,null,null,null,null,null,0]
[null,null,0,0,{"$f":"VLOOKUP(\"[m]\",Sprachindex!$A:$Z,Haftungsausschluß!$O$6,FALSE)","v":"[m]"},{"$f":"IF($L$14=1,Preisliste!$E$13,Preisliste!$F$13)","v":"H501001"},{"$f":"VLOOKUP(\"Dammbalken 50/200 exkl. Dichtung, gesägt und entgratet\",Sprachindex!$A:$Z,Haftungsausschluß!$O$6,FALSE) & \" (\" & ROUNDUP(C479/1000*4.12,2) & \" \" & VLOOKUP(\"kg/Stk\",Sprachindex!$A:$Z,Haftungsausschluß!$O$6,FALSE) & \")\" & IF('Kalkulation 1'!$AH$33,\" \" & 'Kalkulation 1'!$R$9,\"\")","v":"Dammbalken 50/200 exkl. Dichtung, gesägt und entgratet (0 kg/Stk)"},null,null,null,null,null,null,null,0]
[null,null,0,0,{"$f":"VLOOKUP(\"[m]\",Sprachindex!$A:$Z,Haftungsausschluß!$O$6,FALSE)","v":"[m]"},{"$f":"IF($L$14=1,Preisliste!$E$13,Preisliste!$F$13)","v":"H501001"},{"$f":"VLOOKUP(\"Dammbalken 50/200 exkl. Dichtung, gesägt und entgratet\",Sprachindex!$A:$Z,Haftungsausschluß!$O$6,FALSE) & \" (\" & ROUNDUP(C480/1000*4.12,2) & \" \" & VLOOKUP(\"kg/Stk\",Sprachindex!$A:$Z,Haftungsausschluß!$O$6,FALSE) & \")\" & IF('Kalkulation 1'!$AH$33,\" \" & 'Kalkulation 1'!$R$9,\"\")","v":"Dammbalken 50/200 exkl. Dichtung, gesägt und entgratet (0 kg/Stk)"},null,null,null,null,null,null,null,0]
[null,null,0,0,{"$f":"VLOOKUP(\"[m]\",Sprachindex!$A:$Z,Haftungsausschluß!$O$6,FALSE)","v":"[m]"},{"$f":"IF($L$14=1,Preisliste!$E$13,Preisliste!$F$13)","v":"H501001"},{"$f":"VLOOKUP(\"Dammbalken 50/200 exkl. Dichtung, gesägt und entgratet\",Sprachindex!$A:$Z,Haftungsausschluß!$O$6,FALSE) & \" (\" & ROUNDUP(C481/1000*4.12,2) & \" \" & VLOOKUP(\"kg/Stk\",Sprachindex!$A:$Z,Haftungsausschluß!$O$6,FALSE) & \")\" & IF('Kalkulation 1'!$AH$33,\" \" & 'Kalkulation 1'!$R$9,\"\")","v":"Dammbalken 50/200 exkl. Dichtung, gesägt und entgratet (0 kg/Stk)"},null,null,null,null,null,null,null,0]
[null,null,0,0,{"$f":"VLOOKUP(\"[m]\",Sprachindex!$A:$Z,Haftungsausschluß!$O$6,FALSE)","v":"[m]"},{"$f":"IF($L$14=1,Preisliste!$E$13,Preisliste!$F$13)","v":"H501001"},{"$f":"VLOOKUP(\"Dammbalken 50/200 exkl. Dichtung, gesägt und entgratet\",Sprachindex!$A:$Z,Haftungsausschluß!$O$6,FALSE) & \" (\" & ROUNDUP(C482/1000*4.12,2) & \" \" & VLOOKUP(\"kg/Stk\",Sprachindex!$A:$Z,Haftungsausschluß!$O$6,FALSE) & \")\" & IF('Kalkulation 1'!$AH$33,\" \" & 'Kalkulation 1'!$R$9,\"\")","v":"Dammbalken 50/200 exkl. Dichtung, gesägt und entgratet (0 kg/Stk)"},null,null,null,null,null,null,null,0]
[null,null,0,0,{"$f":"VLOOKUP(\"[m]\",Sprachindex!$A:$Z,Haftungsausschluß!$O$6,FALSE)","v":"[m]"},{"$f":"IF($L$14=1,Preisliste!$E$13,Preisliste!$F$13)","v":"H501001"},{"$f":"VLOOKUP(\"Dammbalken 50/200 exkl. Dichtung, gesägt und entgratet\",Sprachindex!$A:$Z,Haftungsausschluß!$O$6,FALSE) & \" (\" & ROUNDUP(C483/1000*4.12,2) & \" \" & VLOOKUP(\"kg/Stk\",Sprachindex!$A:$Z,Haftungsausschluß!$O$6,FALSE) & \")\" & IF('Kalkulation 1'!$AH$33,\" \" & 'Kalkulation 1'!$R$9,\"\")","v":"Dammbalken 50/200 exkl. Dichtung, gesägt und entgratet (0 kg/Stk)"},null,null,null,null,null,null,null,0]
[null,null,0,0,{"$f":"VLOOKUP(\"[m]\",Sprachindex!$A:$Z,Haftungsausschluß!$O$6,FALSE)","v":"[m]"},{"$f":"IF($L$14=1,Preisliste!$E$13,Preisliste!$F$13)","v":"H501001"},{"$f":"VLOOKUP(\"Dammbalken 50/200 exkl. Dichtung, gesägt und entgratet\",Sprachindex!$A:$Z,Haftungsausschluß!$O$6,FALSE) & \" (\" & ROUNDUP(C484/1000*4.12,2) & \" \" & VLOOKUP(\"kg/Stk\",Sprachindex!$A:$Z,Haftungsausschluß!$O$6,FALSE) & \")\" & IF('Kalkulation 1'!$AH$33,\" \" & 'Kalkulation 1'!$R$9,\"\")","v":"Dammbalken 50/200 exkl. Dichtung, gesägt und entgratet (0 kg/Stk)"},null,null,null,null,null,null,null,0]
[null,null,0,0,{"$f":"VLOOKUP(\"[m]\",Sprachindex!$A:$Z,Haftungsausschluß!$O$6,FALSE)","v":"[m]"},{"$f":"IF($L$14=1,Preisliste!$E$13,Preisliste!$F$13)","v":"H501001"},{"$f":"VLOOKUP(\"Dammbalken 50/200 exkl. Dichtung, gesägt und entgratet\",Sprachindex!$A:$Z,Haftungsausschluß!$O$6,FALSE) & \" (\" & ROUNDUP(C485/1000*4.12,2) & \" \" & VLOOKUP(\"kg/Stk\",Sprachindex!$A:$Z,Haftungsausschluß!$O$6,FALSE) & \")\" & IF('Kalkulation 1'!$AH$33,\" \" & 'Kalkulation 1'!$R$9,\"\")","v":"Dammbalken 50/200 exkl. Dichtung, gesägt und entgratet (0 kg/Stk)"},null,null,null,null,null,null,null,0]
[null,null,0,0,{"$f":"VLOOKUP(\"[m]\",Sprachindex!$A:$Z,Haftungsausschluß!$O$6,FALSE)","v":"[m]"},{"$f":"IF($L$14=1,Preisliste!$E$13,Preisliste!$F$13)","v":"H501001"},{"$f":"VLOOKUP(\"Dammbalken 50/200 exkl. Dichtung, gesägt und entgratet\",Sprachindex!$A:$Z,Haftungsausschluß!$O$6,FALSE) & \" (\" & ROUNDUP(C486/1000*4.12,2) & \" \" & VLOOKUP(\"kg/Stk\",Sprachindex!$A:$Z,Haftungsausschluß!$O$6,FALSE) & \")\" & IF('Kalkulation 1'!$AH$33,\" \" & 'Kalkulation 1'!$R$9,\"\")","v":"Dammbalken 50/200 exkl. Dichtung, gesägt und entgratet (0 kg/Stk)"},null,null,null,null,null,null,null,0]
[null,null,0,0,{"$f":"VLOOKUP(\"[m]\",Sprachindex!$A:$Z,Haftungsausschluß!$O$6,FALSE)","v":"[m]"},{"$f":"IF($L$14=1,Preisliste!$E$13,Preisliste!$F$13)","v":"H501001"},{"$f":"VLOOKUP(\"Dammbalken 50/200 exkl. Dichtung, gesägt und entgratet\",Sprachindex!$A:$Z,Haftungsausschluß!$O$6,FALSE) & \" (\" & ROUNDUP(C487/1000*4.12,2) & \" \" & VLOOKUP(\"kg/Stk\",Sprachindex!$A:$Z,Haftungsausschluß!$O$6,FALSE) & \")\" & IF('Kalkulation 1'!$AH$33,\" \" & 'Kalkulation 1'!$R$9,\"\")","v":"Dammbalken 50/200 exkl. Dichtung, gesägt und entgratet (0 kg/Stk)"},null,null,null,null,null,null,null,0]
[null,null,0,0,{"$f":"VLOOKUP(\"[m]\",Sprachindex!$A:$Z,Haftungsausschluß!$O$6,FALSE)","v":"[m]"},{"$f":"IF($L$14=1,Preisliste!$E$13,Preisliste!$F$13)","v":"H501001"},{"$f":"VLOOKUP(\"Dammbalken 50/200 exkl. Dichtung, gesägt und entgratet\",Sprachindex!$A:$Z,Haftungsausschluß!$O$6,FALSE) & \" (\" & ROUNDUP(C488/1000*4.12,2) & \" \" & VLOOKUP(\"kg/Stk\",Sprachindex!$A:$Z,Haftungsausschluß!$O$6,FALSE) & \")\" & IF('Kalkulation 1'!$AH$33,\" \" & 'Kalkulation 1'!$R$9,\"\")","v":"Dammbalken 50/200 exkl. Dichtung, gesägt und entgratet (0 kg/Stk)"},null,null,null,null,null,null,null,0]
[null,null,0,0,{"$f":"VLOOKUP(\"[m]\",Sprachindex!$A:$Z,Haftungsausschluß!$O$6,FALSE)","v":"[m]"},{"$f":"IF($L$14=1,Preisliste!$E$13,Preisliste!$F$13)","v":"H501001"},{"$f":"VLOOKUP(\"Dammbalken 50/200 exkl. Dichtung, gesägt und entgratet\",Sprachindex!$A:$Z,Haftungsausschluß!$O$6,FALSE) & \" (\" & ROUNDUP(C489/1000*4.12,2) & \" \" & VLOOKUP(\"kg/Stk\",Sprachindex!$A:$Z,Haftungsausschluß!$O$6,FALSE) & \")\" & IF('Kalkulation 1'!$AH$33,\" \" & 'Kalkulation 1'!$R$9,\"\")","v":"Dammbalken 50/200 exkl. Dichtung, gesägt und entgratet (0 kg/Stk)"},null,null,null,null,null,null,null,0]
[null,null,0,0,{"$f":"VLOOKUP(\"[m]\",Sprachindex!$A:$Z,Haftungsausschluß!$O$6,FALSE)","v":"[m]"},{"$f":"IF($L$14=1,Preisliste!$E$13,Preisliste!$F$13)","v":"H501001"},{"$f":"VLOOKUP(\"Dammbalken 50/200 exkl. Dichtung, gesägt und entgratet\",Sprachindex!$A:$Z,Haftungsausschluß!$O$6,FALSE) & \" (\" & ROUNDUP(C490/1000*4.12,2) & \" \" & VLOOKUP(\"kg/Stk\",Sprachindex!$A:$Z,Haftungsausschluß!$O$6,FALSE) & \")\" & IF('Kalkulation 1'!$AH$33,\" \" & 'Kalkulation 1'!$R$9,\"\")","v":"Dammbalken 50/200 exkl. Dichtung, gesägt und entgratet (0 kg/Stk)"},null,null,null,null,null,null,null,0]
[null,null,0,0,{"$f":"VLOOKUP(\"[m]\",Sprachindex!$A:$Z,Haftungsausschluß!$O$6,FALSE)","v":"[m]"},{"$f":"IF($L$14=1,Preisliste!$E$13,Preisliste!$F$13)","v":"H501001"},{"$f":"VLOOKUP(\"Dammbalken 50/200 exkl. Dichtung, gesägt und entgratet\",Sprachindex!$A:$Z,Haftungsausschluß!$O$6,FALSE) & \" (\" & ROUNDUP(C491/1000*4.12,2) & \" \" & VLOOKUP(\"kg/Stk\",Sprachindex!$A:$Z,Haftungsausschluß!$O$6,FALSE) & \")\" & IF('Kalkulation 1'!$AH$33,\" \" & 'Kalkulation 1'!$R$9,\"\")","v":"Dammbalken 50/200 exkl. Dichtung, gesägt und entgratet (0 kg/Stk)"},null,null,null,null,null,null,null,0]
[null,null,0,0,{"$f":"VLOOKUP(\"[m]\",Sprachindex!$A:$Z,Haftungsausschluß!$O$6,FALSE)","v":"[m]"},{"$f":"IF($L$14=1,Preisliste!$E$13,Preisliste!$F$13)","v":"H501001"},{"$f":"VLOOKUP(\"Dammbalken 50/200 exkl. Dichtung, gesägt und entgratet\",Sprachindex!$A:$Z,Haftungsausschluß!$O$6,FALSE) & \" (\" & ROUNDUP(C492/1000*4.12,2) & \" \" & VLOOKUP(\"kg/Stk\",Sprachindex!$A:$Z,Haftungsausschluß!$O$6,FALSE) & \")\" & IF('Kalkulation 1'!$AH$33,\" \" & 'Kalkulation 1'!$R$9,\"\")","v":"Dammbalken 50/200 exkl. Dichtung, gesägt und entgratet (0 kg/Stk)"},null,null,null,null,null,null,null,0]
[null,null,0,0,{"$f":"VLOOKUP(\"[m]\",Sprachindex!$A:$Z,Haftungsausschluß!$O$6,FALSE)","v":"[m]"},{"$f":"IF($L$14=1,Preisliste!$E$13,Preisliste!$F$13)","v":"H501001"},{"$f":"VLOOKUP(\"Dammbalken 50/200 exkl. Dichtung, gesägt und entgratet\",Sprachindex!$A:$Z,Haftungsausschluß!$O$6,FALSE) & \" (\" & ROUNDUP(C493/1000*4.12,2) & \" \" & VLOOKUP(\"kg/Stk\",Sprachindex!$A:$Z,Haftungsausschluß!$O$6,FALSE) & \")\" & IF('Kalkulation 1'!$AH$33,\" \" & 'Kalkulation 1'!$R$9,\"\")","v":"Dammbalken 50/200 exkl. Dichtung, gesägt und entgratet (0 kg/Stk)"},null,null,null,null,null,null,null,0]
[null,null,0,0,{"$f":"VLOOKUP(\"[m]\",Sprachindex!$A:$Z,Haftungsausschluß!$O$6,FALSE)","v":"[m]"},{"$f":"IF($L$14=1,Preisliste!$E$13,Preisliste!$F$13)","v":"H501001"},{"$f":"VLOOKUP(\"Dammbalken 50/200 exkl. Dichtung, gesägt und entgratet\",Sprachindex!$A:$Z,Haftungsausschluß!$O$6,FALSE) & \" (\" & ROUNDUP(C494/1000*4.12,2) & \" \" & VLOOKUP(\"kg/Stk\",Sprachindex!$A:$Z,Haftungsausschluß!$O$6,FALSE) & \")\" & IF('Kalkulation 1'!$AH$33,\" \" & 'Kalkulation 1'!$R$9,\"\")","v":"Dammbalken 50/200 exkl. Dichtung, gesägt und entgratet (0 kg/Stk)"},null,null,null,null,null,null,null,0]
[null,null,0,0,{"$f":"VLOOKUP(\"[m]\",Sprachindex!$A:$Z,Haftungsausschluß!$O$6,FALSE)","v":"[m]"},{"$f":"IF($L$14=1,Preisliste!$E$13,Preisliste!$F$13)","v":"H501001"},{"$f":"VLOOKUP(\"Dammbalken 50/200 exkl. Dichtung, gesägt und entgratet\",Sprachindex!$A:$Z,Haftungsausschluß!$O$6,FALSE) & \" (\" & ROUNDUP(C495/1000*4.12,2) & \" \" & VLOOKUP(\"kg/Stk\",Sprachindex!$A:$Z,Haftungsausschluß!$O$6,FALSE) & \")\" & IF('Kalkulation 1'!$AH$33,\" \" & 'Kalkulation 1'!$R$9,\"\")","v":"Dammbalken 50/200 exkl. Dichtung, gesägt und entgratet (0 kg/Stk)"},null,null,null,null,null,null,null,0]
[null,null,0,0,{"$f":"VLOOKUP(\"[m]\",Sprachindex!$A:$Z,Haftungsausschluß!$O$6,FALSE)","v":"[m]"},{"$f":"IF($L$14=1,Preisliste!$E$13,Preisliste!$F$13)","v":"H501001"},{"$f":"VLOOKUP(\"Dammbalken 50/200 exkl. Dichtung, gesägt und entgratet\",Sprachindex!$A:$Z,Haftungsausschluß!$O$6,FALSE) & \" (\" & ROUNDUP(C496/1000*4.12,2) & \" \" & VLOOKUP(\"kg/Stk\",Sprachindex!$A:$Z,Haftungsausschluß!$O$6,FALSE) & \")\" & IF('Kalkulation 1'!$AH$33,\" \" & 'Kalkulation 1'!$R$9,\"\")","v":"Dammbalken 50/200 exkl. Dichtung, gesägt und entgratet (0 kg/Stk)"},null,null,null,null,null,null,null,0]
[null,null,0,0,{"$f":"VLOOKUP(\"[m]\",Sprachindex!$A:$Z,Haftungsausschluß!$O$6,FALSE)","v":"[m]"},{"$f":"IF($L$14=1,Preisliste!$E$13,Preisliste!$F$13)","v":"H501001"},{"$f":"VLOOKUP(\"Dammbalken 50/200 exkl. Dichtung, gesägt und entgratet\",Sprachindex!$A:$Z,Haftungsausschluß!$O$6,FALSE) & \" (\" & ROUNDUP(C497/1000*4.12,2) & \" \" & VLOOKUP(\"kg/Stk\",Sprachindex!$A:$Z,Haftungsausschluß!$O$6,FALSE) & \")\" & IF('Kalkulation 1'!$AH$33,\" \" & 'Kalkulation 1'!$R$9,\"\")","v":"Dammbalken 50/200 exkl. Dichtung, gesägt und entgratet (0 kg/Stk)"},null,null,null,null,null,null,null,0]
[null,null,0,0,{"$f":"VLOOKUP(\"[m]\",Sprachindex!$A:$Z,Haftungsausschluß!$O$6,FALSE)","v":"[m]"},{"$f":"IF($L$14=1,Preisliste!$E$13,Preisliste!$F$13)","v":"H501001"},{"$f":"VLOOKUP(\"Dammbalken 50/200 exkl. Dichtung, gesägt und entgratet\",Sprachindex!$A:$Z,Haftungsausschluß!$O$6,FALSE) & \" (\" & ROUNDUP(C498/1000*4.12,2) & \" \" & VLOOKUP(\"kg/Stk\",Sprachindex!$A:$Z,Haftungsausschluß!$O$6,FALSE) & \")\" & IF('Kalkulation 1'!$AH$33,\" \" & 'Kalkulation 1'!$R$9,\"\")","v":"Dammbalken 50/200 exkl. Dichtung, gesägt und entgratet (0 kg/Stk)"},null,null,null,null,null,null,null,0]
[null,null,0,0,{"$f":"VLOOKUP(\"[m]\",Sprachindex!$A:$Z,Haftungsausschluß!$O$6,FALSE)","v":"[m]"},{"$f":"IF($L$14=1,Preisliste!$E$13,Preisliste!$F$13)","v":"H501001"},{"$f":"VLOOKUP(\"Dammbalken 50/200 exkl. Dichtung, gesägt und entgratet\",Sprachindex!$A:$Z,Haftungsausschluß!$O$6,FALSE) & \" (\" & ROUNDUP(C499/1000*4.12,2) & \" \" & VLOOKUP(\"kg/Stk\",Sprachindex!$A:$Z,Haftungsausschluß!$O$6,FALSE) & \")\" & IF('Kalkulation 1'!$AH$33,\" \" & 'Kalkulation 1'!$R$9,\"\")","v":"Dammbalken 50/200 exkl. Dichtung, gesägt und entgratet (0 kg/Stk)"},null,null,null,null,null,null,null,0]
[null,null,0,0,{"$f":"VLOOKUP(\"[m]\",Sprachindex!$A:$Z,Haftungsausschluß!$O$6,FALSE)","v":"[m]"},{"$f":"IF($L$14=1,Preisliste!$E$13,Preisliste!$F$13)","v":"H501001"},{"$f":"VLOOKUP(\"Dammbalken 50/200 exkl. Dichtung, gesägt und entgratet\",Sprachindex!$A:$Z,Haftungsausschluß!$O$6,FALSE) & \" (\" & ROUNDUP(C500/1000*4.12,2) & \" \" & VLOOKUP(\"kg/Stk\",Sprachindex!$A:$Z,Haftungsausschluß!$O$6,FALSE) & \")\" & IF('Kalkulation 1'!$AH$33,\" \" & 'Kalkulation 1'!$R$9,\"\")","v":"Dammbalken 50/200 exkl. Dichtung, gesägt und entgratet (0 kg/Stk)"},null,null,null,null,null,null,null,0]
[null,null,0,0,{"$f":"VLOOKUP(\"[m]\",Sprachindex!$A:$Z,Haftungsausschluß!$O$6,FALSE)","v":"[m]"},{"$f":"IF($L$14=1,Preisliste!$E$13,Preisliste!$F$13)","v":"H501001"},{"$f":"VLOOKUP(\"Dammbalken 50/200 exkl. Dichtung, gesägt und entgratet\",Sprachindex!$A:$Z,Haftungsausschluß!$O$6,FALSE) & \" (\" & ROUNDUP(C501/1000*4.12,2) & \" \" & VLOOKUP(\"kg/Stk\",Sprachindex!$A:$Z,Haftungsausschluß!$O$6,FALSE) & \")\" & IF('Kalkulation 1'!$AH$33,\" \" & 'Kalkulation 1'!$R$9,\"\")","v":"Dammbalken 50/200 exkl. Dichtung, gesägt und entgratet (0 kg/Stk)"},null,null,null,null,null,null,null,0]
[null,null,0,0,{"$f":"VLOOKUP(\"[m]\",Sprachindex!$A:$Z,Haftungsausschluß!$O$6,FALSE)","v":"[m]"},{"$f":"IF($L$14=1,Preisliste!$E$13,Preisliste!$F$13)","v":"H501001"},{"$f":"VLOOKUP(\"Dammbalken 50/200 exkl. Dichtung, gesägt und entgratet\",Sprachindex!$A:$Z,Haftungsausschluß!$O$6,FALSE) & \" (\" & ROUNDUP(C502/1000*4.12,2) & \" \" & VLOOKUP(\"kg/Stk\",Sprachindex!$A:$Z,Haftungsausschluß!$O$6,FALSE) & \")\" & IF('Kalkulation 1'!$AH$33,\" \" & 'Kalkulation 1'!$R$9,\"\")","v":"Dammbalken 50/200 exkl. Dichtung, gesägt und entgratet (0 kg/Stk)"},null,null,null,null,null,null,null,0]
[null,null,0,0,{"$f":"VLOOKUP(\"[m]\",Sprachindex!$A:$Z,Haftungsausschluß!$O$6,FALSE)","v":"[m]"},{"$f":"IF($L$14=1,Preisliste!$E$13,Preisliste!$F$13)","v":"H501001"},{"$f":"VLOOKUP(\"Dammbalken 50/200 exkl. Dichtung, gesägt und entgratet\",Sprachindex!$A:$Z,Haftungsausschluß!$O$6,FALSE) & \" (\" & ROUNDUP(C503/1000*4.12,2) & \" \" & VLOOKUP(\"kg/Stk\",Sprachindex!$A:$Z,Haftungsausschluß!$O$6,FALSE) & \")\" & IF('Kalkulation 1'!$AH$33,\" \" & 'Kalkulation 1'!$R$9,\"\")","v":"Dammbalken 50/200 exkl. Dichtung, gesägt und entgratet (0 kg/Stk)"},null,null,null,null,null,null,null,0]
[null,null,0,0,{"$f":"VLOOKUP(\"[m]\",Sprachindex!$A:$Z,Haftungsausschluß!$O$6,FALSE)","v":"[m]"},{"$f":"IF($L$14=1,Preisliste!$E$13,Preisliste!$F$13)","v":"H501001"},{"$f":"VLOOKUP(\"Dammbalken 50/200 exkl. Dichtung, gesägt und entgratet\",Sprachindex!$A:$Z,Haftungsausschluß!$O$6,FALSE) & \" (\" & ROUNDUP(C504/1000*4.12,2) & \" \" & VLOOKUP(\"kg/Stk\",Sprachindex!$A:$Z,Haftungsausschluß!$O$6,FALSE) & \")\" & IF('Kalkulation 1'!$AH$33,\" \" & 'Kalkulation 1'!$R$9,\"\")","v":"Dammbalken 50/200 exkl. Dichtung, gesägt und entgratet (0 kg/Stk)"},null,null,null,null,null,null,null,0]
[null,null,0,0,{"$f":"VLOOKUP(\"[m]\",Sprachindex!$A:$Z,Haftungsausschluß!$O$6,FALSE)","v":"[m]"},{"$f":"IF($L$14=1,Preisliste!$E$13,Preisliste!$F$13)","v":"H501001"},{"$f":"VLOOKUP(\"Dammbalken 50/200 exkl. Dichtung, gesägt und entgratet\",Sprachindex!$A:$Z,Haftungsausschluß!$O$6,FALSE) & \" (\" & ROUNDUP(C505/1000*4.12,2) & \" \" & VLOOKUP(\"kg/Stk\",Sprachindex!$A:$Z,Haftungsausschluß!$O$6,FALSE) & \")\" & IF('Kalkulation 1'!$AH$33,\" \" & 'Kalkulation 1'!$R$9,\"\")","v":"Dammbalken 50/200 exkl. Dichtung, gesägt und entgratet (0 kg/Stk)"},null,null,null,null,null,null,null,0]
[null,null,0,0,{"$f":"VLOOKUP(\"[m]\",Sprachindex!$A:$Z,Haftungsausschluß!$O$6,FALSE)","v":"[m]"},{"$f":"IF($L$14=1,Preisliste!$E$13,Preisliste!$F$13)","v":"H501001"},{"$f":"VLOOKUP(\"Dammbalken 50/200 exkl. Dichtung, gesägt und entgratet\",Sprachindex!$A:$Z,Haftungsausschluß!$O$6,FALSE) & \" (\" & ROUNDUP(C506/1000*4.12,2) & \" \" & VLOOKUP(\"kg/Stk\",Sprachindex!$A:$Z,Haftungsausschluß!$O$6,FALSE) & \")\" & IF('Kalkulation 1'!$AH$33,\" \" & 'Kalkulation 1'!$R$9,\"\")","v":"Dammbalken 50/200 exkl. Dichtung, gesägt und entgratet (0 kg/Stk)"},null,null,null,null,null,null,null,0]
[null,null,905,0,{"$f":"VLOOKUP(\"[m]\",Sprachindex!$A:$Z,Haftungsausschluß!$O$6,FALSE)","v":"[m]"},{"$f":"IF($L$14=1,Preisliste!$E$16,Preisliste!$F$16)","v":"H801001"},{"$f":"VLOOKUP(\"Dammbalken 80/200 exkl. Dichtung, gesägt und entgratet\",Sprachindex!$A:$Z,Haftungsausschluß!$O$6,FALSE) & \" (\" & ROUNDUP(C507/1000*7.78,2) & \" \" & VLOOKUP(\"kg/Stk\",Sprachindex!$A:$Z,Haftungsausschluß!$O$6,FALSE) & \")\" & IF('Kalkulation 1'!$AH$33,\" \" & 'Kalkulation 1'!$R$9,\"\")","v":"Dammbalken 80/200 exkl. Dichtung, gesägt und entgratet (7.05 kg/Stk)"},null,null,null,null,null,null,null,0]
[null,null,0,0,{"$f":"VLOOKUP(\"[m]\",Sprachindex!$A:$Z,Haftungsausschluß!$O$6,FALSE)","v":"[m]"},{"$f":"IF($L$14=1,Preisliste!$E$16,Preisliste!$F$16)","v":"H801001"},{"$f":"VLOOKUP(\"Dammbalken 80/200 exkl. Dichtung, gesägt und entgratet\",Sprachindex!$A:$Z,Haftungsausschluß!$O$6,FALSE) & \" (\" & ROUNDUP(C508/1000*7.78,2) & \" \" & VLOOKUP(\"kg/Stk\",Sprachindex!$A:$Z,Haftungsausschluß!$O$6,FALSE) & \")\" & IF('Kalkulation 1'!$AH$33,\" \" & 'Kalkulation 1'!$R$9,\"\")","v":"Dammbalken 80/200 exkl. Dichtung, gesägt und entgratet (0 kg/Stk)"},null,null,null,null,null,null,null,0]
[null,null,0,0,{"$f":"VLOOKUP(\"[m]\",Sprachindex!$A:$Z,Haftungsausschluß!$O$6,FALSE)","v":"[m]"},{"$f":"IF($L$14=1,Preisliste!$E$16,Preisliste!$F$16)","v":"H801001"},{"$f":"VLOOKUP(\"Dammbalken 80/200 exkl. Dichtung, gesägt und entgratet\",Sprachindex!$A:$Z,Haftungsausschluß!$O$6,FALSE) & \" (\" & ROUNDUP(C509/1000*7.78,2) & \" \" & VLOOKUP(\"kg/Stk\",Sprachindex!$A:$Z,Haftungsausschluß!$O$6,FALSE) & \")\" & IF('Kalkulation 1'!$AH$33,\" \" & 'Kalkulation 1'!$R$9,\"\")","v":"Dammbalken 80/200 exkl. Dichtung, gesägt und entgratet (0 kg/Stk)"},null,null,null,null,null,null,null,0]
[null,null,0,0,{"$f":"VLOOKUP(\"[m]\",Sprachindex!$A:$Z,Haftungsausschluß!$O$6,FALSE)","v":"[m]"},{"$f":"IF($L$14=1,Preisliste!$E$16,Preisliste!$F$16)","v":"H801001"},{"$f":"VLOOKUP(\"Dammbalken 80/200 exkl. Dichtung, gesägt und entgratet\",Sprachindex!$A:$Z,Haftungsausschluß!$O$6,FALSE) & \" (\" & ROUNDUP(C510/1000*7.78,2) & \" \" & VLOOKUP(\"kg/Stk\",Sprachindex!$A:$Z,Haftungsausschluß!$O$6,FALSE) & \")\" & IF('Kalkulation 1'!$AH$33,\" \" & 'Kalkulation 1'!$R$9,\"\")","v":"Dammbalken 80/200 exkl. Dichtung, gesägt und entgratet (0 kg/Stk)"},null,null,null,null,null,null,null,0]
[null,null,0,0,{"$f":"VLOOKUP(\"[m]\",Sprachindex!$A:$Z,Haftungsausschluß!$O$6,FALSE)","v":"[m]"},{"$f":"IF($L$14=1,Preisliste!$E$16,Preisliste!$F$16)","v":"H801001"},{"$f":"VLOOKUP(\"Dammbalken 80/200 exkl. Dichtung, gesägt und entgratet\",Sprachindex!$A:$Z,Haftungsausschluß!$O$6,FALSE) & \" (\" & ROUNDUP(C511/1000*7.78,2) & \" \" & VLOOKUP(\"kg/Stk\",Sprachindex!$A:$Z,Haftungsausschluß!$O$6,FALSE) & \")\" & IF('Kalkulation 1'!$AH$33,\" \" & 'Kalkulation 1'!$R$9,\"\")","v":"Dammbalken 80/200 exkl. Dichtung, gesägt und entgratet (0 kg/Stk)"},null,null,null,null,null,null,null,0]
[null,null,0,0,{"$f":"VLOOKUP(\"[m]\",Sprachindex!$A:$Z,Haftungsausschluß!$O$6,FALSE)","v":"[m]"},{"$f":"IF($L$14=1,Preisliste!$E$16,Preisliste!$F$16)","v":"H801001"},{"$f":"VLOOKUP(\"Dammbalken 80/200 exkl. Dichtung, gesägt und entgratet\",Sprachindex!$A:$Z,Haftungsausschluß!$O$6,FALSE) & \" (\" & ROUNDUP(C512/1000*7.78,2) & \" \" & VLOOKUP(\"kg/Stk\",Sprachindex!$A:$Z,Haftungsausschluß!$O$6,FALSE) & \")\" & IF('Kalkulation 1'!$AH$33,\" \" & 'Kalkulation 1'!$R$9,\"\")","v":"Dammbalken 80/200 exkl. Dichtung, gesägt und entgratet (0 kg/Stk)"},null,null,null,null,null,null,null,0]
[null,null,0,0,{"$f":"VLOOKUP(\"[m]\",Sprachindex!$A:$Z,Haftungsausschluß!$O$6,FALSE)","v":"[m]"},{"$f":"IF($L$14=1,Preisliste!$E$16,Preisliste!$F$16)","v":"H801001"},{"$f":"VLOOKUP(\"Dammbalken 80/200 exkl. Dichtung, gesägt und entgratet\",Sprachindex!$A:$Z,Haftungsausschluß!$O$6,FALSE) & \" (\" & ROUNDUP(C513/1000*7.78,2) & \" \" & VLOOKUP(\"kg/Stk\",Sprachindex!$A:$Z,Haftungsausschluß!$O$6,FALSE) & \")\" & IF('Kalkulation 1'!$AH$33,\" \" & 'Kalkulation 1'!$R$9,\"\")","v":"Dammbalken 80/200 exkl. Dichtung, gesägt und entgratet (0 kg/Stk)"},null,null,null,null,null,null,null,0]
[null,null,0,0,{"$f":"VLOOKUP(\"[m]\",Sprachindex!$A:$Z,Haftungsausschluß!$O$6,FALSE)","v":"[m]"},{"$f":"IF($L$14=1,Preisliste!$E$16,Preisliste!$F$16)","v":"H801001"},{"$f":"VLOOKUP(\"Dammbalken 80/200 exkl. Dichtung, gesägt und entgratet\",Sprachindex!$A:$Z,Haftungsausschluß!$O$6,FALSE) & \" (\" & ROUNDUP(C514/1000*7.78,2) & \" \" & VLOOKUP(\"kg/Stk\",Sprachindex!$A:$Z,Haftungsausschluß!$O$6,FALSE) & \")\" & IF('Kalkulation 1'!$AH$33,\" \" & 'Kalkulation 1'!$R$9,\"\")","v":"Dammbalken 80/200 exkl. Dichtung, gesägt und entgratet (0 kg/Stk)"},null,null,null,null,null,null,null,0]
[null,null,0,0,{"$f":"VLOOKUP(\"[m]\",Sprachindex!$A:$Z,Haftungsausschluß!$O$6,FALSE)","v":"[m]"},{"$f":"IF($L$14=1,Preisliste!$E$16,Preisliste!$F$16)","v":"H801001"},{"$f":"VLOOKUP(\"Dammbalken 80/200 exkl. Dichtung, gesägt und entgratet\",Sprachindex!$A:$Z,Haftungsausschluß!$O$6,FALSE) & \" (\" & ROUNDUP(C515/1000*7.78,2) & \" \" & VLOOKUP(\"kg/Stk\",Sprachindex!$A:$Z,Haftungsausschluß!$O$6,FALSE) & \")\" & IF('Kalkulation 1'!$AH$33,\" \" & 'Kalkulation 1'!$R$9,\"\")","v":"Dammbalken 80/200 exkl. Dichtung, gesägt und entgratet (0 kg/Stk)"},null,null,null,null,null,null,null,0]
[null,null,0,0,{"$f":"VLOOKUP(\"[m]\",Sprachindex!$A:$Z,Haftungsausschluß!$O$6,FALSE)","v":"[m]"},{"$f":"IF($L$14=1,Preisliste!$E$16,Preisliste!$F$16)","v":"H801001"},{"$f":"VLOOKUP(\"Dammbalken 80/200 exkl. Dichtung, gesägt und entgratet\",Sprachindex!$A:$Z,Haftungsausschluß!$O$6,FALSE) & \" (\" & ROUNDUP(C516/1000*7.78,2) & \" \" & VLOOKUP(\"kg/Stk\",Sprachindex!$A:$Z,Haftungsausschluß!$O$6,FALSE) & \")\" & IF('Kalkulation 1'!$AH$33,\" \" & 'Kalkulation 1'!$R$9,\"\")","v":"Dammbalken 80/200 exkl. Dichtung, gesägt und entgratet (0 kg/Stk)"},null,null,null,null,null,null,null,0]
[null,null,0,0,{"$f":"VLOOKUP(\"[m]\",Sprachindex!$A:$Z,Haftungsausschluß!$O$6,FALSE)","v":"[m]"},{"$f":"IF($L$14=1,Preisliste!$E$16,Preisliste!$F$16)","v":"H801001"},{"$f":"VLOOKUP(\"Dammbalken 80/200 exkl. Dichtung, gesägt und entgratet\",Sprachindex!$A:$Z,Haftungsausschluß!$O$6,FALSE) & \" (\" & ROUNDUP(C517/1000*7.78,2) & \" \" & VLOOKUP(\"kg/Stk\",Sprachindex!$A:$Z,Haftungsausschluß!$O$6,FALSE) & \")\" & IF('Kalkulation 1'!$AH$33,\" \" & 'Kalkulation 1'!$R$9,\"\")","v":"Dammbalken 80/200 exkl. Dichtung, gesägt und entgratet (0 kg/Stk)"},null,null,null,null,null,null,null,0]
[null,null,0,0,{"$f":"VLOOKUP(\"[m]\",Sprachindex!$A:$Z,Haftungsausschluß!$O$6,FALSE)","v":"[m]"},{"$f":"IF($L$14=1,Preisliste!$E$16,Preisliste!$F$16)","v":"H801001"},{"$f":"VLOOKUP(\"Dammbalken 80/200 exkl. Dichtung, gesägt und entgratet\",Sprachindex!$A:$Z,Haftungsausschluß!$O$6,FALSE) & \" (\" & ROUNDUP(C518/1000*7.78,2) & \" \" & VLOOKUP(\"kg/Stk\",Sprachindex!$A:$Z,Haftungsausschluß!$O$6,FALSE) & \")\" & IF('Kalkulation 1'!$AH$33,\" \" & 'Kalkulation 1'!$R$9,\"\")","v":"Dammbalken 80/200 exkl. Dichtung, gesägt und entgratet (0 kg/Stk)"},null,null,null,null,null,null,null,0]
[null,null,0,0,{"$f":"VLOOKUP(\"[m]\",Sprachindex!$A:$Z,Haftungsausschluß!$O$6,FALSE)","v":"[m]"},{"$f":"IF($L$14=1,Preisliste!$E$16,Preisliste!$F$16)","v":"H801001"},{"$f":"VLOOKUP(\"Dammbalken 80/200 exkl. Dichtung, gesägt und entgratet\",Sprachindex!$A:$Z,Haftungsausschluß!$O$6,FALSE) & \" (\" & ROUNDUP(C519/1000*7.78,2) & \" \" & VLOOKUP(\"kg/Stk\",Sprachindex!$A:$Z,Haftungsausschluß!$O$6,FALSE) & \")\" & IF('Kalkulation 1'!$AH$33,\" \" & 'Kalkulation 1'!$R$9,\"\")","v":"Dammbalken 80/200 exkl. Dichtung, gesägt und entgratet (0 kg/Stk)"},null,null,null,null,null,null,null,0]
[null,null,0,0,{"$f":"VLOOKUP(\"[m]\",Sprachindex!$A:$Z,Haftungsausschluß!$O$6,FALSE)","v":"[m]"},{"$f":"IF($L$14=1,Preisliste!$E$16,Preisliste!$F$16)","v":"H801001"},{"$f":"VLOOKUP(\"Dammbalken 80/200 exkl. Dichtung, gesägt und entgratet\",Sprachindex!$A:$Z,Haftungsausschluß!$O$6,FALSE) & \" (\" & ROUNDUP(C520/1000*7.78,2) & \" \" & VLOOKUP(\"kg/Stk\",Sprachindex!$A:$Z,Haftungsausschluß!$O$6,FALSE) & \")\" & IF('Kalkulation 1'!$AH$33,\" \" & 'Kalkulation 1'!$R$9,\"\")","v":"Dammbalken 80/200 exkl. Dichtung, gesägt und entgratet (0 kg/Stk)"},null,null,null,null,null,null,null,0]
[null,null,0,0,{"$f":"VLOOKUP(\"[m]\",Sprachindex!$A:$Z,Haftungsausschluß!$O$6,FALSE)","v":"[m]"},{"$f":"IF($L$14=1,Preisliste!$E$16,Preisliste!$F$16)","v":"H801001"},{"$f":"VLOOKUP(\"Dammbalken 80/200 exkl. Dichtung, gesägt und entgratet\",Sprachindex!$A:$Z,Haftungsausschluß!$O$6,FALSE) & \" (\" & ROUNDUP(C521/1000*7.78,2) & \" \" & VLOOKUP(\"kg/Stk\",Sprachindex!$A:$Z,Haftungsausschluß!$O$6,FALSE) & \")\" & IF('Kalkulation 1'!$AH$33,\" \" & 'Kalkulation 1'!$R$9,\"\")","v":"Dammbalken 80/200 exkl. Dichtung, gesägt und entgratet (0 kg/Stk)"},null,null,null,null,null,null,null,0]
[null,null,0,0,{"$f":"VLOOKUP(\"[m]\",Sprachindex!$A:$Z,Haftungsausschluß!$O$6,FALSE)","v":"[m]"},{"$f":"IF($L$14=1,Preisliste!$E$16,Preisliste!$F$16)","v":"H801001"},{"$f":"VLOOKUP(\"Dammbalken 80/200 exkl. Dichtung, gesägt und entgratet\",Sprachindex!$A:$Z,Haftungsausschluß!$O$6,FALSE) & \" (\" & ROUNDUP(C522/1000*7.78,2) & \" \" & VLOOKUP(\"kg/Stk\",Sprachindex!$A:$Z,Haftungsausschluß!$O$6,FALSE) & \")\" & IF('Kalkulation 1'!$AH$33,\" \" & 'Kalkulation 1'!$R$9,\"\")","v":"Dammbalken 80/200 exkl. Dichtung, gesägt und entgratet (0 kg/Stk)"},null,null,null,null,null,null,null,0]
[null,null,0,0,{"$f":"VLOOKUP(\"[m]\",Sprachindex!$A:$Z,Haftungsausschluß!$O$6,FALSE)","v":"[m]"},{"$f":"IF($L$14=1,Preisliste!$E$16,Preisliste!$F$16)","v":"H801001"},{"$f":"VLOOKUP(\"Dammbalken 80/200 exkl. Dichtung, gesägt und entgratet\",Sprachindex!$A:$Z,Haftungsausschluß!$O$6,FALSE) & \" (\" & ROUNDUP(C523/1000*7.78,2) & \" \" & VLOOKUP(\"kg/Stk\",Sprachindex!$A:$Z,Haftungsausschluß!$O$6,FALSE) & \")\" & IF('Kalkulation 1'!$AH$33,\" \" & 'Kalkulation 1'!$R$9,\"\")","v":"Dammbalken 80/200 exkl. Dichtung, gesägt und entgratet (0 kg/Stk)"},null,null,null,null,null,null,null,0]
[null,null,0,0,{"$f":"VLOOKUP(\"[m]\",Sprachindex!$A:$Z,Haftungsausschluß!$O$6,FALSE)","v":"[m]"},{"$f":"IF($L$14=1,Preisliste!$E$16,Preisliste!$F$16)","v":"H801001"},{"$f":"VLOOKUP(\"Dammbalken 80/200 exkl. Dichtung, gesägt und entgratet\",Sprachindex!$A:$Z,Haftungsausschluß!$O$6,FALSE) & \" (\" & ROUNDUP(C524/1000*7.78,2) & \" \" & VLOOKUP(\"kg/Stk\",Sprachindex!$A:$Z,Haftungsausschluß!$O$6,FALSE) & \")\" & IF('Kalkulation 1'!$AH$33,\" \" & 'Kalkulation 1'!$R$9,\"\")","v":"Dammbalken 80/200 exkl. Dichtung, gesägt und entgratet (0 kg/Stk)"},null,null,null,null,null,null,null,0]
[null,null,0,0,{"$f":"VLOOKUP(\"[m]\",Sprachindex!$A:$Z,Haftungsausschluß!$O$6,FALSE)","v":"[m]"},{"$f":"IF($L$14=1,Preisliste!$E$16,Preisliste!$F$16)","v":"H801001"},{"$f":"VLOOKUP(\"Dammbalken 80/200 exkl. Dichtung, gesägt und entgratet\",Sprachindex!$A:$Z,Haftungsausschluß!$O$6,FALSE) & \" (\" & ROUNDUP(C525/1000*7.78,2) & \" \" & VLOOKUP(\"kg/Stk\",Sprachindex!$A:$Z,Haftungsausschluß!$O$6,FALSE) & \")\" & IF('Kalkulation 1'!$AH$33,\" \" & 'Kalkulation 1'!$R$9,\"\")","v":"Dammbalken 80/200 exkl. Dichtung, gesägt und entgratet (0 kg/Stk)"},null,null,null,null,null,null,null,0]
[null,null,0,0,{"$f":"VLOOKUP(\"[m]\",Sprachindex!$A:$Z,Haftungsausschluß!$O$6,FALSE)","v":"[m]"},{"$f":"IF($L$14=1,Preisliste!$E$16,Preisliste!$F$16)","v":"H801001"},{"$f":"VLOOKUP(\"Dammbalken 80/200 exkl. Dichtung, gesägt und entgratet\",Sprachindex!$A:$Z,Haftungsausschluß!$O$6,FALSE) & \" (\" & ROUNDUP(C526/1000*7.78,2) & \" \" & VLOOKUP(\"kg/Stk\",Sprachindex!$A:$Z,Haftungsausschluß!$O$6,FALSE) & \")\" & IF('Kalkulation 1'!$AH$33,\" \" & 'Kalkulation 1'!$R$9,\"\")","v":"Dammbalken 80/200 exkl. Dichtung, gesägt und entgratet (0 kg/Stk)"},null,null,null,null,null,null,null,0]
[null,null,0,{"$f":"B527*C527/1000","v":0},{"$f":"VLOOKUP(\"[m]\",Sprachindex!$A:$Z,Haftungsausschluß!$O$6,FALSE)","v":"[m]"},{"$f":"IF($L$14=1,Preisliste!$E$16,Preisliste!$F$16)","v":"H801001"},{"$f":"VLOOKUP(\"Dammbalken 80/200 exkl. Dichtung, gesägt und entgratet\",Sprachindex!$A:$Z,Haftungsausschluß!$O$6,FALSE) & \" (\" & ROUNDUP(C527/1000*7.78,2) & \" \" & VLOOKUP(\"kg/Stk\",Sprachindex!$A:$Z,Haftungsausschluß!$O$6,FALSE) & \")\" & IF('Kalkulation 1'!$AH$33,\" \" & 'Kalkulation 1'!$R$9,\"\")","v":"Dammbalken 80/200 exkl. Dichtung, gesägt und entgratet (0 kg/Stk)"},null,null,null,null,null,null,null,{"$f":"N527*D527","v":0}]
[null,null,0,0,{"$f":"VLOOKUP(\"[m]\",Sprachindex!$A:$Z,Haftungsausschluß!$O$6,FALSE)","v":"[m]"},{"$f":"IF($L$14=1,Preisliste!$E$16,Preisliste!$F$16)","v":"H801001"},{"$f":"VLOOKUP(\"Dammbalken 80/200 exkl. Dichtung, gesägt und entgratet\",Sprachindex!$A:$Z,Haftungsausschluß!$O$6,FALSE) & \" (\" & ROUNDUP(C528/1000*7.78,2) & \" \" & VLOOKUP(\"kg/Stk\",Sprachindex!$A:$Z,Haftungsausschluß!$O$6,FALSE) & \")\" & IF('Kalkulation 1'!$AH$33,\" \" & 'Kalkulation 1'!$R$9,\"\")","v":"Dammbalken 80/200 exkl. Dichtung, gesägt und entgratet (0 kg/Stk)"},null,null,null,null,null,null,null,0]
[null,null,0,0,{"$f":"VLOOKUP(\"[m]\",Sprachindex!$A:$Z,Haftungsausschluß!$O$6,FALSE)","v":"[m]"},{"$f":"IF($L$14=1,Preisliste!$E$16,Preisliste!$F$16)","v":"H801001"},{"$f":"VLOOKUP(\"Dammbalken 80/200 exkl. Dichtung, gesägt und entgratet\",Sprachindex!$A:$Z,Haftungsausschluß!$O$6,FALSE) & \" (\" & ROUNDUP(C529/1000*7.78,2) & \" \" & VLOOKUP(\"kg/Stk\",Sprachindex!$A:$Z,Haftungsausschluß!$O$6,FALSE) & \")\" & IF('Kalkulation 1'!$AH$33,\" \" & 'Kalkulation 1'!$R$9,\"\")","v":"Dammbalken 80/200 exkl. Dichtung, gesägt und entgratet (0 kg/Stk)"},null,null,null,null,null,null,null,0]
[null,null,0,0,{"$f":"VLOOKUP(\"[m]\",Sprachindex!$A:$Z,Haftungsausschluß!$O$6,FALSE)","v":"[m]"},{"$f":"IF($L$14=1,Preisliste!$E$16,Preisliste!$F$16)","v":"H801001"},{"$f":"VLOOKUP(\"Dammbalken 80/200 exkl. Dichtung, gesägt und entgratet\",Sprachindex!$A:$Z,Haftungsausschluß!$O$6,FALSE) & \" (\" & ROUNDUP(C530/1000*7.78,2) & \" \" & VLOOKUP(\"kg/Stk\",Sprachindex!$A:$Z,Haftungsausschluß!$O$6,FALSE) & \")\" & IF('Kalkulation 1'!$AH$33,\" \" & 'Kalkulation 1'!$R$9,\"\")","v":"Dammbalken 80/200 exkl. Dichtung, gesägt und entgratet (0 kg/Stk)"},null,null,null,null,null,null,null,0]
[null,null,0,0,{"$f":"VLOOKUP(\"[m]\",Sprachindex!$A:$Z,Haftungsausschluß!$O$6,FALSE)","v":"[m]"},{"$f":"IF($L$14=1,Preisliste!$E$16,Preisliste!$F$16)","v":"H801001"},{"$f":"VLOOKUP(\"Dammbalken 80/200 exkl. Dichtung, gesägt und entgratet\",Sprachindex!$A:$Z,Haftungsausschluß!$O$6,FALSE) & \" (\" & ROUNDUP(C531/1000*7.78,2) & \" \" & VLOOKUP(\"kg/Stk\",Sprachindex!$A:$Z,Haftungsausschluß!$O$6,FALSE) & \")\" & IF('Kalkulation 1'!$AH$33,\" \" & 'Kalkulation 1'!$R$9,\"\")","v":"Dammbalken 80/200 exkl. Dichtung, gesägt und entgratet (0 kg/Stk)"},null,null,null,null,null,null,null,0]
[null,null,0,0,{"$f":"VLOOKUP(\"[m]\",Sprachindex!$A:$Z,Haftungsausschluß!$O$6,FALSE)","v":"[m]"},{"$f":"IF($L$14=1,Preisliste!$E$16,Preisliste!$F$16)","v":"H801001"},{"$f":"VLOOKUP(\"Dammbalken 80/200 exkl. Dichtung, gesägt und entgratet\",Sprachindex!$A:$Z,Haftungsausschluß!$O$6,FALSE) & \" (\" & ROUNDUP(C532/1000*7.78,2) & \" \" & VLOOKUP(\"kg/Stk\",Sprachindex!$A:$Z,Haftungsausschluß!$O$6,FALSE) & \")\" & IF('Kalkulation 1'!$AH$33,\" \" & 'Kalkulation 1'!$R$9,\"\")","v":"Dammbalken 80/200 exkl. Dichtung, gesägt und entgratet (0 kg/Stk)"},null,null,null,null,null,null,null,0]
[null,null,0,0,{"$f":"VLOOKUP(\"[m]\",Sprachindex!$A:$Z,Haftungsausschluß!$O$6,FALSE)","v":"[m]"},{"$f":"IF($L$14=1,Preisliste!$E$16,Preisliste!$F$16)","v":"H801001"},{"$f":"VLOOKUP(\"Dammbalken 80/200 exkl. Dichtung, gesägt und entgratet\",Sprachindex!$A:$Z,Haftungsausschluß!$O$6,FALSE) & \" (\" & ROUNDUP(C533/1000*7.78,2) & \" \" & VLOOKUP(\"kg/Stk\",Sprachindex!$A:$Z,Haftungsausschluß!$O$6,FALSE) & \")\" & IF('Kalkulation 1'!$AH$33,\" \" & 'Kalkulation 1'!$R$9,\"\")","v":"Dammbalken 80/200 exkl. Dichtung, gesägt und entgratet (0 kg/Stk)"},null,null,null,null,null,null,null,0]
[null,null,0,0,{"$f":"VLOOKUP(\"[m]\",Sprachindex!$A:$Z,Haftungsausschluß!$O$6,FALSE)","v":"[m]"},{"$f":"IF($L$14=1,Preisliste!$E$16,Preisliste!$F$16)","v":"H801001"},{"$f":"VLOOKUP(\"Dammbalken 80/200 exkl. Dichtung, gesägt und entgratet\",Sprachindex!$A:$Z,Haftungsausschluß!$O$6,FALSE) & \" (\" & ROUNDUP(C534/1000*7.78,2) & \" \" & VLOOKUP(\"kg/Stk\",Sprachindex!$A:$Z,Haftungsausschluß!$O$6,FALSE) & \")\" & IF('Kalkulation 1'!$AH$33,\" \" & 'Kalkulation 1'!$R$9,\"\")","v":"Dammbalken 80/200 exkl. Dichtung, gesägt und entgratet (0 kg/Stk)"},null,null,null,null,null,null,null,0]
[null,null,0,0,{"$f":"VLOOKUP(\"[m]\",Sprachindex!$A:$Z,Haftungsausschluß!$O$6,FALSE)","v":"[m]"},{"$f":"IF($L$14=1,Preisliste!$E$16,Preisliste!$F$16)","v":"H801001"},{"$f":"VLOOKUP(\"Dammbalken 80/200 exkl. Dichtung, gesägt und entgratet\",Sprachindex!$A:$Z,Haftungsausschluß!$O$6,FALSE) & \" (\" & ROUNDUP(C535/1000*7.78,2) & \" \" & VLOOKUP(\"kg/Stk\",Sprachindex!$A:$Z,Haftungsausschluß!$O$6,FALSE) & \")\" & IF('Kalkulation 1'!$AH$33,\" \" & 'Kalkulation 1'!$R$9,\"\")","v":"Dammbalken 80/200 exkl. Dichtung, gesägt und entgratet (0 kg/Stk)"},null,null,null,null,null,null,null,0]
[null,null,0,0,{"$f":"VLOOKUP(\"[m]\",Sprachindex!$A:$Z,Haftungsausschluß!$O$6,FALSE)","v":"[m]"},{"$f":"IF($L$14=1,Preisliste!$E$16,Preisliste!$F$16)","v":"H801001"},{"$f":"VLOOKUP(\"Dammbalken 80/200 exkl. Dichtung, gesägt und entgratet\",Sprachindex!$A:$Z,Haftungsausschluß!$O$6,FALSE) & \" (\" & ROUNDUP(C536/1000*7.78,2) & \" \" & VLOOKUP(\"kg/Stk\",Sprachindex!$A:$Z,Haftungsausschluß!$O$6,FALSE) & \")\" & IF('Kalkulation 1'!$AH$33,\" \" & 'Kalkulation 1'!$R$9,\"\")","v":"Dammbalken 80/200 exkl. Dichtung, gesägt und entgratet (0 kg/Stk)"},null,null,null,null,null,null,null,0]
[null,null,0,0,{"$f":"VLOOKUP(\"[m]\",Sprachindex!$A:$Z,Haftungsausschluß!$O$6,FALSE)","v":"[m]"},{"$f":"IF($L$14=1,Preisliste!$E$16,Preisliste!$F$16)","v":"H801001"},{"$f":"VLOOKUP(\"Dammbalken 80/200 exkl. Dichtung, gesägt und entgratet\",Sprachindex!$A:$Z,Haftungsausschluß!$O$6,FALSE) & \" (\" & ROUNDUP(C537/1000*7.78,2) & \" \" & VLOOKUP(\"kg/Stk\",Sprachindex!$A:$Z,Haftungsausschluß!$O$6,FALSE) & \")\" & IF('Kalkulation 1'!$AH$33,\" \" & 'Kalkulation 1'!$R$9,\"\")","v":"Dammbalken 80/200 exkl. Dichtung, gesägt und entgratet (0 kg/Stk)"},null,null,null,null,null,null,null,0]
[null,null,0,0,{"$f":"VLOOKUP(\"[m]\",Sprachindex!$A:$Z,Haftungsausschluß!$O$6,FALSE)","v":"[m]"},{"$f":"IF($L$14=1,Preisliste!$E$16,Preisliste!$F$16)","v":"H801001"},{"$f":"VLOOKUP(\"Dammbalken 80/200 exkl. Dichtung, gesägt und entgratet\",Sprachindex!$A:$Z,Haftungsausschluß!$O$6,FALSE) & \" (\" & ROUNDUP(C538/1000*7.78,2) & \" \" & VLOOKUP(\"kg/Stk\",Sprachindex!$A:$Z,Haftungsausschluß!$O$6,FALSE) & \")\" & IF('Kalkulation 1'!$AH$33,\" \" & 'Kalkulation 1'!$R$9,\"\")","v":"Dammbalken 80/200 exkl. Dichtung, gesägt und entgratet (0 kg/Stk)"},null,null,null,null,null,null,null,0]
[null,null,0,0,{"$f":"VLOOKUP(\"[m]\",Sprachindex!$A:$Z,Haftungsausschluß!$O$6,FALSE)","v":"[m]"},{"$f":"IF($L$14=1,Preisliste!$E$16,Preisliste!$F$16)","v":"H801001"},{"$f":"VLOOKUP(\"Dammbalken 80/200 exkl. Dichtung, gesägt und entgratet\",Sprachindex!$A:$Z,Haftungsausschluß!$O$6,FALSE) & \" (\" & ROUNDUP(C539/1000*7.78,2) & \" \" & VLOOKUP(\"kg/Stk\",Sprachindex!$A:$Z,Haftungsausschluß!$O$6,FALSE) & \")\" & IF('Kalkulation 1'!$AH$33,\" \" & 'Kalkulation 1'!$R$9,\"\")","v":"Dammbalken 80/200 exkl. Dichtung, gesägt und entgratet (0 kg/Stk)"},null,null,null,null,null,null,null,0]
[null,null,0,0,{"$f":"VLOOKUP(\"[m]\",Sprachindex!$A:$Z,Haftungsausschluß!$O$6,FALSE)","v":"[m]"},{"$f":"IF($L$14=1,Preisliste!$E$16,Preisliste!$F$16)","v":"H801001"},{"$f":"VLOOKUP(\"Dammbalken 80/200 exkl. Dichtung, gesägt und entgratet\",Sprachindex!$A:$Z,Haftungsausschluß!$O$6,FALSE) & \" (\" & ROUNDUP(C540/1000*7.78,2) & \" \" & VLOOKUP(\"kg/Stk\",Sprachindex!$A:$Z,Haftungsausschluß!$O$6,FALSE) & \")\" & IF('Kalkulation 1'!$AH$33,\" \" & 'Kalkulation 1'!$R$9,\"\")","v":"Dammbalken 80/200 exkl. Dichtung, gesägt und entgratet (0 kg/Stk)"},null,null,null,null,null,null,null,0]
[null,null,0,0,{"$f":"VLOOKUP(\"[m]\",Sprachindex!$A:$Z,Haftungsausschluß!$O$6,FALSE)","v":"[m]"},{"$f":"IF($L$14=1,Preisliste!$E$16,Preisliste!$F$16)","v":"H801001"},{"$f":"VLOOKUP(\"Dammbalken 80/200 exkl. Dichtung, gesägt und entgratet\",Sprachindex!$A:$Z,Haftungsausschluß!$O$6,FALSE) & \" (\" & ROUNDUP(C541/1000*7.78,2) & \" \" & VLOOKUP(\"kg/Stk\",Sprachindex!$A:$Z,Haftungsausschluß!$O$6,FALSE) & \")\" & IF('Kalkulation 1'!$AH$33,\" \" & 'Kalkulation 1'!$R$9,\"\")","v":"Dammbalken 80/200 exkl. Dichtung, gesägt und entgratet (0 kg/Stk)"},null,null,null,null,null,null,null,0]
[null,null,0,0,{"$f":"VLOOKUP(\"[m]\",Sprachindex!$A:$Z,Haftungsausschluß!$O$6,FALSE)","v":"[m]"},{"$f":"IF($L$14=1,Preisliste!$E$16,Preisliste!$F$16)","v":"H801001"},{"$f":"VLOOKUP(\"Dammbalken 80/200 exkl. Dichtung, gesägt und entgratet\",Sprachindex!$A:$Z,Haftungsausschluß!$O$6,FALSE) & \" (\" & ROUNDUP(C542/1000*7.78,2) & \" \" & VLOOKUP(\"kg/Stk\",Sprachindex!$A:$Z,Haftungsausschluß!$O$6,FALSE) & \")\" & IF('Kalkulation 1'!$AH$33,\" \" & 'Kalkulation 1'!$R$9,\"\")","v":"Dammbalken 80/200 exkl. Dichtung, gesägt und entgratet (0 kg/Stk)"},null,null,null,null,null,null,null,0]
[null,null,0,0,{"$f":"VLOOKUP(\"[m]\",Sprachindex!$A:$Z,Haftungsausschluß!$O$6,FALSE)","v":"[m]"},{"$f":"IF($L$14=1,Preisliste!$E$16,Preisliste!$F$16)","v":"H801001"},{"$f":"VLOOKUP(\"Dammbalken 80/200 exkl. Dichtung, gesägt und entgratet\",Sprachindex!$A:$Z,Haftungsausschluß!$O$6,FALSE) & \" (\" & ROUNDUP(C543/1000*7.78,2) & \" \" & VLOOKUP(\"kg/Stk\",Sprachindex!$A:$Z,Haftungsausschluß!$O$6,FALSE) & \")\" & IF('Kalkulation 1'!$AH$33,\" \" & 'Kalkulation 1'!$R$9,\"\")","v":"Dammbalken 80/200 exkl. Dichtung, gesägt und entgratet (0 kg/Stk)"},null,null,null,null,null,null,null,0]
[null,null,0,0,{"$f":"VLOOKUP(\"[m]\",Sprachindex!$A:$Z,Haftungsausschluß!$O$6,FALSE)","v":"[m]"},{"$f":"IF($L$14=1,Preisliste!$E$16,Preisliste!$F$16)","v":"H801001"},{"$f":"VLOOKUP(\"Dammbalken 80/200 exkl. Dichtung, gesägt und entgratet\",Sprachindex!$A:$Z,Haftungsausschluß!$O$6,FALSE) & \" (\" & ROUNDUP(C544/1000*7.78,2) & \" \" & VLOOKUP(\"kg/Stk\",Sprachindex!$A:$Z,Haftungsausschluß!$O$6,FALSE) & \")\" & IF('Kalkulation 1'!$AH$33,\" \" & 'Kalkulation 1'!$R$9,\"\")","v":"Dammbalken 80/200 exkl. Dichtung, gesägt und entgratet (0 kg/Stk)"},null,null,null,null,null,null,null,0]
[null,null,0,0,{"$f":"VLOOKUP(\"[m]\",Sprachindex!$A:$Z,Haftungsausschluß!$O$6,FALSE)","v":"[m]"},{"$f":"IF($L$14=1,Preisliste!$E$16,Preisliste!$F$16)","v":"H801001"},{"$f":"VLOOKUP(\"Dammbalken 80/200 exkl. Dichtung, gesägt und entgratet\",Sprachindex!$A:$Z,Haftungsausschluß!$O$6,FALSE) & \" (\" & ROUNDUP(C545/1000*7.78,2) & \" \" & VLOOKUP(\"kg/Stk\",Sprachindex!$A:$Z,Haftungsausschluß!$O$6,FALSE) & \")\" & IF('Kalkulation 1'!$AH$33,\" \" & 'Kalkulation 1'!$R$9,\"\")","v":"Dammbalken 80/200 exkl. Dichtung, gesägt und entgratet (0 kg/Stk)"},null,null,null,null,null,null,null,0]
[null,null,0,0,{"$f":"VLOOKUP(\"[m]\",Sprachindex!$A:$Z,Haftungsausschluß!$O$6,FALSE)","v":"[m]"},{"$f":"IF($L$14=1,Preisliste!$E$16,Preisliste!$F$16)","v":"H801001"},{"$f":"VLOOKUP(\"Dammbalken 80/200 exkl. Dichtung, gesägt und entgratet\",Sprachindex!$A:$Z,Haftungsausschluß!$O$6,FALSE) & \" (\" & ROUNDUP(C546/1000*7.78,2) & \" \" & VLOOKUP(\"kg/Stk\",Sprachindex!$A:$Z,Haftungsausschluß!$O$6,FALSE) & \")\" & IF('Kalkulation 1'!$AH$33,\" \" & 'Kalkulation 1'!$R$9,\"\")","v":"Dammbalken 80/200 exkl. Dichtung, gesägt und entgratet (0 kg/Stk)"},null,null,null,null,null,null,null,0]
[null,null,0,0,{"$f":"VLOOKUP(\"[m]\",Sprachindex!$A:$Z,Haftungsausschluß!$O$6,FALSE)","v":"[m]"},{"$f":"IF($L$14=1,Preisliste!$E$16,Preisliste!$F$16)","v":"H801001"},{"$f":"VLOOKUP(\"Dammbalken 80/200 exkl. Dichtung, gesägt und entgratet\",Sprachindex!$A:$Z,Haftungsausschluß!$O$6,FALSE) & \" (\" & ROUNDUP(C547/1000*7.78,2) & \" \" & VLOOKUP(\"kg/Stk\",Sprachindex!$A:$Z,Haftungsausschluß!$O$6,FALSE) & \")\" & IF('Kalkulation 1'!$AH$33,\" \" & 'Kalkulation 1'!$R$9,\"\")","v":"Dammbalken 80/200 exkl. Dichtung, gesägt und entgratet (0 kg/Stk)"},null,null,null,null,null,null,null,0]
[null,null,0,0,{"$f":"VLOOKUP(\"[m]\",Sprachindex!$A:$Z,Haftungsausschluß!$O$6,FALSE)","v":"[m]"},{"$f":"IF($L$14=1,Preisliste!$E$16,Preisliste!$F$16)","v":"H801001"},{"$f":"VLOOKUP(\"Dammbalken 80/200 exkl. Dichtung, gesägt und entgratet\",Sprachindex!$A:$Z,Haftungsausschluß!$O$6,FALSE) & \" (\" & ROUNDUP(C548/1000*7.78,2) & \" \" & VLOOKUP(\"kg/Stk\",Sprachindex!$A:$Z,Haftungsausschluß!$O$6,FALSE) & \")\" & IF('Kalkulation 1'!$AH$33,\" \" & 'Kalkulation 1'!$R$9,\"\")","v":"Dammbalken 80/200 exkl. Dichtung, gesägt und entgratet (0 kg/Stk)"},null,null,null,null,null,null,null,0]
[null,null,0,0,{"$f":"VLOOKUP(\"[m]\",Sprachindex!$A:$Z,Haftungsausschluß!$O$6,FALSE)","v":"[m]"},{"$f":"IF($L$14=1,Preisliste!$E$16,Preisliste!$F$16)","v":"H801001"},{"$f":"VLOOKUP(\"Dammbalken 80/200 exkl. Dichtung, gesägt und entgratet\",Sprachindex!$A:$Z,Haftungsausschluß!$O$6,FALSE) & \" (\" & ROUNDUP(C549/1000*7.78,2) & \" \" & VLOOKUP(\"kg/Stk\",Sprachindex!$A:$Z,Haftungsausschluß!$O$6,FALSE) & \")\" & IF('Kalkulation 1'!$AH$33,\" \" & 'Kalkulation 1'!$R$9,\"\")","v":"Dammbalken 80/200 exkl. Dichtung, gesägt und entgratet (0 kg/Stk)"},null,null,null,null,null,null,null,0]
[null,null,0,0,{"$f":"VLOOKUP(\"[m]\",Sprachindex!$A:$Z,Haftungsausschluß!$O$6,FALSE)","v":"[m]"},{"$f":"IF($L$14=1,Preisliste!$E$16,Preisliste!$F$16)","v":"H801001"},{"$f":"VLOOKUP(\"Dammbalken 80/200 exkl. Dichtung, gesägt und entgratet\",Sprachindex!$A:$Z,Haftungsausschluß!$O$6,FALSE) & \" (\" & ROUNDUP(C550/1000*7.78,2) & \" \" & VLOOKUP(\"kg/Stk\",Sprachindex!$A:$Z,Haftungsausschluß!$O$6,FALSE) & \")\" & IF('Kalkulation 1'!$AH$33,\" \" & 'Kalkulation 1'!$R$9,\"\")","v":"Dammbalken 80/200 exkl. Dichtung, gesägt und entgratet (0 kg/Stk)"},null,null,null,null,null,null,null,0]
[null,null,0,0,{"$f":"VLOOKUP(\"[m]\",Sprachindex!$A:$Z,Haftungsausschluß!$O$6,FALSE)","v":"[m]"},{"$f":"IF($L$14=1,Preisliste!$E$16,Preisliste!$F$16)","v":"H801001"},{"$f":"VLOOKUP(\"Dammbalken 80/200 exkl. Dichtung, gesägt und entgratet\",Sprachindex!$A:$Z,Haftungsausschluß!$O$6,FALSE) & \" (\" & ROUNDUP(C551/1000*7.78,2) & \" \" & VLOOKUP(\"kg/Stk\",Sprachindex!$A:$Z,Haftungsausschluß!$O$6,FALSE) & \")\" & IF('Kalkulation 1'!$AH$33,\" \" & 'Kalkulation 1'!$R$9,\"\")","v":"Dammbalken 80/200 exkl. Dichtung, gesägt und entgratet (0 kg/Stk)"},null,null,null,null,null,null,null,0]
[null,null,0,0,{"$f":"VLOOKUP(\"[m]\",Sprachindex!$A:$Z,Haftungsausschluß!$O$6,FALSE)","v":"[m]"},{"$f":"IF($L$14=1,Preisliste!$E$16,Preisliste!$F$16)","v":"H801001"},{"$f":"VLOOKUP(\"Dammbalken 80/200 exkl. Dichtung, gesägt und entgratet\",Sprachindex!$A:$Z,Haftungsausschluß!$O$6,FALSE) & \" (\" & ROUNDUP(C552/1000*7.78,2) & \" \" & VLOOKUP(\"kg/Stk\",Sprachindex!$A:$Z,Haftungsausschluß!$O$6,FALSE) & \")\" & IF('Kalkulation 1'!$AH$33,\" \" & 'Kalkulation 1'!$R$9,\"\")","v":"Dammbalken 80/200 exkl. Dichtung, gesägt und entgratet (0 kg/Stk)"},null,null,null,null,null,null,null,0]
[null,null,0,0,{"$f":"VLOOKUP(\"[m]\",Sprachindex!$A:$Z,Haftungsausschluß!$O$6,FALSE)","v":"[m]"},{"$f":"IF($L$14=1,Preisliste!$E$16,Preisliste!$F$16)","v":"H801001"},{"$f":"VLOOKUP(\"Dammbalken 80/200 exkl. Dichtung, gesägt und entgratet\",Sprachindex!$A:$Z,Haftungsausschluß!$O$6,FALSE) & \" (\" & ROUNDUP(C553/1000*7.78,2) & \" \" & VLOOKUP(\"kg/Stk\",Sprachindex!$A:$Z,Haftungsausschluß!$O$6,FALSE) & \")\" & IF('Kalkulation 1'!$AH$33,\" \" & 'Kalkulation 1'!$R$9,\"\")","v":"Dammbalken 80/200 exkl. Dichtung, gesägt und entgratet (0 kg/Stk)"},null,null,null,null,null,null,null,0]
[null,null,0,0,{"$f":"VLOOKUP(\"[m]\",Sprachindex!$A:$Z,Haftungsausschluß!$O$6,FALSE)","v":"[m]"},{"$f":"IF($L$14=1,Preisliste!$E$16,Preisliste!$F$16)","v":"H801001"},{"$f":"VLOOKUP(\"Dammbalken 80/200 exkl. Dichtung, gesägt und entgratet\",Sprachindex!$A:$Z,Haftungsausschluß!$O$6,FALSE) & \" (\" & ROUNDUP(C554/1000*7.78,2) & \" \" & VLOOKUP(\"kg/Stk\",Sprachindex!$A:$Z,Haftungsausschluß!$O$6,FALSE) & \")\" & IF('Kalkulation 1'!$AH$33,\" \" & 'Kalkulation 1'!$R$9,\"\")","v":"Dammbalken 80/200 exkl. Dichtung, gesägt und entgratet (0 kg/Stk)"},null,null,null,null,null,null,null,0]
[null,null,0,0,{"$f":"VLOOKUP(\"[m]\",Sprachindex!$A:$Z,Haftungsausschluß!$O$6,FALSE)","v":"[m]"},{"$f":"IF($L$14=1,Preisliste!$E$16,Preisliste!$F$16)","v":"H801001"},{"$f":"VLOOKUP(\"Dammbalken 80/200 exkl. Dichtung, gesägt und entgratet\",Sprachindex!$A:$Z,Haftungsausschluß!$O$6,FALSE) & \" (\" & ROUNDUP(C555/1000*7.78,2) & \" \" & VLOOKUP(\"kg/Stk\",Sprachindex!$A:$Z,Haftungsausschluß!$O$6,FALSE) & \")\" & IF('Kalkulation 1'!$AH$33,\" \" & 'Kalkulation 1'!$R$9,\"\")","v":"Dammbalken 80/200 exkl. Dichtung, gesägt und entgratet (0 kg/Stk)"},null,null,null,null,null,null,null,0]
[null,null,0,0,{"$f":"VLOOKUP(\"[m]\",Sprachindex!$A:$Z,Haftungsausschluß!$O$6,FALSE)","v":"[m]"},{"$f":"IF($L$14=1,Preisliste!$E$16,Preisliste!$F$16)","v":"H801001"},{"$f":"VLOOKUP(\"Dammbalken 80/200 exkl. Dichtung, gesägt und entgratet\",Sprachindex!$A:$Z,Haftungsausschluß!$O$6,FALSE) & \" (\" & ROUNDUP(C556/1000*7.78,2) & \" \" & VLOOKUP(\"kg/Stk\",Sprachindex!$A:$Z,Haftungsausschluß!$O$6,FALSE) & \")\" & IF('Kalkulation 1'!$AH$33,\" \" & 'Kalkulation 1'!$R$9,\"\")","v":"Dammbalken 80/200 exkl. Dichtung, gesägt und entgratet (0 kg/Stk)"},null,null,null,null,null,null,null,0]
[null,null,0,0,{"$f":"VLOOKUP(\"[m]\",Sprachindex!$A:$Z,Haftungsausschluß!$O$6,FALSE)","v":"[m]"},{"$f":"IF($L$14=1,Preisliste!$E$16,Preisliste!$F$16)","v":"H801001"},{"$f":"VLOOKUP(\"Dammbalken 80/200 exkl. Dichtung, gesägt und entgratet\",Sprachindex!$A:$Z,Haftungsausschluß!$O$6,FALSE) & \" (\" & ROUNDUP(C557/1000*7.78,2) & \" \" & VLOOKUP(\"kg/Stk\",Sprachindex!$A:$Z,Haftungsausschluß!$O$6,FALSE) & \")\" & IF('Kalkulation 1'!$AH$33,\" \" & 'Kalkulation 1'!$R$9,\"\")","v":"Dammbalken 80/200 exkl. Dichtung, gesägt und entgratet (0 kg/Stk)"},null,null,null,null,null,null,null,0]
[null,null,0,0,{"$f":"VLOOKUP(\"[m]\",Sprachindex!$A:$Z,Haftungsausschluß!$O$6,FALSE)","v":"[m]"},{"$f":"IF($L$14=1,Preisliste!$E$16,Preisliste!$F$16)","v":"H801001"},{"$f":"VLOOKUP(\"Dammbalken 80/200 exkl. Dichtung, gesägt und entgratet\",Sprachindex!$A:$Z,Haftungsausschluß!$O$6,FALSE) & \" (\" & ROUNDUP(C558/1000*7.78,2) & \" \" & VLOOKUP(\"kg/Stk\",Sprachindex!$A:$Z,Haftungsausschluß!$O$6,FALSE) & \")\" & IF('Kalkulation 1'!$AH$33,\" \" & 'Kalkulation 1'!$R$9,\"\")","v":"Dammbalken 80/200 exkl. Dichtung, gesägt und entgratet (0 kg/Stk)"},null,null,null,null,null,null,null,0]
[null,null,0,0,{"$f":"VLOOKUP(\"[m]\",Sprachindex!$A:$Z,Haftungsausschluß!$O$6,FALSE)","v":"[m]"},{"$f":"IF($L$14=1,Preisliste!$E$16,Preisliste!$F$16)","v":"H801001"},{"$f":"VLOOKUP(\"Dammbalken 80/200 exkl. Dichtung, gesägt und entgratet\",Sprachindex!$A:$Z,Haftungsausschluß!$O$6,FALSE) & \" (\" & ROUNDUP(C559/1000*7.78,2) & \" \" & VLOOKUP(\"kg/Stk\",Sprachindex!$A:$Z,Haftungsausschluß!$O$6,FALSE) & \")\" & IF('Kalkulation 1'!$AH$33,\" \" & 'Kalkulation 1'!$R$9,\"\")","v":"Dammbalken 80/200 exkl. Dichtung, gesägt und entgratet (0 kg/Stk)"},null,null,null,null,null,null,null,0]
[null,null,0,0,{"$f":"VLOOKUP(\"[m]\",Sprachindex!$A:$Z,Haftungsausschluß!$O$6,FALSE)","v":"[m]"},{"$f":"IF($L$14=1,Preisliste!$E$16,Preisliste!$F$16)","v":"H801001"},{"$f":"VLOOKUP(\"Dammbalken 80/200 exkl. Dichtung, gesägt und entgratet\",Sprachindex!$A:$Z,Haftungsausschluß!$O$6,FALSE) & \" (\" & ROUNDUP(C560/1000*7.78,2) & \" \" & VLOOKUP(\"kg/Stk\",Sprachindex!$A:$Z,Haftungsausschluß!$O$6,FALSE) & \")\" & IF('Kalkulation 1'!$AH$33,\" \" & 'Kalkulation 1'!$R$9,\"\")","v":"Dammbalken 80/200 exkl. Dichtung, gesägt und entgratet (0 kg/Stk)"},null,null,null,null,null,null,null,0]
[null,null,0,0,{"$f":"VLOOKUP(\"[m]\",Sprachindex!$A:$Z,Haftungsausschluß!$O$6,FALSE)","v":"[m]"},{"$f":"IF($L$14=1,Preisliste!$E$16,Preisliste!$F$16)","v":"H801001"},{"$f":"VLOOKUP(\"Dammbalken 80/200 exkl. Dichtung, gesägt und entgratet\",Sprachindex!$A:$Z,Haftungsausschluß!$O$6,FALSE) & \" (\" & ROUNDUP(C561/1000*7.78,2) & \" \" & VLOOKUP(\"kg/Stk\",Sprachindex!$A:$Z,Haftungsausschluß!$O$6,FALSE) & \")\" & IF('Kalkulation 1'!$AH$33,\" \" & 'Kalkulation 1'!$R$9,\"\")","v":"Dammbalken 80/200 exkl. Dichtung, gesägt und entgratet (0 kg/Stk)"},null,null,null,null,null,null,null,0]
[null,null,0,0,{"$f":"VLOOKUP(\"[m]\",Sprachindex!$A:$Z,Haftungsausschluß!$O$6,FALSE)","v":"[m]"},{"$f":"IF($L$14=1,Preisliste!$E$16,Preisliste!$F$16)","v":"H801001"},{"$f":"VLOOKUP(\"Dammbalken 80/200 exkl. Dichtung, gesägt und entgratet\",Sprachindex!$A:$Z,Haftungsausschluß!$O$6,FALSE) & \" (\" & ROUNDUP(C562/1000*7.78,2) & \" \" & VLOOKUP(\"kg/Stk\",Sprachindex!$A:$Z,Haftungsausschluß!$O$6,FALSE) & \")\" & IF('Kalkulation 1'!$AH$33,\" \" & 'Kalkulation 1'!$R$9,\"\")","v":"Dammbalken 80/200 exkl. Dichtung, gesägt und entgratet (0 kg/Stk)"},null,null,null,null,null,null,null,0]
[null,null,0,0,{"$f":"VLOOKUP(\"[m]\",Sprachindex!$A:$Z,Haftungsausschluß!$O$6,FALSE)","v":"[m]"},{"$f":"IF($L$14=1,Preisliste!$E$16,Preisliste!$F$16)","v":"H801001"},{"$f":"VLOOKUP(\"Dammbalken 80/200 exkl. Dichtung, gesägt und entgratet\",Sprachindex!$A:$Z,Haftungsausschluß!$O$6,FALSE) & \" (\" & ROUNDUP(C563/1000*7.78,2) & \" \" & VLOOKUP(\"kg/Stk\",Sprachindex!$A:$Z,Haftungsausschluß!$O$6,FALSE) & \")\" & IF('Kalkulation 1'!$AH$33,\" \" & 'Kalkulation 1'!$R$9,\"\")","v":"Dammbalken 80/200 exkl. Dichtung, gesägt und entgratet (0 kg/Stk)"},null,null,null,null,null,null,null,0]
[null,null,0,0,{"$f":"VLOOKUP(\"[m]\",Sprachindex!$A:$Z,Haftungsausschluß!$O$6,FALSE)","v":"[m]"},{"$f":"IF($L$14=1,Preisliste!$E$16,Preisliste!$F$16)","v":"H801001"},{"$f":"VLOOKUP(\"Dammbalken 80/200 exkl. Dichtung, gesägt und entgratet\",Sprachindex!$A:$Z,Haftungsausschluß!$O$6,FALSE) & \" (\" & ROUNDUP(C564/1000*7.78,2) & \" \" & VLOOKUP(\"kg/Stk\",Sprachindex!$A:$Z,Haftungsausschluß!$O$6,FALSE) & \")\" & IF('Kalkulation 1'!$AH$33,\" \" & 'Kalkulation 1'!$R$9,\"\")","v":"Dammbalken 80/200 exkl. Dichtung, gesägt und entgratet (0 kg/Stk)"},null,null,null,null,null,null,null,0]
[null,null,0,0,{"$f":"VLOOKUP(\"[m]\",Sprachindex!$A:$Z,Haftungsausschluß!$O$6,FALSE)","v":"[m]"},{"$f":"IF($L$14=1,Preisliste!$E$16,Preisliste!$F$16)","v":"H801001"},{"$f":"VLOOKUP(\"Dammbalken 80/200 exkl. Dichtung, gesägt und entgratet\",Sprachindex!$A:$Z,Haftungsausschluß!$O$6,FALSE) & \" (\" & ROUNDUP(C565/1000*7.78,2) & \" \" & VLOOKUP(\"kg/Stk\",Sprachindex!$A:$Z,Haftungsausschluß!$O$6,FALSE) & \")\" & IF('Kalkulation 1'!$AH$33,\" \" & 'Kalkulation 1'!$R$9,\"\")","v":"Dammbalken 80/200 exkl. Dichtung, gesägt und entgratet (0 kg/Stk)"},null,null,null,null,null,null,null,0]
[null,null,0,0,{"$f":"VLOOKUP(\"[m]\",Sprachindex!$A:$Z,Haftungsausschluß!$O$6,FALSE)","v":"[m]"},{"$f":"IF($L$14=1,Preisliste!$E$16,Preisliste!$F$16)","v":"H801001"},{"$f":"VLOOKUP(\"Dammbalken 80/200 exkl. Dichtung, gesägt und entgratet\",Sprachindex!$A:$Z,Haftungsausschluß!$O$6,FALSE) & \" (\" & ROUNDUP(C566/1000*7.78,2) & \" \" & VLOOKUP(\"kg/Stk\",Sprachindex!$A:$Z,Haftungsausschluß!$O$6,FALSE) & \")\" & IF('Kalkulation 1'!$AH$33,\" \" & 'Kalkulation 1'!$R$9,\"\")","v":"Dammbalken 80/200 exkl. Dichtung, gesägt und entgratet (0 kg/Stk)"},null,null,null,null,null,null,null,0]
[null,null,0,0,{"$f":"VLOOKUP(\"[m]\",Sprachindex!$A:$Z,Haftungsausschluß!$O$6,FALSE)","v":"[m]"},{"$f":"IF($L$14=1,Preisliste!$E$16,Preisliste!$F$16)","v":"H801001"},{"$f":"VLOOKUP(\"Dammbalken 80/200 exkl. Dichtung, gesägt und entgratet\",Sprachindex!$A:$Z,Haftungsausschluß!$O$6,FALSE) & \" (\" & ROUNDUP(C567/1000*7.78,2) & \" \" & VLOOKUP(\"kg/Stk\",Sprachindex!$A:$Z,Haftungsausschluß!$O$6,FALSE) & \")\" & IF('Kalkulation 1'!$AH$33,\" \" & 'Kalkulation 1'!$R$9,\"\")","v":"Dammbalken 80/200 exkl. Dichtung, gesägt und entgratet (0 kg/Stk)"},null,null,null,null,null,null,null,0]
[null,null,0,0,{"$f":"VLOOKUP(\"[m]\",Sprachindex!$A:$Z,Haftungsausschluß!$O$6,FALSE)","v":"[m]"},{"$f":"IF($L$14=1,Preisliste!$E$16,Preisliste!$F$16)","v":"H801001"},{"$f":"VLOOKUP(\"Dammbalken 80/200 exkl. Dichtung, gesägt und entgratet\",Sprachindex!$A:$Z,Haftungsausschluß!$O$6,FALSE) & \" (\" & ROUNDUP(C568/1000*7.78,2) & \" \" & VLOOKUP(\"kg/Stk\",Sprachindex!$A:$Z,Haftungsausschluß!$O$6,FALSE) & \")\" & IF('Kalkulation 1'!$AH$33,\" \" & 'Kalkulation 1'!$R$9,\"\")","v":"Dammbalken 80/200 exkl. Dichtung, gesägt und entgratet (0 kg/Stk)"},null,null,null,null,null,null,null,0]
[null,null,0,0,{"$f":"VLOOKUP(\"[m]\",Sprachindex!$A:$Z,Haftungsausschluß!$O$6,FALSE)","v":"[m]"},{"$f":"IF($L$14=1,Preisliste!$E$16,Preisliste!$F$16)","v":"H801001"},{"$f":"VLOOKUP(\"Dammbalken 80/200 exkl. Dichtung, gesägt und entgratet\",Sprachindex!$A:$Z,Haftungsausschluß!$O$6,FALSE) & \" (\" & ROUNDUP(C569/1000*7.78,2) & \" \" & VLOOKUP(\"kg/Stk\",Sprachindex!$A:$Z,Haftungsausschluß!$O$6,FALSE) & \")\" & IF('Kalkulation 1'!$AH$33,\" \" & 'Kalkulation 1'!$R$9,\"\")","v":"Dammbalken 80/200 exkl. Dichtung, gesägt und entgratet (0 kg/Stk)"},null,null,null,null,null,null,null,0]
[null,null,0,0,{"$f":"VLOOKUP(\"[m]\",Sprachindex!$A:$Z,Haftungsausschluß!$O$6,FALSE)","v":"[m]"},{"$f":"IF($L$14=1,Preisliste!$E$16,Preisliste!$F$16)","v":"H801001"},{"$f":"VLOOKUP(\"Dammbalken 80/200 exkl. Dichtung, gesägt und entgratet\",Sprachindex!$A:$Z,Haftungsausschluß!$O$6,FALSE) & \" (\" & ROUNDUP(C570/1000*7.78,2) & \" \" & VLOOKUP(\"kg/Stk\",Sprachindex!$A:$Z,Haftungsausschluß!$O$6,FALSE) & \")\" & IF('Kalkulation 1'!$AH$33,\" \" & 'Kalkulation 1'!$R$9,\"\")","v":"Dammbalken 80/200 exkl. Dichtung, gesägt und entgratet (0 kg/Stk)"},null,null,null,null,null,null,null,0]
[null,null,0,0,{"$f":"VLOOKUP(\"[m]\",Sprachindex!$A:$Z,Haftungsausschluß!$O$6,FALSE)","v":"[m]"},{"$f":"IF($L$14=1,Preisliste!$E$16,Preisliste!$F$16)","v":"H801001"},{"$f":"VLOOKUP(\"Dammbalken 80/200 exkl. Dichtung, gesägt und entgratet\",Sprachindex!$A:$Z,Haftungsausschluß!$O$6,FALSE) & \" (\" & ROUNDUP(C571/1000*7.78,2) & \" \" & VLOOKUP(\"kg/Stk\",Sprachindex!$A:$Z,Haftungsausschluß!$O$6,FALSE) & \")\" & IF('Kalkulation 1'!$AH$33,\" \" & 'Kalkulation 1'!$R$9,\"\")","v":"Dammbalken 80/200 exkl. Dichtung, gesägt und entgratet (0 kg/Stk)"},null,null,null,null,null,null,null,0]
[null,null,0,0,{"$f":"VLOOKUP(\"[m]\",Sprachindex!$A:$Z,Haftungsausschluß!$O$6,FALSE)","v":"[m]"},{"$f":"IF($L$14=1,Preisliste!$E$16,Preisliste!$F$16)","v":"H801001"},{"$f":"VLOOKUP(\"Dammbalken 80/200 exkl. Dichtung, gesägt und entgratet\",Sprachindex!$A:$Z,Haftungsausschluß!$O$6,FALSE) & \" (\" & ROUNDUP(C572/1000*7.78,2) & \" \" & VLOOKUP(\"kg/Stk\",Sprachindex!$A:$Z,Haftungsausschluß!$O$6,FALSE) & \")\" & IF('Kalkulation 1'!$AH$33,\" \" & 'Kalkulation 1'!$R$9,\"\")","v":"Dammbalken 80/200 exkl. Dichtung, gesägt und entgratet (0 kg/Stk)"},null,null,null,null,null,null,null,0]
[null,null,0,0,{"$f":"VLOOKUP(\"[m]\",Sprachindex!$A:$Z,Haftungsausschluß!$O$6,FALSE)","v":"[m]"},{"$f":"IF($L$14=1,Preisliste!$E$16,Preisliste!$F$16)","v":"H801001"},{"$f":"VLOOKUP(\"Dammbalken 80/200 exkl. Dichtung, gesägt und entgratet\",Sprachindex!$A:$Z,Haftungsausschluß!$O$6,FALSE) & \" (\" & ROUNDUP(C573/1000*7.78,2) & \" \" & VLOOKUP(\"kg/Stk\",Sprachindex!$A:$Z,Haftungsausschluß!$O$6,FALSE) & \")\" & IF('Kalkulation 1'!$AH$33,\" \" & 'Kalkulation 1'!$R$9,\"\")","v":"Dammbalken 80/200 exkl. Dichtung, gesägt und entgratet (0 kg/Stk)"},null,null,null,null,null,null,null,0]
[null,null,0,0,{"$f":"VLOOKUP(\"[m]\",Sprachindex!$A:$Z,Haftungsausschluß!$O$6,FALSE)","v":"[m]"},{"$f":"IF($L$14=1,Preisliste!$E$16,Preisliste!$F$16)","v":"H801001"},{"$f":"VLOOKUP(\"Dammbalken 80/200 exkl. Dichtung, gesägt und entgratet\",Sprachindex!$A:$Z,Haftungsausschluß!$O$6,FALSE) & \" (\" & ROUNDUP(C574/1000*7.78,2) & \" \" & VLOOKUP(\"kg/Stk\",Sprachindex!$A:$Z,Haftungsausschluß!$O$6,FALSE) & \")\" & IF('Kalkulation 1'!$AH$33,\" \" & 'Kalkulation 1'!$R$9,\"\")","v":"Dammbalken 80/200 exkl. Dichtung, gesägt und entgratet (0 kg/Stk)"},null,null,null,null,null,null,null,0]
[null,null,0,0,{"$f":"VLOOKUP(\"[m]\",Sprachindex!$A:$Z,Haftungsausschluß!$O$6,FALSE)","v":"[m]"},{"$f":"IF($L$14=1,Preisliste!$E$16,Preisliste!$F$16)","v":"H801001"},{"$f":"VLOOKUP(\"Dammbalken 80/200 exkl. Dichtung, gesägt und entgratet\",Sprachindex!$A:$Z,Haftungsausschluß!$O$6,FALSE) & \" (\" & ROUNDUP(C575/1000*7.78,2) & \" \" & VLOOKUP(\"kg/Stk\",Sprachindex!$A:$Z,Haftungsausschluß!$O$6,FALSE) & \")\" & IF('Kalkulation 1'!$AH$33,\" \" & 'Kalkulation 1'!$R$9,\"\")","v":"Dammbalken 80/200 exkl. Dichtung, gesägt und entgratet (0 kg/Stk)"},null,null,null,null,null,null,null,0]
[null,null,0,0,{"$f":"VLOOKUP(\"[m]\",Sprachindex!$A:$Z,Haftungsausschluß!$O$6,FALSE)","v":"[m]"},{"$f":"IF($L$14=1,Preisliste!$E$16,Preisliste!$F$16)","v":"H801001"},{"$f":"VLOOKUP(\"Dammbalken 80/200 exkl. Dichtung, gesägt und entgratet\",Sprachindex!$A:$Z,Haftungsausschluß!$O$6,FALSE) & \" (\" & ROUNDUP(C576/1000*7.78,2) & \" \" & VLOOKUP(\"kg/Stk\",Sprachindex!$A:$Z,Haftungsausschluß!$O$6,FALSE) & \")\" & IF('Kalkulation 1'!$AH$33,\" \" & 'Kalkulation 1'!$R$9,\"\")","v":"Dammbalken 80/200 exkl. Dichtung, gesägt und entgratet (0 kg/Stk)"},null,null,null,null,null,null,null,0]
[null,null,0,0,{"$f":"VLOOKUP(\"[m]\",Sprachindex!$A:$Z,Haftungsausschluß!$O$6,FALSE)","v":"[m]"},{"$f":"IF($L$14=1,Preisliste!$E$16,Preisliste!$F$16)","v":"H801001"},{"$f":"VLOOKUP(\"Dammbalken 80/200 exkl. Dichtung, gesägt und entgratet\",Sprachindex!$A:$Z,Haftungsausschluß!$O$6,FALSE) & \" (\" & ROUNDUP(C577/1000*7.78,2) & \" \" & VLOOKUP(\"kg/Stk\",Sprachindex!$A:$Z,Haftungsausschluß!$O$6,FALSE) & \")\" & IF('Kalkulation 1'!$AH$33,\" \" & 'Kalkulation 1'!$R$9,\"\")","v":"Dammbalken 80/200 exkl. Dichtung, gesägt und entgratet (0 kg/Stk)"},null,null,null,null,null,null,null,0]
[null,null,0,0,{"$f":"VLOOKUP(\"[m]\",Sprachindex!$A:$Z,Haftungsausschluß!$O$6,FALSE)","v":"[m]"},{"$f":"IF($L$14=1,Preisliste!$E$16,Preisliste!$F$16)","v":"H801001"},{"$f":"VLOOKUP(\"Dammbalken 80/200 exkl. Dichtung, gesägt und entgratet\",Sprachindex!$A:$Z,Haftungsausschluß!$O$6,FALSE) & \" (\" & ROUNDUP(C578/1000*7.78,2) & \" \" & VLOOKUP(\"kg/Stk\",Sprachindex!$A:$Z,Haftungsausschluß!$O$6,FALSE) & \")\" & IF('Kalkulation 1'!$AH$33,\" \" & 'Kalkulation 1'!$R$9,\"\")","v":"Dammbalken 80/200 exkl. Dichtung, gesägt und entgratet (0 kg/Stk)"},null,null,null,null,null,null,null,0]
[null,null,0,0,{"$f":"VLOOKUP(\"[m]\",Sprachindex!$A:$Z,Haftungsausschluß!$O$6,FALSE)","v":"[m]"},{"$f":"IF($L$14=1,Preisliste!$E$16,Preisliste!$F$16)","v":"H801001"},{"$f":"VLOOKUP(\"Dammbalken 80/200 exkl. Dichtung, gesägt und entgratet\",Sprachindex!$A:$Z,Haftungsausschluß!$O$6,FALSE) & \" (\" & ROUNDUP(C579/1000*7.78,2) & \" \" & VLOOKUP(\"kg/Stk\",Sprachindex!$A:$Z,Haftungsausschluß!$O$6,FALSE) & \")\" & IF('Kalkulation 1'!$AH$33,\" \" & 'Kalkulation 1'!$R$9,\"\")","v":"Dammbalken 80/200 exkl. Dichtung, gesägt und entgratet (0 kg/Stk)"},null,null,null,null,null,null,null,0]
[null,null,0,0,{"$f":"VLOOKUP(\"[m]\",Sprachindex!$A:$Z,Haftungsausschluß!$O$6,FALSE)","v":"[m]"},{"$f":"IF($L$14=1,Preisliste!$E$16,Preisliste!$F$16)","v":"H801001"},{"$f":"VLOOKUP(\"Dammbalken 80/200 exkl. Dichtung, gesägt und entgratet\",Sprachindex!$A:$Z,Haftungsausschluß!$O$6,FALSE) & \" (\" & ROUNDUP(C580/1000*7.78,2) & \" \" & VLOOKUP(\"kg/Stk\",Sprachindex!$A:$Z,Haftungsausschluß!$O$6,FALSE) & \")\" & IF('Kalkulation 1'!$AH$33,\" \" & 'Kalkulation 1'!$R$9,\"\")","v":"Dammbalken 80/200 exkl. Dichtung, gesägt und entgratet (0 kg/Stk)"},null,null,null,null,null,null,null,0]
[null,null,0,0,{"$f":"VLOOKUP(\"[m]\",Sprachindex!$A:$Z,Haftungsausschluß!$O$6,FALSE)","v":"[m]"},{"$f":"IF($L$14=1,Preisliste!$E$16,Preisliste!$F$16)","v":"H801001"},{"$f":"VLOOKUP(\"Dammbalken 80/200 exkl. Dichtung, gesägt und entgratet\",Sprachindex!$A:$Z,Haftungsausschluß!$O$6,FALSE) & \" (\" & ROUNDUP(C581/1000*7.78,2) & \" \" & VLOOKUP(\"kg/Stk\",Sprachindex!$A:$Z,Haftungsausschluß!$O$6,FALSE) & \")\" & IF('Kalkulation 1'!$AH$33,\" \" & 'Kalkulation 1'!$R$9,\"\")","v":"Dammbalken 80/200 exkl. Dichtung, gesägt und entgratet (0 kg/Stk)"},null,null,null,null,null,null,null,0]
[null,null,0,0,{"$f":"VLOOKUP(\"[m]\",Sprachindex!$A:$Z,Haftungsausschluß!$O$6,FALSE)","v":"[m]"},{"$f":"IF($L$14=1,Preisliste!$E$16,Preisliste!$F$16)","v":"H801001"},{"$f":"VLOOKUP(\"Dammbalken 80/200 exkl. Dichtung, gesägt und entgratet\",Sprachindex!$A:$Z,Haftungsausschluß!$O$6,FALSE) & \" (\" & ROUNDUP(C582/1000*7.78,2) & \" \" & VLOOKUP(\"kg/Stk\",Sprachindex!$A:$Z,Haftungsausschluß!$O$6,FALSE) & \")\" & IF('Kalkulation 1'!$AH$33,\" \" & 'Kalkulation 1'!$R$9,\"\")","v":"Dammbalken 80/200 exkl. Dichtung, gesägt und entgratet (0 kg/Stk)"},null,null,null,null,null,null,null,0]
[null,null,0,0,{"$f":"VLOOKUP(\"[m]\",Sprachindex!$A:$Z,Haftungsausschluß!$O$6,FALSE)","v":"[m]"},{"$f":"IF($L$14=1,Preisliste!$E$16,Preisliste!$F$16)","v":"H801001"},{"$f":"VLOOKUP(\"Dammbalken 80/200 exkl. Dichtung, gesägt und entgratet\",Sprachindex!$A:$Z,Haftungsausschluß!$O$6,FALSE) & \" (\" & ROUNDUP(C583/1000*7.78,2) & \" \" & VLOOKUP(\"kg/Stk\",Sprachindex!$A:$Z,Haftungsausschluß!$O$6,FALSE) & \")\" & IF('Kalkulation 1'!$AH$33,\" \" & 'Kalkulation 1'!$R$9,\"\")","v":"Dammbalken 80/200 exkl. Dichtung, gesägt und entgratet (0 kg/Stk)"},null,null,null,null,null,null,null,0]
[null,null,0,0,{"$f":"VLOOKUP(\"[m]\",Sprachindex!$A:$Z,Haftungsausschluß!$O$6,FALSE)","v":"[m]"},{"$f":"IF($L$14=1,Preisliste!$E$16,Preisliste!$F$16)","v":"H801001"},{"$f":"VLOOKUP(\"Dammbalken 80/200 exkl. Dichtung, gesägt und entgratet\",Sprachindex!$A:$Z,Haftungsausschluß!$O$6,FALSE) & \" (\" & ROUNDUP(C584/1000*7.78,2) & \" \" & VLOOKUP(\"kg/Stk\",Sprachindex!$A:$Z,Haftungsausschluß!$O$6,FALSE) & \")\" & IF('Kalkulation 1'!$AH$33,\" \" & 'Kalkulation 1'!$R$9,\"\")","v":"Dammbalken 80/200 exkl. Dichtung, gesägt und entgratet (0 kg/Stk)"},null,null,null,null,null,null,null,0]
[null,null,0,0,{"$f":"VLOOKUP(\"[m]\",Sprachindex!$A:$Z,Haftungsausschluß!$O$6,FALSE)","v":"[m]"},{"$f":"IF($L$14=1,Preisliste!$E$16,Preisliste!$F$16)","v":"H801001"},{"$f":"VLOOKUP(\"Dammbalken 80/200 exkl. Dichtung, gesägt und entgratet\",Sprachindex!$A:$Z,Haftungsausschluß!$O$6,FALSE) & \" (\" & ROUNDUP(C585/1000*7.78,2) & \" \" & VLOOKUP(\"kg/Stk\",Sprachindex!$A:$Z,Haftungsausschluß!$O$6,FALSE) & \")\" & IF('Kalkulation 1'!$AH$33,\" \" & 'Kalkulation 1'!$R$9,\"\")","v":"Dammbalken 80/200 exkl. Dichtung, gesägt und entgratet (0 kg/Stk)"},null,null,null,null,null,null,null,0]
[null,null,0,0,{"$f":"VLOOKUP(\"[m]\",Sprachindex!$A:$Z,Haftungsausschluß!$O$6,FALSE)","v":"[m]"},{"$f":"IF($L$14=1,Preisliste!$E$16,Preisliste!$F$16)","v":"H801001"},{"$f":"VLOOKUP(\"Dammbalken 80/200 exkl. Dichtung, gesägt und entgratet\",Sprachindex!$A:$Z,Haftungsausschluß!$O$6,FALSE) & \" (\" & ROUNDUP(C586/1000*7.78,2) & \" \" & VLOOKUP(\"kg/Stk\",Sprachindex!$A:$Z,Haftungsausschluß!$O$6,FALSE) & \")\" & IF('Kalkulation 1'!$AH$33,\" \" & 'Kalkulation 1'!$R$9,\"\")","v":"Dammbalken 80/200 exkl. Dichtung, gesägt und entgratet (0 kg/Stk)"},null,null,null,null,null,null,null,0]
[null,null,0,0,{"$f":"VLOOKUP(\"[m]\",Sprachindex!$A:$Z,Haftungsausschluß!$O$6,FALSE)","v":"[m]"},{"$f":"IF($L$14=1,Preisliste!$E$16,Preisliste!$F$16)","v":"H801001"},{"$f":"VLOOKUP(\"Dammbalken 80/200 exkl. Dichtung, gesägt und entgratet\",Sprachindex!$A:$Z,Haftungsausschluß!$O$6,FALSE) & \" (\" & ROUNDUP(C587/1000*7.78,2) & \" \" & VLOOKUP(\"kg/Stk\",Sprachindex!$A:$Z,Haftungsausschluß!$O$6,FALSE) & \")\" & IF('Kalkulation 1'!$AH$33,\" \" & 'Kalkulation 1'!$R$9,\"\")","v":"Dammbalken 80/200 exkl. Dichtung, gesägt und entgratet (0 kg/Stk)"},null,null,null,null,null,null,null,0]
[null,null,0,0,{"$f":"VLOOKUP(\"[m]\",Sprachindex!$A:$Z,Haftungsausschluß!$O$6,FALSE)","v":"[m]"},{"$f":"IF($L$14=1,Preisliste!$E$16,Preisliste!$F$16)","v":"H801001"},{"$f":"VLOOKUP(\"Dammbalken 80/200 exkl. Dichtung, gesägt und entgratet\",Sprachindex!$A:$Z,Haftungsausschluß!$O$6,FALSE) & \" (\" & ROUNDUP(C588/1000*7.78,2) & \" \" & VLOOKUP(\"kg/Stk\",Sprachindex!$A:$Z,Haftungsausschluß!$O$6,FALSE) & \")\" & IF('Kalkulation 1'!$AH$33,\" \" & 'Kalkulation 1'!$R$9,\"\")","v":"Dammbalken 80/200 exkl. Dichtung, gesägt und entgratet (0 kg/Stk)"},null,null,null,null,null,null,null,0]
[null,null,0,0,{"$f":"VLOOKUP(\"[m]\",Sprachindex!$A:$Z,Haftungsausschluß!$O$6,FALSE)","v":"[m]"},{"$f":"IF($L$14=1,Preisliste!$E$16,Preisliste!$F$16)","v":"H801001"},{"$f":"VLOOKUP(\"Dammbalken 80/200 exkl. Dichtung, gesägt und entgratet\",Sprachindex!$A:$Z,Haftungsausschluß!$O$6,FALSE) & \" (\" & ROUNDUP(C589/1000*7.78,2) & \" \" & VLOOKUP(\"kg/Stk\",Sprachindex!$A:$Z,Haftungsausschluß!$O$6,FALSE) & \")\" & IF('Kalkulation 1'!$AH$33,\" \" & 'Kalkulation 1'!$R$9,\"\")","v":"Dammbalken 80/200 exkl. Dichtung, gesägt und entgratet (0 kg/Stk)"},null,null,null,null,null,null,null,0]
[null,null,0,0,{"$f":"VLOOKUP(\"[m]\",Sprachindex!$A:$Z,Haftungsausschluß!$O$6,FALSE)","v":"[m]"},{"$f":"IF($L$14=1,Preisliste!$E$16,Preisliste!$F$16)","v":"H801001"},{"$f":"VLOOKUP(\"Dammbalken 80/200 exkl. Dichtung, gesägt und entgratet\",Sprachindex!$A:$Z,Haftungsausschluß!$O$6,FALSE) & \" (\" & ROUNDUP(C590/1000*7.78,2) & \" \" & VLOOKUP(\"kg/Stk\",Sprachindex!$A:$Z,Haftungsausschluß!$O$6,FALSE) & \")\" & IF('Kalkulation 1'!$AH$33,\" \" & 'Kalkulation 1'!$R$9,\"\")","v":"Dammbalken 80/200 exkl. Dichtung, gesägt und entgratet (0 kg/Stk)"},null,null,null,null,null,null,null,0]
[null,null,0,{"$f":"B591*C591/1000","v":0},{"$f":"VLOOKUP(\"[m]\",Sprachindex!$A:$Z,Haftungsausschluß!$O$6,FALSE)","v":"[m]"},{"$f":"IF($L$14=1,Preisliste!$E$16,Preisliste!$F$16)","v":"H801001"},{"$f":"VLOOKUP(\"Dammbalken 80/200 exkl. Dichtung, gesägt und entgratet\",Sprachindex!$A:$Z,Haftungsausschluß!$O$6,FALSE) & \" (\" & ROUNDUP(C591/1000*7.78,2) & \" \" & VLOOKUP(\"kg/Stk\",Sprachindex!$A:$Z,Haftungsausschluß!$O$6,FALSE) & \")\" & IF('Kalkulation 1'!$AH$33,\" \" & 'Kalkulation 1'!$R$9,\"\")","v":"Dammbalken 80/200 exkl. Dichtung, gesägt und entgratet (0 kg/Stk)"},null,null,null,null,null,null,null,{"$f":"N591*D591","v":0}]
[null,null,0,0,{"$f":"VLOOKUP(\"[m]\",Sprachindex!$A:$Z,Haftungsausschluß!$O$6,FALSE)","v":"[m]"},{"$f":"IF($L$14=1,Preisliste!$E$16,Preisliste!$F$16)","v":"H801001"},{"$f":"VLOOKUP(\"Dammbalken 80/200 exkl. Dichtung, gesägt und entgratet\",Sprachindex!$A:$Z,Haftungsausschluß!$O$6,FALSE) & \" (\" & ROUNDUP(C592/1000*7.78,2) & \" \" & VLOOKUP(\"kg/Stk\",Sprachindex!$A:$Z,Haftungsausschluß!$O$6,FALSE) & \")\" & IF('Kalkulation 1'!$AH$33,\" \" & 'Kalkulation 1'!$R$9,\"\")","v":"Dammbalken 80/200 exkl. Dichtung, gesägt und entgratet (0 kg/Stk)"},null,null,null,null,null,null,null,0]
[null,null,0,0,{"$f":"VLOOKUP(\"[m]\",Sprachindex!$A:$Z,Haftungsausschluß!$O$6,FALSE)","v":"[m]"},{"$f":"IF($L$14=1,Preisliste!$E$16,Preisliste!$F$16)","v":"H801001"},{"$f":"VLOOKUP(\"Dammbalken 80/200 exkl. Dichtung, gesägt und entgratet\",Sprachindex!$A:$Z,Haftungsausschluß!$O$6,FALSE) & \" (\" & ROUNDUP(C593/1000*7.78,2) & \" \" & VLOOKUP(\"kg/Stk\",Sprachindex!$A:$Z,Haftungsausschluß!$O$6,FALSE) & \")\" & IF('Kalkulation 1'!$AH$33,\" \" & 'Kalkulation 1'!$R$9,\"\")","v":"Dammbalken 80/200 exkl. Dichtung, gesägt und entgratet (0 kg/Stk)"},null,null,null,null,null,null,null,0]
[null,null,0,0,{"$f":"VLOOKUP(\"[m]\",Sprachindex!$A:$Z,Haftungsausschluß!$O$6,FALSE)","v":"[m]"},{"$f":"IF($L$14=1,Preisliste!$E$16,Preisliste!$F$16)","v":"H801001"},{"$f":"VLOOKUP(\"Dammbalken 80/200 exkl. Dichtung, gesägt und entgratet\",Sprachindex!$A:$Z,Haftungsausschluß!$O$6,FALSE) & \" (\" & ROUNDUP(C594/1000*7.78,2) & \" \" & VLOOKUP(\"kg/Stk\",Sprachindex!$A:$Z,Haftungsausschluß!$O$6,FALSE) & \")\" & IF('Kalkulation 1'!$AH$33,\" \" & 'Kalkulation 1'!$R$9,\"\")","v":"Dammbalken 80/200 exkl. Dichtung, gesägt und entgratet (0 kg/Stk)"},null,null,null,null,null,null,null,0]
[null,null,0,0,{"$f":"VLOOKUP(\"[m]\",Sprachindex!$A:$Z,Haftungsausschluß!$O$6,FALSE)","v":"[m]"},{"$f":"IF($L$14=1,Preisliste!$E$16,Preisliste!$F$16)","v":"H801001"},{"$f":"VLOOKUP(\"Dammbalken 80/200 exkl. Dichtung, gesägt und entgratet\",Sprachindex!$A:$Z,Haftungsausschluß!$O$6,FALSE) & \" (\" & ROUNDUP(C595/1000*7.78,2) & \" \" & VLOOKUP(\"kg/Stk\",Sprachindex!$A:$Z,Haftungsausschluß!$O$6,FALSE) & \")\" & IF('Kalkulation 1'!$AH$33,\" \" & 'Kalkulation 1'!$R$9,\"\")","v":"Dammbalken 80/200 exkl. Dichtung, gesägt und entgratet (0 kg/Stk)"},null,null,null,null,null,null,null,0]
[null,null,0,0,{"$f":"VLOOKUP(\"[m]\",Sprachindex!$A:$Z,Haftungsausschluß!$O$6,FALSE)","v":"[m]"},{"$f":"IF($L$14=1,Preisliste!$E$16,Preisliste!$F$16)","v":"H801001"},{"$f":"VLOOKUP(\"Dammbalken 80/200 exkl. Dichtung, gesägt und entgratet\",Sprachindex!$A:$Z,Haftungsausschluß!$O$6,FALSE) & \" (\" & ROUNDUP(C596/1000*7.78,2) & \" \" & VLOOKUP(\"kg/Stk\",Sprachindex!$A:$Z,Haftungsausschluß!$O$6,FALSE) & \")\" & IF('Kalkulation 1'!$AH$33,\" \" & 'Kalkulation 1'!$R$9,\"\")","v":"Dammbalken 80/200 exkl. Dichtung, gesägt und entgratet (0 kg/Stk)"},null,null,null,null,null,null,null,0]
[null,null,0,0,{"$f":"VLOOKUP(\"[m]\",Sprachindex!$A:$Z,Haftungsausschluß!$O$6,FALSE)","v":"[m]"},{"$f":"IF($L$14=1,Preisliste!$E$16,Preisliste!$F$16)","v":"H801001"},{"$f":"VLOOKUP(\"Dammbalken 80/200 exkl. Dichtung, gesägt und entgratet\",Sprachindex!$A:$Z,Haftungsausschluß!$O$6,FALSE) & \" (\" & ROUNDUP(C597/1000*7.78,2) & \" \" & VLOOKUP(\"kg/Stk\",Sprachindex!$A:$Z,Haftungsausschluß!$O$6,FALSE) & \")\" & IF('Kalkulation 1'!$AH$33,\" \" & 'Kalkulation 1'!$R$9,\"\")","v":"Dammbalken 80/200 exkl. Dichtung, gesägt und entgratet (0 kg/Stk)"},null,null,null,null,null,null,null,0]
[null,null,0,0,{"$f":"VLOOKUP(\"[m]\",Sprachindex!$A:$Z,Haftungsausschluß!$O$6,FALSE)","v":"[m]"},{"$f":"IF($L$14=1,Preisliste!$E$16,Preisliste!$F$16)","v":"H801001"},{"$f":"VLOOKUP(\"Dammbalken 80/200 exkl. Dichtung, gesägt und entgratet\",Sprachindex!$A:$Z,Haftungsausschluß!$O$6,FALSE) & \" (\" & ROUNDUP(C598/1000*7.78,2) & \" \" & VLOOKUP(\"kg/Stk\",Sprachindex!$A:$Z,Haftungsausschluß!$O$6,FALSE) & \")\" & IF('Kalkulation 1'!$AH$33,\" \" & 'Kalkulation 1'!$R$9,\"\")","v":"Dammbalken 80/200 exkl. Dichtung, gesägt und entgratet (0 kg/Stk)"},null,null,null,null,null,null,null,0]
[null,null,0,0,{"$f":"VLOOKUP(\"[m]\",Sprachindex!$A:$Z,Haftungsausschluß!$O$6,FALSE)","v":"[m]"},{"$f":"IF($L$14=1,Preisliste!$E$16,Preisliste!$F$16)","v":"H801001"},{"$f":"VLOOKUP(\"Dammbalken 80/200 exkl. Dichtung, gesägt und entgratet\",Sprachindex!$A:$Z,Haftungsausschluß!$O$6,FALSE) & \" (\" & ROUNDUP(C599/1000*7.78,2) & \" \" & VLOOKUP(\"kg/Stk\",Sprachindex!$A:$Z,Haftungsausschluß!$O$6,FALSE) & \")\" & IF('Kalkulation 1'!$AH$33,\" \" & 'Kalkulation 1'!$R$9,\"\")","v":"Dammbalken 80/200 exkl. Dichtung, gesägt und entgratet (0 kg/Stk)"},null,null,null,null,null,null,null,0]
[null,null,0,0,{"$f":"VLOOKUP(\"[m]\",Sprachindex!$A:$Z,Haftungsausschluß!$O$6,FALSE)","v":"[m]"},{"$f":"IF($L$14=1,Preisliste!$E$16,Preisliste!$F$16)","v":"H801001"},{"$f":"VLOOKUP(\"Dammbalken 80/200 exkl. Dichtung, gesägt und entgratet\",Sprachindex!$A:$Z,Haftungsausschluß!$O$6,FALSE) & \" (\" & ROUNDUP(C600/1000*7.78,2) & \" \" & VLOOKUP(\"kg/Stk\",Sprachindex!$A:$Z,Haftungsausschluß!$O$6,FALSE) & \")\" & IF('Kalkulation 1'!$AH$33,\" \" & 'Kalkulation 1'!$R$9,\"\")","v":"Dammbalken 80/200 exkl. Dichtung, gesägt und entgratet (0 kg/Stk)"},null,null,null,null,null,null,null,0]
[null,null,0,0,{"$f":"VLOOKUP(\"[m]\",Sprachindex!$A:$Z,Haftungsausschluß!$O$6,FALSE)","v":"[m]"},{"$f":"IF($L$14=1,Preisliste!$E$16,Preisliste!$F$16)","v":"H801001"},{"$f":"VLOOKUP(\"Dammbalken 80/200 exkl. Dichtung, gesägt und entgratet\",Sprachindex!$A:$Z,Haftungsausschluß!$O$6,FALSE) & \" (\" & ROUNDUP(C601/1000*7.78,2) & \" \" & VLOOKUP(\"kg/Stk\",Sprachindex!$A:$Z,Haftungsausschluß!$O$6,FALSE) & \")\" & IF('Kalkulation 1'!$AH$33,\" \" & 'Kalkulation 1'!$R$9,\"\")","v":"Dammbalken 80/200 exkl. Dichtung, gesägt und entgratet (0 kg/Stk)"},null,null,null,null,null,null,null,0]
[null,null,0,0,{"$f":"VLOOKUP(\"[m]\",Sprachindex!$A:$Z,Haftungsausschluß!$O$6,FALSE)","v":"[m]"},{"$f":"IF($L$14=1,Preisliste!$E$16,Preisliste!$F$16)","v":"H801001"},{"$f":"VLOOKUP(\"Dammbalken 80/200 exkl. Dichtung, gesägt und entgratet\",Sprachindex!$A:$Z,Haftungsausschluß!$O$6,FALSE) & \" (\" & ROUNDUP(C602/1000*7.78,2) & \" \" & VLOOKUP(\"kg/Stk\",Sprachindex!$A:$Z,Haftungsausschluß!$O$6,FALSE) & \")\" & IF('Kalkulation 1'!$AH$33,\" \" & 'Kalkulation 1'!$R$9,\"\")","v":"Dammbalken 80/200 exkl. Dichtung, gesägt und entgratet (0 kg/Stk)"},null,null,null,null,null,null,null,0]
[null,null,0,0,{"$f":"VLOOKUP(\"[m]\",Sprachindex!$A:$Z,Haftungsausschluß!$O$6,FALSE)","v":"[m]"},{"$f":"IF($L$14=1,Preisliste!$E$16,Preisliste!$F$16)","v":"H801001"},{"$f":"VLOOKUP(\"Dammbalken 80/200 exkl. Dichtung, gesägt und entgratet\",Sprachindex!$A:$Z,Haftungsausschluß!$O$6,FALSE) & \" (\" & ROUNDUP(C603/1000*7.78,2) & \" \" & VLOOKUP(\"kg/Stk\",Sprachindex!$A:$Z,Haftungsausschluß!$O$6,FALSE) & \")\" & IF('Kalkulation 1'!$AH$33,\" \" & 'Kalkulation 1'!$R$9,\"\")","v":"Dammbalken 80/200 exkl. Dichtung, gesägt und entgratet (0 kg/Stk)"},null,null,null,null,null,null,null,0]
[null,null,0,0,{"$f":"VLOOKUP(\"[m]\",Sprachindex!$A:$Z,Haftungsausschluß!$O$6,FALSE)","v":"[m]"},{"$f":"IF($L$14=1,Preisliste!$E$16,Preisliste!$F$16)","v":"H801001"},{"$f":"VLOOKUP(\"Dammbalken 80/200 exkl. Dichtung, gesägt und entgratet\",Sprachindex!$A:$Z,Haftungsausschluß!$O$6,FALSE) & \" (\" & ROUNDUP(C604/1000*7.78,2) & \" \" & VLOOKUP(\"kg/Stk\",Sprachindex!$A:$Z,Haftungsausschluß!$O$6,FALSE) & \")\" & IF('Kalkulation 1'!$AH$33,\" \" & 'Kalkulation 1'!$R$9,\"\")","v":"Dammbalken 80/200 exkl. Dichtung, gesägt und entgratet (0 kg/Stk)"},null,null,null,null,null,null,null,0]
[null,null,0,0,{"$f":"VLOOKUP(\"[m]\",Sprachindex!$A:$Z,Haftungsausschluß!$O$6,FALSE)","v":"[m]"},{"$f":"IF($L$14=1,Preisliste!$E$16,Preisliste!$F$16)","v":"H801001"},{"$f":"VLOOKUP(\"Dammbalken 80/200 exkl. Dichtung, gesägt und entgratet\",Sprachindex!$A:$Z,Haftungsausschluß!$O$6,FALSE) & \" (\" & ROUNDUP(C605/1000*7.78,2) & \" \" & VLOOKUP(\"kg/Stk\",Sprachindex!$A:$Z,Haftungsausschluß!$O$6,FALSE) & \")\" & IF('Kalkulation 1'!$AH$33,\" \" & 'Kalkulation 1'!$R$9,\"\")","v":"Dammbalken 80/200 exkl. Dichtung, gesägt und entgratet (0 kg/Stk)"},null,null,null,null,null,null,null,0]
[null,null,0,0,{"$f":"VLOOKUP(\"[m]\",Sprachindex!$A:$Z,Haftungsausschluß!$O$6,FALSE)","v":"[m]"},{"$f":"IF($L$14=1,Preisliste!$E$16,Preisliste!$F$16)","v":"H801001"},{"$f":"VLOOKUP(\"Dammbalken 80/200 exkl. Dichtung, gesägt und entgratet\",Sprachindex!$A:$Z,Haftungsausschluß!$O$6,FALSE) & \" (\" & ROUNDUP(C606/1000*7.78,2) & \" \" & VLOOKUP(\"kg/Stk\",Sprachindex!$A:$Z,Haftungsausschluß!$O$6,FALSE) & \")\" & IF('Kalkulation 1'!$AH$33,\" \" & 'Kalkulation 1'!$R$9,\"\")","v":"Dammbalken 80/200 exkl. Dichtung, gesägt und entgratet (0 kg/Stk)"},null,null,null,null,null,null,null,0]
[null,null,null,{"$f":"B607","v":0},{"$f":"VLOOKUP(\"[EH]\",Sprachindex!$A:$Z,Haftungsausschluß!$O$6,FALSE)","v":"[EH]"},{"$f":"IF($L$14=1,Preisliste!$E$169,Preisliste!$F$169)","v":"-"},{"$f":"VLOOKUP(\"Aufpreis Planungsstunde\",Sprachindex!$A:$Z,Haftungsausschluß!$O$6,FALSE)","v":"Aufpreis Planungsstunde"},null,null,null,null,null,null,null,{"$f":"N607*D607","v":0}]
[null,null,null,0,{"$f":"VLOOKUP(\"[Stk]\",Sprachindex!$A:$Z,Haftungsausschluß!$O$6,FALSE)","v":"[Stk]"},"H002050",{"$f":"VLOOKUP(\"Dichtungsroller 80\",Sprachindex!$A:$Z,Haftungsausschluß!$O$6,FALSE)","v":"Dichtungsroller 80"},null,null,null,null,null,null,null,0]
[null,null,null,{"$f":"B609","v":0},{"$f":"VLOOKUP(\"Pa\",Sprachindex!$A:$Z,Haftungsausschluß!$O$6,FALSE)","v":"Pa"},"H002050",{"$f":"VLOOKUP(\"Montagematerial\",Sprachindex!$A:$Z,Haftungsausschluß!$O$6,FALSE)","v":"Montagematerial"},null,null,null,null,null,null,null,{"$f":"N609*D609","v":0}]
[null,null,null,0,{"$f":"VLOOKUP(\"Pa\",Sprachindex!$A:$Z,Haftungsausschluß!$O$6,FALSE)","v":"Pa"},"H002050",{"$f":"VLOOKUP(\"Montage\",Sprachindex!$A:$Z,Haftungsausschluß!$O$6,FALSE)","v":"Montage"},null,null,null,null,null,null,null,0]
[null,null,null,{"$f":"B611","v":0},{"$f":"VLOOKUP(\"Pa\",Sprachindex!$A:$Z,Haftungsausschluß!$O$6,FALSE)","v":"Pa"},"H002050",{"$f":"VLOOKUP(\"Fahrtkosten\",Sprachindex!$A:$Z,Haftungsausschluß!$O$6,FALSE)","v":"Fahrtkosten"},null,null,null,null,null,null,null,{"$f":"N611*D611","v":0}]
[]
[null,null,null,{"$f":"B613","v":0},{"$f":"VLOOKUP(\"[Stk]\",Sprachindex!$A:$Z,Haftungsausschluß!$O$6,FALSE)","v":"[Stk]"},"H001062","Spannstück STIER mit 6-Kantschraube gefräst",null,null,null,null,null,null,null,{"$f":"N613*D613","v":0}]
[null,null,null,0,{"$f":"VLOOKUP(\"[Stk]\",Sprachindex!$A:$Z,Haftungsausschluß!$O$6,FALSE)","v":"[Stk]"},"H001072","Spannstück mit Sterngriff STIER gefr.",null,null,null,null,null,null,null,0]
[null,null,1750,0,{"$f":"VLOOKUP(\"[Stk]\",Sprachindex!$A:$Z,Haftungsausschluß!$O$6,FALSE)","v":"[Stk]"},{"$f":"IF($L$14=1,Preisliste!$E186,Preisliste!$F186)","v":"H251022"},{"$f":"VLOOKUP(\"U-Profil 25 exkl. Dichtung, gebohrt und entgratet\",Sprachindex!$A:$Z,Haftungsausschluß!$O$6,FALSE) & IF('Kalkulation 1'!AH553,\" \" & 'Kalkulation 1'!R528,\"\") & IF('Kalkulation 1'!$AH$34,\" \" & 'Kalkulation 1'!$R$9,\"\")","v":"U-Profil 25 exkl. Dichtung, gebohrt und entgratet"},null,null,null,null,null,null,null,0]
[null,null,2150,0,{"$f":"VLOOKUP(\"[Stk]\",Sprachindex!$A:$Z,Haftungsausschluß!$O$6,FALSE)","v":"[Stk]"},{"$f":"IF($L$14=1,Preisliste!$E187,Preisliste!$F187)","v":"H251023"},{"$f":"VLOOKUP(\"U-Profil 25 exkl. Dichtung, gebohrt und entgratet\",Sprachindex!$A:$Z,Haftungsausschluß!$O$6,FALSE) & IF('Kalkulation 1'!AH553,\" \" & 'Kalkulation 1'!R528,\"\") & IF('Kalkulation 1'!$AH$34,\" \" & 'Kalkulation 1'!$R$9,\"\")","v":"U-Profil 25 exkl. Dichtung, gebohrt und entgratet"},null,null,null,null,null,null,null,0]
[null,null,1750,0,{"$f":"VLOOKUP(\"[Stk]\",Sprachindex!$A:$Z,Haftungsausschluß!$O$6,FALSE)","v":"[Stk]"},{"$f":"IF($L$14=1,Preisliste!$E190,Preisliste!$F190)","v":"H251202"},{"$f":"VLOOKUP(\"Grundprofil 25 exkl. Dichtung, gebohrt und entgratet\",Sprachindex!$A:$Z,Haftungsausschluß!$O$6,FALSE) & IF('Kalkulation 1'!AH552,\" \" & 'Kalkulation 1'!R527,\"\") & IF('Kalkulation 1'!$AH$34,\" \" & 'Kalkulation 1'!$R$9,\"\")","v":"Grundprofil 25 exkl. Dichtung, gebohrt und entgratet"},null,null,null,null,null,null,null,0]
[null,null,2150,0,{"$f":"VLOOKUP(\"[Stk]\",Sprachindex!$A:$Z,Haftungsausschluß!$O$6,FALSE)","v":"[Stk]"},{"$f":"IF($L$14=1,Preisliste!$E191,Preisliste!$F191)","v":"H251203"},{"$f":"VLOOKUP(\"Grundprofil 25 exkl. Dichtung, gebohrt und entgratet\",Sprachindex!$A:$Z,Haftungsausschluß!$O$6,FALSE) & IF('Kalkulation 1'!AH552,\" \" & 'Kalkulation 1'!R527,\"\") & IF('Kalkulation 1'!$AH$34,\" \" & 'Kalkulation 1'!$R$9,\"\")","v":"Grundprofil 25 exkl. Dichtung, gebohrt und entgratet"},null,null,null,null,null,null,null,0]
[null,null,1750,0,{"$f":"VLOOKUP(\"[Stk]\",Sprachindex!$A:$Z,Haftungsausschluß!$O$6,FALSE)","v":"[Stk]"},{"$f":"IF($L$14=1,Preisliste!$E182,Preisliste!$F182)","v":"H251042"},{"$f":"\"Abdeckung  V 25-1750mm\"  & IF('Kalkulation 1'!$AH$35,\" \" & 'Kalkulation 1'!$R$9,\"\")","v":"Abdeckung  V 25-1750mm"},null,null,null,null,null,null,null,0]
[null,null,2150,0,{"$f":"VLOOKUP(\"[Stk]\",Sprachindex!$A:$Z,Haftungsausschluß!$O$6,FALSE)","v":"[Stk]"},{"$f":"IF($L$14=1,Preisliste!$E183,Preisliste!$F183)","v":"H251043"},{"$f":"\"Abdeckung  V 25-2150mm\"  & IF('Kalkulation 1'!$AH$35,\" \" & 'Kalkulation 1'!$R$9,\"\")","v":"Abdeckung  V 25-2150mm"},null,null,null,null,null,null,null,0]
[null,null,1750,0,{"$f":"VLOOKUP(\"[Stk]\",Sprachindex!$A:$Z,Haftungsausschluß!$O$6,FALSE)","v":"[Stk]"},{"$f":"IF($L$14=1,Preisliste!$E178,Preisliste!$F178)","v":"H251052"},{"$f":"\"Abdeckung  VO 25-1750mm\"  & IF('Kalkulation 1'!$AH$35,\" \" & 'Kalkulation 1'!$R$9,\"\")","v":"Abdeckung  VO 25-1750mm"},null,null,null,null,null,null,null,0]
[null,null,2150,0,{"$f":"VLOOKUP(\"[Stk]\",Sprachindex!$A:$Z,Haftungsausschluß!$O$6,FALSE)","v":"[Stk]"},{"$f":"IF($L$14=1,Preisliste!$E179,Preisliste!$F179)","v":"H251043"},{"$f":"\"Abdeckung  VO 25-2150mm\"  & IF('Kalkulation 1'!$AH$35,\" \" & 'Kalkulation 1'!$R$9,\"\")","v":"Abdeckung  VO 25-2150mm"},null,null,null,null,null,null,null,0]
[null,null,750,0,{"$f":"VLOOKUP(\"[Stk]\",Sprachindex!$A:$Z,Haftungsausschluß!$O$6,FALSE)","v":"[Stk]"},{"$f":"IF($L$14=1,Preisliste!$E200,Preisliste!$F200)","v":"H801610"},{"$f":"VLOOKUP(\"Steher VARIO 15° 80-750 mm (Anfertigung auf Bestellung)\",Sprachindex!$A:$Z,Haftungsausschluß!$O$6,FALSE)","v":"Steher VARIO 15° 80-750 mm (Anfertigung auf Bestellung)"},null,null,null,null,null,null,null,0]
[null,null,1350,0,{"$f":"VLOOKUP(\"[Stk]\",Sprachindex!$A:$Z,Haftungsausschluß!$O$6,FALSE)","v":"[Stk]"},{"$f":"IF($L$14=1,Preisliste!$E201,Preisliste!$F201)","v":"H801611"},{"$f":"VLOOKUP(\"Steher VARIO 15° 80-1350 mm (Anfertigung auf Bestellung)\",Sprachindex!$A:$Z,Haftungsausschluß!$O$6,FALSE)","v":"Steher VARIO 15° 80-1350 mm (Anfertigung auf Bestellung)"},null,null,null,null,null,null,null,0]
[null,null,1750,0,{"$f":"VLOOKUP(\"[Stk]\",Sprachindex!$A:$Z,Haftungsausschluß!$O$6,FALSE)","v":"[Stk]"},{"$f":"IF($L$14=1,Preisliste!$E202,Preisliste!$F202)","v":"H801612"},{"$f":"VLOOKUP(\"Steher VARIO 15° 80-1750 mm (Anfertigung auf Bestellung)\",Sprachindex!$A:$Z,Haftungsausschluß!$O$6,FALSE)","v":"Steher VARIO 15° 80-1750 mm (Anfertigung auf Bestellung)"},null,null,null,null,null,null,null,0]
[null,null,2150,0,{"$f":"VLOOKUP(\"[Stk]\",Sprachindex!$A:$Z,Haftungsausschluß!$O$6,FALSE)","v":"[Stk]"},{"$f":"IF($L$14=1,Preisliste!$E203,Preisliste!$F203)","v":"H801613"},{"$f":"VLOOKUP(\"Steher VARIO 15° 80-2150 mm (Anfertigung auf Bestellung)\",Sprachindex!$A:$Z,Haftungsausschluß!$O$6,FALSE)","v":"Steher VARIO 15° 80-2150 mm (Anfertigung auf Bestellung)"},null,null,null,null,null,null,null,0]
[null,null,750,0,{"$f":"VLOOKUP(\"[Stk]\",Sprachindex!$A:$Z,Haftungsausschluß!$O$6,FALSE)","v":"[Stk]"},{"$f":"IF($L$14=1,Preisliste!$E204,Preisliste!$F204)","v":"H801620"},{"$f":"VLOOKUP(\"Steher VARIO 30° 80-750 mm (Anfertigung auf Bestellung)\",Sprachindex!$A:$Z,Haftungsausschluß!$O$6,FALSE)","v":"Steher VARIO 30° 80-750 mm (Anfertigung auf Bestellung)"},null,null,null,null,null,null,null,0]
[null,null,1350,0,{"$f":"VLOOKUP(\"[Stk]\",Sprachindex!$A:$Z,Haftungsausschluß!$O$6,FALSE)","v":"[Stk]"},{"$f":"IF($L$14=1,Preisliste!$E205,Preisliste!$F205)","v":"H801621"},{"$f":"VLOOKUP(\"Steher VARIO 30° 80-1350 mm (Anfertigung auf Bestellung)\",Sprachindex!$A:$Z,Haftungsausschluß!$O$6,FALSE)","v":"Steher VARIO 30° 80-1350 mm (Anfertigung auf Bestellung)"},null,null,null,null,null,null,null,0]
[null,null,1750,0,{"$f":"VLOOKUP(\"[Stk]\",Sprachindex!$A:$Z,Haftungsausschluß!$O$6,FALSE)","v":"[Stk]"},{"$f":"IF($L$14=1,Preisliste!$E206,Preisliste!$F206)","v":"H801622"},{"$f":"VLOOKUP(\"Steher VARIO 30° 80-1750 mm (Anfertigung auf Bestellung)\",Sprachindex!$A:$Z,Haftungsausschluß!$O$6,FALSE)","v":"Steher VARIO 30° 80-1750 mm (Anfertigung auf Bestellung)"},null,null,null,null,null,null,null,0]
[null,null,2150,0,{"$f":"VLOOKUP(\"[Stk]\",Sprachindex!$A:$Z,Haftungsausschluß!$O$6,FALSE)","v":"[Stk]"},{"$f":"IF($L$14=1,Preisliste!$E207,Preisliste!$F207)","v":"H801623"},{"$f":"VLOOKUP(\"Steher VARIO 30° 80-2150 mm (Anfertigung auf Bestellung)\",Sprachindex!$A:$Z,Haftungsausschluß!$O$6,FALSE)","v":"Steher VARIO 30° 80-2150 mm (Anfertigung auf Bestellung)"},null,null,null,null,null,null,null,0]
[null,null,750,0,{"$f":"VLOOKUP(\"[Stk]\",Sprachindex!$A:$Z,Haftungsausschluß!$O$6,FALSE)","v":"[Stk]"},{"$f":"IF($L$14=1,Preisliste!$E208,Preisliste!$F208)","v":"H801630"},{"$f":"VLOOKUP(\"Steher VARIO 45° 80-750 mm (Anfertigung auf Bestellung)\",Sprachindex!$A:$Z,Haftungsausschluß!$O$6,FALSE)","v":"Steher VARIO 45° 80-750 mm (Anfertigung auf Bestellung)"},null,null,null,null,null,null,null,0]
[null,null,1350,0,{"$f":"VLOOKUP(\"[Stk]\",Sprachindex!$A:$Z,Haftungsausschluß!$O$6,FALSE)","v":"[Stk]"},{"$f":"IF($L$14=1,Preisliste!$E209,Preisliste!$F209)","v":"H801631"},{"$f":"VLOOKUP(\"Steher VARIO 45° 80-1350 mm (Anfertigung auf Bestellung)\",Sprachindex!$A:$Z,Haftungsausschluß!$O$6,FALSE)","v":"Steher VARIO 45° 80-1350 mm (Anfertigung auf Bestellung)"},null,null,null,null,null,null,null,0]
[null,null,1750,0,{"$f":"VLOOKUP(\"[Stk]\",Sprachindex!$A:$Z,Haftungsausschluß!$O$6,FALSE)","v":"[Stk]"},{"$f":"IF($L$14=1,Preisliste!$E210,Preisliste!$F210)","v":"H801632"},{"$f":"VLOOKUP(\"Steher VARIO 45° 80-1750 mm (Anfertigung auf Bestellung)\",Sprachindex!$A:$Z,Haftungsausschluß!$O$6,FALSE)","v":"Steher VARIO 45° 80-1750 mm (Anfertigung auf Bestellung)"},null,null,null,null,null,null,null,0]
[null,null,2150,0,{"$f":"VLOOKUP(\"[Stk]\",Sprachindex!$A:$Z,Haftungsausschluß!$O$6,FALSE)","v":"[Stk]"},{"$f":"IF($L$14=1,Preisliste!$E211,Preisliste!$F211)","v":"H801633"},{"$f":"VLOOKUP(\"Steher VARIO 45° 80-2150 mm (Anfertigung auf Bestellung)\",Sprachindex!$A:$Z,Haftungsausschluß!$O$6,FALSE)","v":"Steher VARIO 45° 80-2150 mm (Anfertigung auf Bestellung)"},null,null,null,null,null,null,null,0]
[null,null,750,0,{"$f":"VLOOKUP(\"[Stk]\",Sprachindex!$A:$Z,Haftungsausschluß!$O$6,FALSE)","v":"[Stk]"},{"$f":"IF($L$14=1,Preisliste!$E212,Preisliste!$F212)","v":"H801640"},{"$f":"VLOOKUP(\"Steher VARIO 60° 80-750 mm (Anfertigung auf Bestellung)\",Sprachindex!$A:$Z,Haftungsausschluß!$O$6,FALSE)","v":"Steher VARIO 60° 80-750 mm (Anfertigung auf Bestellung)"},null,null,null,null,null,null,null,0]
[null,null,1350,0,{"$f":"VLOOKUP(\"[Stk]\",Sprachindex!$A:$Z,Haftungsausschluß!$O$6,FALSE)","v":"[Stk]"},{"$f":"IF($L$14=1,Preisliste!$E213,Preisliste!$F213)","v":"H801641"},{"$f":"VLOOKUP(\"Steher VARIO 60° 80-1350 mm (Anfertigung auf Bestellung)\",Sprachindex!$A:$Z,Haftungsausschluß!$O$6,FALSE)","v":"Steher VARIO 60° 80-1350 mm (Anfertigung auf Bestellung)"},null,null,null,null,null,null,null,0]
[null,null,1750,0,{"$f":"VLOOKUP(\"[Stk]\",Sprachindex!$A:$Z,Haftungsausschluß!$O$6,FALSE)","v":"[Stk]"},{"$f":"IF($L$14=1,Preisliste!$E214,Preisliste!$F214)","v":"H801642"},{"$f":"VLOOKUP(\"Steher VARIO 60° 80-1750 mm (Anfertigung auf Bestellung)\",Sprachindex!$A:$Z,Haftungsausschluß!$O$6,FALSE)","v":"Steher VARIO 60° 80-1750 mm (Anfertigung auf Bestellung)"},null,null,null,null,null,null,null,0]
[null,null,2150,0,{"$f":"VLOOKUP(\"[Stk]\",Sprachindex!$A:$Z,Haftungsausschluß!$O$6,FALSE)","v":"[Stk]"},{"$f":"IF($L$14=1,Preisliste!$E215,Preisliste!$F215)","v":"H801643"},{"$f":"VLOOKUP(\"Steher VARIO 60° 80-2150 mm (Anfertigung auf Bestellung)\",Sprachindex!$A:$Z,Haftungsausschluß!$O$6,FALSE)","v":"Steher VARIO 60° 80-2150 mm (Anfertigung auf Bestellung)"},null,null,null,null,null,null,null,0]
[null,null,750,0,{"$f":"VLOOKUP(\"[Stk]\",Sprachindex!$A:$Z,Haftungsausschluß!$O$6,FALSE)","v":"[Stk]"},{"$f":"IF($L$14=1,Preisliste!$E216,Preisliste!$F216)","v":"H501610"},{"$f":"VLOOKUP(\"Steher VARIO 15° 50-750 mm (Anfertigung auf Bestellung)\",Sprachindex!$A:$Z,Haftungsausschluß!$O$6,FALSE)","v":"Steher VARIO 15° 50-750 mm (Anfertigung auf Bestellung)"},null,null,null,null,null,null,null,0]
[null,null,1350,0,{"$f":"VLOOKUP(\"[Stk]\",Sprachindex!$A:$Z,Haftungsausschluß!$O$6,FALSE)","v":"[Stk]"},{"$f":"IF($L$14=1,Preisliste!$E217,Preisliste!$F217)","v":"H501611"},{"$f":"VLOOKUP(\"Steher VARIO 15° 50-1350 mm (Anfertigung auf Bestellung)\",Sprachindex!$A:$Z,Haftungsausschluß!$O$6,FALSE)","v":"Steher VARIO 15° 50-1350 mm (Anfertigung auf Bestellung)"},null,null,null,null,null,null,null,0]
[null,null,1750,0,{"$f":"VLOOKUP(\"[Stk]\",Sprachindex!$A:$Z,Haftungsausschluß!$O$6,FALSE)","v":"[Stk]"},{"$f":"IF($L$14=1,Preisliste!$E218,Preisliste!$F218)","v":"H501612"},{"$f":"VLOOKUP(\"Steher VARIO 15° 50-1750 mm (Anfertigung auf Bestellung)\",Sprachindex!$A:$Z,Haftungsausschluß!$O$6,FALSE)","v":"Steher VARIO 15° 50-1750 mm (Anfertigung auf Bestellung)"},null,null,null,null,null,null,null,0]
[null,null,2150,0,{"$f":"VLOOKUP(\"[Stk]\",Sprachindex!$A:$Z,Haftungsausschluß!$O$6,FALSE)","v":"[Stk]"},{"$f":"IF($L$14=1,Preisliste!$E219,Preisliste!$F219)","v":"H501613"},{"$f":"VLOOKUP(\"Steher VARIO 15° 50-2150 mm (Anfertigung auf Bestellung)\",Sprachindex!$A:$Z,Haftungsausschluß!$O$6,FALSE)","v":"Steher VARIO 15° 50-2150 mm (Anfertigung auf Bestellung)"},null,null,null,null,null,null,null,0]
[null,null,750,0,{"$f":"VLOOKUP(\"[Stk]\",Sprachindex!$A:$Z,Haftungsausschluß!$O$6,FALSE)","v":"[Stk]"},{"$f":"IF($L$14=1,Preisliste!$E220,Preisliste!$F220)","v":"H501620"},{"$f":"VLOOKUP(\"Steher VARIO 30° 50-750 mm (Anfertigung auf Bestellung)\",Sprachindex!$A:$Z,Haftungsausschluß!$O$6,FALSE)","v":"Steher VARIO 30° 50-750 mm (Anfertigung auf Bestellung)"},null,null,null,null,null,null,null,0]
[null,null,1350,0,{"$f":"VLOOKUP(\"[Stk]\",Sprachindex!$A:$Z,Haftungsausschluß!$O$6,FALSE)","v":"[Stk]"},{"$f":"IF($L$14=1,Preisliste!$E221,Preisliste!$F221)","v":"H501621"},{"$f":"VLOOKUP(\"Steher VARIO 30° 50-1350 mm (Anfertigung auf Bestellung)\",Sprachindex!$A:$Z,Haftungsausschluß!$O$6,FALSE)","v":"Steher VARIO 30° 50-1350 mm (Anfertigung auf Bestellung)"},null,null,null,null,null,null,null,0]
[null,null,1750,0,{"$f":"VLOOKUP(\"[Stk]\",Sprachindex!$A:$Z,Haftungsausschluß!$O$6,FALSE)","v":"[Stk]"},{"$f":"IF($L$14=1,Preisliste!$E222,Preisliste!$F222)","v":"H501622"},{"$f":"VLOOKUP(\"Steher VARIO 30° 50-1750 mm (Anfertigung auf Bestellung)\",Sprachindex!$A:$Z,Haftungsausschluß!$O$6,FALSE)","v":"Steher VARIO 30° 50-1750 mm (Anfertigung auf Bestellung)"},null,null,null,null,null,null,null,0]
[null,null,2150,0,{"$f":"VLOOKUP(\"[Stk]\",Sprachindex!$A:$Z,Haftungsausschluß!$O$6,FALSE)","v":"[Stk]"},{"$f":"IF($L$14=1,Preisliste!$E223,Preisliste!$F223)","v":"H501623"},{"$f":"VLOOKUP(\"Steher VARIO 30° 50-2150 mm (Anfertigung auf Bestellung)\",Sprachindex!$A:$Z,Haftungsausschluß!$O$6,FALSE)","v":"Steher VARIO 30° 50-2150 mm (Anfertigung auf Bestellung)"},null,null,null,null,null,null,null,0]
[null,null,750,0,{"$f":"VLOOKUP(\"[Stk]\",Sprachindex!$A:$Z,Haftungsausschluß!$O$6,FALSE)","v":"[Stk]"},{"$f":"IF($L$14=1,Preisliste!$E224,Preisliste!$F224)","v":"H501630"},{"$f":"VLOOKUP(\"Steher VARIO 45° 50-750 mm (Anfertigung auf Bestellung)\",Sprachindex!$A:$Z,Haftungsausschluß!$O$6,FALSE)","v":"Steher VARIO 45° 50-750 mm (Anfertigung auf Bestellung)"},null,null,null,null,null,null,null,0]
[null,null,1350,0,{"$f":"VLOOKUP(\"[Stk]\",Sprachindex!$A:$Z,Haftungsausschluß!$O$6,FALSE)","v":"[Stk]"},{"$f":"IF($L$14=1,Preisliste!$E225,Preisliste!$F225)","v":"H501631"},{"$f":"VLOOKUP(\"Steher VARIO 45° 50-1350 mm (Anfertigung auf Bestellung)\",Sprachindex!$A:$Z,Haftungsausschluß!$O$6,FALSE)","v":"Steher VARIO 45° 50-1350 mm (Anfertigung auf Bestellung)"},null,null,null,null,null,null,null,0]
[null,null,1750,0,{"$f":"VLOOKUP(\"[Stk]\",Sprachindex!$A:$Z,Haftungsausschluß!$O$6,FALSE)","v":"[Stk]"},{"$f":"IF($L$14=1,Preisliste!$E226,Preisliste!$F226)","v":"H501632"},{"$f":"VLOOKUP(\"Steher VARIO 45° 50-1750 mm (Anfertigung auf Bestellung)\",Sprachindex!$A:$Z,Haftungsausschluß!$O$6,FALSE)","v":"Steher VARIO 45° 50-1750 mm (Anfertigung auf Bestellung)"},null,null,null,null,null,null,null,0]
[null,null,2150,0,{"$f":"VLOOKUP(\"[Stk]\",Sprachindex!$A:$Z,Haftungsausschluß!$O$6,FALSE)","v":"[Stk]"},{"$f":"IF($L$14=1,Preisliste!$E227,Preisliste!$F227)","v":"H501633"},{"$f":"VLOOKUP(\"Steher VARIO 45° 50-2150 mm (Anfertigung auf Bestellung)\",Sprachindex!$A:$Z,Haftungsausschluß!$O$6,FALSE)","v":"Steher VARIO 45° 50-2150 mm (Anfertigung auf Bestellung)"},null,null,null,null,null,null,null,0]
[null,null,750,0,{"$f":"VLOOKUP(\"[Stk]\",Sprachindex!$A:$Z,Haftungsausschluß!$O$6,FALSE)","v":"[Stk]"},{"$f":"IF($L$14=1,Preisliste!$E228,Preisliste!$F228)","v":"H501640"},{"$f":"VLOOKUP(\"Steher VARIO 60° 50-750 mm (Anfertigung auf Bestellung)\",Sprachindex!$A:$Z,Haftungsausschluß!$O$6,FALSE)","v":"Steher VARIO 60° 50-750 mm (Anfertigung auf Bestellung)"},null,null,null,null,null,null,null,0]
[null,null,1350,0,{"$f":"VLOOKUP(\"[Stk]\",Sprachindex!$A:$Z,Haftungsausschluß!$O$6,FALSE)","v":"[Stk]"},{"$f":"IF($L$14=1,Preisliste!$E229,Preisliste!$F229)","v":"H501641"},{"$f":"VLOOKUP(\"Steher VARIO 60° 50-1350 mm (Anfertigung auf Bestellung)\",Sprachindex!$A:$Z,Haftungsausschluß!$O$6,FALSE)","v":"Steher VARIO 60° 50-1350 mm (Anfertigung auf Bestellung)"},null,null,null,null,null,null,null,0]
[null,null,1750,0,{"$f":"VLOOKUP(\"[Stk]\",Sprachindex!$A:$Z,Haftungsausschluß!$O$6,FALSE)","v":"[Stk]"},{"$f":"IF($L$14=1,Preisliste!$E230,Preisliste!$F230)","v":"H501642"},{"$f":"VLOOKUP(\"Steher VARIO 60° 50-1750 mm (Anfertigung auf Bestellung)\",Sprachindex!$A:$Z,Haftungsausschluß!$O$6,FALSE)","v":"Steher VARIO 60° 50-1750 mm (Anfertigung auf Bestellung)"},null,null,null,null,null,null,null,0]
[null,null,2150,0,{"$f":"VLOOKUP(\"[Stk]\",Sprachindex!$A:$Z,Haftungsausschluß!$O$6,FALSE)","v":"[Stk]"},{"$f":"IF($L$14=1,Preisliste!$E231,Preisliste!$F231)","v":"H501643"},{"$f":"VLOOKUP(\"Steher VARIO 60° 50-2150 mm (Anfertigung auf Bestellung)\",Sprachindex!$A:$Z,Haftungsausschluß!$O$6,FALSE)","v":"Steher VARIO 60° 50-2150 mm (Anfertigung auf Bestellung)"},null,null,null,null,null,null,null,0]
[null,null,750,0,{"$f":"VLOOKUP(\"[Stk]\",Sprachindex!$A:$Z,Haftungsausschluß!$O$6,FALSE)","v":"[Stk]"},{"$f":"IF($L$14=1,Preisliste!$E232,Preisliste!$F232)","v":"H501650"},{"$f":"VLOOKUP(\"Steher VARIO 75° 50-750 mm (Anfertigung auf Bestellung)\",Sprachindex!$A:$Z,Haftungsausschluß!$O$6,FALSE)","v":"Steher VARIO 75° 50-750 mm (Anfertigung auf Bestellung)"},null,null,null,null,null,null,null,0]
[null,null,1350,0,{"$f":"VLOOKUP(\"[Stk]\",Sprachindex!$A:$Z,Haftungsausschluß!$O$6,FALSE)","v":"[Stk]"},{"$f":"IF($L$14=1,Preisliste!$E233,Preisliste!$F233)","v":"H501651"},{"$f":"VLOOKUP(\"Steher VARIO 75° 50-1350 mm (Anfertigung auf Bestellung)\",Sprachindex!$A:$Z,Haftungsausschluß!$O$6,FALSE)","v":"Steher VARIO 75° 50-1350 mm (Anfertigung auf Bestellung)"},null,null,null,null,null,null,null,0]
[null,null,1750,0,{"$f":"VLOOKUP(\"[Stk]\",Sprachindex!$A:$Z,Haftungsausschluß!$O$6,FALSE)","v":"[Stk]"},{"$f":"IF($L$14=1,Preisliste!$E234,Preisliste!$F234)","v":"H501652"},{"$f":"VLOOKUP(\"Steher VARIO 75° 50-1750 mm (Anfertigung auf Bestellung)\",Sprachindex!$A:$Z,Haftungsausschluß!$O$6,FALSE)","v":"Steher VARIO 75° 50-1750 mm (Anfertigung auf Bestellung)"},null,null,null,null,null,null,null,0]
[null,null,2150,0,{"$f":"VLOOKUP(\"[Stk]\",Sprachindex!$A:$Z,Haftungsausschluß!$O$6,FALSE)","v":"[Stk]"},{"$f":"IF($L$14=1,Preisliste!$E235,Preisliste!$F235)","v":"H501653"},{"$f":"VLOOKUP(\"Steher VARIO 75° 50-2150 mm (Anfertigung auf Bestellung)\",Sprachindex!$A:$Z,Haftungsausschluß!$O$6,FALSE)","v":"Steher VARIO 75° 50-2150 mm (Anfertigung auf Bestellung)"},null,null,null,null,null,null,null,0]
[null,null,null,0,{"$f":"VLOOKUP(\"[Stk]\",Sprachindex!$A:$Z,Haftungsausschluß!$O$6,FALSE)","v":"[Stk]"},{"$f":"IF($L$14=1,Preisliste!$E236,Preisliste!$F236)","v":"-"},{"$f":"VLOOKUP(\"Steher VARIO 15° 80 Sonderlänge exkl. Dichtung, (Stangenware)\",Sprachindex!$A:$Z,Haftungsausschluß!$O$6,FALSE)","v":"Steher VARIO 15° 80 Sonderlänge exkl. Dichtung, (Stangenware)"}]
[null,null,null,0,{"$f":"VLOOKUP(\"[Stk]\",Sprachindex!$A:$Z,Haftungsausschluß!$O$6,FALSE)","v":"[Stk]"},{"$f":"IF($L$14=1,Preisliste!$E237,Preisliste!$F237)","v":"-"},{"$f":"VLOOKUP(\"Steher VARIO 30° 80 Sonderlänge exkl. Dichtung, (Stangenware)\",Sprachindex!$A:$Z,Haftungsausschluß!$O$6,FALSE)","v":"Steher VARIO 30° 80 Sonderlänge exkl. Dichtung, (Stangenware)"}]
[null,null,null,0,{"$f":"VLOOKUP(\"[Stk]\",Sprachindex!$A:$Z,Haftungsausschluß!$O$6,FALSE)","v":"[Stk]"},{"$f":"IF($L$14=1,Preisliste!$E238,Preisliste!$F238)","v":"-"},{"$f":"VLOOKUP(\"Steher VARIO 45° 80 Sonderlänge exkl. Dichtung, (Stangenware)\",Sprachindex!$A:$Z,Haftungsausschluß!$O$6,FALSE)","v":"Steher VARIO 45° 80 Sonderlänge exkl. Dichtung, (Stangenware)"}]
[null,null,null,0,{"$f":"VLOOKUP(\"[Stk]\",Sprachindex!$A:$Z,Haftungsausschluß!$O$6,FALSE)","v":"[Stk]"},{"$f":"IF($L$14=1,Preisliste!$E239,Preisliste!$F239)","v":"-"},{"$f":"VLOOKUP(\"Steher VARIO 60° 80 Sonderlänge exkl. Dichtung, (Stangenware)\",Sprachindex!$A:$Z,Haftungsausschluß!$O$6,FALSE)","v":"Steher VARIO 60° 80 Sonderlänge exkl. Dichtung, (Stangenware)"}]
[null,null,null,0,{"$f":"VLOOKUP(\"[Stk]\",Sprachindex!$A:$Z,Haftungsausschluß!$O$6,FALSE)","v":"[Stk]"},{"$f":"IF($L$14=1,Preisliste!$E240,Preisliste!$F240)","v":"-"},{"$f":"VLOOKUP(\"Steher VARIO 15° 50 Sonderlänge exkl. Dichtung, (Stangenware)\",Sprachindex!$A:$Z,Haftungsausschluß!$O$6,FALSE)","v":"Steher VARIO 15° 50 Sonderlänge exkl. Dichtung, (Stangenware)"}]
[null,null,null,0,{"$f":"VLOOKUP(\"[Stk]\",Sprachindex!$A:$Z,Haftungsausschluß!$O$6,FALSE)","v":"[Stk]"},{"$f":"IF($L$14=1,Preisliste!$E241,Preisliste!$F241)","v":"-"},{"$f":"VLOOKUP(\"Steher VARIO 30° 50 Sonderlänge exkl. Dichtung, (Stangenware)\",Sprachindex!$A:$Z,Haftungsausschluß!$O$6,FALSE)","v":"Steher VARIO 30° 50 Sonderlänge exkl. Dichtung, (Stangenware)"}]
[null,null,null,0,{"$f":"VLOOKUP(\"[Stk]\",Sprachindex!$A:$Z,Haftungsausschluß!$O$6,FALSE)","v":"[Stk]"},{"$f":"IF($L$14=1,Preisliste!$E242,Preisliste!$F242)","v":"-"},{"$f":"VLOOKUP(\"Steher VARIO 45° 50 Sonderlänge exkl. Dichtung, (Stangenware)\",Sprachindex!$A:$Z,Haftungsausschluß!$O$6,FALSE)","v":"Steher VARIO 45° 50 Sonderlänge exkl. Dichtung, (Stangenware)"}]
[null,null,null,0,{"$f":"VLOOKUP(\"[Stk]\",Sprachindex!$A:$Z,Haftungsausschluß!$O$6,FALSE)","v":"[Stk]"},{"$f":"IF($L$14=1,Preisliste!$E243,Preisliste!$F243)","v":"-"},{"$f":"VLOOKUP(\"Steher VARIO 60° 50 Sonderlänge exkl. Dichtung, (Stangenware)\",Sprachindex!$A:$Z,Haftungsausschluß!$O$6,FALSE)","v":"Steher VARIO 60° 50 Sonderlänge exkl. Dichtung, (Stangenware)"}]
[null,null,null,0,{"$f":"VLOOKUP(\"[Stk]\",Sprachindex!$A:$Z,Haftungsausschluß!$O$6,FALSE)","v":"[Stk]"},{"$f":"IF($L$14=1,Preisliste!$E244,Preisliste!$F244)","v":"-"},{"$f":"VLOOKUP(\"Steher VARIO 75° 50 Sonderlänge exkl. Dichtung, (Stangenware)\",Sprachindex!$A:$Z,Haftungsausschluß!$O$6,FALSE)","v":"Steher VARIO 75° 50 Sonderlänge exkl. Dichtung, (Stangenware)"}]
[null,null,null,null,{"$f":"VLOOKUP(\"Pa\",Sprachindex!$A:$Z,Haftungsausschluß!$O$6,FALSE)","v":"Pa"},"-",{"$f":"VLOOKUP(\"Frachtkosten\",Sprachindex!$A:$Z,Haftungsausschluß!$O$6,FALSE)","v":"Frachtkosten"}]
[null,1,null,null,null,null,null,null,null,null,null,null,null,{"$f":"IF(AND(Q4=1,OR(Q5=1,AJ205>=300),(Q7-O208-O209-O210)>=Preisliste!G176,P11=0),AA669,AB669)","v":"Summe"},{"$f":"Q7","v":0},null,null,null,null,null,null,null,null,null,null,null,{"$f":"VLOOKUP(\"Endsumme exkl. MwSt.\",Sprachindex!$A:$Z,Haftungsausschluß!$O$6,FALSE)","v":"Endsumme exkl. MwSt."},{"$f":"VLOOKUP(\"Summe\",Sprachindex!$A:$Z,Haftungsausschluß!$O$6,FALSE)","v":"Summe"}]
[null,1,null,null,null,null,null,null,null,null,null,null,null,{"$f":"IF(N669=AB669,IF(P11<>0,AA670,IF((Q7-O208-O209-O210)<Preisliste!G176,AB670,IF(AND(Q5=2,AJ205<Preisliste!G171),AC670,IF(Q4=2,AD670,0)))),\"\")","v":"Rabatt -10 %"},{"$f":"IF(N670=AA670,O669/100*P11,IF(N670=AB670,Preisliste!G175,IF(N670=AC670,Preisliste!G170,IF(N670=AD670,O669/100*Haftungsausschluß!J31,\"\"))))","v":0},{"$f":"IF(Haftungsausschluß!$O$6=7,27,20)","v":20},null,null,null,null,null,null,null,null,null,null,{"$f":"VLOOKUP(\"Rabatt\",Sprachindex!$A:$Z,Haftungsausschluß!$O$6,FALSE) & \" \" & P11& \" %\"","v":"Rabatt -10 %"},{"$f":"VLOOKUP(\"Frachtkosten\",Sprachindex!$A:$Z,Haftungsausschluß!$O$6,FALSE)","v":"Frachtkosten"},{"$f":"VLOOKUP(\"Beschichtungspauschale\",Sprachindex!$A:$Z,Haftungsausschluß!$O$6,FALSE)","v":"Beschichtungspauschale"},{"$f":"\"+ \" &Haftungsausschluß!J31 & \" % \" & VLOOKUP(\"MwSt.\",Sprachindex!$A:$Z,Haftungsausschluß!$O$6,FALSE)","v":"+ 7.7 % MwSt."}]
[null,1,null,null,null,null,null,null,null,null,null,null,null,{"$f":"IF(AND(Q4=1,AND(Q5=2,AJ205<Preisliste!G171),N670<>AC670),AC671,IF(AND(Q4=1,(Q7-O208-O209-O210)<Preisliste!G176,N670<>AB670),AB671,IF(AND(Q4=1,OR(N670=AA670,N670=AB670,N670=AC670)),AA671,IF(AND(N670=AD670,Q4=2),AF671,IF(OR(AND((Q7-O208-O209-O210)<Preisliste!G176,P11=0,OR(Q5=1,AND(Q5=2,Q6>Preisliste!G171)))),AE671,IF(OR(AND((Q7-O208-O209-O210)>=Preisliste!G176,P11<>0,OR(Q5=1,AND(Q5=2,Q6>Preisliste!G171)))),AE671,IF(OR(AND((Q7-O208-O209-O210)>=Preisliste!G176,P11=0,AND(Q5=2,Q6<Preisliste!G171))),AE671,IF(OR(AND((Q7-O208-O209-O210)>=Preisliste!G176,P11<>0,AND(Q5=2,Q6<Preisliste!G171))),AC671,IF(OR(AND((Q7-O208-O209-O210)<Preisliste!G176,P11<>0,OR(Q5=1,AND(Q5=2,Q6>Preisliste!G171)))),AB671,IF(OR(AND((Q7-O208-O209-O210)<Preisliste!G176,P11<>0,AND(Q5=2,Q6<Preisliste!G171))),AC671,IF(OR(AND((Q7-O208-O209-O210)<Preisliste!G176,P11=0,AND(Q5=2,Q6<Preisliste!G171))),AC671,\"\")))))))))))","v":"Frachtkosten"},{"$f":"IF(N671=AA671,O669+O670,IF(N671=AC671,Preisliste!G170,IF(N671=AB671,Preisliste!G175,IF(N671=AD671,(O669+O670)/100*Haftungsausschluß!J31,IF(N671=AF671,O669+O670,IF(N671=AE671,O669+O670,\"\"))))))","v":100},null,null,null,null,null,null,null,null,null,null,null,{"$f":"VLOOKUP(\"Endsumme exkl. MwSt.\",Sprachindex!$A:$Z,Haftungsausschluß!$O$6,FALSE)","v":"Endsumme exkl. MwSt."},{"$f":"VLOOKUP(\"Frachtkosten\",Sprachindex!$A:$Z,Haftungsausschluß!$O$6,FALSE)","v":"Frachtkosten"},{"$f":"VLOOKUP(\"Beschichtungspauschale\",Sprachindex!$A:$Z,Haftungsausschluß!$O$6,FALSE)","v":"Beschichtungspauschale"},{"$f":"\"+ \" &Haftungsausschluß!J31 & \" % \" & VLOOKUP(\"MwSt.\",Sprachindex!$A:$Z,Haftungsausschluß!$O$6,FALSE)","v":"+ 7.7 % MwSt."},{"$f":"VLOOKUP(\"Zwischensumme\",Sprachindex!$A:$Z,Haftungsausschluß!$O$6,FALSE)","v":"Zwischensumme"},{"$f":"VLOOKUP(\"Endsumme inkl. MwSt.\",Sprachindex!$A:$Z,Haftungsausschluß!$O$6,FALSE)","v":"Endsumme inkl. MwSt."}]
[null,1,null,null,null,null,null,null,null,null,null,null,null,{"$f":"IF(AND(P11<>0,AND(Q5=2,Q6<Preisliste!G171),(Q7-O208-O209-O210)<Preisliste!G176),AB672,IF(AND(Q4=1,OR(N671=AC671,N671=AB671)),AA672,IF(N671=AD671,AE672,IF(AND(N671=AC671,O267>=Preisliste!G176),AC672,IF(OR(AND((Q7-O208-O209-O210)<Preisliste!G176,P11<>0,OR(Q5=1,AND(Q5=2,Q6>Preisliste!G171)))),AE671,IF(OR(AND((Q7-O208-O209-O210)<Preisliste!G176,P11=0,AND(Q5=2,Q6<Preisliste!G171))),AE671,IF(N671=AE671,AC672,IF(AND(N670=AA670,N671=AC671),AD672,\"\"))))))))","v":"Endsumme exkl. MwSt."},{"$f":"IF(N672=AA672,O669+O670+O671,IF(N672=AB672,Preisliste!G175,IF(N672=AE672,O669+O670+O671,IF(N672=AC672,O671/100*Haftungsausschluß!J31,IF(N672=AD672,O669+O670+O671,\"\")))))","v":100},null,null,null,null,null,null,null,null,null,null,null,{"$f":"VLOOKUP(\"Endsumme exkl. MwSt.\",Sprachindex!$A:$Z,Haftungsausschluß!$O$6,FALSE)","v":"Endsumme exkl. MwSt."},{"$f":"VLOOKUP(\"Frachtkosten\",Sprachindex!$A:$Z,Haftungsausschluß!$O$6,FALSE)","v":"Frachtkosten"},{"$f":"\"+ \" &Haftungsausschluß!J31 & \" % \" & VLOOKUP(\"MwSt.\",Sprachindex!$A:$Z,Haftungsausschluß!$O$6,FALSE)","v":"+ 7.7 % MwSt."},{"$f":"VLOOKUP(\"Zwischensumme\",Sprachindex!$A:$Z,Haftungsausschluß!$O$6,FALSE)","v":"Zwischensumme"},{"$f":"VLOOKUP(\"Endsumme inkl. MwSt.\",Sprachindex!$A:$Z,Haftungsausschluß!$O$6,FALSE)","v":"Endsumme inkl. MwSt."}]
[null,1,null,null,null,null,null,null,null,null,null,null,null,{"$f":"IF(AND(Q4=1,N672=AB671),AA672,IF(N672=AC672,AD673,IF(OR(AND((Q7-O208-O209-O210)<Preisliste!G176,P11<>0,AND(Q5=2,Q6<Preisliste!G171))),AC673,IF(N672=AD672,AB673,\"\"))))","v":""},{"$f":"IF(N673=AA673,O669+O670+O671+O672,IF(N673=AD673,O671+O672,IF(N673=AB673,O672/100*Haftungsausschluß!J31,IF(N673=AC673,O669+O670+O671+O672,\"\"))))","v":""},null,null,null,null,null,null,null,null,null,null,null,{"$f":"VLOOKUP(\"Endsumme exkl. MwSt.\",Sprachindex!$A:$Z,Haftungsausschluß!$O$6,FALSE)","v":"Endsumme exkl. MwSt."},{"$f":"\"+ \" &Haftungsausschluß!J31 & \" % \" & VLOOKUP(\"MwSt.\",Sprachindex!$A:$Z,Haftungsausschluß!$O$6,FALSE)","v":"+ 7.7 % MwSt."},{"$f":"VLOOKUP(\"Zwischensumme\",Sprachindex!$A:$Z,Haftungsausschluß!$O$6,FALSE)","v":"Zwischensumme"},{"$f":"VLOOKUP(\"Endsumme inkl. MwSt.\",Sprachindex!$A:$Z,Haftungsausschluß!$O$6,FALSE)","v":"Endsumme inkl. MwSt."}]
[null,1,null,null,null,null,null,null,null,null,null,null,null,{"$f":"IF(N673=AC673,AA674,IF(N673=AC673,AC674,IF(N673=AB673,AB674,\"\")))","v":""},{"$f":"IF(N674=AB674,O672+O673,IF(N674=AA674,O673/100*Haftungsausschluß!J31,\"\"))","v":""},null,null,null,null,null,null,null,null,null,null,null,{"$f":"\"+ \" &Haftungsausschluß!J31 & \" % \" & VLOOKUP(\"MwSt.\",Sprachindex!$A:$Z,Haftungsausschluß!$O$6,FALSE)","v":"+ 7.7 % MwSt."},{"$f":"VLOOKUP(\"Endsumme inkl. MwSt.\",Sprachindex!$A:$Z,Haftungsausschluß!$O$6,FALSE)","v":"Endsumme inkl. MwSt."}]
[null,1,null,null,null,null,null,null,null,null,null,null,null,{"$f":"IF(N674=AA674,AA675,\"\")","v":""},{"$f":"IF(N675=AA675,O673+O674,\"\")","v":""},null,null,null,null,null,null,null,null,null,null,null,{"$f":"VLOOKUP(\"Endsumme inkl. MwSt.\",Sprachindex!$A:$Z,Haftungsausschluß!$O$6,FALSE)","v":"Endsumme inkl. MwSt."}]
[null,{"$f":"IF(Erhebungsbogen!C460>0,Erhebungsbogen!C460,\" \")","v":" "}]
[null,{"$f":"IF(Erhebungsbogen!C462>0,Erhebungsbogen!C462,\" \")","v":" "}]
[null,{"$f":"VLOOKUP(\"Hinweis: Angebotsgültigkeit 1 Monat; Lieferzeit auf Anfrage; kein Montagematerial enthalten\",Sprachindex!A:Z,Haftungsausschluß!$O$6,FALSE)","v":"Hinweis: Angebotsgültigkeit 1 Monat; Lieferzeit auf Anfrage; kein Montagematerial enthalten"}]
[]
[]
[]
[]
[]
[]
[]
[]
[]
[]
[]
[]
[]
[]
[]
[]
[]
[]
[]
[]
[]
[]
[]
[]
[]
[]
[]
[]
[]
[]
[]
[]
[]
[]
[]
[]
[]
[]
[]
[]
[]
[]
[]
[]
[]
[]
[]
[]
[]
[]
[]
[]
[]
[]
[]
[]
[]
[]
[]
[]
[]
[]
[]
[]
[]
[]
[]
[]
[]
[]
[]
[]
[]
[]
[]
[]
[]
[]
[]
[]
[]
[]
[]
[]
[]
[]
[]
[]
[]
[]
[]
[]
[]
[]
[]
[]
[]
[]
[]
[]
[]
[]
[]
[]
[]
[]
[]
[]
[]
[]
[]
[]
[]
[]
[]
[]
[]
[]
[]
[]
[]
[]
[]
[]
[]
[]
[]
[]
[]
[]
[]
[]
[]
[]
[]
[]
[]
[]
[]
[]
[]
[]
[]
[]
[]
[]
[]
[]
[]
[]
[]
[]
[]
[]
[]
[]
[]
[]
[]
[]
[]
[]
[]
[]
[]
[]
[]
[]
[]
[]
[]
[]
[]
[]
[]
[]
[]
[]
[]
[]
[]
[]
[]
[]
[]
[]
[]
[]
[]
[]
[]
[]
[]
[]
[]
[]
[]
[]
[]
[]
[]
[]
[]
[]
[]
[]
[]
[]
[]
[]
[]
[]
[]
[]
[]
[]
[]
[]
[]
[]
[]
[]
[]
[]
[]
[]
[]
[]
[]
[]
[]
[]
[]
[]
[]
[]
[]
[]
[]
[]
[]
[]
[]
[]
[]
[]
[]
[]
[]
[]
[]
[]
[]
[]
[]
[]
[]
[]
[]
[]
[]
[]
[]
[]
[]
[]
[]
[]
[]
[]
[]
[]
[]
[]
[]
[]
[]
[]
[]
[]
[]
[]
[]
[]
[]
[]
[]
[]
[]
[]
[]
[]
[]
[]
[]
[]
[]
[]
[]
[]
[]
[]
[]
[]
[]
[]
[]
[]
[]
[]
[]
[]
[]
[]
[]
[]
[]
[]
[]
[]
[]
[]
[]
[]
[]
[]
[]
[]
[]
[]
[]
[]
[]
[]
[]
[]
[]
[]
[]
[]
[]
[]
[]
[]
[]
[]
[]
[]
[]
[]
[]
[]
[]
[]
[]
[]
[]
[]
[]
[]
[]
[]
[]
[]
[]
[]
[]
[]
[]
[]
[]
[]
[]
[]
[]
[]
[]
[]
[]
[]
[]
[]
[]
[]
[]
[]
[]
[]
[]
[]
[]
[]
[]
[]
[]
[]
[]
[]
[]
[]
[]
[]
[]
[]
[]
[]
[]
[]
[]
[]
[]
[]
[]
[]
[]
[]
[]
[]
[]
[]
[]
[]
[]
[]
[]
[]
[]
[]
[]
[]
[]
[]
[]
[]
[]
[]
[]
[]
[]
[]
[]
[]
[]
[]
[]
[]
[]
[]
[]
[]
[]
[]
[]
[]
[]
[]
[]
[]
[]
[]
[]
[]
[]
[]
[]
[]
[]
[]
[]
[]
[]
[]
[]
[]
[]
[]
[]
[]
[]
[]
[]
[]
[]
[]
[]
[]
[]
[]
[]
[]
[]
[]
[]
[]
[]
[]
[]
[]
[]
[]
[]
[]
[]
[]
[]
[]
[]
[]
[]
[]
[]
[]
[]
[]
[]
[]
[]
[]
[]
[]
[]
[]
[]
[]
[]
[]
[]
[]
[]
[]
[]
[]
[]
[]
[]
[]
[]
[]
[]
[]
[]
[]
[]
[]
[]
[]
[]
[]
[]
[]
[]
[]
[]
[]
[]
[]
[]
[]
[]
[]
[]
[]
[]
[]
[]
[]
[]
[]
[]
[]
[]
[]
[]
[]
[]
[]
[]
[]
[]
[]
[]
[]
[]
[]
[]
[]
[]
[]
[]
[]
[]
[]
[]
[]
[]
[]
[]
[]
[]
[]
[]
[]
[]
[]
[]
[]
[]
[]
[]
[]
[]
[]
[]
[]
[]
[]
[]
[]
[]
[]
[]
[]
[]
[]
[]
[]
[]
[]
[]
[]
[]
[]
[]
[]
[]
[]
[]
[]
[]
[]
[]
[]
[]
[]
[]
[]
[]
[]
[]
[]
[]
[]
[]
[]
[]
[]
[]
[]
[]
[]
[]
[]
[]
[]
[]
[]
[]
[]
[]
[]
[]
[]
[]
[]
[]
[]
[]
[]
[]
[]
[]
[]
[]
[]
[]
[]
[]
[]
[]
[]
[]
[]
[]
[]
[]
[]
[]
[]
[]
[]
[]
[]
[]
[]
[]
[]
[]
[]
[]
[]
[]
[]
[]
[]
[]
[]
[]
[]
[]
[]
[]
[]
[]
[]
[]
[]
[]
[]
[]
[]
[]
[]
[]
[]
[]
[]
[]
[]
[]
[]
[]
[]
[]
[]
[]
[]
[]
[]
[]
[]
[]
[]
[]
[]
[]
[]
[]
[]
[]
[]
[]
[]
[]
[]
[]
[]
[]
[]
[]
[]
[]
[]
[]
[]
[]
[]
[]
[]
[]
[]
[]
[]
[]
[]
[]
[]
[]
[]
[]
[]
[]
[]
[]
[]
[]
[]
[]
[]
[]
[]
[]
[]
[]
[]
[]
[]
[]
[]
[]
[]
[]
[]
[]
[]
[]
[]
[]
[]
[]
[]
[]
[]
[]
[]
[]
[]
[]
[]
[]
[]
[]
[]
[]
[]
[]
[]
[]
[]
[]
[]
[]
[]
[]
[]
[]
[]
[]
[]
[]
[]
[]
[]
[]
[]
[]
[]
[]
[]
[]
[]
[]
[]
[]
[]
[]
[]
[]
[]
[]
[]
[]
[]
[]
[]
[]
[]
[]
[]
[]
[]
[]
[]
[]
[]
[]
[]
[]
[]
[]
[]
[]
[]
[]
[]
[]
[]
[]
[]
[]
[]
[]
[]
[]
[]
[]
[]
[]
[]
[]
[]
[]
[]
[]
[]
[]
[]
[]
[]
[]
[]
[]
[]
[]
[]
[]
[]
[]
[]
[]
[]
[]
[]
[]
[]
[]
[]
[]
[]
[]
[]
[]
[]
[]
[]
[]
[]
[]
[]
[]
[]
[]
[]
[]
[]
[]
[]
[]
[]
[]
[]
[]
[]
[]
[]
[]
[]
[]
[]
[]
[]
[]
[]
[]
[]
[]
[]
[]
[]
[]
[]
[]
[]
[]
[]
[]
[]
[]
[]
[]
[]
[]
[]
[]
[null,null,null,null,null,null,null,null,null,null,null,null,null,null,null,null,null,null,null,null,2,20]
[null,null,null,null,null,null,null,null,null,null,null,null,null,null,null,null,null,null,null,null,2,20]
[null,null,null,null,null,null,null,null,null,null,null,null,null,null,null,null,null,null,null,null,2,20]
[null,null,null,null,null,null,null,null,null,null,null,null,null,null,null,null,null,null,null,null,2,20]
[null,null,null,null,null,null,null,null,null,null,null,null,null,null,null,null,null,null,null,null,2,20]
[null,null,null,null,null,null,null,null,null,null,null,null,null,null,null,null,null,null,null,null,2,20]
[null,null,null,null,null,null,null,null,null,null,null,null,null,null,null,null,null,null,null,null,2,20]
[null,null,null,null,null,null,null,null,null,null,null,null,null,null,null,null,null,null,null,null,2,20]
[null,null,null,null,null,null,null,null,null,null,null,null,null,null,null,null,null,null,null,null,2,20]
[null,null,null,null,null,null,null,null,null,null,null,null,null,null,null,null,null,null,null,null,2,20]
[null,null,null,null,null,null,null,null,null,null,null,null,null,null,null,null,null,null,null,null,2,20]
[]
[]
[]
[]
[]
[]
[]
[]
[]
[]
[]
[]
[]
[]
[]
[]
[]
[]
[]
[]
[]
[]
[]
[]
[]
[]
[]
[]
[]
[]
[]
[]
[]
[]
[]
[]
[]
[]
[]
[]
[]
[]
[]
[]
[]
[]
[]
[]
[]
[]
[]
[]
[]
[]
[]
[]
[]
[]
[]
[]
[]
[]
[]
[]
[]
[]
[]
[]
[]
[]
[]
[]
[]
[]
[]
[]
[]
[]
[]
[]
[]
[]
[]
[]
[]
[]
[]
[]
[]
[null,null,null,null,null,null,null,null,null,null,null,null,null,null,null,null,null,null,null,null,2,20]
[null,null,null,null,null,null,null,null,null,null,null,null,null,null,null,null,null,null,null,null,2,20]
[null,null,null,null,null,null,null,null,null,null,null,null,null,null,null,null,null,null,null,null,2,20]
[null,null,null,null,null,null,null,null,null,null,null,null,null,null,null,null,null,null,null,null,2,20]
[null,null,null,null,null,null,null,null,null,null,null,null,null,null,null,null,null,null,null,null,2,20]
[null,null,null,null,null,null,null,null,null,null,null,null,null,null,null,null,null,null,null,null,2,20]
[null,null,null,null,null,null,null,null,null,null,null,null,null,null,null,null,null,null,null,null,2,20]
[null,null,null,null,null,null,null,null,null,null,null,null,null,null,null,null,null,null,null,null,2,20]
[null,null,null,null,null,null,null,null,null,null,null,null,null,null,null,null,null,null,null,null,2,20]
[null,null,null,null,null,null,null,null,null,null,null,null,null,null,null,null,null,null,null,null,2,20]

{"sheet":"Statik 1-Zusatzberechnungen-1","index":7,"n_rows":38,"n_cols":88,"rows_kept":38,"cut":false,"hidden":true,"merged":[[152,88,153,88],[152,76,153,76],[152,62,153,62],[152,46,153,46],[152,34,153,34],[152,20,153,20],[150,88,151,88],[150,76,151,76],[150,62,151,62],[150,46,151,46],[150,34,151,34],[150,20,151,20],[156,88,157,88],[156,76,157,76],[156,62,157,62],[156,46,157,46],[156,34,157,34],[156,20,157,20],[154,88,155,88],[154,76,155,76],[154,62,155,62],[154,46,155,46],[154,34,155,34],[154,20,155,20],[160,88,161,88],[160,76,161,76],[160,62,161,62],[160,46,161,46],[160,34,161,34],[160,20,161,20],[158,88,159,88],[158,76,159,76],[158,62,159,62],[158,46,159,46],[158,34,159,34],[158,20,159,20],[164,88,165,88],[164,76,165,76],[164,62,165,62],[164,46,165,46],[164,34,165,34],[164,20,165,20],[162,88,163,88],[162,76,163,76],[162,62,163,62],[162,46,163,46],[162,34,163,34],[162,20,163,20],[168,88,169,88],[168,76,169,76],[168,62,169,62],[168,46,169,46],[168,34,169,34],[168,20,169,20],[166,88,167,88],[166,76,167,76],[166,62,167,62],[166,46,167,46],[166,34,167,34],[166,20,167,20],[172,88,173,88],[172,76,173,76],[172,62,173,62],[172,46,173,46],[172,34,173,34],[172,20,173,20],[170,88,171,88],[170,76,171,76],[170,62,171,62],[170,46,171,46],[170,34,171,34],[170,20,171,20],[176,88,177,88],[176,76,177,76],[176,62,177,62],[176,46,177,46],[176,34,177,34],[176,20,177,20],[174,88,175,88],[174,76,175,76],[174,62,175,62],[174,46,175,46],[174,34,175,34],[174,20,175,20],[180,88,181,88],[180,76,181,76],[180,62,181,62],[180,46,181,46],[180,34,181,34],[180,20,181,20],[178,88,179,88],[178,76,179,76],[178,62,179,62],[178,46,179,46],[178,34,179,34],[178,20,179,20],[184,88,185,88],[184,76,185,76],[184,62,185,62],[184,46,185,46],[184,34,185,34],[184,20,185,20],[182,88,183,88],[182,76,183,76],[182,62,183,62],[182,46,183,46],[182,34,183,34],[182,20,183,20],[188,88,189,88],[188,76,189,76],[188,62,189,62],[188,46,189,46],[188,34,189,34],[188,20,189,20],[186,88,187,88],[186,76,187,76],[186,62,187,62],[186,46,187,46],[186,34,187,34],[186,20,187,20],[192,88,193,88],[192,76,193,76],[192,62,193,62],[192,46,193,46],[192,34,193,34],[192,20,193,20],[190,88,191,88],[190,76,191,76],[190,62,191,62],[190,46,191,46],[190,34,191,34],[190,20,191,20],[196,88,197,88],[196,76,197,76],[196,62,197,62],[196,46,197,46],[196,34,197,34],[196,20,197,20],[194,88,195,88],[194,76,195,76],[194,62,195,62],[194,46,195,46],[194,34,195,34],[194,20,195,20],[200,88,201,88],[200,76,201,76],[200,62,201,62],[200,46,201,46],[200,34,201,34],[200,20,201,20],[198,88,199,88],[198,76,199,76],[198,62,199,62],[198,46,199,46],[198,34,199,34],[198,20,199,20],[100,88,101,88],[100,76,101,76],[100,62,101,62],[100,46,101,46],[100,34,101,34],[100,20,101,20],[98,88,99,88],[98,76,99,76],[98,62,99,62],[98,46,99,46],[98,34,99,34],[98,20,99,20],[104,88,105,88],[104,76,105,76],[104,62,105,62],[104,46,105,46],[104,34,105,34],[104,20,105,20],[102,88,103,88],[102,76,103,76],[102,62,103,62],[102,46,103,46],[102,34,103,34],[102,20,103,20],[108,88,109,88],[108,76,109,76],[108,62,109,62],[108,46,109,46],[108,34,109,34],[108,20,109,20],[106,88,107,88],[106,76,107,76],[106,62,107,62],[106,46,107,46],[106,34,107,34],[106,20,107,20],[112,88,113,88],[112,76,113,76],[112,62,113,62],[112,46,113,46],[112,34,113,34],[112,20,113,20],[110,88,111,88],[110,76,111,76],[110,62,111,62],[110,46,111,46],[110,34,111,34],[110,20,111,20],[116,88,117,88],[116,76,117,76],[116,62,117,62],[116,46,117,46],[116,34,117,34],[116,20,117,20],[114,88,115,88],[114,76,115,76],[114,62,115,62],[114,46,115,46],[114,34,115,34],[114,20,115,20],[120,88,121,88],[120,76,121,76],[120,62,121,62],[120,46,121,46],[120,34,121,34],[120,20,121,20],[118,88,119,88],[118,76,119,76],[118,62,119,62],[118,46,119,46],[118,34,119,34],[118,20,119,20],[124,88,125,88],[124,76,125,76],[124,62,125,62],[124,46,125,46],[124,34,125,34],[124,20,125,20],[122,88,123,88],[122,76,123,76],[122,62,123,62],[122,46,123,46],[122,34,123,34],[122,20,123,20],[128,88,129,88],[128,76,129,76],[128,62,129,62],[128,46,129,46],[128,34,129,34],[128,20,129,20],[126,88,127,88],[126,76,127,76],[126,62,127,62],[126,46,127,46],[126,34,127,34],[126,20,127,20],[132,88,133,88],[132,76,133,76],[132,62,133,62],[132,46,133,46],[132,34,133,34],[132,20,133,20],[130,88,131,88],[130,76,131,76],[130,62,131,62],[130,46,131,46],[130,34,131,34],[130,20,131,20],[136,88,137,88],[136,76,137,76],[136,62,137,62],[136,46,137,46],[136,34,137,34],[136,20,137,20],[134,88,135,88],[134,76,135,76],[134,62,135,62],[134,46,135,46],[134,34,135,34],[134,20,135,20],[140,88,141,88],[140,76,141,76],[140,62,141,62],[140,46,141,46],[140,34,141,34],[140,20,141,20],[138,88,139,88],[138,76,139,76],[138,62,139,62],[138,46,139,46],[138,34,139,34],[138,20,139,20],[144,88,145,88],[144,76,145,76],[144,62,145,62],[144,46,145,46],[144,34,145,34],[144,20,145,20],[142,88,143,88],[142,76,143,76],[142,62,143,62],[142,46,143,46],[142,34,143,34],[142,20,143,20],[148,88,149,88],[148,76,149,76],[148,62,149,62],[148,46,149,46],[148,34,149,34],[148,20,149,20],[146,88,147,88],[146,76,147,76],[146,62,147,62],[146,46,147,46],[146,34,147,34],[146,20,147,20],[76,88,77,88],[76,76,77,76],[76,62,77,62],[76,46,77,46],[76,34,77,34],[76,20,77,20],[74,88,75,88],[74,76,75,76],[74,62,75,62],[80,88,81,88],[80,76,81,76],[80,62,81,62],[80,46,81,46],[80,34,81,34],[80,20,81,20],[78,88,79,88],[78,76,79,76],[78,62,79,62],[78,46,79,46],[78,34,79,34],[78,20,79,20],[84,88,85,88],[84,76,85,76],[84,62,85,62],[84,46,85,46],[84,34,85,34],[84,20,85,20],[82,88,83,88],[82,76,83,76],[82,62,83,62],[82,46,83,46],[82,34,83,34],[82,20,83,20],[88,88,89,88],[88,76,89,76],[88,62,89,62],[88,46,89,46],[88,34,89,34],[88,20,89,20],[86,88,87,88],[86,76,87,76],[86,62,87,62],[86,46,87,46],[86,34,87,34],[86,20,87,20],[92,88,93,88],[92,76,93,76],[92,62,93,62],[92,46,93,46],[92,34,93,34],[92,20,93,20],[90,88,91,88],[90,76,91,76],[90,62,91,62],[90,46,91,46],[90,34,91,34],[90,20,91,20],[96,88,97,88],[96,76,97,76],[96,62,97,62],[96,46,97,46],[96,34,97,34],[96,20,97,20],[94,88,95,88],[94,76,95,76],[94,62,95,62],[94,46,95,46],[94,34,95,34],[94,20,95,20],[70,62,71,62],[70,76,71,76],[70,88,71,88],[72,62,73,62],[72,76,73,76],[72,88,73,88],[66,62,67,62],[66,76,67,76],[66,88,67,88],[68,62,69,62],[68,76,69,76],[68,88,69,88],[62,62,63,62],[62,76,63,76],[62,88,63,88],[64,62,65,62],[64,76,65,76],[64,88,65,88],[58,62,59,62],[58,76,59,76],[58,88,59,88],[60,62,61,62],[60,76,61,76],[60,88,61,88],[54,62,55,62],[54,76,55,76],[54,88,55,88],[56,62,57,62],[56,76,57,76],[56,88,57,88],[50,62,51,62],[50,76,51,76],[50,88,51,88],[52,62,53,62],[52,76,53,76],[52,88,53,88],[46,62,47,62],[46,76,47,76],[46,88,47,88],[48,62,49,62],[48,76,49,76],[48,88,49,88],[42,62,43,62],[42,76,43,76],[42,88,43,88],[44,62,45,62],[44,76,45,76],[44,88,45,88],[38,62,39,62],[38,76,39,76],[38,88,39,88],[40,62,41,62],[40,76,41,76],[40,88,41,88],[74,20,75,20],[74,34,75,34],[74,46,75,46],[60,20,61,20],[60,34,61,34],[60,46,61,46],[54,20,55,20],[54,34,55,34],[54,46,55,46],[56,20,57,20],[56,34,57,34],[56,46,57,46],[50,20,51,20],[50,34,51,34],[50,46,51,46],[52,20,53,20],[52,34,53,34],[52,46,53,46],[36,62,37,62],[36,76,37,76],[36,88,37,88],[70,20,71,20],[70,34,71,34],[70,46,71,46],[72,20,73,20],[72,34,73,34],[72,46,73,46],[66,20,67,20],[66,34,67,34],[66,46,67,46],[68,20,69,20],[68,34,69,34],[68,46,69,46],[62,20,63,20],[62,34,63,34],[62,46,63,46],[64,20,65,20],[64,34,65,34],[64,46,65,46],[58,20,59,20],[58,34,59,34],[58,46,59,46],[33,21,33,33],[33,35,33,41],[33,43,33,45],[46,20,47,20],[46,34,47,34],[46,46,47,46],[48,20,49,20],[48,34,49,34],[48,46,49,46],[42,20,43,20],[42,34,43,34],[42,46,43,46],[44,20,45,20],[44,34,45,34],[44,46,45,46],[34,6,34,7],[36,20,37,20],[36,34,37,34],[36,46,37,46],[38,20,39,20],[38,34,39,34],[38,46,39,46],[40,20,41,20],[40,34,41,34],[40,46,41,46]]}
["Schnittgrößen und Bemessung:"]
[null,null,null,null,4,3,2,1,null,null,null,null,{"$f":"IF('Kalkulation 1'!$AM$17=1,$H$3,IF('Kalkulation 1'!$AM$17=2,$G$3,IF('Kalkulation 1'!$AM$17=3,$F$3,IF('Kalkulation 1'!$AM$17=4,$E$3,0))))","v":"50/200"}]
[null,null,null,"Statik Dammbalken:","80/200","50/200","50/150","25/200",null,null,null,null,"50/200"]
[null,null,null,"Trägheitsmoment:  J",3201932,644509,826200,123585,"mm4"]
["charakteristische Belastung der ",null,null,null,null,null,null,null,null,null,null,"Materialdaten:",null,null,null,null,"dyn. Daten:"]
[null,null,null,null,null,null,null,null,null,null,null,"ENAW 6063 T66 ",null,null,null,null,"Fließgeschwindigkeit: v",{"$f":"Haftungsausschluß!F31","v":4},"m/s"]
["Seitenprofile in Druckrichtung",null,null,"Balkenhöhe h:",200,200,150,200,"mm",null,null,"Streckgrenze Rp 0,2: fo",200,"N/mm2",null,null,"Anströmwinkel: d",0,"°"]
[null,null,null,"Balkenbreite b:",80,50,50,25,"mm",null,null,"E Modul: EAL",70000,"N/mm2",null,null,"anprallende Treibgutmasse: m",{"$f":"Haftungsausschluß!F32","v":0.4},"t"]
["w max",null,null,"Gewicht:",7.7839999999999998,4.12,5.6239999999999997,2.99,"kg",null,null,"Teilsicherheit Material: gM",1.1000000000000001,null,null,null,"Dichte Wasser inkl. Geschiebe:  rw ",{"$f":"Haftungsausschluß!F30","v":1000},"kg/m³"]
["[kN/m]",null,null,"Gewicht/m²",{"$f":"1000/E7*E9","v":38.92},{"$f":"1000/F7*F9","v":20.6},37.493333333333332,14.93,"kg",null,null,"Wichte Wasser: gw",{"$f":"R9/10^8","v":1.0000000000000001E-5},"N/mm³ (10kN/m³)"]
[]
[]
[]
[]
[]
[]
[]
[]
[]
[null,null,null,"Statik Rundprofil:","S8246","S6598","S6598","S10464"]
[]
[null,null,null,"Trägheitsmoment:",10515101,7259076,7259076,20794202,"mm4"]
[null,null,null,"max. Randfaserabstand:",71,{"$f":"137.1-66.2","v":70.899999999999991},{"$f":"137.1-66.2","v":70.899999999999991},92.75,"mm"]
[null,null,null,"Widerstandsmoment:",{"$f":"E22/E23","v":148100.01408450704},{"$f":"F22/F23","v":102384.71086036673},102384.71086036673,224196.24797843664,"mm³"]
[null,null,null,"Durchmesser:",140,140,140,185.5,"mm"]
[null,null,null,"Gewicht je lfm:",11.257999999999999,10.401,10.401,14.569051499999999,"kg/m"]
[]
[]
[null,null,null,null,null,null,null,null,null,null,null,"Dammbalken Daten",null,null,null,null,null,null,null,null,null,null,null,null,null,null,null,null,null,null,null,null,null,null,null,null,null,null,null,null,null,null,null,null,null,null,null,null,null,null,null,null,null,"Steher Daten"]
[null,null,null,null,null,null,null,null,null,null,null,"Balkenhöhe h:","Balkenbreite b:","Gewicht:","Gewicht/m²","Trägheitsmoment:  J","Widerstandsmoment:",null,null,null,null,null,null,null,null,null,null,null,null,null,null,null,null,null,null,null,null,null,null,null,null,null,null,null,null,null,null,null,null,null,null,null,null,"Durchmesser D:","Länge Rundprofil lR:","Gewicht:","Trägheitsmoment:","Widerstandsmoment;"]
[null,null,null,null,null,null,null,null,null,null,null,"mm","mm","kg/m","kg/m²","mm4","mm3",null,null,null,null,null,null,null,null,null,null,null,null,null,null,null,null,null,null,null,null,null,null,null,null,null,null,null,null,null,null,null,null,null,null,null,null,"mm","mm","kg","mm4","mm3"]
[null,null,null,null,null,null,null,null,null,null,null,200,50,4.12,{"$f":"1000/L32*N32","v":20.6},644509,25780.36,null,null,null,null,null,null,null,null,null,null,null,null,null,null,null,null,null,null,null,null,null,null,null,null,null,null,null,null,null,null,null,null,null,null,null,null,140,1050,10.921049999999999,7259076,102384.71086036673]
[]
[null,null,null,null,null,null,null,null,null,null,null,null,null,null,null,null,null,null,null,null,null,"Hydrodynamisch & Hydrostatisch",null,null,null,null,null,null,null,null,null,null,null,null,null,"Treibgut",null,null,null,null,null,null,null,"Kombination Hydrodynamisch + Hydrostatisch + Treibgut"]
[null,null,null,null,null,null,null,null,null,null,"Gewicht je Balken:","Hydrodynamischer Druck am Balken: pStr","Hydrostatischer Druck am Balken: p0","Hydrostatischer + Hydrodynamischer Druck am Balken: pmax","Durchbiegung HD:  f","Durchbiegung HS:  f","Durchbiegung HD+HS:  f","Stützweite / Durchbiegung HD:  D","Stützweite / Durchbiegung HS:  D","Stützweite / Durchbiegung HD+HS:  D",null,"Moment zufolge HD: Mk","Moment zufolge HS: Mk","Moment zufolge HD+HS: Mk","Teilsicherheit Last: gL","Bemessungsmoment HD: Msd","Bemessungsmoment HS: Msd","Bemessungsmoment HD+HS: Msd","Spannung HD: smax","Spannung HS: smax","Spannung HD+HS: smax","Ausnutzung HD:","Ausnutzung HS:","Ausnutzung HD+HS:",null,"Ersatzfedersteifigkeit: cf","Ersatzlast für Treibgutanprall: F","Moment zufolge Treibgut: MT","Teilsicherheit Last: gL","Bemessungsmoment Treibgut: MsdT","Spannung  infolge Treibgut: sT","Ausnutzung:",null,"Kombinationsbeiwert:","Spannung  zufolge pStr, p0, F: Sk","Ausnutzung  zufolge pStr, p0, F:",null,null,null,null,null,null,null,"Hydrodynamischer Druck am steher: pStr","Hydrostatischer Druck am Steher: p0","Hydrostatischer + Hydrodynamischer Druck am Balken: pmax",null,null,"Durchbiegung:  f",null,null,"Stützweite / Durchbiegung:  D",null,null,null,"Moment zufolge Gesamtdruck: Mk","Teilsicherheit Last: gL",null,null,"Bemessungsmoment: Msd",null,null,"Spannung: smax",null,null,"Ausnutzung: ",null,"Ersatzfedersteifigkeit: cf","Ersatzlast für Treibgutanprall: F","Moment zufolge Treibgut: MT","Teilsicherheit Last: gL","Bemessungsmoment Treibgut: MsdT","Spannung  infolge Treibgut: sT","Ausnutzung:",null,"Kombinationsbeiwert:","Spannung  zufolge pStr, p0, F: Sk","Ausnutzung  zufolge pStr, p0, F:"]
[]
[null,null,null,null,null,null,null,null,"BHW","Dammbalken 1",0.35431999999999997,null,-0.2,-0.2,null,-3.157443255622645E-6,-3.157443255622645E-6,null,-27237227.413938396,-27237227.413938396,-27237227.413938396,null,-1.8489999999999999E-4,-1.8489999999999999E-4,1.35,0,-2.4961500000000001E-4,-2.4961500000000001E-4,0,-9.6823706108060559E-3,-9.6823706108060559E-3,0,-5.3253038359433312E-5,-5.3253038359433312E-5,-5.3253038359433312E-5,10213960.280226897,0,0,1.35,0,0,0,null,1,-9.6823706108060559E-3,-5.3253038359433312E-5,-5.3253038359433312E-5]
[null,null,null,null,null,null,null,null,"BHW+Freibord-Voll","Dammbalken 1",0.35431999999999997,null,-0.2,-0.2,null,-3.157443255622645E-6,-3.157443255622645E-6,null,-27237227.413938396,-27237227.413938396,null,null,-1.8489999999999999E-4,-1.8489999999999999E-4,1.2150000000000001,0,-2.2465350000000001E-4,-2.2465350000000001E-4,0,-8.7141335497254498E-3,-8.7141335497254498E-3,0,-4.7927734523489982E-5,-4.7927734523489982E-5,null,10213960.280226897,0,0,1.2150000000000001,0,0,0,null,1,-8.7141335497254498E-3,-4.7927734523489982E-5]

{"sheet":"HWS-Stückliste-Statik-1","index":8,"n_rows":10,"n_cols":80,"rows_kept":10,"cut":false,"hidden":true,"merged":[[3,14,5,29],[5,10,5,11],[5,12,5,13],[5,30,5,33],[5,34,5,36],[6,10,6,11],[3,10,3,11],[3,12,3,13],[6,12,6,13],[4,10,4,11],[4,12,4,13],[6,74,6,76],[7,30,7,33],[7,34,7,36],[6,70,6,73],[3,54,5,69],[6,34,6,36],[4,30,4,33],[4,34,4,36],[4,50,4,51],[4,74,4,76],[5,52,5,53],[5,70,5,73],[5,74,5,76],[5,50,5,51],[3,50,3,51],[3,52,3,53],[4,52,4,53],[6,30,6,33],[4,70,4,73],[6,50,6,51],[6,52,6,53]]}
[null,null,null,null,null,null,null,null,null,null,null,null,null,null,null,null,null,null,null,null,null,null,null,null,null,null,null,null,null,null,null,null,null,null,null,null,null,null,null,{"$f":"VLOOKUP(\"PREFA HOCHWASSERSCHUTZ SYSTEM\",Sprachindex!$A:$Z,Haftungsausschluß!$O$6,FALSE)","v":"PREFA HOCHWASSERSCHUTZ SYSTEM"},null,null,null,null,null,null,null,null,null,null,null,null,null,null,null,null,null,null,null,null,null,null,null,null,null,null,null,null,null,null,null,null,null,null,null,null,null,null,null,{"$f":"VLOOKUP(\"PREFA HOCHWASSERSCHUTZ SYSTEM\",Sprachindex!$A:$Z,Haftungsausschluß!$O$6,FALSE)","v":"PREFA HOCHWASSERSCHUTZ SYSTEM"}]
[null,null,null,null,null,null,null,null,null,null,null,null,null,null,null,null,null,null,null,null,null,null,null,null,null,null,null,null,null,null,null,null,null,null,null,null,null,null,null,{"$f":"VLOOKUP(\"KALKULATION\",Sprachindex!$A:$Z,Haftungsausschluß!$O$6,FALSE) & \" \" & T7","v":"KALKULATION 1"},null,null,null,null,null,null,null,null,null,null,null,null,null,null,null,null,null,null,null,null,null,null,null,null,null,null,null,null,null,null,null,null,null,null,null,null,null,null,null,{"$f":"VLOOKUP(\"KALKULATION\",Sprachindex!$A:$Z,Haftungsausschluß!$O$6,FALSE) & \" \" & T7","v":"KALKULATION 1"}]
[null,null,null,null,{"$f":"VLOOKUP(\"Dynamische Daten:\",Sprachindex!A:Z,Haftungsausschluß!$O$6,FALSE)","v":"Dynamische Daten:"},null,null,null,null,null,null,null,null,null,null,null,null,null,null,null,null,null,null,null,null,null,null,null,null,null,null,null,null,null,null,null,null,null,null,null,null,null,null,null,{"$f":"VLOOKUP(\"Dynamische Daten:\",Sprachindex!A:Z,Haftungsausschluß!$O$6,FALSE)","v":"Dynamische Daten:"}]
[null,null,null,null,{"$f":"VLOOKUP(\"Fließgeschwindigkeit:\",Sprachindex!A:Z,Haftungsausschluß!$O$6,FALSE)","v":"Fließgeschwindigkeit:"},null,null,null,null,null,{"$f":"Haftungsausschluß!F31","v":4},null,"m/s",null,{"$f":"VLOOKUP(\"STATIK DAMMBALKEN\",Sprachindex!A:Z,Haftungsausschluß!$O$6,FALSE)","v":"STATIK DAMMBALKEN"},null,null,null,null,null,null,null,null,null,null,null,null,null,null,null,{"$f":"VLOOKUP(\"Materialdaten:\",Sprachindex!A:Z,Haftungsausschluß!$O$6,FALSE)","v":"Materialdaten:"},null,null,null,null,null,null,null,null,"ENAW 6063 T66 ",null,null,null,null,{"$f":"VLOOKUP(\"Fließgeschwindigkeit:\",Sprachindex!A:Z,Haftungsausschluß!$O$6,FALSE)","v":"Fließgeschwindigkeit:"},null,null,null,null,null,{"$f":"Haftungsausschluß!F31","v":4},null,"m/s",null,{"$f":"VLOOKUP(\"STATIK RUNDSTEHER\",Sprachindex!A:Z,Haftungsausschluß!$O$6,FALSE) & \" \" & T7","v":"STATIK RUNDSTEHER 1"},null,null,null,null,null,null,null,null,null,null,null,null,null,null,null,{"$f":"VLOOKUP(\"Materialdaten:\",Sprachindex!A:Z,Haftungsausschluß!$O$6,FALSE)","v":"Materialdaten:"},null,null,null,null,null,null,null,null,"ENAW 6063 T66 "]
[null,null,null,null,{"$f":"VLOOKUP(\"Anströmwinkel:\",Sprachindex!A:Z,Haftungsausschluß!$O$6,FALSE)","v":"Anströmwinkel:"},null,null,null,null,null,null,null,"°",null,null,null,null,null,null,null,null,null,null,null,null,null,null,null,null,null,{"$f":"VLOOKUP(\"Streckgrenze Rp 0,2:\",Sprachindex!A:Z,Haftungsausschluß!$O$6,FALSE)","v":"Streckgrenze Rp 0,2:"},null,null,null,{"$f":"'Statik 1-Zusatzberechnungen-1'!M7","v":200},null,null,"N/mm2",null,null,null,null,null,null,{"$f":"VLOOKUP(\"Anströmwinkel:\",Sprachindex!A:Z,Haftungsausschluß!$O$6,FALSE)","v":"Anströmwinkel:"},null,null,null,null,null,null,null,"°",null,null,null,null,null,null,null,null,null,null,null,null,null,null,null,null,null,{"$f":"VLOOKUP(\"Streckgrenze Rp 0,2:\",Sprachindex!A:Z,Haftungsausschluß!$O$6,FALSE)","v":"Streckgrenze Rp 0,2:"},null,null,null,{"$f":"'Statik 1-Zusatzberechnungen-1'!M7","v":200},null,null,"N/mm2"]
[null,null,null,null,{"$f":"VLOOKUP(\"anprallende Treibgutmasse:\",Sprachindex!A:Z,Haftungsausschluß!$O$6,FALSE)","v":"anprallende Treibgutmasse:"},null,null,null,null,null,{"$f":"Haftungsausschluß!F32","v":0.4},null,"t",null,null,null,null,null,null,null,null,null,null,null,null,null,null,null,null,null,{"$f":"VLOOKUP(\"E Modul: EAL\",Sprachindex!A:Z,Haftungsausschluß!$O$6,FALSE)","v":"E Modul: EAL"},null,null,null,{"$f":"'Statik 1-Zusatzberechnungen-1'!M8","v":70000},null,null,"N/mm2",null,null,null,null,null,null,{"$f":"VLOOKUP(\"anprallende Treibgutmasse:\",Sprachindex!A:Z,Haftungsausschluß!$O$6,FALSE)","v":"anprallende Treibgutmasse:"},null,null,null,null,null,{"$f":"Haftungsausschluß!F32","v":0.4},null,"t",null,null,null,null,null,null,null,null,null,null,null,null,null,null,null,null,null,{"$f":"VLOOKUP(\"E Modul: EAL\",Sprachindex!A:Z,Haftungsausschluß!$O$6,FALSE)","v":"E Modul: EAL"},null,null,null,{"$f":"'Statik 1-Zusatzberechnungen-1'!M8","v":70000},null,null,"N/mm2"]
[null,null,null,null,{"$f":"VLOOKUP(\"Dichte Wasser inkl. Geschiebe:\",Sprachindex!A:Z,Haftungsausschluß!$O$6,FALSE)","v":"Dichte Wasser inkl. Geschiebe:"},null,null,null,null,null,{"$f":"Haftungsausschluß!F30","v":1000},null,"kg/m³",null,null,null,null,null,null,1,null,null,null,null,null,null,null,null,null,null,{"$f":"VLOOKUP(\"Teilsicherheit Material:\",Sprachindex!A:Z,Haftungsausschluß!$O$6,FALSE)","v":"Teilsicherheit Material:"},null,null,null,{"$f":"'Statik 1-Zusatzberechnungen-1'!M9","v":1.1000000000000001},null,null,null,null,null,null,null,null,null,{"$f":"VLOOKUP(\"Dichte Wasser inkl. Geschiebe:\",Sprachindex!A:Z,Haftungsausschluß!$O$6,FALSE)","v":"Dichte Wasser inkl. Geschiebe:"},null,null,null,null,null,{"$f":"Haftungsausschluß!F30","v":1000},null,"kg/m³",null,null,null,null,null,null,null,null,null,null,null,null,null,null,null,null,null,{"$f":"VLOOKUP(\"Teilsicherheit Material:\",Sprachindex!A:Z,Haftungsausschluß!$O$6,FALSE)","v":"Teilsicherheit Material:"},null,null,null,{"$f":"'Statik 1-Zusatzberechnungen-1'!M9","v":1.1000000000000001}]
[]
[null,{"$f":"VLOOKUP(\"Feld Nr.\",Sprachindex!$A:$Z,Haftungsausschluß!$O$6,FALSE)","v":"Feld Nr."},{"$f":"VLOOKUP(\"Hydrodynamischer Druck am Balken:\",Sprachindex!A:Z,Haftungsausschluß!$O$6,FALSE) & \" \" & \"[N/mm]\"","v":"Hydrodynamischer Druck am Balken: [N/mm]"},{"$f":"VLOOKUP(\"Hydrostatischer Druck am Balken:\",Sprachindex!A:Z,Haftungsausschluß!$O$6,FALSE) & \" \" & \"[N/mm]\"","v":"Hydrostatischer Druck am Balken: [N/mm]"},{"$f":"VLOOKUP(\"Hydrostatischer + Hydrodynamischer Druck am Balken:\",Sprachindex!A:Z,Haftungsausschluß!$O$6,FALSE) & \" \" & \"[N/mm]\"","v":"Hydrostatischer + Hydrodynamischer Druck am Balken: [N/mm]"},{"$f":"VLOOKUP(\"Durchbiegung HD:\",Sprachindex!A:Z,Haftungsausschluß!$O$6,FALSE) & \" \" & \"[mm]\"","v":"Durchbiegung HD: [mm]"},{"$f":"VLOOKUP(\"Durchbiegung HS:\",Sprachindex!A:Z,Haftungsausschluß!$O$6,FALSE) & \" \" & \"[mm]\"","v":"Durchbiegung HS: [mm]"},{"$f":"VLOOKUP(\"Durchbiegung HD+HS:\",Sprachindex!A:Z,Haftungsausschluß!$O$6,FALSE) & \" \" & \"[mm]\"","v":"Durchbiegung HD+HS: [mm]"},{"$f":"VLOOKUP(\"Stützweite / Durchbiegung HD:\",Sprachindex!A:Z,Haftungsausschluß!$O$6,FALSE)","v":"Stützweite / Durchbiegung HD:"},{"$f":"VLOOKUP(\"Stützweite / Durchbiegung HS:\",Sprachindex!A:Z,Haftungsausschluß!$O$6,FALSE)","v":"Stützweite / Durchbiegung HS:"},{"$f":"VLOOKUP(\"Stützweite / Durchbiegung HD+HS:\",Sprachindex!A:Z,Haftungsausschluß!$O$6,FALSE)","v":"Stützweite / Durchbiegung HD+HS:"},null,{"$f":"VLOOKUP(\"Hydrodynamisch (HD) & Hydrostatisch (HS)\",Sprachindex!A:Z,Haftungsausschluß!$O$6,FALSE)","v":"Hydrodynamisch (HD) & Hydrostatisch (HS)"},{"$f":"VLOOKUP(\"Moment zufolge HD:\",Sprachindex!A:Z,Haftungsausschluß!$O$6,FALSE) & \" \" & \"[kNm]\"","v":"Moment zufolge HD: [kNm]"},{"$f":"VLOOKUP(\"Moment zufolge HS:\",Sprachindex!A:Z,Haftungsausschluß!$O$6,FALSE) & \" \" & \"[kNm]\"","v":"Moment zufolge HS: [kNm]"},{"$f":"VLOOKUP(\"Moment zufolge HD+HS:\",Sprachindex!A:Z,Haftungsausschluß!$O$6,FALSE) & \" \" & \"[kNm]\"","v":"Moment zufolge HD+HS: [kNm]"},{"$f":"VLOOKUP(\"Teilsicherheit Last:\",Sprachindex!A:Z,Haftungsausschluß!$O$6,FALSE)","v":"Teilsicherheit Last:"},{"$f":"VLOOKUP(\"Bemessungsmoment HD:\",Sprachindex!A:Z,Haftungsausschluß!$O$6,FALSE) & \" \" & \"[kNm]\"","v":"Bemessungsmoment HD: [kNm]"},{"$f":"VLOOKUP(\"Bemessungsmoment HS:\",Sprachindex!A:Z,Haftungsausschluß!$O$6,FALSE) & \" \" & \"[kNm]\"","v":"Bemessungsmoment HS: [kNm]"},{"$f":"VLOOKUP(\"Bemessungsmoment HD+HS:\",Sprachindex!A:Z,Haftungsausschluß!$O$6,FALSE) & \" \" & \"[kNm]\"","v":"Bemessungsmoment HD+HS: [kNm]"},{"$f":"VLOOKUP(\"Spannung HD:\",Sprachindex!A:Z,Haftungsausschluß!$O$6,FALSE) & \" \" & \"[N/mm²]\"","v":"Spannung HD: [N/mm²]"},{"$f":"VLOOKUP(\"Spannung HS:\",Sprachindex!A:Z,Haftungsausschluß!$O$6,FALSE) & \" \" & \"[N/mm²]\"","v":"Spannung HS: [N/mm²]"},{"$f":"VLOOKUP(\"Spannung HD+HS:\",Sprachindex!A:Z,Haftungsausschluß!$O$6,FALSE) & \" \" & \"[N/mm²]\"","v":"Spannung HD+HS: [N/mm²]"},{"$f":"VLOOKUP(\"Ausnutzung HD:\",Sprachindex!A:Z,Haftungsausschluß!$O$6,FALSE)","v":"Ausnutzung HD:"},{"$f":"VLOOKUP(\"Ausnutzung HS:\",Sprachindex!A:Z,Haftungsausschluß!$O$6,FALSE)","v":"Ausnutzung HS:"},{"$f":"VLOOKUP(\"Ausnutzung HD+HS:\",Sprachindex!A:Z,Haftungsausschluß!$O$6,FALSE)","v":"Ausnutzung HD+HS:"},null,{"$f":"VLOOKUP(\"Treibgut\",Sprachindex!A:Z,Haftungsausschluß!$O$6,FALSE)","v":"Treibgut"},{"$f":"VLOOKUP(\"Ersatzfedersteifigkeit:\",Sprachindex!A:Z,Haftungsausschluß!$O$6,FALSE) & \" \" & \"[kN/m]\"","v":"Ersatzfedersteifigkeit: [kN/m]"},{"$f":"VLOOKUP(\"Ersatzlast für Treibgutanprall:\",Sprachindex!A:Z,Haftungsausschluß!$O$6,FALSE) & \" \" & \"[kN]\"","v":"Ersatzlast für Treibgutanprall: [kN]"},{"$f":"VLOOKUP(\"Moment zufolge Treibgut:\",Sprachindex!A:Z,Haftungsausschluß!$O$6,FALSE) & \" \" & \"[kNm]\"","v":"Moment zufolge Treibgut: [kNm]"},{"$f":"VLOOKUP(\"Teilsicherheit Last:\",Sprachindex!A:Z,Haftungsausschluß!$O$6,FALSE)","v":"Teilsicherheit Last:"},{"$f":"VLOOKUP(\"Bemessungsmoment Treibgut:\",Sprachindex!A:Z,Haftungsausschluß!$O$6,FALSE) & \" \" & \"[kNm]\"","v":"Bemessungsmoment Treibgut: [kNm]"},{"$f":"VLOOKUP(\"Spannung infolge Treibgut:\",Sprachindex!A:Z,Haftungsausschluß!$O$6,FALSE) & \" \" & \"[N/mm²]\"","v":"Spannung infolge Treibgut: [N/mm²]"},{"$f":"VLOOKUP(\"Ausnutzung:\",Sprachindex!A:Z,Haftungsausschluß!$O$6,FALSE)","v":"Ausnutzung:"},null,{"$f":"VLOOKUP(\"Kombination Hydrodynamisch + Hydrostatisch + Treibgut\",Sprachindex!A:Z,Haftungsausschluß!$O$6,FALSE)","v":"Kombination Hydrodynamisch + Hydrostatisch + Treibgut"},{"$f":"VLOOKUP(\"Kombinationsbeiwert:\",Sprachindex!A:Z,Haftungsausschluß!$O$6,FALSE)","v":"Kombinationsbeiwert:"},{"$f":"VLOOKUP(\"Spannung zufolge\",Sprachindex!A:Z,Haftungsausschluß!$O$6,FALSE)\n&\" pStr, p0, F: Sk\" & \" \" & \"[N/mm²]\"","v":"Spannung zufolge pStr, p0, F: Sk [N/mm²]"},{"$f":"VLOOKUP(\"Ausnutzung zufolge\",Sprachindex!A:Z,Haftungsausschluß!$O$6,FALSE) & \" pStr, p0, F\"","v":"Ausnutzung zufolge pStr, p0, F"},null,{"$f":"VLOOKUP(\"Steher Nr.\",Sprachindex!$A:$Z,Haftungsausschluß!$O$6,FALSE)","v":"Steher Nr."},{"$f":"VLOOKUP(\"Hydrodynamischer Druck am Steher:\",Sprachindex!A:Z,Haftungsausschluß!$O$6,FALSE) & \" \" & \"[N/mm]\"","v":"Hydrodynamischer Druck am Steher: [N/mm]"},{"$f":"VLOOKUP(\"Hydrostatischer Druck am Steher:\",Sprachindex!A:Z,Haftungsausschluß!$O$6,FALSE) & \" \" & \"[N/mm]\"","v":"Hydrostatischer Druck am Steher: [N/mm]"},{"$f":"VLOOKUP(\"Hydrostatischer + Hydrodynamischer Druck am Balken:\",Sprachindex!A:Z,Haftungsausschluß!$O$6,FALSE) & \" \" & \"[N/mm]\"","v":"Hydrostatischer + Hydrodynamischer Druck am Balken: [N/mm]"},{"$f":"VLOOKUP(\"Durchbiegung:\",Sprachindex!A:Z,Haftungsausschluß!$O$6,FALSE) & \" \" & \"[mm]\"","v":"Durchbiegung: [mm]"},{"$f":"VLOOKUP(\"Stützweite / Durchbiegung:\",Sprachindex!A:Z,Haftungsausschluß!$O$6,FALSE)","v":"Stützweite / Durchbiegung:"},null,{"$f":"VLOOKUP(\"Hydrodynamisch (HD) & Hydrostatisch (HS)\",Sprachindex!A:Z,Haftungsausschluß!$O$6,FALSE)","v":"Hydrodynamisch (HD) & Hydrostatisch (HS)"},{"$f":"VLOOKUP(\"Moment zufolge Gesamtdruck:\",Sprachindex!A:Z,Haftungsausschluß!$O$6,FALSE) & \" \" & \"[kNm]\"","v":"Moment zufolge Gesamtdruck: [kNm]"},{"$f":"VLOOKUP(\"Teilsicherheit Last:\",Sprachindex!A:Z,Haftungsausschluß!$O$6,FALSE)","v":"Teilsicherheit Last:"},{"$f":"VLOOKUP(\"Bemessungsmoment:\",Sprachindex!A:Z,Haftungsausschluß!$O$6,FALSE) & \" \" & \"[kNm]\"","v":"Bemessungsmoment: [kNm]"},{"$f":"VLOOKUP(\"Spannung:\",Sprachindex!A:Z,Haftungsausschluß!$O$6,FALSE) & \" \" & \"[N/mm²]\"","v":"Spannung: [N/mm²]"},{"$f":"VLOOKUP(\"Ausnutzung:\",Sprachindex!A:Z,Haftungsausschluß!$O$6,FALSE)","v":"Ausnutzung:"},null,{"$f":"VLOOKUP(\"Treibgut\",Sprachindex!A:Z,Haftungsausschluß!$O$6,FALSE)","v":"Treibgut"},{"$f":"VLOOKUP(\"Ersatzfedersteifigkeit:\",Sprachindex!A:Z,Haftungsausschluß!$O$6,FALSE) & \" \" & \"[kN/m]\"","v":"Ersatzfedersteifigkeit: [kN/m]"},{"$f":"VLOOKUP(\"Ersatzlast für Treibgutanprall:\",Sprachindex!A:Z,Haftungsausschluß!$O$6,FALSE) & \" \" & \"[kN]\"","v":"Ersatzlast für Treibgutanprall: [kN]"},{"$f":"VLOOKUP(\"Moment zufolge Treibgut:\",Sprachindex!A:Z,Haftungsausschluß!$O$6,FALSE) & \" \" & \"[kNm]\"","v":"Moment zufolge Treibgut: [kNm]"},{"$f":"VLOOKUP(\"Teilsicherheit Last:\",Sprachindex!A:Z,Haftungsausschluß!$O$6,FALSE)","v":"Teilsicherheit Last:"},{"$f":"VLOOKUP(\"Bemessungsmoment Treibgut:\",Sprachindex!A:Z,Haftungsausschluß!$O$6,FALSE) & \" \" & \"[kNm]\"","v":"Bemessungsmoment Treibgut: [kNm]"},{"$f":"VLOOKUP(\"Spannung  infolge Treibgut:\",Sprachindex!A:Z,Haftungsausschluß!$O$6,FALSE) & \" \" & \"[N/mm²]\"","v":"Spannung  infolge Treibgut: [N/mm²]"},{"$f":"VLOOKUP(\"Ausnutzung:\",Sprachindex!A:Z,Haftungsausschluß!$O$6,FALSE)","v":"Ausnutzung:"},null,{"$f":"VLOOKUP(\"Kombination Hydrodynamisch + Hydrostatisch + Treibgut\",Sprachindex!A:Z,Haftungsausschluß!$O$6,FALSE)","v":"Kombination Hydrodynamisch + Hydrostatisch + Treibgut"},{"$f":"VLOOKUP(\"Kombinationsbeiwert:\",Sprachindex!A:Z,Haftungsausschluß!$O$6,FALSE)","v":"Kombinationsbeiwert:"},{"$f":"VLOOKUP(\"Spannung zufolge\",Sprachindex!A:Z,Haftungsausschluß!$O$6,FALSE) & \" pStr, p0, F: Sk\" & \" \" & \"[N/mm²]\"","v":"Spannung zufolge pStr, p0, F: Sk [N/mm²]"},{"$f":"VLOOKUP(\"Ausnutzung zufolge\",Sprachindex!A:Z,Haftungsausschluß!$O$6,FALSE) & \" pStr, p0, F\"","v":"Ausnutzung zufolge pStr, p0, F"}]
[null,1,0,-0.2,-0.2,0,-3.157443255622645E-6,-3.157443255622645E-6,0,-27237227.413938396,-27237227.413938396,null,null,0,-1.8489999999999999E-4,-1.8489999999999999E-4,1.35,0,-2.2465350000000001E-4,-2.2465350000000001E-4,0,-8.7141335497254498E-3,-8.7141335497254498E-3,0,-4.7927734523489982E-5,-4.7927734523489982E-5,null,null,10213960.280226897,0,0,1.35,0,0,0,null,null,1,-8.7141335497254498E-3,-4.7927734523489982E-5]

{"sheet":"Preisliste","index":9,"n_rows":247,"n_cols":17,"rows_kept":247,"cut":false,"hidden":true,"merged":[[1,7,1,8]]}
[]
["Systempreisliste PREFA HOCHWASSERSCHUTZ",null,null,null,null,null,null,null,null,null,null,"Umrechnungsfaktor:",1.1000000000000001]
["unverbindlicher empfohlener Richtpreis.  Gültigkeit ab 21.03.2022"]
[null,null,null,null,"blank","beschichtet","blank","beschichtet"]
[null,null,null,"Einheit","Art.nr. ","Art.nr. ","Preis","Preis"]
["Dammbalken 25/200 (S12272) exkl. Dichtung:"]
["gesägt und entgratet",null,null,"[lfm]","H251000","H251000",{"$f":"ROUND(N7*2,1)/2","v":96.8},{"$f":"ROUND(J7*2,1)/2","v":106.5},null,{"$f":"G7*1.1","v":106.48},null,null,null,{"$f":"Q7*M2","v":96.800000000000011},null,null,88]
["Stangenware 6500 mm",null,null,"[lfm]","H251010","H251010",{"$f":"ROUND(N8*2,1)/2","v":469.75},{"$f":"ROUND(J8*2,1)/2","v":516.75},null,{"$f":"G8*1.1","v":516.72500000000002},null,null,null,{"$f":"Q8*M2","v":469.75500000000005},null,null,427.05]
["Dammbalken 50/150 (S7308) exkl. Dichtung:",null,null,null,null,null,null,null,null,null,null,null,null,{"$f":"Q9*M2","v":0}]
["gesägt und entgratet",null,null,"[lfm]","H501000","H501000",128.05000000000001,140.85,null,140.85500000000002,null,null,null,{"$f":"Q10*M2","v":128.04000000000002},null,null,116.4]
["Stangenware 6500 mm",null,null,"[lfm]","H501010","H501010",673.9,741.3,null,741.29000000000008,null,null,null,{"$f":"Q11*M2","v":673.91500000000008},null,null,612.65]
["Dammbalken 50/200 (S9368) exkl. Dichtung:"]
["gesägt und entgratet",null,null,"[lfm]","H501001","H501001",122.3,134.55000000000001,null,134.53,null,null,null,{"$f":"Q13*M2","v":122.32000000000001},null,null,111.2]
["Stangenware 6500 mm",null,null,"[lfm]","H501011","H501011",711.1,782.2,null,782.21,null,null,null,{"$f":"Q14*M2","v":711.09500000000014},null,null,646.45000000000005]
["Dammbalken 80/200 (S9369) exkl. Dichtung:"]
["gesägt und entgratet",null,null,"[lfm]","H801001","H801001",188,206.8,null,206.8,null,null,null,{"$f":"Q16*M2","v":187.99},null,null,170.9]
["Stangenware 6500 mm",null,null,"[lfm]","H801011","H801011",1103.25,1213.5999999999999,null,1213.575,null,null,null,{"$f":"Q17*M2","v":1103.2450000000001},null,null,1002.95]
["U-Profil 25 exkl. Dichtung (S12273): in der LAIBUNG"]
[750,"mm",", gebohrt, entgratet","[Stk]","H251020","H251020",75.150000000000006,82.65,null,82.665000000000006,null,null,null,{"$f":"Q19*M2","v":75.13000000000001},null,null,68.3]
[1350,"mm",", gebohrt, entgratet","[Stk]","H251021","H251021",114.05,125.45,null,125.45500000000001,null,null,null,{"$f":"Q20*M2","v":114.07000000000001},null,null,103.7]
[null,"mm",", gebohrt, entgratet Sonderlänge","[Stk]"]
["Stangenware 6500 mm",null,null,"[lfm]","H251011","H251011",433.3,476.65,null,476.63000000000005,null,null,null,{"$f":"Q22*M2","v":433.29},null,null,393.9]
["U-Profil 50 exkl. Dichtung (S7229):"]
[750,"mm",", gebohrt, entgratet","[Stk]","H501101","H501101",124.3,136.75,null,136.73000000000002,null,null,null,{"$f":"Q24*M2","v":124.30000000000001},null,null,113]
[1350,"mm",", gebohrt, entgratet","[Stk]","H501111","H501111",191.4,210.55,null,210.54000000000002,null,null,null,{"$f":"Q25*M2","v":191.4},null,null,174]
[1750,"mm",", gebohrt, entgratet","[Stk]","H501112","H501112",237.25,261,null,260.97500000000002,null,null,null,{"$f":"Q26*M2","v":237.27},null,null,215.7]
[2150,"mm",", gebohrt, entgratet","[Stk]","H501122","H501122",283.8,312.2,null,312.18000000000006,null,null,null,{"$f":"Q27*M2","v":283.8},null,null,258]
[null,"mm",", gebohrt, entgratet Sonderlänge","[Stk]"]
["Stangenware 6500 mm",null,null,"[lfm]","H501191","H501191",705.4,775.95,null,775.94,null,null,null,{"$f":"Q29*M2","v":705.37500000000011},null,null,641.25]
["U-Profil 80 exkl. Dichtung (S8063):"]
[750,"mm",", gebohrt, entgratet","[Stk]","H801101","H801101",141.9,156.1,null,156.09000000000003,null,null,null,{"$f":"Q31*M2","v":141.9},null,null,129]
[1350,"mm",", gebohrt, entgratet","[Stk]","H801111","H801111",222.1,244.3,null,244.31,null,null,null,{"$f":"Q32*M2","v":222.09000000000003},null,null,201.9]
[1750,"mm",", gebohrt, entgratet","[Stk]","H801112","H801112",276.75,304.45,null,304.42500000000001,null,null,null,{"$f":"Q33*M2","v":276.76},null,null,251.6]
[2150,"mm",", gebohrt, entgratet","[Stk]","H801122","H801122",332.4,365.65,null,365.64,null,null,null,{"$f":"Q34*M2","v":332.42},null,null,302.2]
[null,"mm",", gebohrt, entgratet Sonderlänge","[Stk]"]
["Stangenware 6500 mm",null,null,"[lfm]","H801191","H801191",850.85,935.95,null,935.93500000000006,null,null,null,{"$f":"Q36*M2","v":850.85},null,null,773.5]
["Grund-Profil 25 exkl. Dichtung: VOR LAIBUNG"]
[750,"mm",", gebohrt, entgratet","[Stk]","H251200","H251200",87.2,95.9,null,95.920000000000016,null,null,null,{"$f":"Q38*M2","v":87.175000000000011},null,null,79.25]
[1350,"mm",", gebohrt, entgratet","[Stk]","H251201","H251201",137.44999999999999,151.19999999999999,null,151.19499999999999,null,null,null,{"$f":"Q39*M2","v":137.44500000000002},null,null,124.95]
["Stangenware 6500 mm",null,null,"[Stk]","H251291","H251291",568.5,625.35,null,625.35,null,null,null,{"$f":"Q40*M2","v":568.48},null,null,516.79999999999995]
["Grundprofil 50 exkl. Dichtung (S6577): = H-Profil / v.d. L."]
[750,"mm",", gebohrt, entgratet","[Stk]","H501201","H501201",134.1,147.5,null,147.51000000000002,null,null,null,{"$f":"Q42*M2","v":134.09},null,null,121.9]
[1350,"mm",", gebohrt, entgratet","[Stk]","H501211","H501211",211.2,232.3,null,232.32,null,null,null,{"$f":"Q43*M2","v":211.20000000000002},null,null,192]
[1750,"mm",", gebohrt, entgratet","[Stk]","H501212","H501212",263.10000000000002,289.39999999999998,null,289.41000000000003,null,null,null,{"$f":"Q44*M2","v":263.12},null,null,239.2]
[2150,"mm",", gebohrt, entgratet","[Stk]","H501222","H501222",315.05,346.55,null,346.55500000000006,null,null,null,{"$f":"Q45*M2","v":315.04000000000002},null,null,286.39999999999998]
[null,"mm",", gebohrt, entgratet Sonderlänge","[Stk]"]
["Stangenware 6500 mm",null,null,"[lfm]","H501291","H501291",893.75,983.15,null,983.12500000000011,null,null,null,{"$f":"Q47*M2","v":893.75000000000011},null,null,812.5]
["Grundprofil 80 exkl. Dichtung (S8253):  H-Profil / v.d. L."]
[750,"mm",", gebohrt, entgratet","[Stk]","H801201","H801201",148.6,163.44999999999999,null,163.46,null,null,null,{"$f":"Q49*M2","v":148.61000000000001},null,null,135.1]
[1350,"mm",", gebohrt, entgratet","[Stk]","H801211","H801211",237.5,261.25,null,261.25,null,null,null,{"$f":"Q50*M2","v":237.49000000000004},null,null,215.9]
[1750,"mm",", gebohrt, entgratet","[Stk]","H801212","H801212",297.10000000000002,326.8,null,326.81000000000006,null,null,null,{"$f":"Q51*M2","v":297.11000000000007},null,null,270.10000000000002]
[2150,"mm",", gebohrt, entgratet","[Stk]","H801222","H801222",356.85,392.55,null,392.53500000000008,null,null,null,{"$f":"Q52*M2","v":356.84000000000003},null,null,324.39999999999998]
[null,"mm",", gebohrt, entgratet Sonderlänge","[Stk]"]
["Stangenware 6500 mm",null,null,"[lfm]","H801291","H801291",976.7,1074.3499999999999,null,1074.3700000000001,null,null,null,{"$f":"Q54*M2","v":976.69},null,null,887.9]
["Rundprofil 50 exkl. Dichtung (S6598):"]
[750,"mm",", gebohrt, entgratet","[Stk]","H501301","H501301",342.55,null,null,null,null,null,null,{"$f":"Q56*M2","v":342.5452800000001},null,null,311.40480000000008]
[1350,"mm",", gebohrt, entgratet","[Stk]","H501311","H501311",420.4,null,null,null,null,null,null,{"$f":"Q57*M2","v":420.42000000000007},null,null,382.20000000000005]
[1750,"mm",", gebohrt, entgratet","[Stk]","H501312","H501312",472,null,null,null,null,null,null,{"$f":"Q58*M2","v":472.01000000000005},null,null,429.1]
[2150,"mm",", gebohrt, entgratet","[Stk]","H501322","H501322",513.25,null,null,null,null,null,null,{"$f":"Q59*M2","v":513.2600000000001},null,null,466.6]
[null,"mm",", gebohrt, entgratet Sonderlänge","[Stk]"]
["Rundprofil 80 exkl. Dichtung (S8246):"]
[750,"mm",", gebohrt, entgratet","[Stk]","H801301","H801301",374.1,null,null,null,null,null,null,{"$f":"Q62*M2","v":374.10912000000008},null,null,340.09920000000005]
[1350,"mm",", gebohrt, entgratet","[Stk]","H801311","H801311",469.7,null,null,null,null,null,null,{"$f":"Q63*M2","v":469.70000000000005},null,null,427]
[1750,"mm",", gebohrt, entgratet","[Stk]","H801312","H801312",533.5,null,null,null,null,null,null,{"$f":"Q64*M2","v":533.5},null,null,485]
[2150,"mm",", gebohrt, entgratet","[Stk]","H801322","H801322",597.1,null,null,null,null,null,null,{"$f":"Q65*M2","v":597.08000000000004},null,null,542.79999999999995]
[null,"mm",", gebohrt, entgratet Sonderlänge","[Stk]"]
["Rundprofil 80 gr.  exkl. Dichtung (S10464):"]
[750,"mm",", gebohrt, entgratet","[Stk]","H801340","H801340",498.4,null,null,null,null,null,null,{"$f":"Q68*M2","v":498.41000000000008},null,null,453.1]
[1350,"mm",", gebohrt, entgratet","[Stk]","H801341","H801341",623.04999999999995,null,null,null,null,null,null,{"$f":"Q69*M2","v":623.04000000000008},null,null,566.4]
[1750,"mm",", gebohrt, entgratet","[Stk]","H801342","H801342",706.2,null,null,null,null,null,null,{"$f":"Q70*M2","v":706.2},null,null,642]
[2150,"mm",", gebohrt, entgratet","[Stk]","H801343","H801343",789.15,null,null,null,null,null,null,{"$f":"Q71*M2","v":789.14},null,null,717.4]
[null,"mm",", gebohrt, entgratet Sonderlänge","[Stk]"]
["Rundprofil 50-90° exkl. Dichtung (S9299): "]
[750,"mm",", gebohrt, entgratet","[Stk]","H501600","H501600",{"$f":"ROUND(N74*2,1)/2","v":442.65},null,null,null,null,null,null,{"$f":"Q74*M2","v":442.64},null,null,402.4]
[1350,"mm",", gebohrt, entgratet","[Stk]","H501601","H501601",516.1,null,null,null,null,null,null,{"$f":"Q75*M2","v":516.12},null,null,469.2]
[1750,"mm",", gebohrt, entgratet","[Stk]","H501602","H501602",565.04999999999995,null,null,null,null,null,null,{"$f":"Q76*M2","v":565.07000000000005},null,null,513.70000000000005]
[2150,"mm",", gebohrt, entgratet","[Stk]","H501603","H501603",614.15,null,null,null,null,null,null,{"$f":"Q77*M2","v":614.13},null,null,558.29999999999995]
[null,"mm",", gebohrt, entgratet Sonderlänge","[Stk]"]
["Rundprofil 80-90° exkl. Dichtung (S10465): "]
[750,"mm",", gebohrt, entgratet","[Stk]","H801600","H801600",504.25,null,null,null,null,null,null,{"$f":"Q80*M2","v":504.24},null,null,458.4]
[1350,"mm",", gebohrt, entgratet","[Stk]","H801601","H801601",632.04999999999995,null,null,null,null,null,null,{"$f":"Q81*M2","v":632.06000000000006},null,null,574.6]
[1750,"mm",", gebohrt, entgratet","[Stk]","H801602","H801602",717.4,null,null,null,null,null,null,{"$f":"Q82*M2","v":717.42000000000007},null,null,652.20000000000005]
[2150,"mm",", gebohrt, entgratet","[Stk]","H801603","H801603",802.55,null,null,null,null,null,null,{"$f":"Q83*M2","v":802.56000000000006},null,null,729.6]
[null,"mm",", gebohrt, entgratet Sonderlänge","[Stk]"]
["Rundprofil 50-Vario exkl. Dichtung (S9523+S9525 od. S9524 od. S9549): "]
[750,"mm",", gebohrt, entgratet","[Stk]","H501610","H501610",745.45,null,null,null,null,null,null,{"$f":"Q86*M2","v":745.47000000000014},null,null,677.7]
[1350,"mm",", gebohrt, entgratet","[Stk]","H501611","H501611",914.85,null,null,null,null,null,null,{"$f":"Q87*M2","v":914.87000000000012},null,null,831.7]
[1750,"mm",", gebohrt, entgratet","[Stk]","H501612","H501612",1027.8499999999999,null,null,null,null,null,null,{"$f":"Q88*M2","v":1027.8400000000001},null,null,934.4]
[2150,"mm",", gebohrt, entgratet","[Stk]","H501613","H501613",1140.7,null,null,null,null,null,null,{"$f":"Q89*M2","v":1140.7},null,null,1037]
[null,"mm",", gebohrt, entgratet Sonderlänge","[Stk]"]
["Rundprofil 80-Vario exkl. Dichtung (S10466+S10462 od. S10463): "]
[750,"mm",", gebohrt, entgratet","[Stk]","H801610","H801610",582,null,null,null,null,null,null,{"$f":"Q92*M2","v":582.0100000000001},null,null,529.1]
[1350,"mm",", gebohrt, entgratet","[Stk]","H801611","H801611",753.85,null,null,null,null,null,null,{"$f":"Q93*M2","v":753.83},null,null,685.3]
[1750,"mm",", gebohrt, entgratet","[Stk]","H801612","H801612",868.35,null,null,null,null,null,null,{"$f":"Q94*M2","v":868.34},null,null,789.4]
[2150,"mm",", gebohrt, entgratet","[Stk]","H801613","H801613",982.85,null,null,null,null,null,null,{"$f":"Q95*M2","v":982.85},null,null,893.5]
[null,"mm",", gebohrt, entgratet Sonderlänge","[Stk]"]
["Bodenhülse 50 beschichtet: (für System 50+80)"]
["inkl. Deckel mit Dichtung (S6516)",null,null,"[Stk.]","H001030","H001030",407.35,null,null,null,null,null,null,{"$f":"Q98*M2","v":407.33000000000004},null,null,370.3]
["inkl. Deckel mit Dichtung NEUES SYSTEM (ehem. Bajonett)",null,null,"[Stk.]","H001040","H001040",680.9,null,null,null,null,null,null,{"$f":"Q99*M2","v":680.90000000000009},null,null,619]
["Bodenhülse 80, Vario beschichtet:"]
["inkl. Deckel mit Dichtung",null,null,"[Stk.]","H001031","H001031",787.8,null,null,null,null,null,null,{"$f":"Q101*M2","v":787.82000000000016},null,null,716.2]
["inkl. Deckel mit Dichtung NEUES SYSTEM (ehem. Bajonett)",null,null,"[Stk.]","H001041","H001041",828.4,null,null,null,null,null,null,{"$f":"Q102*M2","v":828.41000000000008},null,null,753.1]
["Niederhalter + Spannstück + Verbundanker + Gewindestange"]
[750,"mm",", gesägt, entgratet","[Stk]","H501031","H501031",424.8,null,null,null,null,null,null,{"$f":"Q104*M2","v":424.81824000000012},null,null,386.19840000000005]
[1350,"mm",", gesägt, entgratet","[Stk]","H501041","H501041",461.45,null,null,null,null,null,null,{"$f":"Q105*M2","v":461.45000000000005},null,null,419.5]
[1750,"mm",", gesägt, entgratet","[Stk]","H501042","H501042",514.45000000000005,null,null,null,null,null,null,{"$f":"Q106*M2","v":514.47},null,null,467.7]
["Setzwerkzeug Hilti: Einsatz, Einsteckschaft, Setzwerkzeug",null,null,"[Stk]"]
["Spannstücke"]
["Spannstückmit Sterngriff",null,null,"[Stk]","H001071","H001071",97.15,null,null,null,null,null,null,{"$f":"Q109*M2","v":97.13000000000001},null,null,88.3]
["Spannstückmit Sechskantschraube",null,null,"[Stk]","H001061","H001061",100.85,null,null,null,null,null,null,{"$f":"Q110*M2","v":100.87},null,null,91.7]
[null,null,null,null,null,null,null,null,null,null,null,null,null,null,null,null,62.95]
["Dichtungen"]
["Dauer Bodendichtung 25:",null,null,"[lfm]","H001083","H001083",35.299999999999997,null,null,null,null,null,null,{"$f":"Q113*M2","v":35.315280000000008},null,null,32.104800000000004]
["Bodendichtung 25:",null,null,"[lfm]","H251900","H251900",27.5,null,null,null,null,null,null,{"$f":"Q114*M2","v":27.500000000000004},null,null,25]
["Bodendichtung 50:",null,null,"[lfm]","H501901","H501901",27.5,null,null,null,null,null,null,{"$f":"Q115*M2","v":27.500000000000004},null,null,25]
["Bodendichtung 80:",null,null,"[lfm]","H801901","H801901",44.35,null,null,null,null,null,null,{"$f":"Q116*M2","v":44.352000000000004},null,null,40.32]
["Dichtung Dammbalken (P5208037)",null,null,"[1 VE =25 lfm]","H001080","H001080",68,null,null,null,null,null,null,{"$f":"Q117*M2","v":67.978680000000011},null,null,61.798800000000007]
["Dichtung Dammbalken ( 25 )",null,null,"[1 VE =25 lfm]","H251901","H251901",67.2,null,null,null,null,null,null,{"$f":"Q118*M2","v":67.210000000000008},null,null,61.1]
["Dichtung Grundprofil",null,null,"[1 VE =10 lfm]","H001090","H001090",62.1,null,null,null,null,null,null,{"$f":"Q119*M2","v":62.095000000000006},null,null,56.45]
["Dauer Bodendichtung 50:",null,null,"[lfm]","H001081","H001081",54.3,null,null,null,null,null,null,{"$f":"Q120*M2","v":54.285000000000004},null,null,49.35]
["Dauer Bodendichtung 80:",null,null,"[lfm]","H001082","H001082",91.7,null,null,null,null,null,null,{"$f":"Q121*M2","v":91.685000000000002},null,null,83.35]
["Abdeckung VO 25 (S12418 gebogen):"]
[750,"mm",", gebohrt, entgratet","[Stk]","H251050","H251050",95.45,{"$f":"ROUND(J123*2,1)/2","v":105},null,{"$f":"G123*1.1","v":104.995},null,null,null,{"$f":"Q123*M2","v":95.425000000000011},null,null,86.75]
[1350,"mm",", gebohrt, entgratet","[Stk]","H251051","H251051",100,110,null,110.00000000000001,null,null,null,{"$f":"Q124*M2","v":99.990000000000009},null,null,90.9]
["Abdeckung VO 50 (S6599 gebogen):"]
[750,"mm",", gebohrt, entgratet","[Stk]","H501401","H501401",101.15,111.25,null,111.26500000000001,null,null,null,{"$f":"Q126*M2","v":101.14500000000001},null,null,91.95]
[1350,"mm",", gebohrt, entgratet","[Stk]","H501411","H501411",106.5,117.15,null,117.15,null,null,null,{"$f":"Q127*M2","v":106.48},null,null,96.8]
[1750,"mm",", gebohrt, entgratet","[Stk]","H501412","H501412",110.1,121.1,null,121.11,null,null,null,{"$f":"Q128*M2","v":110.11},null,null,100.1]
[2150,"mm",", gebohrt, entgratet","[Stk]","H501422","H501422",113.65,125,null,125.01500000000001,null,null,null,{"$f":"Q129*M2","v":113.63000000000001},null,null,103.3]
["Abdeckung V 25 (S12418):"]
[750,"mm",", gebohrt, entgratet","[Stk]","H251040","H251040",26.75,29.45,null,29.425000000000001,null,null,null,{"$f":"Q131*M2","v":26.730000000000004},null,null,24.3]
[1350,"mm",", gebohrt, entgratet","[Stk]","H251041","H251041",31.3,34.450000000000003,null,34.430000000000007,null,null,null,{"$f":"Q132*M2","v":31.295000000000002},null,null,28.45]
["Stangenware 6500 mm",null,null,"[lfm]","H251012","H251012",49.35,54.3,null,54.285000000000004,null,null,null,{"$f":"Q133*M2","v":49.335000000000008},null,null,44.85]
["Abdeckung V 50 (S6599):"]
[750,"mm",", gebohrt, entgratet","[Stk]","H501501","H501501",25.75,28.35,null,28.325000000000003,null,null,null,{"$f":"Q135*M2","v":25.742640000000002},null,null,23.4024]
[1350,"mm",", gebohrt, entgratet","[Stk]","H501511","H501511",31.15,34.25,null,34.265000000000001,null,null,null,{"$f":"Q136*M2","v":31.130000000000003},null,null,28.3]
[1750,"mm",", gebohrt, entgratet","[Stk]","H501512","H501512",34.700000000000003,38.15,null,38.170000000000009,null,null,null,{"$f":"Q137*M2","v":34.705000000000005},null,null,31.55]
[2150,"mm",", gebohrt, entgratet","[Stk]","H501522","H501522",{"$f":"ROUND(N138*2,1)/2","v":38.35},42.2,null,42.185000000000002,null,null,null,{"$f":"Q138*M2","v":38.335000000000008},null,null,34.85]
["Stangenware 6500 mm",null,null,"[lfm]","H501591","H501591",99.75,109.75,null,109.72500000000001,null,null,null,{"$f":"Q139*M2","v":99.77000000000001},null,null,90.7]
["Abdeckung VO 80 (S8064 gebogen) :"]
[750,"mm",", gebohrt, entgratet","[Stk]","H801401","H801401",107.75,118.55,null,118.52500000000001,null,null,null,{"$f":"Q141*M2","v":107.74500000000002},null,null,97.95]
[1350,"mm",", gebohrt, entgratet","[Stk]","H801411","H801411",118.25,130.1,null,130.07500000000002,null,null,null,{"$f":"Q142*M2","v":118.25000000000001},null,null,107.5]
[1750,"mm",", gebohrt, entgratet","[Stk]","H801412","H801412",125.4,137.94999999999999,null,137.94000000000003,null,null,null,{"$f":"Q143*M2","v":125.4},null,null,114]
[2150,"mm",", gebohrt, entgratet","[Stk]","H801422","H801422",132.44999999999999,145.69999999999999,null,145.69499999999999,null,null,null,{"$f":"Q144*M2","v":132.44000000000003},null,null,120.4]
["Abdeckung V 80 (S8064):"]
[750,"mm",", gebohrt, entgratet","[Stk]","H801501","H801501",32.35,35.6,null,35.585000000000008,null,null,null,{"$f":"Q146*M2","v":32.340000000000003},null,null,29.400000000000002]
[1350,"mm",", gebohrt, entgratet","[Stk]","H801511","H801511",42.95,47.25,null,47.245000000000005,null,null,null,{"$f":"Q147*M2","v":42.954999999999998},null,null,39.049999999999997]
[1750,"mm",", gebohrt, entgratet","[Stk]","H801512","H801512",50.05,55.05,null,55.055,null,null,null,{"$f":"Q148*M2","v":50.050000000000004},null,null,45.5]
[2150,"mm",", gebohrt, entgratet","[Stk]","H801522","H801522",57.1,62.8,null,62.810000000000009,null,null,null,{"$f":"Q149*M2","v":57.09},null,null,51.9]
["Stangenware 6500 mm",null,null,"[lfm]","H801590","H801590",139.80000000000001,153.80000000000001,null,153.78000000000003,null,null,null,{"$f":"Q150*M2","v":139.81},null,null,127.1]
["Aufpreis für Sicherungsschraube:"]
["Sicherungsschraube für Abdeckung",null,null,"[1 Stk.]","H001010","H001010",14.7,null,null,null,null,null,null,{"$f":"Q152*M2","v":14.682360000000003},null,null,13.347600000000002]
["Dammbalken Halterung/Lagerabdeckung:"]
["Halterung für 6 Dammbalken",null,null,"[ 2 Stk]","H001020","H001020",199.75,null,null,null,null,null,null,{"$f":"Q154*M2","v":199.76000000000002},null,null,181.6]
["Lagerabdeckung Mittenteil",null,null,"[EH]","H002010","H002010",116.4,128.05000000000001,null,128.04000000000002,null,null,null,{"$f":"Q155*M2","v":116.38000000000001},null,null,105.8]
["Lagerabdeckung (Seitenteil)",null,null,"[EH]","H002011","H002011",45.7,50.25,null,50.27000000000001,null,null,null,{"$f":"Q156*M2","v":45.704999999999998},null,null,41.55]
[]
["Ersatzteile"]
[]
["Dichtung für Deckel und Bodenhülse klein DM 170 mm",null,null,"[Stk]","H001091","H001091",20.65,null,null,null,null,null,null,{"$f":"Q160*M2","v":20.625},null,null,18.75]
["Dichtung für Deckel und Bodenhülse groß DM 230 mm",null,null,"[Stk]","H001092","H001092",29.05,null,null,null,null,null,null,{"$f":"Q161*M2","v":29.04},null,null,26.4]
["Hebehilfe für Bodenhülsendeckel",null,null,"[Stk]","H001101","H001101",121.75,null,null,null,null,null,null,{"$f":"Q162*M2","v":121.77000000000001},null,null,110.7]
[]
["Aufpreise:"]
["Ausfräsung Wandprofil für Dammbalken",null,null,"PA","-","-",143.30000000000001,null,null,null,null,null,null,{"$f":"Q165*M2","v":143.27500000000001},null,null,130.25]
["Längenänderung von 2 Wandprofiln",null,null,"PA","-","-",102.5,null,null,null,null,null,null,{"$f":"Q166*M2","v":102.51780000000004},null,null,93.198000000000022]
["Verankerung aufgeschweißt (a 300mm)",null,null,"PA","-","-",136.35,null,null,null,null,null,null,{"$f":"Q167*M2","v":136.34500000000003},null,null,123.95]
["Montagehilfe für Bodenhülse",null,null,"[Stk]","-","-",227.25,null,null,null,null,null,null,{"$f":"Q168*M2","v":227.26000000000002},null,null,206.6]
["Planungsstunde",null,null,"[EH]","-","-",99.9,null,null,null,null,null,null,{"$f":"Q169*M2","v":99.88000000000001},null,null,90.8]
["Beschichtungspauschale",null,null,"[EH]","-","-",90,null,null,null,null,null,null,{"$f":"Q170","v":90},null,null,90]
["Beschichtungspauschale wird verrechnet ab einen Betrag von:",null,null,null,null,null,300,null,null,null,null,null,null,{"$f":"Q171","v":300},null,null,300]
["Dichtungsroller 25/50",null,null,"[Stk]","H002050","H002050",46.05,null,null,null,"NEU",null,null,{"$f":"Q172*M2","v":46.035000000000004},null,null,41.85]
["Dichtungsroller 80",null,null,"[Stk]","H002051","H002051",46.05,null,null,null,"NEU",null,null,{"$f":"Q173*M2","v":46.035000000000004},null,null,41.85]
["Kunststoffabdeckung für U-Profil 25",null,null,"[Stk]","H001104","H001104",0.65,null,null,null,"NEU",null,null,{"$f":"Q174*M2","v":0.66},null,null,0.6]
["Frachtkosten",null,null,"[EH]",null,null,100,null,null,null,null,null,null,{"$f":"Q175","v":100},null,null,100]
["Frachtkosten wird verrechnet ab einen Betrag von:",null,null,null,null,null,5000,null,null,null,null,null,null,{"$f":"Q176","v":1250},null,null,1250]
["Abdeckung VO 25 (S12418 gebogen):"]
[1750,"mm",", gebohrt, entgratet","[Stk]","H251052","H251052",105.9,{"$f":"ROUND(J178*2,1)/2","v":116.5},null,{"$f":"G178*1.1","v":116.49000000000001},null,null,null,{"$f":"Q178*M2","v":105.87500000000001},null,null,96.25]
[2150,"mm",", gebohrt, entgratet","[Stk]","H251053","H251043",111.6,122.75,null,122.76,null,null,null,{"$f":"Q179*M2","v":111.59500000000001},null,null,101.45]
[]
["Abdeckung V 25 (S12418):"]
[1750,"mm",", gebohrt, entgratet","[Stk]","H251042","H251042",38.450000000000003,42.3,null,{"$f":"G182*1.1","v":42.295000000000009},null,null,null,{"$f":"Q182*M2","v":38.445000000000007},null,null,34.950000000000003]
[2150,"mm",", gebohrt, entgratet","[Stk]","H251043","H251043",49.5,54.45,null,54.45,null,null,null,{"$f":"Q183*M2","v":49.500000000000007},null,null,45]
[]
["U-Profil 25 exkl. Dichtung (S12273): in der LAIBUNG"]
[1750,"mm",", gebohrt, entgratet","[Stk]","H251022","H251022",126.1,138.69999999999999,null,{"$f":"G186*1.1","v":138.71},null,null,null,{"$f":"Q186*M2","v":126.11500000000002},null,null,114.65]
[2150,"mm",", gebohrt, entgratet","[Stk]","H251023","H251023",149.4,164.35,null,164.34000000000003,null,null,null,{"$f":"Q187*M2","v":149.38000000000002},null,null,135.80000000000001]
[]
["Grund-Profil 25 exkl. Dichtung: VOR LAIBUNG"]
[1750,"mm",", gebohrt, entgratet","[Stk]","H251202","H251202",170.95,188.05,null,{"$f":"G190*1.1","v":188.04500000000002},null,null,null,{"$f":"Q190*M2","v":170.94000000000003},null,null,155.4]
[2150,"mm",", gebohrt, entgratet","[Stk]","H251203","H251203",204.5,224.95,null,224.95000000000002,null,null,null,{"$f":"Q191*M2","v":204.49},null,null,185.9]
[]
["Spannstücke gefräst"]
["Spannstück mit Sterngriff gefräst",null,null,"[Stk]","H001072",null,100.85,null,null,null,null,null,null,{"$f":"Q194*M2","v":100.87},null,null,91.7]
["Spannstück mit Sechskantschraube gefräst",null,null,"[Stk]","H001062",null,78.650000000000006,null,null,null,null,null,null,{"$f":"Q195*M2","v":78.650000000000006},null,null,71.5]
[]
[]
[]
["Steher VARIO 50+80"]
["Steher VARIO 15° 80-750 mm (Anfertigung auf Bestellung)",null,null,null,"H801610","H801610",{"$f":"ROUND(N200*2,1)/2","v":583.6},641.95000000000005,null,{"$f":"G200*1.1","v":641.96},null,null,null,{"$f":"Q200*M2","v":583.60500000000002},null,null,530.54999999999995]
["Steher VARIO 15° 80-1350 mm (Anfertigung auf Bestellung)",null,null,null,"H801611","H801611",755.7,831.25,null,831.2700000000001,null,null,null,{"$f":"Q201*M2","v":755.7},null,null,687]
["Steher VARIO 15° 80-1750 mm (Anfertigung auf Bestellung)",null,null,null,"H801612","H801612",870.65,957.7,null,957.71500000000003,null,null,null,{"$f":"Q202*M2","v":870.65000000000009},null,null,791.5]
["Steher VARIO 15° 80-2150 mm (Anfertigung auf Bestellung)",null,null,null,"H801613","H801613",985.35,1083.9000000000001,null,1083.8850000000002,null,null,null,{"$f":"Q203*M2","v":985.32500000000005},null,null,895.75]
["Steher VARIO 30° 80-750 mm (Anfertigung auf Bestellung)",null,null,null,"H801620","H801620",583.6,641.95000000000005,null,641.96,null,null,null,{"$f":"Q204*M2","v":583.60500000000002},null,null,530.54999999999995]
["Steher VARIO 30° 80-1350 mm (Anfertigung auf Bestellung)",null,null,null,"H801621","H801621",755.7,831.25,null,831.2700000000001,null,null,null,{"$f":"Q205*M2","v":755.7},null,null,687]
["Steher VARIO 30° 80-1750 mm (Anfertigung auf Bestellung)",null,null,null,"H801622","H801622",870.65,957.7,null,957.71500000000003,null,null,null,{"$f":"Q206*M2","v":870.65000000000009},null,null,791.5]
["Steher VARIO 30° 80-2150 mm (Anfertigung auf Bestellung)",null,null,null,"H801623","H801623",985.35,1083.9000000000001,null,1083.8850000000002,null,null,null,{"$f":"Q207*M2","v":985.32500000000005},null,null,895.75]
["Steher VARIO 45° 80-750 mm (Anfertigung auf Bestellung)",null,null,null,"H801630","H801630",583.6,641.95000000000005,null,641.96,null,null,null,{"$f":"Q208*M2","v":583.60500000000002},null,null,530.54999999999995]
["Steher VARIO 45° 80-1350 mm (Anfertigung auf Bestellung)",null,null,null,"H801631","H801631",755.7,831.25,null,831.2700000000001,null,null,null,{"$f":"Q209*M2","v":755.7},null,null,687]
["Steher VARIO 45° 80-1750 mm (Anfertigung auf Bestellung)",null,null,null,"H801632","H801632",870.65,957.7,null,957.71500000000003,null,null,null,{"$f":"Q210*M2","v":870.65000000000009},null,null,791.5]
["Steher VARIO 45° 80-2150 mm (Anfertigung auf Bestellung)",null,null,null,"H801633","H801633",985.35,1083.9000000000001,null,1083.8850000000002,null,null,null,{"$f":"Q211*M2","v":985.32500000000005},null,null,895.75]
["Steher VARIO 60° 80-750 mm (Anfertigung auf Bestellung)",null,null,null,"H801640","H801640",583.6,641.95000000000005,null,641.96,null,null,null,{"$f":"Q212*M2","v":583.60500000000002},null,null,530.54999999999995]
["Steher VARIO 60° 80-1350 mm (Anfertigung auf Bestellung)",null,null,null,"H801641","H801641",755.7,831.25,null,831.2700000000001,null,null,null,{"$f":"Q213*M2","v":755.7},null,null,687]
["Steher VARIO 60° 80-1750 mm (Anfertigung auf Bestellung)",null,null,null,"H801642","H801642",870.65,957.7,null,957.71500000000003,null,null,null,{"$f":"Q214*M2","v":870.65000000000009},null,null,791.5]
["Steher VARIO 60° 80-2150 mm (Anfertigung auf Bestellung)",null,null,null,"H801643","H801643",985.35,1083.9000000000001,null,1083.8850000000002,null,null,null,{"$f":"Q215*M2","v":985.32500000000005},null,null,895.75]
["Steher VARIO 15° 50-750 mm (Anfertigung auf Bestellung)",null,null,null,"H501610","H501610",747.4,822.15,null,822.14,null,null,null,{"$f":"Q216*M2","v":747.3950000000001},null,null,679.45]
["Steher VARIO 15° 50-1350 mm (Anfertigung auf Bestellung)",null,null,null,"H501611","H501611",917.45,1009.2,null,1009.1950000000002,null,null,null,{"$f":"Q217*M2","v":917.45500000000004},null,null,834.05]
["Steher VARIO 15° 50-1750 mm (Anfertigung auf Bestellung)",null,null,null,"H501612","H501612",1030.5999999999999,1133.6500000000001,null,1133.6600000000001,null,null,null,{"$f":"Q218*M2","v":1030.5900000000001},null,null,936.9]
["Steher VARIO 15° 50-2150 mm (Anfertigung auf Bestellung)",null,null,null,"H501613","H501613",1143.9000000000001,1258.3,null,1258.2900000000002,null,null,null,{"$f":"Q219*M2","v":1143.8900000000001},null,null,1039.9000000000001]
["Steher VARIO 30° 50-750 mm (Anfertigung auf Bestellung)",null,null,null,"H501620","H501620",747.4,822.15,null,822.14,null,null,null,{"$f":"Q220*M2","v":747.3950000000001},null,null,679.45]
["Steher VARIO 30° 50-1350 mm (Anfertigung auf Bestellung)",null,null,null,"H501621","H501621",917.45,1009.2,null,1009.1950000000002,null,null,null,{"$f":"Q221*M2","v":917.45500000000004},null,null,834.05]
["Steher VARIO 30° 50-1750 mm (Anfertigung auf Bestellung)",null,null,null,"H501622","H501622",1030.5999999999999,1133.6500000000001,null,1133.6600000000001,null,null,null,{"$f":"Q222*M2","v":1030.5900000000001},null,null,936.9]
["Steher VARIO 30° 50-2150 mm (Anfertigung auf Bestellung)",null,null,null,"H501623","H501623",1143.9000000000001,1258.3,null,1258.2900000000002,null,null,null,{"$f":"Q223*M2","v":1143.8900000000001},null,null,1039.9000000000001]
["Steher VARIO 45° 50-750 mm (Anfertigung auf Bestellung)",null,null,null,"H501630","H501630",747.4,822.15,null,822.14,null,null,null,{"$f":"Q224*M2","v":747.3950000000001},null,null,679.45]
["Steher VARIO 45° 50-1350 mm (Anfertigung auf Bestellung)",null,null,null,"H501631","H501631",917.45,1009.2,null,1009.1950000000002,null,null,null,{"$f":"Q225*M2","v":917.45500000000004},null,null,834.05]
["Steher VARIO 45° 50-1750 mm (Anfertigung auf Bestellung)",null,null,null,"H501632","H501632",1030.5999999999999,1133.6500000000001,null,1133.6600000000001,null,null,null,{"$f":"Q226*M2","v":1030.5900000000001},null,null,936.9]
["Steher VARIO 45° 50-2150 mm (Anfertigung auf Bestellung)",null,null,null,"H501633","H501633",1143.9000000000001,1258.3,null,1258.2900000000002,null,null,null,{"$f":"Q227*M2","v":1143.8900000000001},null,null,1039.9000000000001]
["Steher VARIO 60° 50-750 mm (Anfertigung auf Bestellung)",null,null,null,"H501640","H501640",747.4,822.15,null,822.14,null,null,null,{"$f":"Q228*M2","v":747.3950000000001},null,null,679.45]
["Steher VARIO 60° 50-1350 mm (Anfertigung auf Bestellung)",null,null,null,"H501641","H501641",917.45,1009.2,null,1009.1950000000002,null,null,null,{"$f":"Q229*M2","v":917.45500000000004},null,null,834.05]
["Steher VARIO 60° 50-1750 mm (Anfertigung auf Bestellung)",null,null,null,"H501642","H501642",1030.5999999999999,1133.6500000000001,null,1133.6600000000001,null,null,null,{"$f":"Q230*M2","v":1030.5900000000001},null,null,936.9]
["Steher VARIO 60° 50-2150 mm (Anfertigung auf Bestellung)",null,null,null,"H501643","H501643",1143.9000000000001,1258.3,null,1258.2900000000002,null,null,null,{"$f":"Q231*M2","v":1143.8900000000001},null,null,1039.9000000000001]
["Steher VARIO 75° 50-750 mm (Anfertigung auf Bestellung)",null,null,null,"H501650","H501650",747.4,822.15,null,822.14,null,null,null,{"$f":"Q232*M2","v":747.3950000000001},null,null,679.45]
["Steher VARIO 75° 50-1350 mm (Anfertigung auf Bestellung)",null,null,null,"H501651","H501651",917.45,1009.2,null,1009.1950000000002,null,null,null,{"$f":"Q233*M2","v":917.45500000000004},null,null,834.05]
["Steher VARIO 75° 50-1750 mm (Anfertigung auf Bestellung)",null,null,null,"H501652","H501652",1030.5999999999999,1133.6500000000001,null,1133.6600000000001,null,null,null,{"$f":"Q234*M2","v":1030.5900000000001},null,null,936.9]
["Steher VARIO 75° 50-2150 mm (Anfertigung auf Bestellung)",null,null,null,"H501653","H501653",1143.9000000000001,1258.3,null,1258.2900000000002,null,null,null,{"$f":"Q235*M2","v":1143.8900000000001},null,null,1039.9000000000001]
["Steher VARIO 15° 80 Sonderlänge exkl. Dichtung, (Stangenware)",null,null,null,"-","-",1,1.1000000000000001,null,1.1000000000000001,null,null,null,{"$f":"Q236","v":1},null,null,1]
["Steher VARIO 30° 80 Sonderlänge exkl. Dichtung, (Stangenware)",null,null,null,"-","-",1,1.1000000000000001,null,1.1000000000000001,null,null,null,{"$f":"Q237","v":1},null,null,1]
["Steher VARIO 45° 80 Sonderlänge exkl. Dichtung, (Stangenware)",null,null,null,"-","-",1,1.1000000000000001,null,1.1000000000000001,null,null,null,1,null,null,1]
["Steher VARIO 60° 80 Sonderlänge exkl. Dichtung, (Stangenware)",null,null,null,"-","-",1,1.1000000000000001,null,1.1000000000000001,null,null,null,1,null,null,1]
["Steher VARIO 15° 50 Sonderlänge exkl. Dichtung, (Stangenware)",null,null,null,"-","-",1,1.1000000000000001,null,1.1000000000000001,null,null,null,1,null,null,1]
["Steher VARIO 30° 50 Sonderlänge exkl. Dichtung, (Stangenware)",null,null,null,"-","-",1,1.1000000000000001,null,1.1000000000000001,null,null,null,1,null,null,1]
["Steher VARIO 45° 50 Sonderlänge exkl. Dichtung, (Stangenware)",null,null,null,"-","-",1,{"$f":"ROUND(J242*2,1)/2","v":1.1000000000000001},null,1.1000000000000001,null,null,null,1,null,null,1]
["Steher VARIO 60° 50 Sonderlänge exkl. Dichtung, (Stangenware)",null,null,null,"-","-",1,1.1000000000000001,null,1.1000000000000001,null,null,null,1,null,null,1]
["Steher VARIO 75° 50 Sonderlänge exkl. Dichtung, (Stangenware)",null,null,null,"-","-",1,1.1000000000000001,null,1.1000000000000001,null,null,null,1,null,null,1]
[]
["Dammbalkenhaken:"]
[null,null,null,"[Stk]","H001103","H001103",0,null,null,null,null,null,null,278]

{"sheet":"Sprachindex","index":10,"n_rows":368,"n_cols":15,"rows_kept":368,"cut":false,"hidden":true,"merged":[]}
["_DEUTSCH","_ENGLISCH","_FRANZÖSISCH","_ITALIENISCH","_Tschechisch","_Polnisch","_Ungarisch","_Slowakisch","_Niederländisch","_Slovenisch","_Schwedisch","_Dänisch","_Norwegisch","_Kroatisch"]
["[EH]","[U]","[U]","[UM]","[m.j.]","[j.m.]","[EH]","[m.j.]","[eenheid]","[VV]","[Enh.]","[Enhed]","[EH]","[EH]"]
["[L] Innenlichte","[L] interior lights","[E] vide lumière","[L] luce netta","[L] světlá šířka","[L] wymiar wewnętrzny w świetle","[L] Innenlichte","[L] svetlá šírka","[dm] dagmaat","[L] notranja odprtina","[L] Inre öppning","[L] Indvendigt lys","[L] Taklys","[L] Unutrašnja širina"]
["[lfm]","[rm]","[m]","[m]","[bm]","[mb]","[lfm]","[bm]","[strekkende meter]","[tm]","[löpm]","[løb. meter]","[lm]","[d/m]"]
["[m]","[m]","[m]","[m]","[m]","[m]","[m]","[m]","[m]","[m]","[m]","[m]","[m]","[m]"]
["[mm]","[mm]","[mm]","[mm]","[mm]","[mm]","[mm]","[mm]","[mm]","[mm]","[mm]","[mm]","[mm]","[mm]"]
["[Paar]","[pair]","[paire]","[paio]","[pár]","[para]","[pár]","[pár]","[paar-]","[par]","[par]","[par]","[par]","[par]"]
["[Stk]","[pcs]","[pc.]","[pz]","[ks]","[szt.]","[Stk]","[ks]","[stuks]","[kos]","[st]","[Stk.]","[stk.]","[kom]"]
["[VPE]","[packaging unit]","[UE]","[CF]","[bal.]","[VPE]","[CSE]","[balenie]","[Verpakking]","[VPE]","[förpackningsenhet]","[emballageenhed]","[pakningsenhet]","[PA]"]
["+20 % MwSt.","+20 % MwSt.","+7.7 % TVA","+20 % MwSt.","+20 % MwSt.","+20 % MwSt.","+27% áfával","+20 % MwSt.","+20 % MwSt.","+20 % MwSt.","+20 % MwSt.","+20 % MwSt.","+20 % MwSt.","+20 % MwSt.","ACHTUNG! In Ungarn ist 27% Mwst!"]
["25/200mm","25/200 mm","25/200 mm","25/200mm","25/200mm","25/200mm","25/200mm","25/200mm","25/200 mm","25/200 mm","25/200 mm","25/200 mm","25/200 mm","25/200mm"]
["50/150mm","50/150 mm","50/150 mm","50/150mm","50/150mm","50/150mm","50/150mm","50/150mm","50/150 mm","50/150 mm","50/150 mm","50/150 mm","50/150 mm","50/150mm"]
["50/200mm","50/200 mm","50/200 mm","50/200mm","50/200mm","50/200mm","50/200mm","50/200mm","50/200 mm","50/200 mm","50/200 mm","50/200 mm","50/200 mm","50/200mm"]
["80/200mm","80/200 mm","80/200 mm","80/200mm","80/200mm","80/200mm","80/200mm","80/200mm","80/200 mm","80/200 mm","80/200 mm","80/200 mm","80/200 mm","80/200mm"]
["Abbildung 1","Figure 1","Illustration 1","disegno  1","Obr. 1","Rysunek 1","1. ábra","Obrázok 1","Afbeelding 1","Slika 1","Illustration 1","Figur 1","Bilde 1","Slika 1"]
["Abdeckung","Cover","Cache de protection","Coperchio","Kryt ","Osłona","Takaróelem","Kryt","Afdekking","Pokrov","Täckplåt","Afdækning","TILDEKKING","Pokrov"]
["Abdeckung V 25, entgratet","Cover V 25, deburred","Cache de protection V 25, ébavuré","Coperchio V 25, sbavato","Kryt V 25, zafixování","Osłona V 25, okrawana","Takaróelem V 25, sorjázott","Kryt V 25, navŕtaný a odhrotovaný","Afdekking V 25, geboord en afgebraamd","Pokrov V 25, z izvrtinami in posnetimi robovi","Täckplåt rak 25, förborrad ","Afdækning V 25, afgratet","TILDEKKING V 25, boret og avgradet","Pokrov V 25, bušen i s obrađenim rubovima"]
["Abdeckung V 25, gebohrt und entgratet","Cover V 25, drilled and deburred","Cache de protection V 25, percé et ébavuré","Coperchio V 25, forato e sbavato","Kryt V 25, svrtaný pro zafixování","Osłona V 25, nawiercona i okrawana","Takaróelem V 25, furatolt és sorjázott","Kryt V 25, navŕtaný a odhrotovaný","Afdekking V 25, geboord en afgebraamd","Pokrov V 25, z izvrtinami in posnetimi robovi","Täckplåt rak 25, förborrad ","Afdækning V 25, forboret og afgratet","TILDEKKING V 25, boret og avgradet","Pokrov V 25, bušen i s obrađenim rubovima"]
["Abdeckung V 50, gebohrt und entgratet","Cover V 50, drilled and deburred","Cache de protection V 50, percé et ébavuré","Coperchio V 50, forato e sbavato","Kryt V 50, svrtaný pro zafixování","Osłona V 50, nawiercona i okrawana","Takaróelem V 50, furatolt és sorjázott","Kryt V 50, navŕtaný a odhrotovaný","Afdekking V 50, geboord en afgebraamd","Pokrov V 50, z izvrtinami in posnetimi robovi","Täckplåt rak 50, förborrad ","Afdækning V 50, forboret og afgratet","TILDEKKING V 50, boret og avgradet","Pokrov V 50, bušen i s obrađenim rubovima"]
["Abdeckung V 80, gebohrt und entgratet","Cover V 80, drilled and deburred","Cache de protection V 80, percé et ébavuré","Coperchio V 80, forato e sbavato","Kryt V 80, svrtaný pro zafixování","Osłona V 80, nawiercona i okrawana","Takaróelem V 80, furatolt és sorjázott","Kryt V 80, navŕtaný a odhrotovaný","Afdekking V 80, geboord en afgebraamd","Pokrov V 80, z izvrtinami in posnetimi robovi","Täckplåt rak 80, förborrad","Afdækning V 80, forboret og afgratet","TILDEKKING V 80, boret og avgradet","Pokrov V 80, bušen i s obrađenim rubovima"]
["Abdeckung VO 25, entgratet","Cover VO 25, deburred","Cache de protection VO 25, ébavuré","Coperchio VO 25, sbavato","Kryt VO 25, zafixování","Osłona VO 25, okrawana","Takaróelem VO 25, sorjázott","Kryt VO 25, navŕtaný a odhrotovaný","Afdekking VO 25, geboord en afgebraamd","Pokrov VO 25, z izvrtinami in posnetimi robovi","Täckplåt m, vinkel 25, förborrad","Afdækning VO 25, afgratet","TILDEKKING VO 25, boret og avgradet","Pokrov VO 25, bušen i s obrađenim rubovima"]
["Abdeckung VO 25, gebohrt und entgratet","Cover VO 25, drilled and deburred","Cache de protection VO 25, percé et ébavuré","Coperchio VO 25, forato e sbavato","Kryt VO 25, svrtaný pro zafixování","Osłona VO 25, nawiercona i okrawana","Takaróelem VO 25, furatolt és sorjázott","Kryt VO 25, navŕtaný a odhrotovaný","Afdekking VO 25, geboord en afgebraamd","Pokrov VO 25, z izvrtinami in posnetimi robovi","Täckplåt m, vinkel 25, förborrad","Afdækning VO 25, forboret og afgratet","TILDEKKING VO 25, boret og avgradet","Pokrov VO 25, bušen i s obrađenim rubovima"]
["Abdeckung VO 50, gebohrt und entgratet","Cover VO 50, drilled and deburred","Cache de protection VO 50, percé et ébavuré","Coperchio VO 50, forato e sbavato","Kryt VO 50, svrtaný pro zafixování","Osłona VO 50, nawiercona i okrawana","Takaróelem VO 50, furatolt és sorjázott","Kryt VO 50, navŕtaný a odhrotovaný","Afdekking VO 50, geboord en afgebraamd","Pokrov VO 50, z izvrtinami in posnetimi robovi","Täckplåt m, vinkel 50, förborrad","Afdækning VO 50, forboret og afgratet","TILDEKKING VO 50, boret og avgradet","Pokrov VO 50, bušen i s obrađenim rubovima"]
["Abdeckung VO 80, gebohrt und entgratet","Cover VO 80, drilled and deburred","Cache de protection VO 80, percé et ébavuré","Coperchio VO 80, forato e sbavato","Kryt VO 80, svrtaný pro zafixování","Osłona VO 80, nawiercona i okrawana","Takaróelem VO 80, furatolt és sorjázott","Kryt VO 80, navŕtaný a odhrotovaný","Afdekking VO 80, geboord en afgebraamd","Pokrov VO 80, z izvrtinami in posnetimi robovi","Täckplåt m, vinkel 80, förborrad","Afdækning VO 80, forboret og afgratet","TILDEKKING VO 80, boret og avgradet","Pokrov VO 80, bušen i s obrađenim rubovima"]
["Achtung! Maximallänge bei Beschichtung 3000mm","Caution! Maximum length with coating 3000 mm","Attention ! Longueur maximum pour le revêtement des batardeaux : 3 000 mm","attenzione, lunghezza max per elementi verniciati 3000mm","Pozor! Maximální délka pro lakování 3000mm","Uwaga: Maksymalna długość elementu lakierowanego 3000 mm","Figyelem! A porszórt elemek maximális hossza 3000mm","Pozor! Maximálna dĺžka pri nátere 3 000 mm","Let op! Maximale lengte bij coating 3000 mm","Pozor! Največja dolžina pri prevleki 3.000 mm","Observera! Maxlängd lackering 3 000mm","Obs! Maksimal længde ved beklædning 3000 mm","Advarsel! Maksimal lengde ved belegg 3000 mm","Pozor! Maksimalna duljina pri plastifikaciji 3000mm"]
["ACHTUNG: zu viele Rundprofile gewählt","CAUTION: too many round profiles have been selected","ATTENTION ! Vous avez sélectionné trop de profils ronds.","ATTENZIONE: troppi montanti circolari selezionati","POZOR: vybráno příliš mnoho kruhových profilů","UWAGA: wybrano zbyt dużo profili okrągłych","FIGYELEM: túl sok körprofilt választott","POZOR: je zvolených priveľa kruhových profilov","LET OP: te veel rondprofielen geselecteerd","POZOR: izbranih je preveč okroglih profilov","Observera: För många rundprofiler har valts","OBS! For mange runde profiler er valgt","ADVARSEL: for mange rundprofiler valgt","POZOR: odabrano previše okruglih profila"]
["Aluminium","Aluminium","Aluminium","alluminio","Aluminium","Aluminium","Alumínium","Hliník","Aluminium","Aluminij","Aluminium","Aluminium","Aluminium","Aluminij"]
["Anprall von Treibgut (nur bei Eingabe von Anströmwinkel)","Impact of floating debris (only where it enters from the angle of the inflow)","Impact des débris flottants (requiert la saisie de l’angle d’incidence)","Urto da detriti (solo inserendo l'angolo di afflusso)","náraz plovoucího předmětu (pouze při zadání přítokového úhlu)","Uderzenie od wody z zanieczyszczeniami (tylko przy wprowadzeniu kąta natarcia)","Uszadék nekicsapódása (csak a beesési szög megadása esetén)","Náraz plávajúceho predmetu (len ak smeruje z prítokového uhla)","Stootkracht van drijvend materiaal (alleen bij invoer van invalshoek)","trk naplavin (samo pri vnosu vpadnega kota),","Påtryckning/belastning, av flytande skräp (bara vid inmatning av infallsvinkel)","Påvirkning fra drivende genstande (kun ved indtastning af tilstrømningsvinklen)","Sammenstøt med drivgods (kun ved inntasting av tilstrømmingsvinkel)","Udar naplavina (samo ako je unesen kut pritjecanja)"]
["anprallende Treibgutmasse:","Impacting mass of flotsam:","Masse des débris flottants :","massa detriti impattanti:","náraz plovoucího předmětu váhy:","anprallende Treibgutmasse:","nekisodródó uszadék:","Hmotnosť narážajúceho predmetu:","Massa van aanstotend drijfmateriaal:","Masa naplavin:","Påtryckande flytande skräpmassa:","Påvirkning fra drivende genstande:","Drivgodsmasse som støter imot:","Udarajuća masa naplavina:"]
["anprallende Treibgutmasse: m","Impacting mass of flotsam: m","Masse des débris flottants : m","massa detriti impattanti: m","náraz plovoucího předmětu váhy: m","oddziaływanie masy zanieczyszczeń: m","Becsapódó uszadék: m","Hmotnosť narážajúceho predmetu: m","Massa van aanstotend drijfmateriaal: m","Masa naplavin: m","Påtryckande flytande skräpmassa: m","Påvirkning fra drivende genstande: m","Drivgodsmasse som støter imot: m","Udarajuća masa naplavina: m"]
["Anströmwinkel [°]:","Inflow angle [°]:","Angle d’incidence [°] :","angolo di afflusso [°]:","Přítokový úhel [°]:","Kąt padania [°]:","Beesési szög [°]:","Prítokový uhol [°]:","Invalshoek [°]:","Vpadni kot [°]:","Infallsvinkel [°]:","Indstrømningsvinkel [°]:","Tilstrømmingsvinkel [°]:","Kut pritjecanja [°]:"]
["Anströmwinkel:","Inflow angle:","Angle d’incidence :","Angolo di afflusso:","Přítokový úhel:","Anströmwinkel:","Beesési szög:","Prítokový uhol:","Invalshoek:","Vpadni kot:","Infallsvinkel:","Indstrømningsvinkel:","Tilstrømmingsvinkel:","Kut pritjecanja:"]
["Anwendungstechnik","Application technology","Service technique","ufficio tecnico","Aplikační technika","Technika zastosowania","Alkalmazástechnika","Technické oddelenie","Toepassingstechniek","Tehnika uporabe","Tillämpningsteknik","Anvendelsesteknik","Bruksteknikk","Primijenjena tehnika"]
["Anzahl der Felder:","Number of fields:","Nombre de travées :","numero campate:","Počet polí:","Liczba przęłseł:","Mezők száma:","Počet polí:","Aantal velden:","Število polj:","Antal fält:","Antal felter:","Antall felter:","Broj polja:"]
["Anzahl der gleichen Systeme:","Number of the same systems:","Nombre de systèmes identiques :","numero campate uguali:","Počet stejných systémů:","Liczba identycznych systemów:","Azonos rendszerek száma:","Počet rovnakých systémov:","Aantal gelijke systemen:","Število enakih sistemov:","Antal identiska system:","Antal tilsvarende systemer:","Antall like systemer:","Broj istih sustava:"]
["Artikel Nr.","Item no","Référence","numero articolo","Art.Nr.","Nr artykułu","Cikkszám","Č. artikla","Artikelnr.","Št. artikla","Artikelnr","Varenr.","Artikkelnr.","Br. artikla"]
["Aufpreis Ausfräsung Wandprofil für Dammbalken","Surcharge for groove milling of side sections for stop logs","Supplément pour fraisage des parties latérales des batardeaux","sovrapprezzo per fresatura montanti laterali","Příplatek za odfrézování bočních dílů pro hrázní bloky","Dopłata za frezowanie części bocznych belek zaporowych","Oldalsó elemek kimarásának felára","Príplatok za vyfrézovanie bočných dielov pre hradidlá","Toeslag uitfrezen zijdelen voor Dambalk","Doplačilo za izrez stranskih delov za zajezitvene lamele","Pristillägg urfräsning profiler för DÄMMBALK","Tillæg for udfræsning af sidevanger til dæmningsbjælker","Pristillegg utfresning av sidedeler for bjelkestengsler","Doplata za obradu frezom bočnih dijelova za dasku brane"]
["Aufpreis Längenänderung Wandprofil","Surcharge for length adjustment of side sections","Supplément pour modification de longueur des parties latérales","sovrapprezzo per modifiche di lunghezza dei montanti","Příplatek za nestandardní délky bočních dílů ","Dopłata za zmianę długości profili ściennych","Oldalsó elemek hosszméret-módosításának felára","Príplatok za zmenu dĺžky bočných dielov","Toeslag lengtewijziging zijdelen","Doplačilo za spremembo dolžine stranskih delov","Pristillägg annan längd profiler","Tillæg for ændring af sidevangernes længde","Pristillegg lengdeendring av sidedeler","Doplata za promjenu duljine bočnih dijelova"]
["Aufpreis Planungsstunde","Surcharge for planning appointment","Supplément pour heure d’étude et de conception","sovrapprezzo per ora di progettazione","Příplatek za hodinu projekční práce","Dopłata godzinna za projektowanie","Tervezési óra felára","Príplatok za hodinu plánovania","Toeslag planning (per uur)","Doplačilo za uro načrtovanja","Pristillägg planeringstid","Tillæg for timer til planlægning","Pristillegg planleggingstime","Doplata za sat planiranja"]
["Aufpreis Verankerung aufgeschweißt (a 300mm)","Surcharge for anchoring to be welded (300 mm)","Supplément pour soudure du système d’ancrage (300 mm)","sovrapprezzo per saldatura ancoraggio (a 300mm)","Příplatek za přivařené kotevní trny (á 300mm)","Dopłata za zakotwienie spawane (za 300 mm)","Hegesztett lehorgonyzóelem felára (á 300mm)","Príplatok za privarenie ukotvenia (každých 300 mm)","Toeslag verankering vastgelast (300 mm)","Doplačilo za varjenje sider (na 300 mm)","Pristillägg svetsad förankring (300 mm)","Tillæg for påsvejset forankring (hver 300 mm)","Pristillegg påsveiset forankring (300 mm)","Doplata za navareno usidrenje (300mm)"]
["Ausfräsung Wandprofil für DB","Surcharge for side sections for stop logs","Fraisage des parties latérales des batardeaux","fresatura sulle sponde","Odfrézování bočních dílů pro hrázní bloky","Frezowanie części bocznych belek zapór","Oldalsó elemek kimarása gátgerendához","Vyfrézovanie bočných dielov pre hradidlá","Uitfrezen zijdelen voor SP","Izrez stranskih delov za zajezitveni prečnik","Urfräsning  profiler för DB","Udfræsning af sidevanger til dæmningsbjælker","Utfresning av sidedeler for DB","Obrada frezom bočnih dijelova za dasku brane"]
["Ausführungsart","Design type","Type de mise en œuvre","tipo di esecuzione","Typ provedení","Sposób wykonania","Kialakítás","Typ vyhotovenia","Uitvoeringswijze","Vrsta izvedbe","Konstruktionstyp","Arten af udførelsen","Utførelsesmåte","Način izvedbe"]
["Ausnutzung HD:","Utilisation of HD:","Charge statique HD :","Utilizzo HD:","Využití HD:","Ausnutzung HD:","Kihasználtság HD:","Využitie HD:","Benutting HD:","Izkoristek HD:","Utnyttjande HD:","Udnyttelse HD:","Utnyttelse HD:","Iskorištenje HD:"]
["Ausnutzung HD+HS:","Utilisation of HD + HS:","Charge statique HD + HS :","Utilizzo HD+HS:","Využití HD+HS:","Ausnutzung HD+HS:","Kihasználtság HD+HS:","Využitie HD+HS:","Benutting HD+HS:","Izkoristek HD+HS:","Utnyttjande HD+HS:","Udnyttelse HD+HS:","Utnyttelse HD+HS:","Iskorištenje HD+HS:"]
["Ausnutzung HS:","Utilisation of HS:","Charge statique HS :","Utilizzo HS:","Využití HS:","Ausnutzung HS:","Kihasználtság HS:","Využitie HS:","Benutting HS:","Izkoristek HS:","Utnyttjande HS:","Udnyttelse HS:","Utnyttelse HS:","Iskorištenje HS:"]
["Ausnutzung zufolge","Utilisation according to","en fonction de la charge statique","Utilizzo in conformità","Využití od","Ausnutzung zufolge","Kihasználtság a köv. következtében","Využitie v dôsledku","Benutting overeenkomstig","Izkoristek kot posledica","Utnyttjande beroende på","Udnyttelse som følge af","Utnyttelse i følge","Iskorištenje prema"]
["Ausnutzung:","Utilisation:","Charge statique :","Utilizzo:","Využití:","Ausnutzung:","Kihasználtság:","Využitie:","Benutting:","Izkoristek:","Utnyttjande:","Udnyttelse:","Utnyttelse:","Iskorištenje:"]
["Bearbeiter:","Processor:","Partenaire PREFA :","Addetto:","Zpracoval:","Referent:","Feldolgozta:","Spracovateľ:","Verantwoordelijke:","Referent:","Bearbetas av:","Bearbejder:","Ansvarlig:","Odgovorna osoba:"]
["Bei nicht fachgerechter Montage und/oder Wartung oder bei Benutzung von nicht originalem Zubehör übernimmt PREFA keinerlei Haftung.","PREFA assumes no liability in the event of incorrect installation and/or maintenance, or in cases where non-original accessories are used.","Toute responsabilité de PREFA est également exclue en cas de défaut de construction (notamment si le gros œuvre pose des problèmes d’étanchéité)","in caso di installazione e/o manutenzione impropria o se vengono utilizzati accessori non originali, PREFA non si assume alcuna responsabilità.","Při neodborné montáži a/nebo údržbě nebo při použití neoriginálního příslušenství nepřebírá PREFA žádnou záruku.","PREFA nie przejmuje żadnej odpowiedzialności za niewłaściwy montaż i/lub konserwację lub zastosowanie nieoryginalnych akcesoriów.","A rendszer szakszerűtlen beépítéséből és/vagy karbantartásából, vagy a nem gyári alkatrészek használatából eredő károkért a PREFA semmilyen felelősséget nem vállal. ","Pri neodbornej montáži a/alebo údržbe alebo pri použití iného ako originálneho príslušenstva nepreberá PREFA žiadnu záruku.","Bij ondeskundige montage/onderhoud of bij gebruik van niet-originele toebehoren is PREFA niet aansprakelijk.","PREFA ne prevzema nobene odgovornosti v primeru nestrokovne montaže in/ali vzdrževanja ali uporabe neoriginalne dodatne opreme.","Om montering och/eller underhåll inte utförs fackmannamässigt, eller tillbehör som inte är originaldelar används, har PREFA inget ansvar.","I tilfælde af ukorrekt installation og/eller vedligeholdelse, eller ved brug af ikke-originalt tilbehør, påtager PREFA sig intet ansvar.","Ved ikke fagmessig montering og/eller vedlikehold eller ved bruk av ikke-originalt tilbehør, fraskriver PREFA seg alt ansvar.","U slučaju nestručne montaže i/ili održavanja ili u slučaju korištenja neoriginalnih dijelova PREFA ne preuzima nikakvu odgovornost."]
["Bei System 25 nur 1 Feld möglich!","Only 1 field possible for system 25!","Une seule travée possible pour le système 25 !","con il sistema 25 è realizzabile solamente la campata singola!","U systému 25 možné pouze 1 pole!","Przy systemie 25 możliwe tylko jedno pole!","25-s rendszernél csak 1 mező lehetséges!","Pre systém 25 je možné len 1 pole!","Bij systeem 25 slechts 1 veld mogelijk!","Pri sistemu 25 je mogoče le 1 polje!","Med system 25 är bara 1 fält möjligt!","Med system 25 er kun 1 felt muligt!","Ved system 25 kun 1 felt mulig!","Za sustav 25 moguće samo 1 polje!"]
["Bemaßung","Dimensioning","Dimensionnement","Bemaßung","Rozměry","Bemaßung","Méretezés","rozmery","Bemaßung","Bemaßung","dimensioner","Mål","Bemaßung","Bemaßung"]
["Bemessungsmoment HD:","Rated torque HD:","Moment de calcul HD :","Coppia nominale HD:","Výpočtový moment HD:","Bemessungsmoment HD:","Mértékadó nyomaték HD:","Menovitý krútiaci moment HD:","Meetmoment HD:","Nazivni navor HD:","Mätmoment HD:","Beregningsmoment HD:","Kalibreringsmoment HD:","Projektirani moment HD:"]
["Bemessungsmoment HD+HS:","Rated torque HD + HS:","Moment de calcul HD + HS :","Coppia nominale HD+HS:","Výpočtový moment HD+HS:","Bemessungsmoment HD+HS:","Mértékadó nyomaték HD+HS:","Menovitý krútiaci moment HD+HS:","Meetmoment HD+HS:","Nazivni navor HD+HS:","Mätmoment HD+HS:","Beregningsmoment HD+HS:","Kalibreringsmoment HD+HS:","Projektirani moment HD+HS:"]
["Bemessungsmoment HS:","Rated torque HS:","Moment de calcul HS :","Coppia nominale HS:","Výpočtový moment HS:","Bemessungsmoment HS:","Mértékadó nyomaték HS:","Menovitý krútiaci moment HS:","Meetmoment HS:","Nazivni navor HS:","Mätmoment HS:","Beregningsmoment HS:","Kalibreringsmoment HS:","Projektirani moment HS:"]
["Bemessungsmoment Treibgut:","Rated torque of flotsam:","Moment de calcul des débris flottants :","Coppia nominale detriti:","Výpočtový moment plovoucí předmět:","Bemessungsmoment Treibgut:","Mértékadó nyomaték uszadék:","Menovitý krútiaci moment plávajúceho predmetu:","Meetmoment drijfmateriaal:","Nazivni navor naplavin:","Mätmoment för flytande skräp:","Beregningsmoment drivende genstande:","Kalibreringsmoment drivgods:","Projektirani moment naplavine:"]
["Bemessungsmoment:","Rated torque:","Moment de calcul :","Coppia nominale:","Výpočtový moment:","Bemessungsmoment:","Mértékadó nyomaték:","Menovitý krútiaci moment:","Meetmoment:","Nazivni navor:","Mätmoment:","Beregningsmoment:","Kalibreringsmoment:","Projektirani moment:"]
["Berechnung U-Profilhöhe bei Montage in Leibung zum Einfädeln","Berechnung U-Profilhöhe bei Montage in Leibung zum Einfädeln","Calcul du profil U-pour le montage en embrasure, vide lumière","Calcolo dell'altezza dei profili a U per l'inserimento","Určení výšky U-Profilu pro umožnění zasunutí hrázního bloku při montáži \"zapuštěné do ostění\"","Berechnung U-Profilhöhe bei Montage in Leibung zum Einfädeln","U-profilok magasságának számítása nyílásban történő beépítésnél, a gerendák behelyezhetőségének ellenőrzéséhez. ","Výpočet výšky U-profilu pri montáži na vloženie do ostenia","Berechnung U-Profilhöhe bei Montage in Leibung zum Einfädeln","Berechnung U-Profilhöhe bei Montage in Leibung zum Einfädeln","Beräkning U-profilhöjd vid diagonal inpassning av dämmbalk","Berechnung U-Profilhöhe bei Montage in Leibung zum Einfädeln","Berechnung U-Profilhöhe bei Montage in Leibung zum Einfädeln","Berechnung U-Profilhöhe bei Montage in Leibung zum Einfädeln"]
["beschichtet","Coated","Thermolaqué","verniciato","lakovaný","powlekany","Bevonatos","S povrchovou úpravou","Gecoat","prevlečeno","Belagd","Beklædt","Med belegg","plastificirano"]
["Beschichtung","Coating","Thermolaquage","verniciatura","Lakování","powłoka","Bevonat  ","Povrchová úprava","Coating","Prevleka","Beläggning","Beklædning","Belegg","Plastifikacija"]
["Beschichtungspauschale","Beschichtungspauschale","Forfait thermolaquage","Beschichtungspauschale","Beschichtungspauschale","Beschichtungspauschale","Beschichtungspauschale","Beschichtungspauschale","Beschichtungspauschale","Beschichtungspauschale","Beschichtungspauschale","Beschichtungspauschale","Beschichtungspauschale","Beschichtungspauschale"]
["Bestellung","Order","Commande","ordine","Objednávka","Zamówienie","Megrendelés","Objednávka","Bestelling","Naročilo","Beställning","Bestilling","Bestilling","Narudžba"]
["Bezeichnung","Name","Désignation","descrizione","Označení","Oznaczenie","Megnevezés","Označenie","Omschrijving","Ime","Beteckning","Betegnelse","Betegnelse","Oznaka"]
["BHW = Bemessungshochwasser","BHW = Flood water measurement","BHW : hauteur de retenue d’eau","BHW = Misura del livello di piena","BHW = návrhová výška vzdutí","BHW = powódź projektowa ","MÁSZ = mértékadó árvízszint","BHW = menovitá výška hladiny vody","BHW = maatgevende hoogwaterstand","BHW = visoka voda za dimenzioniranje","BHW = Högsta högvattennivå","BHW = Design-højvandsstand","BHW = flommåling","BHW = projektna poplava"]
["Bitte wählen","Please select","Veuillez sélectionner","scegliere per favore","Prosím vybrat","Proszę wybrać","Kérjük, válasszon","Prosím, vyberte","Selecteer","Izberite","Välj","Vælg venligst","Vennligst velg","Molimo odabrati"]
["blank","blank","Aluminium naturel","alluminio naturale","přírodní","naturalny","Natúr alumínium","Prírodný hliník","Blank","prazno","Blank / Blankt","blank","blank","prirodni aluminij"]
["Bodendichtung 25","Ground seal 25","Joint au sol 25","guarnizione a pavimento 25","Spodní těsnění 25","Uszczelmienie dolne 25","Talajtömítés 25","Spodné tesnenie 25","Bodemafdichting 25","Talno tesnilo 25","GOLVTÄTNING 25","Bundtætning 25","Bunntetning 25","Brtvljenje prema tlu 25"]
["Bodendichtung 50","Ground seal 50","Joint au sol 50","guarnizione a pavimento 50","Spodní těsnění 50","Uszczelmienie dolne 50","Talajtömítés 50","Spodné tesnenie 50","Bodemafdichting 50","Talno tesnilo 50","GOLVTÄTNING 50","Bundtætning 50","Bunntetning 50","Brtvljenje prema tlu 50"]
["Bodendichtung 80","Ground seal 80","Joint au sol 80","guarnizione a pavimento 80","Spodní těsnění 80","Uszczelmienie dolne 80","Talajtömítés 80","Spodné tesnenie 80","Bodemafdichting 80","Talno tesnilo 80","GOLVTÄTNING 80","Bundtætning 80","Bunntetning 80","Brtvljenje prema tlu 80"]
["Bodenhülse","Ground sleeve","Douille de sol","piantone","Zemní pouzdro","Tuleja do mocowania kolumny","Padlóhüvely  ","Zemné puzdro","Bodemhuls","Talna puša","Markhylsa","Bundmuffe","JORDANKER","Podna čaška"]
["Bodenhülse (GROSS) 50 Vario und 80 beschichtet inkl. Aluminiumdeckel und Dichtung","Ground sleeve 50/80 Vario aluminium-coated incl. cover with seal","Douille de sol 50/80 Vario ; aluminium prélaqué, fourni avec couvercle et joint","piantone 50/80 Vario alluminio verniciato, compreso coperchio con guarnizione","Zemní pouzdro 50/80 Vario, lakovaný hliník vč. víka s těsněním","Tuleja 50/80 VARIO do mocowania kolumny, aluminum powlekane z deklem i uszczelnieniem","Padlóhüvely Vario 50/80 bevonatos alumínium, tömített fedéllel  ","Zemné puzdro 50/80 Vario, hliník s povrchovou úpravou vrát. veka s tesnením","Bodemhuls 50/80 Vario aluminium coating incl. deksel met afdichting","Talna puša 50/80, Vario aluminij, vključno s pokrovom in tesnilom","Markhylsa 50/80 Vario aluminium, ytbehandlad, inkl. lock med tätning","Bundmuffe 50/80 beklædt med Vario aluminium, inkl. dæksel med tætning","JORDANKER 50/80 Vario aluminium med belegg inkl. lokk med tetning","Podna čaška 50/80 vario plastificirani aluminij uklj. poklopac s brtvom"]
["Bodenhülse (GROSS) 50 Vario und 80 beschichtet inkl. Edelstahldeckel und Dichtung","Ground sleeve 50/80 Vario stainless steel-coated incl. cover with seal","Douille de sol 50/80 Vario ; acier inoxydable prélaqué, fourni avec couvercle et joint","piantone 50/80 Vario acciaio inox verniciato, compreso coperchio con guarnizione","Zemní pouzdro 50/80 Vario, lakovaný nerez vč. víka s těsněním","Tuleja 50/80 VARIO do mocowania kolumny, stal nierdzewna powlekana z deklem i uszczelnieniem","Padlóhüvely Vario 50/80 rozsdamentes acél, tömített fedéllel  ","Zemné puzdro 50/80 Vario, ušľachtilá oceľ s povrchovou úpravou vrát. veka s tesnením","Bodemhuls 50/80 Vario rvs coating incl. deksel met afdichting","Talna puša 50/80, Vario nerjavno jeklo, vključno s pokrovom in tesnilom","Markhylsa 50/80 Vario rostfritt stål, ytbehandlad, inkl. lock med tätning","Bundmuffe 50/80 beklædt med Vario rustfrit stål, inkl. dæksel med tætning","JORDANKER 50/80 Vario rustfritt stål med belegg inkl. lokk med tetning","Podna čaška 50/80 vario plastificirani nehrđajući čelik uklj. poklopac s brtvom"]
["Bodenhülse 50/80 beschichtet inkl. Aluminiumdeckel und Dichtung","Ground sleeve 50/80 aluminium-coated incl. cover with seal","Douille de sol 50/80 ; aluminium prélaqué, fourni avec couvercle et joint","piantone 50/80 alluminio verniciato, compreso coperchio con guarnizione","Zemní pouzdro 50/80, lakovaný hliník vč. víka s těsněním","Tuleja 50/80 do mocowania kolumny, aluminum powlekane z deklem i uszczelnieniem","Padlóhüvely 50/80 bevonatos alumínium, tömített fedéllel  ","Zemné puzdro 50/80 hliník s povrchovou úpravou vrát. veka s tesnením","Bodemhuls 50/80 aluminium coating incl. deksel met afdichting","Talna puša 50/80, prevlečeni aluminij, vključno s pokrovom in tesnilom","Markhylsa 50/80 aluminium, ytbehandlad, inkl. lock med tätning","Bundmuffe 50/80 aluminiumbeklædt, inkl. dæksel med tætning","JORDANKER 50/80 aluminium med belegg inkl. lokk med tetning","Podna čaška 50/80 plastificirani aluminij uklj. poklopac s brtvom"]
["Bodenhülse 50/80 beschichtet inkl. Edelstahldeckel und Dichtung","Ground sleeve 50/80 stainless steel-coated incl. cover with seal","Douille de sol 50/80 ; acier inoxydable prélaqué, fourni avec couvercle et joint","piantone 50/80 acciaio inox verniciato, compreso coperchio con guarnizione","Zemní pouzdro 50/80, lakovaný nerez vč. víka s těsněním","Tuleja 50/80 do mocowania kolumny, stal nierdzewna powlekana z deklem i uszczelnieniem","Padlóhüvely 50/80 rozsdamentes acél, tömített fedéllel  ","Zemné puzdro 50/80 ušľachtilá oceľ s povrchovou úpravou vrát. veka s tesnením","Bodemhuls 50/80 rvs coating incl. deksel met afdichting","Talna puša 50/80, prevlečeno nerjavno jeklo, vključno s pokrovom in tesnilom","Markhylsa 50/80 rostfritt stål, ytbehandlad, inkl. lock med tätning","Bundmuffe 50/80 beklædt med rustfrit stål, inkl. dæksel med tætning","JORDANKER 50/80 rustfritt stål med belegg inkl. lokk med tetning","Podna čaška 50/80 plastificirani nehrđajući čelik uklj. poklopac s brtvom"]
["Bodenhülsendeckel","Ground sleeve cover","Couvercle de douille de sol","coperchio per piantone","Víko zemního pouzdra","Pokrywa tulei do mocowania kolumny","Padlóhüvely-fedél","Veko zemného puzdra","Bodemhulsdeksel","Pokrov za talno pušo","Lock till Markhylsa","Dæksel til bundmuffe","Jordankerlokk","Poklopac podne čaške"]
["Bündig","Flush","Intégré dans l’embrasure","a filo","Zapuštěný v ostění","zwięzły","Falsíkba süllyesztett","Zapustené","Geïntegreerd","Zvezno","Slät","På niveau","I flukt","U ravnini"]
["Dammbalken","Stop logs","Batardeau","sponda","Hrázní blok","Belka zapory","Gátgerenda","Hradidlo","Dambalk","Zajezitvene lamele","DÄMMBALK","Dæmningsbjælker","Bjelkestengsler / FLOMSIKRINGSELEMENT","Daska brane"]
["Dammbalken 25/200 exkl. Dichtung, gesägt und entgratet","Stop logs 25/200 excl. seal, cut to size and deburred","Batardeau 25/200, fourni sans joint, scié et ébavuré","sponda 25/200 esclusa guarnizione, segato e sbavato","Hrázní blok 25/200, bez těsnění, řezaný na délku, bez otřepů","Belka zapory 25/200, bez uszczelnienia, docięta i okrawana","Gátgerenda 25/200 tömítés nélkül, méretre vágva, sorjázva","Hradidlo 25/200 bez tesnenia, pílené a odhrotované","Dambalk 25/200 excl. afdichting, gezaagd en afgebraamd","Zajezitvena lamela 25/200, brez tesnila, odrezana, s posnetimi robovi","DÄMMBALK 25/200 exkl. tätning, kapad & avgradad","Dæmningsbjælker 25/200 ekskl. tætning, savet og afgratet","FLOMSIKRINGSELEMENT 25/200 ekskl. tetning, saget og avgradet","Daska brane 25/200 bez brtve, piljena i s obrađenim rubovima"]
["Dammbalken 50/150 exkl. Dichtung, gesägt und entgratet","Stop logs 50/150 excl. seal, cut to size and deburred","Batardeau 50/150, fourni sans joint, scié et ébavuré","sponda 50/150 esclusa guarnizione, segato e sbavato","Hrázní blok 50/150, bez těsnění, řezaný na délku, bez otřepů","Belka zapory 50/150, bez uszczelnienia, docięta i okrawana","Gátgerenda 50/150 tömítés nélkül, méretre vágva, sorjázva","Hradidlo 50/150 bez tesnenia, pílené a odhrotované","Dambalk 50/150 excl. afdichting, gezaagd en afgebraamd","Zajezitvena lamela 50/150, brez tesnila, odrezana, s posnetimi robovi","DÄMMBALK 50/150 exkl. tätning, kapad & avgradad","Dæmningsbjælker 50/150 ekskl. tætning, savet og afgratet","FLOMSIKRINGSELEMENT 50/150 ekskl. tetning, saget og avgradet","Daska brane 50/150 bez brtve, piljena i s obrađenim rubovima"]
["Dammbalken 50/200 exkl. Dichtung, gesägt und entgratet","Stop logs 50/200 excl. seal, cut to size and deburred","Batardeau 50/200, fourni sans joint, scié et ébavuré","sponda 50/200 esclusa guarnizione, segato e sbavato","Hrázní blok 50/200, bez těsnění, řezaný na délku, bez otřepů","Belka zapory 50/200, bez uszczelnienia, docięta i okrawana","Gátgerenda 50/200 tömítés nélkül, méretre vágva, sorjázva","Hradidlo 50/200 bez tesnenia, pílené a odhrotované","Dambalk 50/200 excl. afdichting, gezaagd en afgebraamd","Zajezitvena lamela 50/200, brez tesnila, odrezana, s posnetimi robovi","DÄMMBALK 50/200 exkl. tätning, kapad & avgradad","Dæmningsbjælker 50/200 ekskl. tætning, savet og afgratet","FLOMSIKRINGSELEMENT 50/200 ekskl. tetning, saget og avgradet","Daska brane 50/200 bez brtve, piljena i s obrađenim rubovima"]
["Dammbalken 80/200 exkl. Dichtung, gesägt und entgratet","Stop logs 80/200 excl. seal, cut to size and deburred","Batardeau 80/200, fourni sans joint, scié et ébavuré","sponda 80/200 esclusa guarnizione, segato e sbavato","Hrázní blok 80/200, bez těsnění, řezaný na délku, bez otřepů","Belka zapory 80/200, bez uszczelnienia, docięta i okrawana","Gátgerenda 80/200 tömítés nélkül, méretre vágva, sorjázva","Hradidlo 80/200 bez tesnenia, pílené a odhrotované","Dambalk 80/200 excl. afdichting, gezaagd en afgebraamd","Zajezitvena lamela 80/200, brez tesnila, odrezana, s posnetimi robovi","DÄMMBALK 80/200 exkl. tätning, kapad & avgradad","Dæmningsbjælker 80/200 ekskl. tætning, savet og afgratet","FLOMSIKRINGSELEMENT 80/200 ekskl. tetning, saget og avgradet","Daska brane 80/200 bez brtve, piljena i s obrađenim rubovima"]
["Dammbalkendichtung (25)","Stop log seal (25)","Joint de batardeau (25)","guarnizione per sponde (25)","Těsnění hrázního bloku (25)","Uszczelka belki zapory (25)","Gátgerenda tömítés (25)","Tesnenie hradidla (25)","Dambalkafdichting (25)","Tesnilo za zajezitveno lamelo (25)","Dämmbalkstätning (25)","Dæmningsbjælketætning (25)","FLOMSIRKINGSELEMENTTETNING (25)","Brtvljenje daske brane (25)"]
["Dammbalkendichtung (50+80)","Stop log seal (50+80)","Joint de batardeau (50 + 80)","guarnizione per sponde (50+80)","Těsnění hrázního bloku (50+80)_CZ","Uszczelka belki zapory (50+80)","Gátgerenda tömítés (50+80)","Tesnenie hradidla (50+80)","Dambalkafdichting (50+80)","Tesnilo za zajezitveno lamelo (50+80)","Dämmbalkstätning (50+80)","Dæmningsbjælketætning (50 + 80)","FLOMSIRKINGSELEMENTTETNING (50+80)","Brtvljenje daske brane (50+80)"]
["Dammbalkenhaken","Dammbalkenhaken","Crochet pour batardeau","Gancio per sponde","Hák hrázního bloku","Dammbalkenhaken","Gátgerenda tartó","Hák na hradidlo","Dammbalkenhaken","Dammbalkenhaken","DÄMMBALKSKROK","Dæmningsbjælkekrog","Dammbalkenhaken","Dammbalkenhaken"]
["Dammbalkenlänge:","Dammbalkenlänge:","Longueur du batardeau","Lunghezza sponde:","Délka hrázního bloku:","Dammbalkenlänge:","Gátgerenda hosszméret:","Dĺžka hradidla:","Dammbalkenlänge:","Dammbalkenlänge:","DÄMMBALKLÄNDG:","Dæmningsbjælkelængde:","Dammbalkenlänge:","Dammbalkenlänge:"]
["darunter auch Beschädigung durch mechanische Einwirkung von Personen oder Gegenständen, ausschlussgebend für eine Haftung seitens PREFA.","including damage caused by the mechanical actions of persons or objects."," — ce qui inclut tout dommage causé par l’action mécanique de personnes ou d’objets.","così come danni causati dall'azione meccanica di persone o oggetti, costituiscono una esclusione di responsabilità da parte di PREFA.","jakož i poškození mechanickým působením osob nebo předmětů.","w tym uszkodzenia spowodowane działaniem mechanicznym osób lub przedmiotów, z wyłączeniem wszelkiej odpowiedzialności firmy PREFA. ","valamint azon sérülésekre, melyeket emberek, vagy tárgyak okoztak, szintén kizáró oknak minősülnek a PREFA garanciavállalására.","ako aj poškodenia mechanickým pôsobením osôb alebo predmetov nepodliehajú záruke zo strany firmy PREFA.","waaronder ook beschadiging als gevolg van mechanische inwerking door personen of voorwerpen.","in nestrokovne uporabe gradbenih elementov, med drugim tudi pri poškodbah zaradi mehanskega vpliva oseb in predmetov.","bland annat skada p.g.a. personers eller föremåls mekanisk påverkan, är avgörande faktorer för huruvida PREFA är ansvarigt.","herunder skader forårsaget af mekaniske handlinger udført af personer eller genstande.","herunder også skader på grunn av mekanisk påvirkning fra personer eller gjenstander, er heller ikke PREFAs ansvar.","u što se također ubraja oštećenje mehaničkim djelovanjem osoba ili predmeta, također su razlog za isključenje odgovornosti od strane tvrtke PREFA."]
["Das Berechnungstool berücksichtigt die Anforderungen des Merkblattes 6/BWK Ausgabe Dezember 2005:","The calculation tool takes into account the requirements outlined in leaflet 6/BWK December 2005 edition:","Cet outil prend en compte les exigences de la fiche technique 6 du BWK (Association allemande des ingénieurs spécialisés dans la gestion de l’eau, des déchets et des sols) — édition de décembre 2005.","Lo strumento di calcolo tiene conto dei requisiti del foglio illustrativo 6/BWK edizione 12/2005: ","Výpočet zohledňuje požadavky na návrh dle návodu Merkblatt BWK/6, vydání prosinec 2005:","Narzędzie obliczeniowe uwzględnia wymagania ulotki 6 / BWK, wydanie grudzień 2005:","A segédlet által figyelembe vett követelmények: Merkblatt 6/BWK Ausgabe Dezember 2005:","Výpočtový nástroj zohľadňuje požiadavky uvedené v návode Merkblatt 6/BWK, vydanie december 2005:","De berekeningstool voldoet aan de relevante Duits normen voor hoogwaterbescherming (Merkblatt 6 BWK, editie dec. 2005):","Orodje za izračun upošteva zahteve tehničnega lista 6/BWK, izdaja december 2005:","Beräkningsverktyget tar hänsyn till kraven i cirkulär 6 från BWK (tyska förbundet för ingenjörer inom vattenförvaltning etc.) från december 2005:","Beregningsværktøjet tager højde for kravene i datablad 6/BWK udgave december 2005:","Beregningsverktøy tar hensyn til kravene i memorandum 6/BWK, utgave desember 2005:","Proračunski alat uzima u obzir zahtjeve naputka 6/BWK izdanje prosinac 2005:"]
["Das Berechnungstool bezieht sich ausschließlich auf PREFA Hochwasserschutzsysteme.","The calculation tool relates exclusively to PREFA flood protection systems.","L’outil de calcul se réfère exclusivement aux systèmes de protection contre les crues PREFA.","Lo strumento di calcolo si riferisce esclusivamente ai sistemi PREFA di protezione contro le inondazioni.","Výpočtový nástroj se vztahuje výlučně na PREFA protipovodňové systémy.","Narzędzie obliczeniowe odnosi się wyłącznie do systemów ochrony przeciwpowodziowej PREFA.","A számítási segédlet kizárólag PREFA árvízvédelmi rendszerhez alkalmazható.","Výpočtový nástroj sa vzťahuje výlučne na protipovodňové systémy PREFA.","De berekeningstool heeft uitsluitend betrekking op PREFA-systemen.","Orodje za izračun se nanaša izključno na sisteme protipoplavne zaščite PREFA.","Beräkningsverktyget är uteslutande avsett för PREFA-. översvämningsskydd","Beregningsværktøjet vedrører udelukkende PREFA højvandsbeskyttelsessystemer.","Beregningsverktøyet gjelder kun for flombeskyttelsessystemer fra PREFA.","Proračunski alat odnosi se isključivo na PREFA sustave za zaštitu od poplave."]
["Dateneingabe","Data entry","Saisie des données","inserimento dati","Zadání údajů","Wprowadzanie danych","Adatok megadása","Zadanie údajov","Gegevensinvoer","Vnos podatkov","Datainmatning","Dataindlæsning","Inntasting av data","Unos podataka"]
["Datum:","Date:","Date :","data:","Datum:","Data:","Dátum:","Dátum:","Datum:","Datum:","Datum:","Dato:","Dato:","Datum:"]
["Dauerbodendichtung 25","Permanent base seal 25","Joint au sol permanent 25","guarnizione a pavimento a lunga durata 25","Trvalé spodní těsnění 25","Stałe uszczelnienie podłogowe 25","Bentmaradó talajtömítés 25","Trvalo pružné spodné tesnenie 25","Duurzame Bodemafdichting 25","Trajno talno tesnilo 25","PERMANENTGOLVTÄTNING 25","Permanent bundtætning 25","Permanent bunntetning 25","Trajno brtvljenje prema tlu 25"]
["Dauerbodendichtung 50","Permanent base seal 50","Joint au sol permanent 50","guarnizione a pavimento a lunga durata 50","Trvalé spodní těsnění 50","Stałe uszczelnienie podłogowe 50","Bentmaradó talajtömítés 50","Trvalo pružné spodné tesnenie 50","Duurzame Bodemafdichting 50","Trajno talno tesnilo 50","PERMANENTGOLVTÄTNING 50","Permanent bundtætning 50","Permanent bunntetning 50","Trajno brtvljenje prema tlu 50"]
["Dauerbodendichtung 80","Permanent base seal 80","Joint au sol permanent 80","guarnizione a pavimento a lunga durata 80","Trvalé spodní těsnění 80","Stałe uszczelnienie podłogowe 80","Bentmaradó talajtömítés 80","Trvalo pružné spodné tesnenie 80","Duurzame Bodemafdichting 80","Trajno talno tesnilo 80","PERMANENTGOLVTÄTNING 80","Permanent bundtætning 80","Permanent bunntetning 80","Trajno brtvljenje prema tlu 80"]
["Dauerbodendichtung:","Permanent base seal:","Joint au sol permanent :","guarnizione a pavimento a lunga durata:","Trvalé spodní těsnění:","Stałe uszczelnienie podłogowe:","Bentmaradó talajtömítés:","Trvalo pružné spodné tesnenie:","Duurzame Bodemafdichting:","Trajno talno tesnilo:","PERMANENTGOLVTÄTNING:","Permanent bundtætning:","Permanent bunntetning:","Trajno brtvljenje prema tlu:"]
["Definition Feld Innenlichte:","Definition of field interior lights:","Définition de l’entraxe (espacement) entre les travées :","definizione campo luce netta:","Definice vnitřní světlosti pole:","Definicja pola w świetle:","Mező fesztávolsága:","Definícia poľa svetlej šírky:","Definitie veld dagmaat:","Določitev polja notranje odprtine:","Definition av fält inre öppning:","Definition af felt for indvendigt lys:","Definisjonsfelt taklys:","Definicija polja unutrašnje širine:"]
["Dichte Wasser inkl. Geschiebe:","Density of water incl. bed load:","Masse volumique de l’eau (avec matériaux de charriage) :","Densità dell'acqua incl. sedimenti:","hustota vody vč. příměsí","Dichte Wasser inkl. Geschiebe:","Víz fajsúlya hordalékkal::","Hustota vody vrát. prímesí:","Dichtheid water incl. meegevoerd materiaal:","Gostota vode, vključno s prodnim nanosom:","Vattendensitet inkl. slam:","Vandtæthed, inkl. sediment:","Tetthet for vann inkl. rullestein:","Gustoća vode uklj. nanose:"]
["Dichte Wasser inkl. Geschiebe:  rw","Dense water incl. debris:  rw","Masse volumique de l’eau (avec matériaux de charriage) : rw","Densità dell'acqua incl. sedimenti  rw","hustota vody vč. příměsí:  rw","Gęstość wody włącznie z transportowanym materiałem:  rw","Víz sűrűsége hordalékkal:  rw","Hustota vody vrát. prímesí:  rw","Dichtheid water incl. meegevoerd materiaal:  rw","Gostota vode, vključno s prodnim nanosom: rw","Vattendensitet inkl. slam:  rw","Vandtæthed, inkl. sediment:  rw","Tetthet for vann inkl. rullestein:  rw","Gustoća vode uklj. nanose:  rw"]
["Dichtung für Deckel und Bodenhülse gross DM 230 mm","Seal for cover and ground sleeve, large Ø 230 mm","Joint pour couvercle et grande douille de sol (diamètre : 230 mm)","guarnizione per coperchio e piantone grande D230 mm","Těsnění pro víko a zemní pouzdro velké Ø 230mm","Uszczelka do pokrywy i tulei duża DM 230 mm","Tömítés padlóhüvely-fedélhez nagy ø DM 230 mm","Tesnenie pre veko a zemné puzdro veľké, priemer 230 mm","Afdichting voor deksel en bodemhuls groot diam. 230 mm","Tesnilo za pokrov in talno pušo, veliko, premer 230 mm","Tätning för lock och markhylsa, stor Ø 230 mm","Tætning til dæksel og bundmuffe stor Ø 230 mm","Tetning for lokk og jordanker stor Ø 230 mm","Brtva za poklopac i podnu čašku velika promj. 230 mm"]
["Dichtung für Deckel und Bodenhülse klein DM 170 mm","Seal for cover and ground sleeve, small Ø 170 mm","Joint pour couvercle et petite douille de sol (diamètre : 170 mm)","guarnizione per coperchio e piantone piccolo D170 mm","Těsnění pro víko a zemní pouzdro malé Ø 170mm","Uszczelka do pokrywy i tulei mała DM 170 mm","Tömítés padlóhüvely-fedélhez kicsi ø DM 170 mm","Tesnenie pre veko a zemné puzdro malé, priemer 170 mm","Afdichting voor deksel en bodemhuls klein diam. 170 mm","Tesnilo za pokrov in talno pušo, majhno, premer 170 mm","Tätning för lock och markhylsa, liten Ø 170 mm","Tætning til dæksel og bundmuffe lille Ø 170 mm","Tetning for lokk og jordanker liten Ø 170 mm","Brtva za poklopac i podnu čašku mala promj. 170 mm"]
["Dichtungsroller 25/50","Sealing roller 25/50","Rouleau de pression 25/50","Dichtungsroller 25/50","Dichtungsroller 25/50","Dichtungsroller 25/50","Tömítőszalag 25/50","Dichtungsroller 25/50","Dichtungsroller 25/50","Dichtungsroller 25/50","Dichtungsroller 25/50","Tætningsvalse 25/50","Dichtungsroller 25/50","Dichtungsroller 25/50"]
["Dichtungsroller 80","Sealing roller 80","Rouleau de pression 80","Dichtungsroller 80","Dichtungsroller 80","Dichtungsroller 80","Tömítőszalag 80","Dichtungsroller 80","Dichtungsroller 80","Dichtungsroller 80","Dichtungsroller 80","Tætningsvalse 80","Dichtungsroller 80","Dichtungsroller 80"]
["Die Berechnungsergebnisse sind nicht auf andere Produkte oder Einsätze anwendbar.","The calculation results cannot be used for other products or applications.","Les résultats des calculs ne sont valables ni pour d’autres produits ni pour d’autres applications.","I risultati del calcolo non sono applicabili ad altri prodotti.","Výsledky výpočtu nelze použít pro jiné produkty nebo aplikace.","Wyniki obliczeń nie mają zastosowania do innych produktów lub zastosowań. ","A számítási eredmények nem érvényesek más termékre, vagy eltérő felhasználásra.","Výsledky výpočtov sa nedajú aplikovať na iné produkty alebo spôsoby použitia.","De berekeningsresultaten zijn niet op andere producten of situaties van toepassing.","Rezultati izračuna niso uporabni za druge izdelke ali uporabe.","Beräkningsresultaten kan inte tillämpas på andra produkter eller användningsområden.","Beregningsresultaterne kan ikke overføres til andre produkter eller anvendelser.","Beregningsresultatene kan ikke brukes for andre produkter eller andre typer bruk.","Rezultati proračuna nisu primjenjivi na druge proizvode ili primjene."]
["Die Berechnungsergebnisse sind nur für das von den Eingabedaten erfassten Hochwasserschutzsystem heranzuziehen.","The calculation results are only to be used for the flood protection system covered by the data provided.","Les résultats obtenus ne peuvent servir de base que pour le système de protection contre les crues correspondant aux données saisies.","I risultati del calcolo devono essere utilizzati solo per il sistema di protezione contro le inondazioni relativo ai dati inseriti.","Výsledky výpočtu lze použít pouze na protipovodňový systém dle zadaných údajů.","Wyniki obliczeń mogą być wykorzystywane tylko dla systemu ochrony przeciwpowodziowej zapisanego przez dane wejściowe.","A számítási eredmények kizárólag a beírt adatok alapján számított árvízvédelmi rendszerre érvényesek.","Výsledky výpočtov sa majú používať len na protipovodňový systém podľa zadaných údajov.","De berekeningsresultaten zijn alleen van toepassing op het specifieke hoogwaterbeschermingssysteem waarvoor de gegevens zijn ingevoerd.","Rezultati izračuna so uporabni samo za sistem protipoplavne zaščite, ki ga zajemajo vhodni podatki.","Beräkningsresultaten ska bara användas för det övervämningsskydd som inmatade data hänvisar till.","Resultaterne af beregningerne kan kun anvendes til oversvømmelsessystemet, der er omfattet af inputdataene.","Beregningsresultatene gjelder kun for flombeskyttelsessystemet som er beregnet basert på dataene som er lagt inn.","Rezultati proračuna smiju se koristiti samo za sustav za zaštitu od poplave, na koji se odnose uneseni podaci."]
["Die Gültigkeit dieses Dokumentes endet mit 31.12.2022","This document is valid until 31 December 2021","La validité du présent document expire le 31/12/2022","Documento valido fino al 31.12.2022","Platnost tohoto dokumentu končí k 31.12.2022","Die Gültigkeit dieses Dokumentes endet mit 31.12.2022","Jelen dokumentum 2021 12.31-ig érvényes","Platnosť tohto dokumentu končí 31. 12. 2021","De geldigheid van dit document eindigt op 31-12-2021","Ta dokument je veljaven do 31. 12. 2021.","Detta dokument upphör att gälla 2021-12-31","Gyldigheden af dette dokument ophører 31.12.2022","Dette dokumentet er gyldig til 31.12.2022","Valjanost ovog dokumenta prestaje s 31.12.2022."]
["Die hinterlegten Preise gelten bis Neuauflage der Preisliste vorbehaltlich vorgezogener Preisanpassungen","The stated prices are valid until a new price list is issued and are subject to early price adjustments","Les prix définis dans ce document sont valables jusqu’à la nouvelle édition de la liste de prix sous réserve d’ajustements de prix anticipés.","I prezzi inseriti sono validi fino alla prossima revisione del Listino Prezzi o al prossimo aggiornamento prezzi.","Uvedené ceny platí do nového ceníku s výhradou dřívějších cenových úprav","Die hinterlegten Preise gelten bis Neuauflage der Preisliste vorbehaltlich vorgezogener Preisanpassungen","Az elmentett árak az új árlista kiadásáig, de az előzetes árváltoztatás jogát fenntartva érvényesek.","Uvedené ceny sú platné do vydania nového cenníka, pričom je vyhradené právo na skoršie zmeny.","De vermelde prijzen zijn geldig tot heruitgave van de prijslijst, behoudens tussentijdse prijswijzigingen","Navedene cene veljajo do novo izdaje cenika s pridržkom predčasnih prilagoditev cen","Visade priser gäller t.o.m. ny upplaga av prislistan, med förbehåll för tidiga prisanpassningar","De oplyste priser gælder, indtil ny version af prislisten foreligger – med forbehold for forudgående pristilpasninger","Prisene gjelder til det kommer en ny prisliste, med forbehold om prioriterte prisjusteringer","Navedene cijene vrijede do novog izdanja cjenika uz pridržavanje prava prethodne prilagodbe cijena"]
["Die vom Anwender eingegebenen Daten werden vom Berechnungstool automatisch verarbeitet ohne auf deren Richtigkeit überprüft werden zu können.","The data provided by the user is processed automatically by the calculation tool. However, the tool is unable to check that the data entered is correct.","Les données saisies par l’utilisateur sont traitées automatiquement par l’outil de calcul sans que leur exactitude puisse être vérifiée.","I dati inseriti dall'utente vengono elaborati automaticamente dallo strumento di calcolo senza essere in grado di verificarne la correttezza.","Uživatelem zadané údaje jsou výpočtem automaticky zpracovány. Výpočtový nástroj nemá možnost kontroly správnosti zadaných dat.","Dane wprowadzane przez użytkownika są przetwarzane automatycznie przez narzędzie obliczeniowe bez możliwości sprawdzenia ich poprawności.","A felhasználó által beírt adatokat a segédlet automatikusan átveszi, azok helyességét nem ellenőrzi.","Údaje zadané používateľom automaticky spracuje výpočtový nástroj, ktorý však nemôže skontrolovať ich správnosť.","De door de gebruiker ingevoerde gegevens worden door de berekeningstool automatisch verwerkt, zonder dat ze op juistheid kunnen worden gecontroleerd.","Orodje za izračun samodejno obdela podatke, ki jih vnese uporabnik, brez preverjanja njihove pravilnosti.","Data som användaren har matat in bearbetas automatiskt av beräkningsverktyget utan att kunna kontrollera dem med avseende på riktighet.","De data, som brugeren indtaster, behandles automatisk af beregningsværktøjet uden at deres rigtighed kontrolleres.","Dataene som er oppgitt av brukeren, behandles automatisk av beregningsverktøyet uten at riktigheten av dem kan kontrolleres.","Proračunski alat automatski obrađuje podatke, koje je unio korisnik, bez mogućnosti provjere njihove točnosti."]
["Durchbiegung","Deflection","Flèche","freccia","Průhyb","Ugięcie","Kihajlás","Prehyb","Doorbuiging","Upogibanje","Nedböjning","Nedbøjning","Nedbøyning","Progib"]
["Durchbiegung HD:","Deflection HD:","Flèche HD :","Freccia HD:","Průhyb HD:","Durchbiegung HD:","Kihajlás HD:","Prehyb HD:","Doorbuiging HD:","Upogibanje HD:","Nedböjning HD:","Nedbøjning HD:","Nedbøyning HD:","Progib HD:"]
["Durchbiegung HD+HS:","Deflection HD + HS:","Flèche HD + HS :","Freccia HD+HS:","Průhyb HD+HS:","Durchbiegung HD+HS:","Kihajlás HD+HS:","Prehyb HD+HS:","Doorbuiging HD+HS:","Upogibanje HD+HS:","Nedböjning HD+HS:","Nedbøjning HD+HS:","Nedbøyning HD+HS:","Progib HD+HS:"]
["Durchbiegung HS:","Deflection HS:","Flèche HS :","Freccia HS:","Průhyb HS:","Durchbiegung HS:","Kihajlás HS:","Prehyb HS:","Doorbuiging HS:","Upogibanje HS:","Nedböjning HS:","Nedbøjning HS:","Nedbøyning HS:","Progib HS:"]
["Durchbiegung:","Deflection:","Flèche :","Freccia:","Průhyb:","Durchbiegung:","Kihajlás:","Prehyb:","Doorbuiging:","Upogibanje:","Nedböjning:","Nedbøjning:","Nedbøyning:","Progib:"]
["Dynamische Daten:","Dynamic data:","Données dynamiques :","Dati dinamici:","Dynamické hodnoty:","Dynamische Daten:","Dinamikai adatok:","Dynamické údaje:","Dynamische gegevens:","Dinamični podatki:","Dynamiska data:","Dynamiske data:","Dynamiske data:","Dinamički podaci:"]
["E Modul: EAL","E module: EAL","E modul","E Modul: EAL","E Modul: EAL","E Modul: EAL","E Modul: EAL","E modul: EAL","Elektrische module: EAL","E-modul: EAL","E-modul: EAL","E-modul: EAL","E-modul: EAL","E modul: EAL"]
["Ebenso sind bauliche Mängel, insbesondere nicht entsprechend wasserdichte Bausubstanz des Bauwerks, hydrostatische Krafteinwirkung und unsachgemäße Handhabung der Bauteile,","Structural defects, in particular where the structure is made from inadequately water-resistant building materials, also exempt PREFA from liability, as do hydrostatic forces and improper handling of the components,","et en cas de dommages dus aux forces hydrostatiques ou à une manipulation inappropriée des éléments","Allo stesso modo i difetti strutturali, in particolare la non impermeabilità del materiale di costruzione, la forza idrostatica e la manipolazione impropria dei componenti,","Rovněž tak vylučující záruku ze strany PREFA jsou stavební závady, především nedostatečně těsné stavební součásti stavebního objektu, hydrostatické působení a neodborná manipulace s komponenty,","Pod uwagę brane są również wady konstrukcyjne, w szczególności nieodpowiednio nieprzemakalna konstrukcyjna budynku, siły hydrostatyczne i niewłaściwe obchodzenie się z elementami składowymi, ","Azon építési hibák, különös tekintettel a nem megfelelően vízzáró aljzatra, hidrosztatikai hatásokra és a termékek szíkszerűtlen kezelésére,","Rovnako aj stavebné nedostatky, predovšetkým nedostatočne tesné súčasti stavebného objektu, hydrostatické pôsobenie a neprimerané zaobchádzanie so stavebnými dielmi,","PREFA is evenmin aansprakelijk voor bouwkundige gebreken, in het bijzonder de gebrekkige waterdichtheid van bestaande constructies, de hydrostatische krachtinwerking en ondeskundige omgang met bouwonderdelen,","Izključitev odgovornosti PREFA velja tudi v primeru gradbenih pomanjkljivosti, zlasti v primeru neustrezno vodotesne gradbene osnove gradbenega objekta, delovanja hidrostatične sile","Även strukturella brister, i synnerhet byggnadskonstruction som inte är vattentät, hydrostatisk kraft och felaktig hantering av komponenter,","Tilsvarende fralægger PREFA sig ethvert ansvar ved strukturelle mangler, navnlig ikke-overensstemmende byggematerialer i bygningsstrukturen, hydrostatisk kraft og ukorrekt håndtering af komponenterne,","Bygningsmessige feil, spesielt hvis byggverkets boligmasse ikke er tilstrekkelig vanntett, ved hydrostatisk kraftpåvirkning og ufagmessig behandling av komponentene,","Isto tako, konstrukcijski nedostaci, posebice ako na građevini nije korišten odgovarajući vodonepropusni građevinski materijal, djelovanje hidrostatskih sila i nepropisno rukovanje komponentama,"]
["Edelstahl","Stainless steel","Acier inoxydable","acciaio inox","Nerez","Stal nierdzewna","Rozsdamentes acél","Ušľachtilá oceľ","Rvs","Nerjavno jeklo","Rostfritt stål","Rustfrit stål","Rustfritt stål","Nehrđajući čelik"]
["Einheit","Unit","Unité","unità","Jednotka","Jednostka","Egység","Jednotka","Eenheid","Enota","Enhet","Enhed","Enhet","Jedinica"]
["Einverständniserklärung","Declaration of consent","Déclaration de consentement","consenso","Prohlášení o souhlasu","deklaracja zgody","Beleegyező nyilatkozat","Vyhlásenie o súhlase","Instemmingsverklaring","Soglasje","Godkännande","Samtykkeerklæring","Samtykkeerklæring","Izjava o suglasnosti"]
["eMail:","Email:","Email :","e-mail:","e-mail:","e-mail:","email:","E-mail:","E-mailadres:","E-naslov:","E-postadress:","E-mail:","e-post:","e-pošta:"]
["Endsumme","Final total","Somme totale","totale","Celková suma","suma końcowa","Végösszeg","Celková suma","Eindtotaal","Končna vsota","Slutsumma","Slutsum","Sluttsum","Konačni zbroj"]
["Endsumme exkl. MwSt.","Final total (excl. VAT)","Somme total sans TVA","Endsumme exkl. MwSt.","Endsumme exkl. MwSt.","Endsumme exkl. MwSt.","Végösszeg áfa nélkül","Endsumme exkl. MwSt.","Endsumme exkl. MwSt.","Endsumme exkl. MwSt.","Endsumme exkl. MwSt.","Slutbeløb eks. moms","Endsumme exkl. MwSt.","Endsumme exkl. MwSt."]
["Endsumme inkl. MwSt.","Final total (incl. VAT)","Somme total avec TVA","Endsumme inkl. MwSt.","Endsumme inkl. MwSt.","Endsumme inkl. MwSt.","Végösszeg áfával","Endsumme inkl. MwSt.","Endsumme inkl. MwSt.","Endsumme inkl. MwSt.","Endsumme inkl. MwSt.","Slutbeløb inkl. moms","Endsumme inkl. MwSt.","Endsumme inkl. MwSt."]
["erf. Profilhöhe f. Spanner:","Profile height:","Hauteur de profil requise pour les pièces de serrage :","altezza del profilo per elemento di bloccaggio:","nutná výška pro napínák","Wysokość profilu:","Profilmagasság:","Potrebná Výška profilu pre napinák:","Profielhoogte:","Višina profila:","Profilhöjd:","Profilhøjde:","Profilhøyde:","Visina profila:"]
["Ersatzfedersteifigkeit:","Rigidity of replacement spring:","Résistance à la flexion :","Rigidità del ricambio molla","Ekvivalentní pružinová tuhost:","Ersatzfedersteifigkeit:","Helyettesítő rugómerevség:","Ekvivalent tuhosti pružiny:","Equivalent van veerstijfheid:","Trdnost nadomestne vzmeti:","Ekvivalent fjäderstyvhet:","Reservefjederstivhed:","Stivhet for reservefjær:","Ekvivalentna elastična krutost:"]
["Ersatzlast für Treibgutanprall:","Replacement load for flotsam impact:","Charge de l’impact des débris flottants :","Scambio di carico per detriti impattanti","Zatížení od nárazu plov. předmětu:","Ersatzlast für Treibgutanprall:","Uszadékot helyettesítő teher:","Ekvivalent záťaže pri náraze plávajúceho predmetu:","Equivalente belasting van aanstotend drijfmateriaal:","Nadomestna obremenitev za nalet naplavin:","Ekvivalent last för påtryckning av flytande skräp:","Erstatningslast for påvirkning fra drivende genstande:","Reservebelastning for sammenstøt med drivgods:","Ekvivalentno opterećenje za udar naplavina:"]
["exkl. MwSt.","excl. VAT","Sans TVA","exkl. MwSt.","exkl. MwSt.","exkl. MwSt.","ÁFA nélkül","exkl. MwSt.","exkl. MwSt.","exkl. MwSt.","exkl. MwSt.","exkl. MwSt.","exkl. MwSt.","exkl. MwSt."]
["Fahrtkosten","Travel expenses","Frais de déplacement","Fahrtkosten","Fahrtkosten","Fahrtkosten","Szállítási költség","Fahrtkosten","Fahrtkosten","Fahrtkosten","Fahrtkosten","Kørselsomkostninger","Fahrtkosten","Fahrtkosten"]
["Farbe:","Colour:","Couleur :","colore:","Barva:","Kolor:","Szín","Farba:","Kleur:","Barva:","Färg:","Farve:","Farge:","Boja:"]
["FB = Freibord","FB = Free board","FB : franc-bord","FB = Bordo libero","FB = volný bok","FB = Freibord","SZO = szabadoldal","FB = voľný diel","VB = Vrijboord","FB = nadvodje","FB = Fribord","FB = fribord","FB = Fribord","FB = nadvođe"]
["Feld","Field","Travée","Campata nr.","Pole","Feld","Mező","Pole","Veld","Polje","Fält","Felt","Felt","Polje"]
["Feld Nr.","Field no","Nº de travée","Campata nr.","Pole nr.","Pole nr.","Mező ssz.","Č. poľa","Veldnr.","Polje št.","Fält, nr","Felt nr.","Felt nr.","Br. polja"]
["Filter:","Filter:","Filtre :","filtro:","Filtr:","Filtr:","Szűrő:","Filter:","Filter:","Filter:","Filter:","Filter:","Filter:","Filtar:"]
["Firma / Besteller:","Company / Purchaser:","Entreprise / Acheteur :","ditta:","Firma / Objednatel:","Firma / Zamawiający","Cég / Megrendelő:","Firma/objednávateľ:","Firma / besteller:","Podjetje/naročnik:","Företag/Beställare","Firma / Bestiller:","Firma/bestiller:","Tvrtka / naručitelj:"]
["Fließgeschwindigkeit:","Flow speed:","Vitesse d’écoulement :","Velocità di flusso:","rychlost toku:","Fließgeschwindigkeit:","Folyási sebesség:  ","Rýchlosť toku:","Stroomsnelheid:","Hitrost pretoka:","Flödeshastighet:","Strømningshastighed:","Strømningshastighet:","Brzina toka:"]
["Fließgeschwindigkeit: v","Flow speed: v","Vitesse d’écoulement : v","velocità di flusso: v","rychlost toku:","Natężenie przepływu: v","Folyási sebesség: v","Rýchlosť toku: v","Stroomsnelheid: v","Hitrost pretoka: v","Flödeshastighet: v","Strømningshastighed: v","Strømningshastighet: v","Brzina toka: v"]
["Folgende Nachweise werden berechnet bzw berücksichtigt:","Proof of the following is calculated or taken into account:","Les calculs effectués ou pris en compte sont les suivants :","Le seguenti verifiche sono state calcolate / considerate:","Ve výpočtu jsou posuzeny tyto možnosti:","Następujące dowody są obliczane lub brane pod uwagę: ","A következő tényezőket számoljuk ki, illetve vesszük figyelembe:","Pri výpočte sa používa, resp. zohľadňuje táto evidencia:","De volgende factoren worden meegenomen in de berekeningen:","Izračunajo oziroma upoštevajo se naslednji dokazi:","Följande underlag beräknas eller tas hänsyn till:","Følgende data beregnes eller tages i betragtning:","Følgende dokumentasjon beregnes eller tas hensyn til:","Izračunavaju se, odnosno uzimaju u obzir sljedeći atesti:"]
["Frachtkosten","Frachtkosten","Frais de transport","Frachtkosten","Frachtkosten","Frachtkosten","Frachtkosten","Frachtkosten","Frachtkosten","Frachtkosten","Frachtkosten","Fragtpris","Frachtkosten","Frachtkosten"]
["Freibord [mm]:","Free board [mm]:","Franc-bord [mm] :","Bordo libero [mm]:","Volný bok [mm]:","Freibord [mm]:","Szabadoldal [mm]:","Voľný diel [mm]:","Vrijboord [mm]:","Nadvodje [mm]:","Fribord [mm]:","Fribord [mm]:","Fribord [mm]:","Nadvođe [mm]:"]
["Gerade V","Straight V","Droit V","dritto V","rovný V","prosty V","Egyenes V","Rovný V","Recht V","ravno V","Rak V","Lige V","Rett V","Ravno V"]
["Gesamt Länge","Total length","Longueur totale","lunghezza totale","Celková délka","długość całkowita","Teljes hossz","Celková dĺžka","Totale lengte","Skupna dolžina","Total längd","Samlet længde","Total lengde","Ukupna duljina"]
["Grundprofil 25 exkl. Dichtung, gebohrt und entgratet","Base profile 25 excl. seal, drilled and deburred","Profil en applique 25, fourni sans joint, percé et ébavuré","montante per parete 25 esclusa guarnizione, forato e sbavato","Základní profil 25, bez těsnění, vrtaný, bez otřepů","Profil podstawowy 25, bez uszczelnienia, nawiercony i okrawany","H-profil 25, tömítés nélkül, furatolva és sorjázva","Základný profil 25, bez tesnenia, navŕtaný a odhrotovaný","Basisprofiel 25 excl. afdichting, geboord en afgebraamd","Osnovni profil 25 brez tesnila, z izvrtinami in posnetimi robovi","Grundprofil 25 exkl. tätning, borrad och avgradad","Grundprofil 25 ekskl. tætning, forboret og afgratet","Grunnprofil 25 ekskl. tetning, boret og avgradet","Osnovni profil 25 bez brtve, bušen i s obrađenim rubovima"]
["Grundprofil 25 Sonderlänge exkl. Dichtung, (Stangenware)","Base profile 25 Special length excl. seal, drilled and deburred","Profil en applique 25, longueur personnalisée, fourni sans joint, percé et ébavuré","montante per parete 25 lunghezza fuori standard esclusa guarnizione, forato e sbavato","Základní profil 25, zvláštní délka, bez těsnění, vrtaný, bez otřepů","Profil podstawowy 25, długość specjalna bez uszczelnienia, nawiercony i okrawany","H-profil 25, egyedi hosszméret, tömítés nélkül, furatolva és sorjázva","Základný profil 25, neštandardná dĺžka, bez tesnenia, navŕtaný a odhrotovaný","Basisprofiel 25 Aangepaste lengte excl. afdichting, geboord en afgebraamd","Osnovni profil 25 Posebna dolžina brez tesnila, z izvrtinami in posnetimi robovi","Grundprofil 25 Speciallängd exkl. tätning, borrad och avgradad","Grundprofil 25 Speciallængde ekskl. tætning, forboret og afgratet","Grunnprofil 25 Spesiallengde ekskl. tetning, boret og avgradet","Osnovni profil 25 posebna duljina bez brtve, bušen i s obrađenim rubovima"]
["Grundprofil 25 Stangenware exkl. Dichtung, gebohrt und entgratet","Base profile 25 Ready-made excl. seal, drilled and deburred","Profil en applique 25, profilés, fourni sans joint, percé et ébavuré","montante per parete 25 profilati in barre esclusa guarnizione, forato e sbavato","Základní profil 25, tyčové zboží, bez těsnění, vrtaný, bez otřepů","Profil podstawowy 25, długość sztaby bez uszczelnienia, nawiercony i okrawany","H-profil 25, szálban, tömítés nélkül, furatolva és sorjázva","Základný profil 25, tyčový tovar, bez tesnenia, navŕtaný a odhrotovaný","Basisprofiel 25 Standaardlengte excl. afdichting, geboord en afgebraamd","Osnovni profil 25 V palicah, brez tesnila, z izvrtinami in posnetimi robovi","Grundprofil 25 Standardlängd exkl. tätning, borrad och avgradad","Grundprofil 25 Afskårne længder ekskl. tætning, forboret og afgratet","Grunnprofil 25 Stangvare ekskl. tetning, boret og avgradet","Osnovni profil 25 šipka bez brtve, bušen i s obrađenim rubovima"]
["Grundprofil 50 (H-Profil v.d.L.) exkl. Dichtung, gebohrt und entgratet","Base profile 50 (H profile in front of soffit) excl. seal, drilled and deburred","Profil en applique 50 (profil en h monté en applique), fourni sans joint, percé et ébavuré","montante per parete 50 (profilo ad H dav. apert.) esclusa guarnizione, forato e sbavato","Základní profil 50 (h-Profil před ostění), bez těsnění, vrtaný, bez otřepů","Profil podstawowy 50 (profil H v. d. L. ) bez uszczelnienia, nawiercony i okrawany","H-profil 50, tömítés nélkül, furatolva és sorjázva","Základný profil 50 (H-profil pred ostením) bez tesnenia, navŕtaný a odhrotovaný","Basisprofiel 50 (H-profiel op de dag) excl. afdichting, geboord en afgebraamd","Osnovni profil 50 (H-profil pred špaleto) brez tesnila, z izvrtinami in posnetimi robovi","Grundprofil 50 (H-profil framför öppning) exkl. tätning, borrad och avgradad","Grundprofil 50 (H-profil foran pladeunderside) ekskl. tætning, forboret og afgratet","Grunnprofil 50 (H-profil f.å.) ekskl. tetning, boret og avgradet","Osnovni profil 50 (H profil ispred otvora) bez brtve, bušen i s obrađenim rubovima"]
["Grundprofil 50 (H-Profil v.d.L.) Sonderlänge exkl. Dichtung, (Stangenware)","Base profile 50 (H profile in front of soffit) Special length excl. seal, drilled and deburred","Profil en applique 50 (profil en h monté en applique), longueur personnalisée, fourni sans joint, percé et ébavuré","montante per parete 50 (profilo ad H dav. apert.) lunghezza fuori standard esclusa guarnizione, forato e sbavato","Základní profil 50 (h-Profil před ostění), zvláštní délka, bez těsnění, vrtaný, bez otřepů","Profil podstawowy 50 (profil H v. d. L. ), długość specjalna bez uszczelnienia, nawiercony i okrawany","H-profil 50, egyedi hosszméret, tömítés nélkül, furatolva és sorjázva","Základný profil 50 (H-profil pred ostením), neštandardná dĺžka, bez tesnenia, navŕtaný a odhrotovaný","Basisprofiel 50 (H-profiel op de dag) Aangepaste lengte excl. afdichting, geboord en afgebraamd","Osnovni profil 50 (H-profil pred špaleto) Posebna dolžina brez tesnila, z izvrtinami in posnetimi robovi","Grundprofil 50 (H-Profil framför öppning) Speciallängd exkl. tätning, borrad och avgradad","Grundprofil 50 (H-profil foran pladeunderside) Speciallængde ekskl. tætning, forboret og afgratet","Grunnprofil50 (H-profil f.å.) Spesiallengde ekskl. tetning, boret og avgradet","Osnovni profil 50 (H profil ispred otvora) posebna duljina bez brtve, bušen i s obrađenim rubovima"]
["Grundprofil 50 (H-Profil v.d.L.) Stangenware exkl. Dichtung, gebohrt und entgratet","Base profile 50 (H profile in front of soffit) Ready-made excl. seal, drilled and deburred","Profil en applique 50 (profil en h monté en applique), profilés, fourni sans joint, percé et ébavuré","montante per parete 50 (profilo ad H dav. apert.) profilati in barre esclusa guarnizione, forato e sbavato","Základní profil 50 (h-Profil před ostění), tyčové zboží, bez těsnění, vrtaný, bez otřepů","Profil podstawowy 50 (profil H v. d. L. ), długość sztaby bez uszczelnienia, nawiercony i okrawany","H-profil 50, szálban, tömítés nélkül, furatolva és sorjázva","Základný profil 50 (H-profil pred ostením), tyčový tovar, bez tesnenia, navŕtaný a odhrotovaný","Basisprofiel 50 (H-profiel op de dag) Standaardlengte excl. afdichting, geboord en afgebraamd","Osnovni profil 50 (H-profil pred špaleto) V palicah, brez tesnila, z izvrtinami in posnetimi robovi","Grundprofil 50 (H-Profil framför öppning) Standardlängd exkl. tätning, borrad och avgradad","Grundprofil 50 (H-profil foran pladeunderside) Afskårne længder ekskl. tætning, forboret og afgratet","Grunnprofil 50 (H-profil f.å.) Stangvare ekskl. tetning, boret og avgradet","Osnovni profil 50 (H profil ispred otvora) šipka bez brtve, bušen i s obrađenim rubovima"]
["Grundprofil 50 exkl. Dichtung, gebohrt und entgratet","Base profile 50 excl. seal, drilled and deburred","Profil en applique 50, fourni sans joint, percé et ébavuré","montante per parete 50 esclusa guarnizione, forato e sbavato","Základní profil 50, bez těsnění, vrtaný, bez otřepů","Profil podstawowy 50, bez uszczelnienia, nawiercony i okrawany","H-profil 50, tömítés nélkül, furatolva és sorjázva","Základný profil 50, bez tesnenia, navŕtaný a odhrotovaný","Basisprofiel 50 excl. afdichting, geboord en afgebraamd","Osnovni profil 50 brez tesnila, z izvrtinami in posnetimi robovi","Grundprofil 50 exkl. tätning, borrad och avgradad","Grundprofil 50 ekskl. tætning, forboret og afgratet","Grunnprofil 50 ekskl. tetning, boret og avgradet","Osnovni profil 50 bez brtve, bušen i s obrađenim rubovima"]
["Grundprofil 50 Sonderlänge exkl. Dichtung, (Stangenware)","Base profile 50 Special length excl. seal, drilled and deburred","Profil en applique 50, longueur personnalisée, fourni sans joint, percé et ébavuré","montante per parete 50 lunghezza fuori standard esclusa guarnizione, forato e sbavato","Základní profil 50, zvláštní délka, bez těsnění, vrtaný, bez otřepů","Profil podstawowy 50, długość specjalna bez uszczelnienia, nawiercony i okrawany","H-profil 50, egyedi hosszméret, tömítés nélkül, furatolva és sorjázva","Základný profil 50, neštandardná dĺžka, bez tesnenia, navŕtaný a odhrotovaný","Basisprofiel 50 Aangepaste lengte excl. afdichting, geboord en afgebraamd","Osnovni profil 50 Posebna dolžina brez tesnila, z izvrtinami in posnetimi robovi","Grundprofil 50 Speciallängd exkl. tätning, borrad och avgradad","Grundprofil 50 Speciallængde ekskl. tætning, forboret og afgratet","Grunnprofil 50 Spesiallengde ekskl. tetning, boret og avgradet","Osnovni profil 50 posebna duljina bez brtve, bušen i s obrađenim rubovima"]
["Grundprofil 50 Stangenware exkl. Dichtung, gebohrt und entgratet","Base profile 50 Ready-made excl. seal, drilled and deburred","Profil en applique 50, profilés, fourni sans joint, percé et ébavuré","montante per parete 50 profilati in barre esclusa guarnizione, forato e sbavato","Základní profil 50, tyčové zboží, bez těsnění, vrtaný, bez otřepů","Profil podstawowy 50, długość sztaby bez uszczelnienia, nawiercony i okrawany","H-profil 50, szálban, tömítés nélkül, furatolva és sorjázva","Základný profil 50, tyčový tovar, bez tesnenia, navŕtaný a odhrotovaný","Basisprofiel 50 Standaardlengte excl. afdichting, geboord en afgebraamd","Osnovni profil 50 V palicah, brez tesnila, z izvrtinami in posnetimi robovi","Grundprofil 50 Standardlängd exkl. tätning, borrad och avgradad","Grundprofil 50 Afskårne længder ekskl. tætning, forboret og afgratet","Grunnprofil 50 Stangvare ekskl. tetning, boret og avgradet","Osnovni profil 50 šipka bez brtve, bušen i s obrađenim rubovima"]
["Grundprofil 80 (H-Profil v.d.L.) exkl. Dichtung, gebohrt und entgratet","Base profile 80 (H profile in front of soffit) excl. seal, drilled and deburred","Profil en applique 80 (profil en h monté en applique), fourni sans joint, percé et ébavuré","montante per parete 80 (profilo ad H dav. apert.) esclusa guarnizione, forate e sbavato","Základní profil 80 (h-Profil před ostění), bez těsnění, vrtaný, bez otřepů","Profil podstawowy 80 (profil H v. d. L. ) bez uszczelnienia, nawiercony i okrawany","H-profil 80, tömítés nélkül, furatolva és sorjázva","Základný profil 80 (H-profil pred ostením) bez tesnenia, navŕtaný a odhrotovaný","Basisprofiel 80 (H-profiel op de dag) excl. afdichting, geboord en afgebraamd","Osnovni profil 80 (H-profil pred špaleto) brez tesnila, z izvrtinami in posnetimi robovi","Grundprofil 80 (H-profil framför öppning) exkl. tätning, borrad och avgradad","Grundprofil 80 (H-profil foran pladeunderside) ekskl. tætning, forboret og afgratet","Grunnprofil 80 (H-profil f.å.) ekskl. tetning, boret og avgradet","Osnovni profil 80 (H profil ispred otvora) bez brtve, bušen i s obrađenim rubovima"]
["Grundprofil 80 (H-Profil v.d.L.) Sonderlänge exkl. Dichtung, (Stangenware)","Base profile 80 (H profile in front of soffit) Special length excl. seal, drilled and deburred","Profil en applique 80 (profil en h monté en applique), longueur personnalisée, fourni sans joint, percé et ébavuré","montante per parete 80 (profilo ad H dav. apert.) lunghezza fuori standard esclusa guarnizione, forate e sbavato","Základní profil 80 (h-Profil před ostění), zvláštní délka, bez těsnění, vrtaný, bez otřepů","Profil podstawowy 80 (profil H v. d. L. ), długość specjalna bez uszczelnienia, nawiercony i okrawany","H-profil 80, egyedi hosszméret, tömítés nélkül, furatolva és sorjázva","Základný profil 80 (H-profil pred ostením), neštandardná dĺžka, bez tesnenia, navŕtaný a odhrotovaný","Basisprofiel 80 (H-profiel op de dag) Aangepaste lengte excl. afdichting, geboord en afgebraamd","Osnovni profil 80 (H-profil pred špaleto) Posebna dolžina brez tesnila, z izvrtinami in posnetimi robovi","Grundprofil 80 (H-Profil framför öppning) Speciallängd exkl. tätning, borrad och avgradad","Grundprofil 80 (H-profil foran pladeunderside) Speciallængde ekskl. tætning, forboret og afgratet","Grunnprofil 80 (H-profil f.å.) Spesiallengde ekskl. tetning, boret og avgradet","Osnovni profil 80 (H profil ispred otvora) posebna duljina bez brtve, bušen i s obrađenim rubovima"]
["Grundprofil 80 (H-Profil v.d.L.) Stangenware exkl. Dichtung, gebohrt und entgratet","Base profile 80 (H profile in front of soffit) Ready-made excl. seal, drilled and deburred","Profil en applique 80 (profil en h monté en applique), profilés, fourni sans joint, percé et ébavuré","montante per parete 80 (profilo ad H dav. apert.) profilati in barre esclusa guarnizione, forate e sbavato","Základní profil 80 (h-Profil před ostění), tyčové zboží, bez těsnění, vrtaný, bez otřepů","Profil podstawowy 80 (profil H v. d. L. ), długość sztaby bez uszczelnienia, nawiercony i okrawany","H-profil 80, szálban, tömítés nélkül, furatolva és sorjázva","Základný profil 80 (H-profil pred ostením), tyčový tovar, bez tesnenia, navŕtaný a odhrotovaný","Basisprofiel 80 (H-profiel op de dag) Standaardlengte excl. afdichting, geboord en afgebraamd","Osnovni profil 80 (H-profil pred špaleto) V palicah, brez tesnila, z izvrtinami in posnetimi robovi","Grundprofil 80 (H-Profil framför öppning) Standardlängd exkl. tätning, borrad och avgradad","Grundprofil 80 (H-profil foran pladeunderside) Afskårne længder ekskl. tætning, forboret og afgratet","Grunnprofil 80 (H-profil f.å.) Stangvare ekskl. tetning, boret og avgradet","Osnovni profil 80 (H profil ispred otvora) šipka bez brtve, bušen i s obrađenim rubovima"]
["Grundprofil 80 exkl. Dichtung, gebohrt und entgratet","Base profile 80 excl. seal, drilled and deburred","Profil en applique 80, fourni sans joint, percé et ébavuré","montante per parete 80 esclusa guarnizione, forate e sbavato","Základní profil 80, bez těsnění, vrtaný, bez otřepů","Profil podstawowy 80 bez uszczelnienia, nawiercony i okrawany","H-profil 80, tömítés nélkül, furatolva és sorjázva","Základný profil 80 bez tesnenia, navŕtaný a odhrotovaný","Basisprofiel 80 excl. afdichting, geboord en afgebraamd","Osnovni profil 80 brez tesnila, z izvrtinami in posnetimi robovi","Grundprofil 80 exkl. tätning, borrad och avgradad","Grundprofil 80 ekskl. tætning, forboret og afgratet","Grunnprofil 80 ekskl. tetning, boret og avgradet","Osnovni profil 80 bez brtve, bušen i s obrađenim rubovima"]
["Grundprofil 80 Sonderlänge exkl. Dichtung, (Stangenware)","Base profile 80 Special length excl. seal, drilled and deburred","Profil en applique 80, longueur personnalisée, fourni sans joint, percé et ébavuré","montante per parete 80 lunghezza fuori standard esclusa guarnizione, forate e sbavato","Základní profil 80, zvláštní délka, bez těsnění, vrtaný, bez otřepů","Profil podstawowy 80, długość specjalna bez uszczelnienia, nawiercony i okrawany","H-profil 80, egyedi hosszméret, tömítés nélkül, furatolva és sorjázva","Základný profil 80, neštandardná dĺžka, bez tesnenia, navŕtaný a odhrotovaný","Basisprofiel 80 Aangepaste lengte excl. afdichting, geboord en afgebraamd","Osnovni profil 80 Posebna dolžina brez tesnila, z izvrtinami in posnetimi robovi","Grundprofil 80 Speciallängd exkl. tätning, borrad och avgradad","Grundprofil 80 Speciallængde ekskl. tætning, forboret og afgratet","Grunnprofil 80 Spesiallengde ekskl. tetning, boret og avgradet","Osnovni profil 80 posebna duljina bez brtve, bušen i s obrađenim rubovima"]
["Grundprofil 80 Stangenware exkl. Dichtung, gebohrt und entgratet","Base profile 80 Ready-made excl. seal, drilled and deburred","Profil en applique 80, profilés, fourni sans joint, percé et ébavuré","montante per parete 80 profilati in barre esclusa guarnizione, forate e sbavato","Základní profil 80, tyčové zboží, bez těsnění, vrtaný, bez otřepů","Profil podstawowy 80, długość sztaby bez uszczelnienia, nawiercony i okrawany","H-profil 80, szálban, tömítés nélkül, furatolva és sorjázva","Základný profil 80, tyčový tovar, bez tesnenia, navŕtaný a odhrotovaný","Basisprofiel 80 Standaardlengte excl. afdichting, geboord en afgebraamd","Osnovni profil 80 V palicah, brez tesnila, z izvrtinami in posnetimi robovi","Grundprofil 80 Standardlängd exkl. tätning, borrad och avgradad","Grundprofil 80 Afskårne længder ekskl. tætning, forboret og afgratet","Grunnprofil 80 Stangvare ekskl. tetning, boret og avgradet","Osnovni profil 80 šipka bez brtve, bušen i s obrađenim rubovima"]
["Grundprofildichtung","Base profile seal","Joint de profil en applique","guarnizione per montante","Těsnění do základního profilu","Uszczelka profilu podstawowego","H-profil tömítés","Tesnenie základného profilu","Basisprofielafdichting","Tesnilo za osnovni profil","Grundprofiltätning","Tætning til grundprofil","Grunnprofiltetning","Brtva osnovnog profila"]
["Halterung für Dammbalken","Bracket for stop logs","Console murale pour batardeaux","staffa di stoccaggio per sponde","Konzole pro hrázní bloky","Uchwyt ścienny do belek","Gátgerenda tartó elem","Konzolový držiak na hradidlá","Houder voor Dambalk","Držalo za zajezitveno lamelo","Hållare för DÄMMBALK","Holder til dæmningsbjælker","Holder for bjelkestengsel","Nosač za daske brane"]
["Halterung für Dammbalken Seitenteil","Side bracket for stop logs","Cage de protection (élément latéral)","Halterung für Dammbalken Seitenteil","Halterung für Dammbalken Seitenteil","Halterung für Dammbalken Seitenteil","Tartó gátgerenda oldalrészeinek","Halterung für Dammbalken Seitenteil","Halterung für Dammbalken Seitenteil","Halterung für Dammbalken Seitenteil","Halterung für Dammbalken Seitenteil","Holder til dæmningsbjælker sidedel","Halterung für Dammbalken Seitenteil","Halterung für Dammbalken Seitenteil"]
["Halterungen Dammbalken:","Brackets for stop logs:","Consoles murales pour batardeau :","staffe di stoccaggio per sponde:","Konzole pro hrázní bloky","Wspornik belki","Gátgerenda tartó elem:","Konzolové držiaky na hradidlá:","Houders voor Dambalk:","Držalo za zajezitveno lamelo:","Hållare DÄMMBALK:","Holdere dæmningsbjælker:","Holdere bjelkestenglser:","Nosači dasaka brane:"]
["Hebehilfe für Bodenhülsendeckel","Lifting aid","levier","leva","Zvedací pomůcka","Podnośnik","Emelőkar","Pomôcka na zdvíhanie","Hijshulp","Pripomoček za dviganje","Lyfthjälpmedel","Løfteassistance","Løftehjelp","Pomagalo za dizanje"]
["Hinweis: Angebotsgültigkeit 1 Monat; Lieferzeit auf Anfrage; kein Montagematerial enthalten","conditions: price validity 1 month, Lead time on request, no fixing material included.","Validité de l'offre 1 mois, pour le temps de montage veuillez demandé, sans matériel de fixation","Hinweis: Angebotsgültigkeit 1 Monat; Lieferzeit auf Anfrage; kein Montagematerial enthalten","Hinweis: Angebotsgültigkeit 1 Monat; Lieferzeit auf Anfrage; kein Montagematerial enthalten","Hinweis: Angebotsgültigkeit 1 Monat; Lieferzeit auf Anfrage; kein Montagematerial enthalten","Hinweis: Angebotsgültigkeit 1 Monat; Lieferzeit auf Anfrage; kein Montagematerial enthalten","Hinweis: Angebotsgültigkeit 1 Monat; Lieferzeit auf Anfrage; kein Montagematerial enthalten","Hinweis: Angebotsgültigkeit 1 Monat; Lieferzeit auf Anfrage; kein Montagematerial enthalten","Hinweis: Angebotsgültigkeit 1 Monat; Lieferzeit auf Anfrage; kein Montagematerial enthalten","Hinweis: Angebotsgültigkeit 1 Monat; Lieferzeit auf Anfrage; kein Montagematerial enthalten","Hinweis: Angebotsgültigkeit 1 Monat; Lieferzeit auf Anfrage; kein Montagematerial enthalten","Hinweis: Angebotsgültigkeit 1 Monat; Lieferzeit auf Anfrage; kein Montagematerial enthalten","Hinweis: Angebotsgültigkeit 1 Monat; Lieferzeit auf Anfrage; kein Montagematerial enthalten"]
["Hochwasser-schutzsystemes und möglicher fehlerhafter Eingabe der Berechnungsgrundlagen nur unverbindliche Empfehlungen darstellen.","flood protection system and the possibility of calculations being based on data that was entered incorrectly, they can only constitute non-binding recommendations.","Cet outil a été conçu par PREFA pour aider les spécialistes, mais ne les dispense pas de l’obligation de vérifier la conformité des résultats au cas par cas."," i risultati del calcolo possono essere letti solamente raccomandazioni indicative.","protipovodňového systému a možného chybného zadání považovány pouze za nezávazná doporučení.","System ochrony przeciwpowodziowej i ewentualne błędne wprowadzenie podstaw obliczeniowych są tylko niewiążącymi zaleceniami.","és a lehetséges adatbeviteli hibák következtében felelősséget nem vállalunk. ","protipovodňového systému a na možné chybné zadanie, považovať len za nezáväzné odporúčania.","systeem en vanwege eventueel verkeerd ingevoerde gegevens slechts als vrijblijvende aanbeveling.","sistema protipoplavne zaščite in možnega napačnega vnosa podatkov za izračun predstavljajo le neobvezujoča priporočila.","PREFA-högvattenskyddssystem individuella konstruktionsdetaljer, och eventuellt felaktig inmatning av beräkningsgrundlagen, bara utgöra icke-bindande rekommendationer.","for hvert højvandsbeskyttelsessystem og eventuel fejlagtig indtastning af beregningsgrundlaget kun opfattes som ikke-bindende anbefalinger.","flombeskyttelsessystem og muligheten for feil inntasting av beregningsgrunnlaget, kun gi uforpliktende anbefalinger.","sustava za zaštitu od poplave i mogućeg pogrešnog unosa osnova za proračun, predstavljati samo neobvezujuće preporuke."]
["Hydrodynamisch (HD) & Hydrostatisch (HS)","Hydrodynamic (HD) & hydrostatic (HS)","Hydrodynamique (HD) et hydrostatique (HS)","Idrodinamica (HD) & Idrostatica (HS)","Hydrodynamický (HD) & Hydrostatický (HS)","Hydrodynamisch (HD) & Hydrostatisch (HS)","Hidrodinamikai (HD) & hidrosztatikai (HS)","Hydrodynamický (HD) a hydrostatický (HS)","Hydrodynamisch (HD) en hydrostatisch (HS)","Hidrodinamično (HD) in hidrostatično (HS)","Hydrodynamisk (HD) och hydrostatisk (HS)","Hydrodynamisk (HD) & hydrostatisk (HS)","Hydrodynamisk (HD) og hydrostatisk (HS)","Hidrodinamički (HD) i hidrostatski (HS)"]
["Hydrodynamische Einwirkung","Hydrodynamic effects","Action hydrodynamique","azione idrodinamica","hydrodynamické působení","Oddziaływanie hydrodynamiczne ","Hidrodinamikai hatás","Hydrodynamické pôsobenie","Hydrodynamische inwerking","hidrodinamični vpliv,","Hydrodynamisk verkan","Hydrodynamisk påvirkning","Hydrodynamisk påvirkning","Hidrodinamičko djelovanje"]
["Hydrodynamischer Druck am Balken:","Hydrodynamic pressure on panel:","Pression hydrodynamique exercée sur le batardeau :","Carico idrodinamico sulle sponde:","Hydrodynamický tlak na hrázní bloky:","Hydrodynamischer Druck am Balken:","Hidrodinamikai nyomás a gerendán:","Hydrodynamický tlak na hradidlá:","Hydrodynamische druk op de balk:","Hidrodinamični tlak na prečniku:","Hydrodynamiskt tryck på bjälksätt:","Hydrodynamisk tryk på bjælke:","Hydrodynamisk trykk på bjelken:","Hidrodinamički tlak na daski:"]
["Hydrodynamischer Druck am Steher:","Hydrodynamic pressure on column:","Pression hydrodynamique exercée sur le poteau :","Carico idrodinamico sui montanti:","Hydrodynamický tlak na sloupky:","Hydrodynamischer Druck am Steher:","Hidrodinamikai nyomás az oszlopon:","Hydrodynamický tlak na stĺpy:","Hydrodynamische druk op de pijler:","Hidrodinamični tlak na nosilcu:","Hydrodynamiskt tryck på påle:","Hydrodynamisk tryk på pæl:","Hydrodynamisk trykk på bukken:","Hidrodinamički tlak na stupu:"]
["Hydrostatisch & -dynamisch","Hydrostatic & dynamic","Hydrostatique et hydrodynamique","idrostatico e idrodinamico","Hydrostatický & - dynamický","hydrostatyczny & -dynamiczny","Hidrosztatikai és dinamikus","Hydrostatický a hydrodynamický","Hydrostatisch en -dynamisch","Hidrostatično in dinamično","Hydrostatisk och -dynamisk","Hydrostatisk og dynamisk","Hydrostatisk og -dynamisk","Hidrostatski i hidrodinamički"]
["Hydrostatische Einwirkung","Hydrostatic effects","Action hydrostatique","azione idrostatica","hydrostatické působení","Oddziaływanie hydrostatyczne ","Hidrosztatikai hatás","Hydrostatické pôsobenie","Hydrostatische inwerking","hidrostatični vpliv,","Hydrostatisk verkan","Hydrostatisk påvirkning","Hydrostatisk påvirkning","Hidrostatsko djelovanje"]
["Hydrostatischer + Hydrodynamischer Druck am Balken:","Hydrostatic + hydrodynamic pressure on panel:","Pressions hydrostatique et hydrodynamique exercées sur le batardeau :","Carico idrostatico + idrodinamico sulle sponde:","Hydrostatický + hydrodynamický tlak na hrázní bloky:","Hydrostatischer + Hydrodynamischer Druck am Balken:","Hidrosztatikai és hidrodinamikai nyomás a gerendán:","Hydrostatický + hydrodynamický tlak na hradidlá:","Hydrostatische en hydrodynamische druk op de balk:","Hidrostatični + hidrodinamični tlak na prečniku:","Hydrostatiskt + hydrodynamiskt tryck på bjälksätt:","Hydrostatisk + hydrodynamisk tryk på bjælke:","Hydrostatisk og hydrodynamisk trykk på bjelken:","Hidrostatski + hidrodinamički tlak na daski:"]
["Hydrostatischer Druck am Balken:","Hydrostatic pressure on panel:","Pression hydrostatique exercée sur le batardeau :","Carico idrostatico sulle sponde","Hydrostatický tlak na hrázní bloky:","Hydrostatischer Druck am Balken:","Hidrosztatikai nyomás a gerendán:","Hydrostatický tlak na hradidlá:","Hydrostatische druk op de balk:","Hidrostatični tlak na prečniku:","Hydrostatiskt tryck på bjälksätt:","Hydrostatisk tryk på bjælke:","Hydrostatisk trykk på bjelken:","Hidrostatski tlak na daski:"]
["Hydrostatischer Druck am Steher:","Hydrostatic pressure on column:","Pression hydrostatique exercée sur le poteau :","Carico idrostatico sui montanti:","Hydrostatický tlak na sloupky:","Hydrostatischer Druck am Steher:","Hidrosztatikai nyomás a z oszlopon:","Hydrostatický tlak na stĺpy:","Hydrostatische druk op de pijler:","Hidrostatični tlak na nosilcu:","Hydrostatiskt tryck på påle:","Hydrostatisk tryk på pæl:","Hydrostatisk trykk på bukken:","Hidrostatski tlak na stupu:"]
["In der Leibung","In the soffit","Dans l’embrasure","Incassato nell'intradosso","V ostění","w ścianie","Síkban","V ostení","In de dag","V špaleti","Öppning invändigt","I pladeunderside","I åpningen","U otvoru"]
["inkl. MwSt.","inkl. MwSt.","TVA comprise","inkl. MwSt.","inkl. MwSt.","inkl. MwSt.","ÁFÁval","inkl. MwSt.","inkl. MwSt.","inkl. MwSt.","inkl. MwSt.","inkl. MwSt.","inkl. MwSt.","inkl. MwSt."]
["KALKULATION","ESTIMATE","CALCUL","DIMENSIONAMENTO","KALKULACE","KALKULACJA","SZÁMÍTÁS","VÝPOČET","CALCULATIE","KALKULACIJA","KALKYLERING","KALKULATION","KALKULASJON","KALKULACIJA"]
["keine","none","aucun(e)","nessuna","žádný","małe","nincs","Žiadny","Geen","brez","ingen","ingen","ingen","nema"]
["kg/m³","kg/m³","kg/m³","kg/m³","kg/m³","kg/m³","kg/m³","kg/m³","kg/m³","kg/m³","kg/m³","kg/m³","kg/m³","kg/m³"]
["kg/Stk","kg/pcs","kg/pc.","kg/pezzo","kg/ks","kg/szt.","kg/db","kg/ks","Kg/stuk","kg/kos","kg/st.","Kg/stk.","kg/stk.","kg/kom"]
["kN/m³","kN/m³","kN/m³","kN/m³","kN/m³","kN/m³","kN/m³","kN/m³","kN/m³","kN/m³","kN/m³","kN/m³","kN/m³","kN/m³"]
["Kombination Hydrodynamisch + Hydrostatisch + Treibgut","Combination of hydrodynamic + hydrostatic + flotsam","Combinaison hydrodynamique + hydrostatique + débris flottants","Combinazione Idrodinamica + Idrostatica + detriti","Kombinace hydrodyn. + hadrostat. + plovoucí předmět","Kombination Hydrodynamisch + Hydrostatisch + Treibgut","Hidrodinamikai + hidrosztatikai + uszadék kombinációja","Kombinácia hydrodynamika + hydrostatika + plávajúci predmet","Combinatie hydrodynamisch + hydrostatisch + drijfmateriaal","Kombinacija hidrodinamični tlak + hidrostatični tlak + naplavina","Kombination hydrostatiskt + hydrodynamiskt + flytande skräp","Kombination hydrodynamisk + hydrostatisk + drivende genstande","Kombinasjon hydrodynamisk + hydrostatisk + drivgods","Kombinacija hidrodinamički + hidrostatski + naplavine"]
["Kombinationsbeiwert:","Combination coefficient:","Coefficient de combinaison :","Kombinationsbeiwert:","Součinitel kombinace:","Kombinationsbeiwert:","Kombinációs együttható:","Koeficient kombinácie:","Combinatiefactor:","Kombinacijski koeficient:","Kombinationskoefficient:","Kombinationskoefficient:","Kombinasjonsparameter:","Koeficijent kombinacije:"]
["Kommission:","Order:","Référence commande :","ordine:","Zakázka","Komisja:","Komisszió:","Komisia:","Commissie:","Komisioniranje:","Mottagare:","Kommission:","Kommisjon:","Komisiona prodaja:"]
["können die Berechnungsergebnisse zufolge der individuellen konstruktiven Besonderheiten jedes","However, due to the calculation results being based on the individual design features of each","Emises à titre indicatif et sans aucun engagement de la part de PREFA en raison des spécificités de chaque système de protection contre les crues et des éventuelles erreurs de saisie des données servant de base aux calculs.","date le caratteristiche specifiche di ogni singolo progetto ed un possibile inserimento errato dei  dati,","Přesto však mohou být výsledky s ohledem na individuální konstrukční zvláštnost každého","wyniki obliczeń mogą być obliczane zgodnie z indywidualnym icharakterystykami projektowymi każdegoz nich. ","a számítási eredményekért az egyes árvízvédelmi rendszerek egyedi kialakítási sajátosságai miatt","Napriek tomu sa môžu výsledky výpočtov, vzhľadom na individuálne zvláštnosti konštrukcie každého","dienen de berekeningsresultaten vanwege individuele bouwkundige bijzonderheden van elk","lahko rezultati izračuna zaradi individualnih konstrukcijskih posebnosti vsakega","kan beräkningsresultaten, beroende på varje","så kan beregningsresultaterne på grund af de enkelte konstruktioners individuelle særpræg","kan resultatene på grunn av individuelle, konstruksjonsmessige forskjeller for hvert","rezultati proračuna mogu, zbog individualnih konstrukcijskih posebnosti svakog"]
["Kontaktperson:","Contact person:","Personne de contacte;","Referente:","Kontaktní osoba:","Kontaktperson:","Kontakt személy:","Kontaktná osoba:","Kontaktperson:","Kontaktperson:","Kontaktperson:","Kontaktperson:","Kontaktperson:","Kontaktperson:"]
["Kundennummer:","Customer number:","Numéro de client:","Numero cliente:","Číslo zákazníka:","Kundennummer:","Vevő szám:","Č. zákazníka:","Kundennummer:","Kundennummer:","Kundnummer:","Kundenummer:","Kundennummer:","Kundennummer:"]
["Lagerabdeckung","Warehouse cover","Cage de protection","coperchio per stoccaggio sponde","Skladovací kryt","Pokrywa ochronna","Tartódoboz takaróelem","Kryt úložiska","Opbergbox","Zakriti ležaji","Förvaringslåda","Lejeafdækning","Lagerdeksel","Skladišni pokrov"]
["Lagerabdeckung (Mittelteil)","Warehouse cover","Cage de protection","coperchio per stoccaggio sponde","Skladovací kryt","Pokrywa ochronna","Tartódoboz takaróelem","Kryt úložiska","Opbergbox","Zakriti ležaji","Förvaringslåda","Lejeafdækning","Lagerdeksel","Skladišni pokrov"]
["Lagerabdeckung (Seitenteil)","Warehouse cover","Cage de protection","coperchio per stoccaggio sponde","Skladovací kryt","Pokrywa ochronna","Tartódoboz takaróelem","Kryt úložiska","Opbergbox","Zakriti ležaji","Förvaringslåda","Lejeafdækning","Lagerdeksel","Skladišni pokrov"]
["Landschaftsschutz","Landscape protection","Protection des paysages","protezione aree esterne","Ochrana území","Ochrona krajobrazu","Tájvédelem","Ochrana životného prostredia","Landschapsbescherming","Zaščita okolice","Landskapsskydd","Beskyttelse af landskaber","Landskapsvern","Zaštita okoline"]
["Länge","Length","Longueur","lunghezza","Délka","Długość","Hossz","Dĺžka","Lengte","Dolžina","Längd","Længde","Lengde","Duljina"]
["Längenänderung Wandprofil","Length adjustment of side sections","Modification de longueur des parties latérales","modifica lunghezza montanti laterali","Úprava délky bočního dílu","Zmiany wymiarów części bocznych","Oldalelemek hosszváltozása","Zmena dĺžky bočných dielov","Lengtewijziging zijdelen","Sprememba dolžine stranskih delov","Annan längd \"sidodelar\"? ","Ændring af sidevangernes længde","Lengdeendring sidedeler","Promjena duljine bočnih dijelova"]
["Lichteweite [mm]:","Desired system length [mm]:","Vide lumière [mm] :","lunghezza prevista del sistema [mm]:","Světlá délka [mm]:","Oczekiwana długość systemu","tervezett rendszerhossz [mm]:","Svetelná šírka [mm]:","Gewenste systeemlengte [mm]:","Želena dolžina sistema [mm]:","Önskad systemlängd [mm]:","Ønsket systemlængde [mm]:","Ønsket systemlengde [mm]:","željena duljina sustava [mm]:"]
["Lieferadresse:","Delivery address:","Adresse de livraison :","indirizzo di consegna:","Dodací adresa","Adres dostawy:","Szállítási cím:","Adresa dodania:","Leveringsadres:","Naslov za dostavo:","Leveransadress:","Leveringsadresse:","Leveringsadresse:","Adresa za dostavu:"]
["Links","Left","Gauche","sinistra","nalevo","lewo","Bal","Vľavo","Links","Levo","Vänster","Venstre","Venstre","Linkovi"]
["m/s","m/s","m/s","m/s","m/s","m/s","m/s","m/s","m/s","m/s","m/s","m/sek.","m/s","m/s"]
["Materialdaten:","Material data:","Informations relatives au matériau :","Specifiche del materiale:","Materiálové hodnoty:","Materialdaten:","Alapanyag adatok:","Údaje o materiáli:","Materiaalgegevens:","Podatki o materialu:","Materialdata:","Materialedata:","Materialdata:","Podaci o materijalu:"]
["Maximale Durchbiegung Dammbalken (1/150 = Standard)","max. Deflection Stop logs (1/150 = Standard)","Flèch maximale du batardeau (1/150 = Standard)","Freccia max delle sponde (1/150 = Standard)","maximální průhyb hrázních bloků (1/150 = Standard)","max. Durchbiegung Dammbalken (1/150 = Standard)","max. Kihajlás Gátgerenda (1/150 = Standard)","Maximálny prehyb hradidla (1/150 = štandard)","max. Doorbuiging Dambalk (1/150 = Standard)","najv. Upogibanje Zajezitvene lamele (1/150 = Standard)","max. Nedböjning DÄMMBALK (1/150 = Standard)","maks. Nedbøjning Dæmningsbjælker (1/150 = Standard)","maks. Nedbøyning Bjelkestengsler / FLOMSIKRINGSELEMENT (1/150 = Standard)","maks. Progib Daska brane (1/150 = Standard)"]
["Maximale Durchbiegung Rundsteher (1/150 = Standard)","max. Deflection Round profile (1/150 = Standard)","Flèche maximale du profil rond (1/150 = Standard)","Freccia max del montante  (1/150 = Standard)","maximální průhyb sloupků (1/150 = Standard)","max. Durchbiegung Rundsteher (1/150 = Standard)","max. Kihajlás Körprofil (1/150 = Standard)","Maximálny prehyb okrúhleho stĺpa (1/150 = štandard)","max. Doorbuiging Rondprofiel (1/150 = Standard)","najv. Upogibanje Okrogli profil (1/150 = Standard)","max. Nedböjning Rundprofil (1/150 = Standard)","maks. Nedbøjning Rund profil (1/150 = Standard)","maks. Nedbøyning Rundprofil (1/150 = Standard)","maks. Progib Okrugli profil (1/150 = Standard)"]
["Mengenermittlung/Anfrage","Material quotaion / inquiry","Question / Quantités requises","calcolo quantità/richiesta","Výpočet množství/Poptávka","Szacunek ilościowy /Zapytanie","Mennyiségszámítás/Érdeklődés","Výpočet množstva/požiadavka","Bepaling aantal / aanvraag","Ugotavljanje količin/povpraševanje","Mängdberäkning/förfrågan","Mængdeundersøgelse/Forespørgsel","Mengderegistrering/forespørsel","Izračun količina/upit"]
["Mindestüberstand über Stauhöhe:","Minimum overhead projection:","Dépassement minimal au-dessus de la hauteur de retenue :","Sbalzo minimo sopra il livello di accumulo","Mindestüberstand über Stauhöhe:","Mindestüberstand über Stauhöhe:","Minimális kinyúlás a védelmi magasság felett","Minimálna výška nad hladinou vody:","Mindestüberstand über Stauhöhe:","Mindestüberstand über Stauhöhe:","Minimihöjd över vattennivå:","Minimum udhæng over vandstand:","Mindestüberstand über Stauhöhe:","Mindestüberstand über Stauhöhe:"]
["mit Treibgut","with floating debris","Avec débris flottants","con detriti","s plovoucími předměty","ze szczątkami niesionymi przez wodę","hordalékkal","S plávajúcimi predmetmi","Met drijvend materiaal","z naplavinami","Flytande skräp","med drivende genstande","Med drivgods","s naplavinom"]
["Moment zufolge Gesamtdruck:","Torque due to total pressure:","Moment en fonction de la pression totale :","Coppia dovuta alla pressione totale:","Moment od celkového tlaku:","Moment zufolge Gesamtdruck:","Teljes nyomásra fellépő nyomaték:","Moment v dôsledku celkového tlaku:","Moment overeenkomstig totale druk:","Navor zaradi skupnega tlaka:","Moment beroende på totalt tryck:","Moment som følge af samlet tryk:","Moment iht. totalt trykk:","Moment prema ukupnom tlaku:"]
["Moment zufolge HD:","Torque due to HD:","Moment en fonction de HD :","Coppia dovuta a HD:","Moment od HD:","Moment zufolge HD:","HD nyomaték:","Moment v dôsledku HD:","Moment overeenkomstig HD:","Navor zaradi HD:","Moment beroende på HD:","Moment som følge af HD:","Moment iht. HD:","Moment prema HD:"]
["Moment zufolge HD+HS:","Torque due to HD + HS:","Moment en fonction de HD + HS :","Coppia dovuta a HD+HS:","Moment od HD+HS:","Moment zufolge HD+HS:","HD+HS nyomaték:","Moment v dôsledku HD+HS:","Moment overeenkomstig HD+HS:","Navor zaradi HD+HS:","Moment beroende på HD+HS:","Moment som følge af HD+HS:","Moment iht. HD+HS:","Moment prema HD+HS:"]
["Moment zufolge HS:","Torque due to HS:","Moment en fonction de HS :","Coppia dovuta a HS:","Moment od HS:","Moment zufolge HS:","HS nyomaték:","Moment v dôsledku HS:","Moment overeenkomstig HS:","Navor zaradi HS:","Moment beroende på HS:","Moment som følge af HS:","Moment iht. HS:","Moment prema HS:"]
["Moment zufolge Treibgut:","Torque due to flotsam:","Moment en fonction des débris flottants :","Coppia dovuta a detriti:","Moment od plovoucího předmětu:","Moment zufolge Treibgut:","Uszadék okozta nyomaték:","Moment v dôsledku plávajúceho predmetu:","Moment overeenkomstig drijfmateriaal:","Navor zaradi naplavin:","Moment beroende på flytande skräp:","Moment som følge af drivende genstande:","Moment iht. drivgods:","Moment prema naplavini:"]
["Montage","Montage","Montage","Montage","Montage","Montage","Szerelés","Montage","Montage","Montage","Montage","Montage","Montage","Montage"]
["Montageart","Type of assembly","Type de pose","tipo di montaggio","Způsob montáže","Sposób montażu","Beépítési mód","Spôsob montáže","Montagewijze","Vrsta montaže","Monteringstyp","Arten af montering","Monteringstype","Način montaže"]
["Montagehilfe Bodenhülse","Assembly aid ground sleeve","Aide à la pose de la douille de sol","dima di montaggio per i piantoni","Montážní pomůcka pro zemní pouzdro","Przyrząd montażowy tulei","Padlóhüvely beépítősablon  ","Pomôcka na montáž zemného puzdra","Montagehulp bodemhuls","Montažni pripomoček za talno pušo","Monteringshjälpmedel markhylsa","MONTAGEHJÆLP TIL bundmuffer","Monteringshjelp jordanker","Pomagalo za montažu podne čaške"]
["Montagematerial","Assembly material","Matériel de montage","Montagematerial","Montagematerial","Montagematerial","Szerelőanyag","Montagematerial","Montagematerial","Montagematerial","Montagematerial","Monteringsmateriale","Montagematerial","Montagematerial"]
["Multiplikator","Multiplier","Coefficient multiplicateur","moltiplicatore","Násobitel","mnożnik","Szorzó","Násobiteľ","Multiplicator","Multiplikator","Multiplikator","Multiplikator","Multiplikator","Multiplikator"]
["MwSt.","VAT","T.V.A.","I.V.A.","káď","faktura VAT","áfa","DPH","VAT","DDV","MOMS","moms","mva","PDV"]
["Nach Ablauf des Datums (noch","After date (","Après cette date (encore","Dopo la data (ancora","Po datu (zbývají","Nach Ablauf des Datums (noch","Dátum lejárata után (még","Po uplynutí dátumu (ešte","Na passeren van de datum (nog","Po preteku datuma (še","Efter datumet (fortfarande","Efter datoens udløb (endnu","Etter at datoen er utløpt (gjenstående","Nakon isteka datuma (još"]
["Name:","Name:","Nom :","nome:","Jméno:","Nazwisko:","Név:","Meno:","Naam:","Ime:","Namn:","Navn:","Navn:","Ime:"]
["Niederhalter Dammbalken:max.1750","Downholder for stop logs: max. 1750","Poteau intermédiaire de renfort pour les batardeaux : max. 1 750 mm","paletto di rinforzo sponde:max.1750","Podpěrné táhlo hrázních bloků: max. 1750mm","Element trzymający belki: maks. 1750 mm","Gátgerenda leszorítóelem:max.1750","Kotviace zariadenie na hradidlo: max. 1 750","Neerhouder dambalk: max. 1750","Držalo za zajezitveno lamelo: najv. 1750","NEDHÅLLARE DÄMMBALK: max. 1 750","MELLEM SPÆNDESTYKKE dæmningsbjælker:maks.1750","KLEMSTYKKE MIDT FLOMSIKRINGSELEMENT: maks. 1750","Zatezni držač daske brane: maks.1750"]
["Niederhalter inkl. Spannstück, Verbundanker und Gewindestange","Downholder incl. clamping element, embedded anchor and threaded rod","Poteau intermédiaire de renfort ; pièce de serrage, dispositif d’ancrage et tige filetée compris","paletto di rinforzo incl. tenditore, vite di ancoraggio e asta filettata","Podpěrné táhlo vč. napínáku, svorníkové kotvy a závitové tyče","Zacisk przytrzymujący wraz zelementem zaciskowym, kotwą zespoloną i prętem gwintowanym ","Leszorítóelem feszítőelemmel, lehorgonyzóval és menetes szárral","Kotviace zariadenie vrátane upevňovacej zarážky, spájacej kotvy a závitovej tyče","Neerhouder incl. Fixeerstuk, verbindingsanker en draadstang","Držalo, vključno z vpenjalnim kosom, sidrom in navojno palico","NEDHÅLLARE inkl. spännstycke, kemankare och gängstång","MELLEM SPÆNDESTYKKE inkl. spændeskive, kompositanker og gevindstang","KLEMSTYKKE MIDT inkl. KLEMSTYKKE SIDE, komposittanker og gjengestang","Zatezni držač uklj. zatezni element, spojno sidro i šipku s navojem"]
["Objektschutz","Building protection","Protection des bâtiments","protezione singola apertura","Ochrana objektu","Ochrona obiektowa","Épületvédelem","Ochrana objektu","Objectbescherming","Zaščita objektov","Objektskydd","Beskyttelse mod genstande","Objektvern","Zaštita objekata"]
["Obwohl das Berechnungstool von PREFA mit größtmöglicher Sorgfalt erstellt wurde,","PREFA’s calculation tool has been created with the utmost care.","Bien que l’outil de calcul PREFA ait été développé avec le plus grand soin, les résultats des calculs ne peuvent être considérés que comme des recommandations ","sebbene lo strumento di calcolo PREFA sia stato creato con la massima cura,","Výpočtový nástroj od PREFA byl vytvořen s nejvyšší pečlivostí. ","Chociaż narzędzie obliczeniowe zostało stworzone przez PREFA z największą możliwą starannością, ","Bár a PREFA számítási segédlete a legnagyobb körültekintéssel készült,","Výpočtový nástroj od PREFA bol vytvorený mimoriadne starostlivo.","Hoewel de berekeningstool door PREFA met de grootst mogelijke zorg is samengesteld,","Čeprav je orodje za izračun PREFA izdelano z največjo skrbnostjo,","Även om PREFA har framställt beräkningsverktyget med största noggrannhet","Selvom PREFAs beregningsværktøj er blevet udviklet med største omhu,","Selv om beregningsverktøyet fra PREFA er utformet med stor nøyaktighet,","Iako je PREFA izradila proračunski alat s najvećom mogućom pažnjom,"]
["Ort:","City:","Ville :","luogo:","Místo:","Miejscowość:","Helység:","Miesto:","Plaats:","Kraj:","Plats:","Sted:","Sted:","Mjesto:"]
["Pa","Pa","Pa","Pa","Pa","Pa","Pa","Pa","Pa","Pa","Pa","Pa","Pa","Pa"]
["Plan-Dammbalken","Stop logs plan","Longueur du batardeau pour la commande","disegno-sponda","Navržené hrázní bloky","Projektowanie belez zaporowych","Gátgerenda-terv","Plán hradidiel","Geplande dambalk","Ravna zajezitvena lamela","Ritning-DÄMMBALK","Plan-dæmningsbjælker","Plan-bjelkestengsel","Ravna daska brane"]
["PREFA bietet dem Anwender ein kostenloses Berechnungstool für PREFA Hochwasserschutzsysteme.","PREFA provides its users with a free calculation tool for PREFA flood protection systems.","PREFA propose un outil de calcul gratuit pour la planification des systèmes de protection contre les crues PREFA.","PREFA offre all'utente uno strumento di calcolo gratuito per i sistemi di protezione dalle inondazioni.","PREFA nabízí uživateli bezplatný výpočtový nástroj pro PREFA protipovodňové systémy (HWS).","PREFA oferuje użytkownikowi bezpłatne narzędzie obliczeniowe do systemów ochrony przeciwpowodziowej.","A felhasználók számára a PREFA ingyenes számítási segédletet biztosít a PREFA mobilgátakhoz.","PREFA ponúka používateľom bezplatný výpočtový nástroj pre protipovodňové systémy PREFA.","PREFA biedt de gebruiker een gratis berekeningstool voor PREFA-hoogwaterbeschermingen.","PREFA nudi uporabnikom brezplačno orodje za izračun sistemov protipoplavne zaščite PREFA.","PREFA erbjuder kostnadsfritt, beräkningsunderlag för PREFA-Översvämningsskydd.","PREFA stiller et beregningsværktøj for PREFA højvandsbeskyttelsessystemer gratis til rådighed for brugeren.","PREFA tilbyr brukeren et gratis beregningsverktøy for PREFA flombeskyttelsessystemer.","PREFA korisniku nudi besplatan proračunski alat za PREFA sustave za zaštitu od poplave."]
["PREFA HOCHWASSERSCHUTZ SYSTEM","PREFA FLOOD PROTECTION SYSTEM","SYSTÈME PREFA DE PROTECTION CONTRE LES CRUES","PREFA SISTEMA ANTI-ESONDAZIONE","PREFA PROTIPOVODŇOVÝ SYSTÉM","SYSTEM OCHRONY PRZECIWPOWODZIOWEJ PREFA","PREFA ÁRVÍZVÉDELMI RENDSZER","PREFA PROTIPOVODŇOVÁ OCHRANA","PREFA SYSTEEM VOOR HOOGWATERBESCHERMING","SISTEM PROTIPOPLAVNE ZAŠČITE PREFA","PREFA System för Översvämningsskydd","PREFA HØJVANDSBESKYTTELSE","PREFA FLOMBESKYTTELSESSYSTEM","PREFA SUSTAV ZAŠTITE OD POPLAVE"]
["PREFA HWS BERECHNUNGSTOOL","PREFA FLOOD PROTECTION DATA ENTRY FORM","FORMULAIRE DE SAISIE POUR LES SYSTÈMES DE PROTECTION CONTRE LES CRUES PREFA","QUESTIONARIO PREFA SAE","PREFA HWS ZADÁVACÍ FORMULÁŘ","FORMULARZ BADANIA PREFA","PREFA ÁRVÍZVÉDELMI RENDSZER AJÁNLATKÉRŐ ÍV","PREFA ZADÁVACÍ FORMULÁR PRE PROTIPOVODŇOVÚ OCHRANU","PREFA HWB-SYSTEEM – VRAGENLIJST","VPRAŠALNIK ZA IZBIRO SISTEMA PROTIPOPLAVNE ZAŠČITE PREFA","Frågeformulär för PREFA-översvämningsskydd","PREFA SPØRGESKEMA OM HØJVANDSBESKYTTELSE","PREFA HWS SPØRRESKJEMA","PREFA UPITNI OBRAZAC ZA ZAŠTITU OD POPLAVE"]
["PREFA HWS ERHEBUNGSBOGEN","PREFA FLOOD PROTECTION DATA ENTRY FORM","Formulaire de demande pour la protection contre les crue PREFA","PREFA HWS ERHEBUNGSBOGEN","PREFA HWS ERHEBUNGSBOGEN","PREFA HWS ERHEBUNGSBOGEN","PREFA Árvízvédelmi ajánlatkérő formanyomtatvány","PREFA HWS ERHEBUNGSBOGEN","PREFA HWS ERHEBUNGSBOGEN","PREFA HWS ERHEBUNGSBOGEN","PREFA HWS ERHEBUNGSBOGEN","PREFA HWS SPØRGESKEMA","PREFA HWS ERHEBUNGSBOGEN","PREFA HWS ERHEBUNGSBOGEN"]
["PREFA übernimmt im Hinblick hierauf keinerlei Haftung für die Richtigkeit oder Vollständigkeit der Berechnungsergebnisse oder für hieraus abgeleitete Schadenersatzansprüche.","PREFA assumes no liability for the accuracy or completeness of the calculation results or for claims for damages derived from them.","Toute demande de dommages-intérêts en lien avec l’outil de calcul PREFA est exclue. PREFA décline en outre toute responsabilité si le montage ou l’entretien n’ont pas été correctement effectués ou si des pièces d’autres fournisseurs ont été utilisées à la place des pièces originales PREFA.","PREFA non si assume alcuna responsabilità per l'esattezza o la completezza dei risultati del calcolo o per le richieste di risarcimento da essa derivate.","PREFA s ohledem na to nepřebírá žádnou záruku za správnost nebo úplnost výpočtových výsledků nebo za z toho odvozené nároky na náhradu škod.","PREFA nie ponosi żadnej odpowiedzialności za dokładność i kompletność wyników obliczeń ani za wszelkie roszczenia odszkodowawcze z nich wynikające. ","A PREFA a számítási eredmények  helyességéért és teljességéért, valamint az azokból eredő esetleges károkért, kárigényekért nem vállal felelősséget.","PREFA neručí za správnosť a úplnosť výsledkov výpočtu alebo za náhradu škôd, ktoré na základe nich vzniknú.","PREFA is in dezen niet aansprakelijk voor de juistheid of volledigheid van de berekeningsresultaten dan wel hieruit voortvloeiende schadeclaims.","PREFA v zvezi s tem ne prevzema nobene odgovornosti za pravilnost ali popolnost rezultatov izračuna ali za odškodninske zahtevke, ki izhajajo iz tega.","Med tanke på detta har PREFA inget ansvar för beräkningsresultatens riktighet eller fullständighet eller därav härledda skadeståndsanspråk.","PREFA påtager sig intet ansvar for rigtigheden eller fuldstændigheden af beregningsresultaterne eller for erstatningskrav, der måtte opstå som følge heraf.","PREFA overtar i denne forbindelse ikke ansvar for at beregningsresultatene er riktige eller fullstendige eller for skadeerstatningskrav som fremlegges på grunnlag av disse beregningene.","U tom pogledu PREFA ne preuzima nikakvu odgovornost za točnost ili potpunost rezultata proračuna ili za zahtjeve za naknadom šteta koji su proizišli iz toga."]
["PREFA übernimmt keine Garantie für absolute Schadensverhinderung.","PREFA does not guarantee absolute damage prevention.","Par ailleurs, PREFA ne peut en aucun cas garantir une protection totale.","PREFA non garantisce la prevenzione assoluta di danni.","PREFA nepřejímá záruku za absolutní zamezení škod","PREFA nie gwarantuje bezwzględnego zapobiegania szkodom.","A PREFA nem vállal garanciát az abszolút kármegelőzésért.","PREFA neručí za úplné zabránenie vzniku škôd.","De garantie van PREFA omvat geen maatregelen voor volledige schadepreventie.","PREFA ne prevzema nobene garancije za absolutno preprečevanje škode.","PREFA garanterar inte absolut skadeförebyggande.","PREFA påtager sig intet ansvar for ikke absolut skadeforebyggelse.","PREFA garanterer ikke absolutt forhindring av skader.","PREFA ne garantira apsolutno sprječavanje šteta."]
["PREFA versteht das Berechnungstool als Hilfestellung an den Fachmann, die diesen aber nicht von der Pflicht zur eigenständigen Prüfung im Einzelfall entbindet.","PREFA provides the calculation tool as an aid to professionals, but this does not absolve professionals from the obligation to carry out their own independent examination for each individual case.","PREFA décline toute responsabilité en lien avec l’outil de calcul et ne peut en aucun cas se porter garant de l’exactitude et de l’exhaustivité des résultats obtenus.","per PREFA questo strumento di calcolo è per il  tecnico specialista un aiuto che non lo esenta dall'obbligo di eseguire un esame indipendente.","PREFA považuje výpočtový nástroj jako podporu pro odborné realizátory, která je však nezbavuje povinnosti vlastního přezkoušení návrhu pro každý jednotlivý případ.","PREFA rozumie narzędzie obliczeniowe jako pomoc dla eksperta, ale nie zwalnia go z obowiązku przeprowadzania niezależnych kontroli w indywidualnych przypadkach. ","A PREFA a számítási segédletet a szakembereknek szánt támogatásnak tekinti, nem mentesíti azonban a tervezőt/kivitelezőt a rendszerek ellenőrzésének, tervezésének kötelezettsége alól.","PREFA považuje výpočtový nástroj za pomôcku pre odborníkov, ktorá ich však nezbavuje povinnosti preveriť návrh pre každý individuálny prípad.","PREFA beschouwt de berekeningstool als hulpmiddel voor vaklieden. De tool ontslaat hen echter niet van de verplichting om voor specifieke gevallen zelfstandig controles uit te voeren.","PREFA razume orodje za izračun kot pripomoček za strokovnjaka, ki pa ga v posamičnem primeru ne odvezuje obveznosti za samostojno preverjanje.","PREFA har tagit fram beräkningsverktyget som ett hjälpmedel för experter. Det befriar emellertid inte dessa från deras plikt att självständigt kontrollera resultaten för enskilda fall.","PREFA forstår beregningsværktøjet som en hjælp til specialisten, men det fratager ikke denne fra forpligtelsen til at foretage en selvstændig kontrol i hvert enkelt tilfælde.","PREFA ser på beregningsverktøyet som en hjelp for fagpersoner. Fagpersoner fritas likevel ikke for ansvaret for kontroll og gjennomføringen.","PREFA smatra proračunski alat pomagalom za stručnjake, ali on stručnjaka ne oslobađa obveze vlastite provjere u pojedinačnom slučaju."]
["Preis","Preis","Prix","Preis","Preis","Preis","Preis","Preis","Preis","Preis","Preis","Preis","Preis","Preis"]
["Preis exkl.MwSt","Price excl. VAT","Prix sans TVA","prezzo senza IVA","cena bez DPH","cena bez podatku VAT","Nettó ár","Cena bez DPH","Prijs excl. btw","Cena brez DDV","Pris exkl. moms","Pris ekskl. moms","Pris ekskl. mva.","Cijena bez PDV-a"]
["Preis pro lfm od. Stk","Price per rm/pc","Prix au mètre ou à la pièce","€/metro - €/pezzo","cena za bm nebo ks","cena za mb lub sztukę","Ár / fm, vagy db","Cena za bm alebo ks","Prijs per strekkende meter of per stuk","Cena na tm ali kos","Pris per löpmeter el. st.","Pris pr. løbende meter eller stk.","Pris per lm el. stk.","Cijena po d/m ili kom."]
["Profilhöhe zu hoch!","Profile height too high!","Hauteur de profil trop importante !","altezza del profilo troppo alta!","příliš velká výška","Wysokość profilu za wysoka!","Túl magas profilok!","Príliš veľká výška profilu!","Profielhoogte te hoog!","Prevelika višina profila!","Profilhöjd för hög!","Profilhøjde for høj!","Profilhøyde for høy!","Visina profila previsoka!"]
["Rabatt","Discount","Rabais","sconto","rabat","rabat","Kedvezmény","Zľava","Korting","Popust","Rabatt","Rabat","Rabatt","Rabat"]
["RAL oder PREFA Farbe:","RAL or PREFA colour:","Couleur RAL ou PREFA :","RAL / colore PREFA:","RAL nebo PREFA barva","kolor wg RAL lub kolor PREFA:","RAL, vagy PREFA szín:","RAL alebo PREFA farba:","RAL- of PREFA-kleur:","Barva RAL ali PREFA:","RAL- eller PREFA-färg:","RAL- eller PREFA-farve:","RAL- eller PREFA-farge:","RAL ili PREFA boja:"]
["Rechts","Right","Droite","destra","napravo","prawo","Jobb","Vpravo","Rechts","Desno","Höger","Højre","Høyre","Desno"]
["Rundprofil","Round profile","Profil rond","profilo circolare","Kruhový profil","Profil okrągły (kolumna środkowa)","Körprofil","Kruhový profil","Rondprofiel","Okrogli profil","Rundprofil","Rund profil","Rundprofil","Okrugli profil"]
["Rundprofil 50 exkl. Dichtung, gebohrt und entgratet","Round profile 50 excl. seal, drilled and deburred","Profil rond 50, fourni sans joint, percé et ébavuré","profilo circolare 50, esclusa guarnizione, forato e sbavato","Kruhový profil 50, bez těsnění, vrtaný, bez otřepů","Profil okrągły 50 bez uszczelki, nawiercona i okrawana","Körprofil 50, tömítés nélkül, furatolva és sorjázva","Kruhový profil 50 bez tesnenia, navŕtaný a odhrotovaný","Rondprofiel 50 excl. afdichting, geboord en afgebraamd","Okrogli profil 50 brez tesnila, z izvrtinami in posnetimi robovi","Rundprofil 50 exkl. tätning, borrad och avgradad","Rund profil 50 ekskl. tætning, forboret og afgratet","Rundprofil 50 ekskl. tetning, boret og avgradet","Okrugli profil 50 bez brtve, bušen i s obrađenim rubovima"]
["Rundprofil 50 Sonderlänge exkl. Dichtung, (Stangenware)","Round profile 50 special length excl. seal, drilled and deburred","Profil rond 50, longueur personnalisée, fourni sans joint, percé et ébavuré","profilo circolare 50 lunghezza fuori standard, esclusa guarnizione, forato e sbavato","Kruhový profil 50, zvláštní délka, bez těsnění,vrtaný, bez otřepů","Profil okrągły 50 długość specjalna bez uszczelki, nawiercona i okrawana","Körprofil 50,egyedi hosszméret, tömítés nélkül, furatolva és sorjázva","Kruhový profil 50, neštandardná dĺžka, bez tesnenia, navŕtaný a odhrotovaný","Rondprofiel 50 aangepaste lengte excl. afdichting, geboord en afgebraamd","Okrogli profil 50, posebna dolžina, brez tesnila, z izvrtinami in posnetimi robovi","Rundprofil 50 speciallängd exkl. tätning, borrad och avgradad","Rund profil 50 speciallængde ekskl. tætning, forboret og afgratet","Rundprofil 50 spesiallengde ekskl. tetning, boret og avgradet","Okrugli profil 50 posebna duljina bez brtve, bušen i s obrađenim rubovima"]
["Rundprofil 50-90° exkl. Dichtung, gebohrt und entgratet","Round profile 50–90° excl. seal, drilled and deburred","Profil rond 50 (90°), fourni sans joint, percé et ébavuré","profilo circolare 50-90°, esclusa guarnizione, forato e sbavato","Kruhový profil 50-90°, bez těsnění,vrtaný, bez otřepů","Profil okrągły 50-90° bez uszczelki, nawiercony i okrawany","Körprofil 50-90° tömítés nélkül, furatolva és sorjázva","Kruhový profil 50 – 90° bez tesnenia, navŕtaný a odhrotovaný","Rondprofiel 50-90° excl. afdichting, geboord en afgebraamd","Okrogli profil 50–90°, brez tesnila, z izvrtinami in posnetimi robovi","Rundprofil 50–90° exkl. tätning, borrad och avgradad","Rund profil 50-90 ° ekskl. tætning, forboret og afgratet","Rundprofil 50-90° ekskl. tetning, boret og avgradet","Okrugli profil 50-90° bez brtve, bušen i s obrađenim rubovima"]
["Rundprofil 50-90° Sonderlänge exkl. Dichtung, (Stangenware)","Round profile 50–90° special length excl. seal, drilled and deburred","Profil rond 50 (90°), longueur personnalisée, fourni sans joint, percé et ébavuré","profilo circolare 50-90° lunghezza fuori standard, esclusa guarnizione, forato e sbavato","Kruhový profil 50-90°, zvláštní délka, bez těsnění, vrtaný, bez otřepů","Profil okrągły 50-90° długość specjalna bez uszczelki, nawiercony i okrawany","Körprofil 50-90° tömítés nélkül, egyedi hosszméret, furatolva és sorjázva","Kruhový profil 50 – 90°, neštandardná dĺžka, bez tesnenia, navŕtaný a odhrotovaný","Rondprofiel 50-90° aangepaste lengte excl. afdichting, geboord en afgebraamd","Okrogli profil 50–90°, posebna dolžina, brez tesnila, z izvrtinami in posnetimi robovi","Rundprofil 50–90° speciallängd exkl. tätning, borrad och avgradad","Rund profil 50-90 ° speciallængde ekskl. tætning, forboret og afgratet","Rundprofil 50-90° spesiallengde ekskl. tetning, boret og avgradet","Okrugli profil 50-90° posebna duljina bez brtve, bušen i s obrađenim rubovima"]
["Rundprofil 50-Vario exkl. Dichtung, gebohrt und entgratet","Round profile 50 Vario excl. seal, drilled and deburred","Profil rond 50 (Vario), fourni sans joint, percé et ébavuré","profilo circolare 50-vario, esclusa guarnizione, forato e sbavato","Kruhový profil 50-Vario, bez těsnění, vrtaný, bez otřepů","Profil okrągły 50-Vario bez uszczelki, nawiercony i okrawany","Körprofil 50-Vario tömítés nélkül, furatolva és sorjázva","Kruhový profil 50 – Vario bez tesnenia, navŕtaný a odhrotovaný","Rondprofiel 50-Vario excl. afdichting, geboord en afgebraamd","Okrogli profil 50-Vario, brez tesnila, z izvrtinami in posnetimi robovi","Rundprofil 50-Vario exkl. tätning, borrad och avgradad","Rund profil 50-Vario ekskl. tætning, forboret og afgratet","Rundprofil 50-Vario ekskl. tetning, boret og avgradet","Okrugli profil 50-vario bez brtve, bušen i s obrađenim rubovima"]
["Rundprofil 50-Vario Sonderlänge exkl. Dichtung, (Stangenware)","Round profile 50 Vario special length excl. seal, drilled and deburred","Profil rond 50 (Vario), longueur personnalisée, fourni sans joint, percé et ébavuré","profilo circolare 50-vario lunghezza fuori standard, esclusa guarnizione, forato e sbavato","Kruhový profil 50-Vario, zvláštní délka, bez těsnění,vrtaný, bez otřepů","Profil okrągły 50-Vario, długość specjalna bez uszczelki, nawiercony i okrawany","Körprofil 50-Vario tömítés nélkül, egyedi hosszméret, furatolva és sorjázva","Kruhový profil 50 – Vario, neštandardná dĺžka, bez tesnenia, navŕtaný a odhrotovaný","Rondprofiel 50-Vario aangepaste lengte excl. afdichting, geboord en afgebraamd","Okrogli profil 50-Vario, posebna dolžina, brez tesnila, z izvrtinami in posnetimi robovi","Rundprofil 50-Vario speciallängd exkl. tätning, borrad och avgradad","Rund profil 50-Vario speciallængde ekskl. tætning, forboret og afgratet","Rundprofil 50-Vario spesiallengde ekskl. tetning, boret og avgradet","Okrugli profil 50-vario posebna duljina bez brtve, bušen i s obrađenim rubovima"]
["Rundprofil 80 exkl. Dichtung, gebohrt und entgratet","Round profile 80 excl. seal, drilled and deburred","Profil rond 80, fourni sans joint, percé et ébavuré","profilo circolare 80, esclusa guarnizione, forato e sbavato","Kruhový profil 80, bez těsnění, vrtaný, bez otřepů","Profil okrągły 80 bez uszczelki, nawiercony i okrawany","Körprofil 80, tömítés nélkül, furatolva és sorjázva","Kruhový profil 80 bez tesnenia, navŕtaný a odhrotovaný","Rondprofiel 80 excl. afdichting, geboord en afgebraamd","Okrogli profil 80 brez tesnila, z izvrtinami in posnetimi robovi","Rundprofil 80 exkl. tätning, borrad och avgradad","Rund profil 80 ekskl. tætning, forboret og afgratet","Rundprofil 80 ekskl. tetning, boret og avgradet","Okrugli profil 80 bez brtve, bušen i s obrađenim rubovima"]
["Rundprofil 80 gr. exkl. Dichtung, gebohrt und entgratet","Round profile 80 large excl. seal, drilled and deburred","Profil rond 80 (grand format), fourni sans joint, percé et ébavuré","profilo circolare 80 gr., esclusa guarnizione, forato e sbavato","Kruhový profil 80 velký, bez těsnění, vrtaný, bez otřepů","Profil okrągły 80 gr. bez uszczelki, nawiercony i okrawany","Körprofil 80 nagy, tömítés nélkül, furatolva és sorjázva","Kruhový profil 80 veľký, bez tesnenia, navŕtaný a odhrotovaný","Rondprofiel 80 groot excl. afdichting, geboord en afgebraamd","Okrogli profil 80°, brez tesnila, z izvrtinami in posnetimi robovi","Rundprofil 80 stor exkl. tätning, borrad och avgradad","Rund profil 80 stor, ekskl. tætning, forboret og afgratet","Rundprofil 80 str. ekskl. tetning, boret og avgradet","Okrugli profil 80 vel. bez brtve, bušen i s obrađenim rubovima"]
["Rundprofil 80 gr. Sonderlänge exkl. Dichtung, (Stangenware)","Round profile 80 large special length excl. seal, drilled and deburred","Profil rond 80 (grand format), longueur personnalisée, fourni sans joint, percé et ébavuré","profilo circolare 80 gr. lunghezza fuori standard, esclusa guarnizione, forato e sbavato","Kruhový profil 80 velký, zvláštní délka, bez těsnění, vrtaný, bez otřepů","Profil okrągły 80 gr. długość specjalna bez uszczelki, nawiercony i okrawany","Körprofil 80 nagy, egyedi hosszméretben, tömítés nélkül, furatolva és sorjázva","Kruhový profil 80 veľký, neštandardná dĺžka, bez tesnenia, navŕtaný a odhrotovaný","Rondprofiel 80 groot aangepaste lengte excl. afdichting, geboord en afgebraamd","Okrogli profil 80°, Posebna dolžina brez tesnila, z izvrtinami in posnetimi robovi","Rundprofil 80 stor speciallängd exkl. tätning, borrad och avgradad","Rund profil 80 stor, Speciallængde ekskl. tætning, forboret og afgratet","Rundprofil 80 gr. spesiallengde ekskl. tetning, boret og avgradet","Okrugli profil 80 vel. posebna duljina bez brtve, bušen i s obrađenim rubovima"]
["Rundprofil 80 Sonderlänge exkl. Dichtung, (Stangenware)","Round profile 80 special length excl. seal, drilled and deburred","Profil rond 80, longueur personnalisée, fourni sans joint, percé et ébavuré","profilo circolare 80 lunghezza fuori standard, esclusa guarnizione, forato e sbavato","Kruhový profil 80, zvláštní délka, bez těsnění,vrtaný, bez otřepů","Profil okrągły 80 gr. Długość specjalna bez uszczelki, nawiercony i okrawany","Körprofil 80, egyedi hosszméretben, tömítés nélkül, furatolva és sorjázva","Kruhový profil 80, neštandardná dĺžka, bez tesnenia, navŕtaný a odhrotovaný","Rondprofiel 80 aangepaste lengte excl. afdichting, geboord en afgebraamd","Okrogli profil 80, posebna dolžina, brez tesnila, z izvrtinami in posnetimi robovi","Rundprofil 80 speciallängd exkl. tätning, borrad och avgradad","Rund profil 80 speciallængde ekskl. tætning, forboret og afgratet","Rundprofil 80 spesiallengde ekskl. tetning, boret og avgradet","Okrugli profil 80 posebna duljina bez brtve, bušen i s obrađenim rubovima"]
["Rundprofil 80-90° exkl. Dichtung, gebohrt und entgratet","Round profile 80–90° excl. seal, drilled and deburred","Profil rond 80 (90°), fourni sans joint, percé et ébavuré","profilo circolare 80-90°, esclusa guarnizione, forato e sbavato","Kruhový profil 80-90°, bez těsnění,vrtaný, bez otřepů","Profil okrągły 80-90° bez uszczelki, nawiercony i okrawany","Körprofil 80-90° tömítés nélkül, furatolva és sorjázva","Kruhový profil 80 – 90° bez tesnenia, navŕtaný a odhrotovaný","Rondprofiel 80-90° excl. afdichting, geboord en afgebraamd","Okrogli profil 80–90°, brez tesnila, z izvrtinami in posnetimi robovi","Rundprofil 80–90° exkl. tätning, borrad och avgradad","Rund profil 80-90 ° ekskl. tætning, forboret og afgratet","Rundprofil 80-90° ekskl. tetning, boret og avgradet","Okrugli profil 80-90° bez brtve, bušen i s obrađenim rubovima"]
["Rundprofil 80-90° Sonderlänge exkl. Dichtung, (Stangenware)","Round profile 80–90° special length excl. seal, drilled and deburred","Profil rond 80 (90°), longueur personnalisée, fourni sans joint, percé et ébavuré","profilo circolare 80-90° lunghezza fuori standard, esclusa guarnizione, forato e sbavato","Kruhový profil 80-90°, zvláštní délka, bez těsnění, vrtaný, bez otřepů","Profil okrągły 80-90° długość specjalna bez uszczelki, nawiercony i okrawany","Körprofil 80-90° tömítés nélkül, egyedi hosszméret, furatolva és sorjázva","Kruhový profil 80 – 90°, neštandardná dĺžka, bez tesnenia, navŕtaný a odhrotovaný","Rondprofiel 80-90° aangepaste lengte excl. afdichting, geboord en afgebraamd","Okrogli profil 80–90°, posebna dolžina, brez tesnila, z izvrtinami in posnetimi robovi","Rundprofil 80–90° speciallängd exkl. tätning, borrad och avgradad","Rund profil 80-90 ° speciallængde ekskl. tætning, forboret og afgratet","Rundprofil 80-90° spesiallengde ekskl. tetning, boret og avgradet","Okrugli profil 80-90° posebna duljina bez brtve, bušen i s obrađenim rubovima"]
["Rundprofil 80-Vario exkl. Dichtung, gebohrt und entgratet","Round profile 80 Vario excl. seal, drilled and deburred","Profil rond 80 (Vario), fourni sans joint, percé et ébavuré","profilo circolare 80-vario, esclusa guarnizione, forato e sbavato","Kruhový profil 80-Vario, bez těsnění, vrtaný, bez otřepů","Profil okrągły 80 Vario bez uszczelki, nawiercony i okrawany","Körprofil 80-Vario tömítés nélkül, furatolva és sorjázva","Kruhový profil 80 – Vario bez tesnenia, navŕtaný a odhrotovaný","Rondprofiel 80-Vario excl. afdichting, geboord en afgebraamd","Okrogli profil 80-Vario, brez tesnila, z izvrtinami in posnetimi robovi","Rundprofil 80-Vario exkl. tätning, borrad och avgradad","Rund profil 80-Vario ekskl. tætning, forboret og afgratet","Rundprofil 80-Vario ekskl. tetning, boret og avgradet","Okrugli profil 80-vario bez brtve, bušen i s obrađenim rubovima"]
["Rundprofil 80-Vario Sonderlänge exkl. Dichtung, (Stangenware)","Round profile 80 Vario special length excl. seal, drilled and deburred","Profil rond 80 (Vario), longueur personnalisée, fourni sans joint, percé et ébavuré","profilo circolare 80-vario lunghezza fuori standard, esclusa guarnizione, forato e sbavato","Kruhový profil 80-Vario, zvláštní délka, bez těsnění,vrtaný, bez otřepů","Profil okrągły 80-Vario, długość specjalna bez uszczelki, nawiercony i okrawany","Körprofil 80-Vario tömítés nélkül, egyedi hosszméret, furatolva és sorjázva","Kruhový profil 80 – Vario, neštandardná dĺžka, bez tesnenia, navŕtaný a odhrotovaný","Rondprofiel 80-Vario aangepaste lengte excl. afdichting, geboord en afgebraamd","Okrogli profil 80-Vario, posebna dolžina, brez tesnila, z izvrtinami in posnetimi robovi","Rundprofil 80-Vario speciallängd exkl. tätning, borrad och avgradad","Rund profil 80-Vario speciallængde ekskl. tætning, forboret og afgratet","Rundprofil 80-Vario spesiallengde ekskl. tetning, boret og avgradet","Okrugli profil 80-vario posebna duljina bez brtve, bušen i s obrađenim rubovima"]
["Rundprofil 90°","Round profile 90°","Profil rond (90°)","profilo circolare 90°","Kruhový profil 90°","Profil okrągły 90°","Körprofil 90°","Kruhový profil 90°","Rondprofiel 90°","Okrogli profil 90°","Rundprofil 90°","Rund profil 90 °","Rundprofil 90°","Okrugli profil 90°"]
["Rundprofil Groß","Round profile large","Profil rond (grand format)","profilo circolare grande","Kruhový profil velký","Profil okrągły duży","Körprofil nagy","Kruhový profil veľký","Rondprofiel groot","Okrogli profil, velik","Rundprofil stor","Rund profil, stor","Rundprofil stor","Okrugli profil veliki"]
["Rundprofil Vario","Round profile Vario","Profil rond (Vario)","profilo circolare vario","Kruhový profil Vario","Profil okrągły Vario","Körprofil Vario","Kruhový profil Vario","Rondprofiel Vario","Okrogli profil Vario","Rundprofil Vario","Rund profil, Vario","Rundprofil Vario","Okrugli profil vario"]
["Service:","Service:","Service :","servizio:","Servis:","Usługa:","Szerviz:","Servis:","Service:","Storitve:","Tjänst:","Service:","Service:","Usluga:"]
["Setzwerkzeug Verbundanker","Setting tool embedded anchor","Outil de pose pour dispositif d’ancrage","Ancorante chimico","Osazovací nástroj pro chemické patrony","Narzędzie do ustawiania kotew zespolonych","Lehorgonyzóelem elhelyezőszerszám","Osadzovací nástroj na spájaciu kotvu","Plaatsingsgereedschap verbindingsanker","Montažno orodje za sidranje","Monteringsverktyg för kemankare","Indstillingsværktøj kompositankre","Setteverktøy kompoundanker","Alat za postavljanje spojnih sidra"]
["Sicherungsschraube Abdeckung:","Safety screw cover:","Vis de sécurité pour cache de protection :","vite di sicurezza copertura:","Fixační šroub krytu:","Śruba blokująca pokrywę:","Takaróelem biztosítócsavar:","Poistná skrutka krycieho profilu:","Borgbout afdekking:","Varnostni vijak za pokrov:","Skruv, Täckplåt","Holdeskrue dæksel:","Låseskrue tildekking:","Sigurnosni vijak pokrova:"]
["Sicherungsschraube für Abdeckung","Safety screw for cover","Vis de sécurité pour cache de protection","vite di sicurezza per la copertura","fixační šroub pro kryt","Śruba blokująca do pokrywy","Takaróelem biztosítócsavar","Poistná skrutka krycieho profilu","Borgbout voor afdekking","Varnostni vijak za pokrov","Skruv till Täckplåt","Holdeskrue til dæksel:","Låseskrue for tildekking","Sigurnosni vijak za pokrov"]
["Sonderanfertigung","Sonderanfertigung","Fabrication spéciale","Sonderanfertigung","Sonderanfertigung","Sonderanfertigung","Sonderanfertigung","Sonderanfertigung","Sonderanfertigung","Sonderanfertigung","Sonderanfertigung","Sonderanfertigung","Sonderanfertigung","Sonderanfertigung"]
["Sonderanfertigung (Preis auf Anfrage)","Sonderanfertigung (Preis auf Anfrage)","Fabrication spéciale (Prix sur demande)","Sonderanfertigung (Preis auf Anfrage)","Sonderanfertigung (Preis auf Anfrage)","Sonderanfertigung (Preis auf Anfrage)","Sonderanfertigung (Preis auf Anfrage)","Sonderanfertigung (Preis auf Anfrage)","Sonderanfertigung (Preis auf Anfrage)","Sonderanfertigung (Preis auf Anfrage)","Sonderanfertigung (Preis auf Anfrage)","Sonderanfertigung (Preis auf Anfrage)","Sonderanfertigung (Preis auf Anfrage)","Sonderanfertigung (Preis auf Anfrage)"]
["Sonderkosten","Special costs","Frais spéciaux","costi extra","zvláštní náklady","Koszty specjalne","Felárak","Mimoriadne náklady","Speciale kosten","Posebni stroški","Särskilda kostnader","Særlige omkostninger","Spesialkostnader","Posebni troškovi"]
["Sonderrabatt","Special discount","Rabais spéciale","sconto speciale","zvláštní rabat","Rabat specjalny","Egyedi kedvezmény","Mimoriadna zľava","Speciale korting","Posebni popust","Särskild rabatt","Særrabat","Spesialrabatt","Posebni rabat"]
["Spannstück mit 6-Kantschraube","Clamping element with hex-cap screw","Pièce de serrage avec vis à six pans","tenditore con vite a testa esagonale","Napínák s šestihranným šroubem","Element dociskowy ze śrubą z łbem 6-kątnym","Feszítőelem 6-lapfejű csavarral","Upevňovacia zarážka so 6-hrannou skrutkou","Fixeerstuk met zeskantschroef","Vpenjalni kos s 6-robim vijakom","Spännstycke med sexkantsskruv","Spændestykke med 6-kantskrue","KLEMSTYKKE SIDE med 6-kantskrue","Zatezni element sa šesterokutnim vijkom"]
["Spannstück mit 6-Kantschraube:","Clamping element with hex-cap screw:","Pièce de serrage avec vis à six pans :","tenditore con vite a testa esagonale:","Napínák s šestihranným šroubem:","Element dociskowy ze śrubą z łbem 6-kątnym:","Feszítőelem 6-lapfejű csavarral:","Upevňovacia zarážka so 6-hrannou skrutkou:","Fixeerstuk met zeskantschroef:","Vpenjalni kos s 6-robim vijakom:","Spännstycke med sexkantsskruv:","Spændestykke med 6-kantskrue:","KLEMSTYKKE SIDE med 6-kantskrue:","Zatezni element sa šesterokutnim vijkom:"]
["Spannstück mit Sterngriff","Clamping element with star grip screw","Pièce de serrage à poignée étoile","tenditore con manopola a stella","Napínák s hvězdicovým kolečkem","Element dociskowy z uchwytem gwiazdkowym","Feszítőelem csillagmarkolattal","Upevňovacia zarážka s hviezdicovým úchopom","Fixeerstuk met sterknop","Vpenjalni kos z zvezdastim gumbom","Spännstycke med stjärngrepp","Spændestykke med stjerneformet greb","KLEMSTYKKE SIDE med stjernegrep","Zatezni element sa zvjezdastom ručkom"]
["Spannstück mit Sterngriff:","Clamping element with star grip screw:","Pièce de serrage à poignée étoile :","tenditore con manopola a stella:","Napínák s hvězdicovým kolečkem:","Element dociskowy z uchwytem gwiazdkowym:","Feszítőelem csillagmarkolattal:","Upevňovacia zarážka s hviezdicovým úchopom:","Fixeerstuk met sterknop:","Vpenjalni kos z zvezdastim gumbom:","Spännstycke med stjärngrepp:","Spændestykke med stjerneformet greb:","KLEMSTYKKE SIDE med stjernegrep:","Zatezni element sa zvjezdastom ručkom:"]
["Spannung  infolge Treibgut:","Pressure due to flotsam:","Tension générée par les débris flottants :","Tensione da detriti:","Napětí od plovoucího předmětu:","Spannung  infolge Treibgut:","Uszadék okozta feszültség:","Napätie v dôsledku plávajúceho predmetu:","Spanning overeenkomstig drijfmateriaal:","Napetost zaradi naplavin:","spänning p.g.a. flytande skräp:","Spænding som følge af drivende genstande:","Spenning iht drivgods:","Naprezanje zbog naplavina:"]
["Spannung HD:","Pressure HD:","Tension HD :","Tensione HD:","Napětí HD:","Spannung HD:","HD feszültség:","Napätie HD:","Spanning HD:","Napetost HD:","Spänning HD:","Spænding HD:","Spenning HD:","Naprezanje HD:"]
["Spannung HD+HS:","Pressure HD + HS:","Tension HD + HS :","Tensione HD+HS:","Napětí HD+HS:","Spannung HD+HS:","HD+HS feszültség:","Napätie HD+HS:","Spanning HD+HS:","Napetost HD+HS:","Spänning HD+HS:","Spænding HD+HS:","Spenning HD+HS:","Naprezanje HD+HS:"]
["Spannung HS:","Pressure HS:","Tension HS :","Tensione HS:","Napětí HS:","Spannung HS:","HS feszültség:","Napätie HS:","Spanning HS:","Napetost HS:","Spänning HS:","Spænding HS:","Spenning HS:","Naprezanje HS:"]
["Spannung infolge Treibgut:","Pressure due to flotsam:","Tension générée par les débris flottants :","Tensione da detriti:","Napětí od plovoucího předmětu:","Spannung infolge Treibgut:","Uszadék okozta feszültség:","Napätie v dôsledku plávajúceho predmetu:","Spanning overeenkomstig drijfmateriaal:","Napetost zaradi naplavin:","Spänning p.g.a. flytande skräp:","Spænding som følge af drivende genstande:","Spenning iht. drivgods:","Naprezanje zbog naplavina:"]
["Spannung zufolge","Pressure due to","en fonction de la tension","Tensione da","Napětí od","Spannung zufolge","Feszültség a köv. következtében:","Napätie v dôsledku","Spanning overeenkomstig","Napetost zaradi","Spänning beroende på","Spænding som følge af","Spenning iht.","Naprezanje prema"]
["Spannung:","Pressure:","Tension :","Tensione:","Napětí:","Spannung:","Feszültség:","Napätie:","Spanning:","Napetost:","Spänning:","Spænding:","Spenning:","Naprezanje:"]
["Sprache","Language","langue","lingua","Jazyk","Język","Nyelv  ","Jazyk","Taal","Jezik","Språk","Sprog","Språk","Jezik"]
["Stand:","Version:","Version :","Stato:","Stav","Pozycja:","Állapot:","Stav:","Stand:","Stanje:","Uppdaterad:","Stand:","Status:","Stanje:"]
["STATIK","STATIC","STATIQUE","STATICA","STATIKA","STATYKA","STATIKA","STATIKA","STATICA","STATIKA","STATIK","STATIK","STATIKK","STATIKA"]
["STATIK DAMMBALKEN","STATICS BARRIER PANELS","STATIQUE DES BATARDEAUX","STATICA SPONDE","STATIKA HRÁZNÍCH BLOKŮ","STATIK DAMMBALKEN","GÁTGERENDA STATIKAI","STATIKA HRADIDLA","STATICA DAMBALK","STATIKA ZAJEZITVENI PREČNIK","STATIK BJÄLKSÄTT","STATIK DÆMPNINGSBJÆLKER","STATIKK BJELKESTENGSEL","STATIKA BRANE DASKE"]
["STATIK RUNDSTEHER","STATICS ROUND COLUMN","STATIQUE DES POTEAUX RONDS","STATICA MONTANTE CIRCOLARE","STATIKA KRUHOVÉHO SLOUPKU","STATIK RUNDSTEHER","OSZLOP STATIKAI","STATIKA OKRÚHLEHO STĹPU","STATICA RONDE PIJLER","STATIKA OKROGLI NOSILEC","STATIK RUNDPÅLE","STATIK RUNDPÆLE","STATIKK RUNDBUKK","STATIKA OKRUGLOG STUPA"]
["Statische Ausnutzung Dammbalken in %","Static utilisation of stop logs in %","Charge statique des batardeaux en %","verifica statica sponda [%]","Statické využití hrázních bloků v %","Statyczne wykorzystanie belek w %","Gátgerenda statikai kihasználtsága %-ban","Statické využitie hradidiel v %","Statische benutting dambalk in %","Statični izkoristek zajezitvene lamele v %","Statiskt utnyttjande av DÄMMBALK i %","Statistisk udnyttelse af dæmningsbjælker i %","Statisk utnyttelse av bjelkestengsel i %","Statičko iskorištenje daske brane u %"]
["Statische Ausnutzung Steher in %","Static utilisation of supports in %","Charge statique des poteaux en %","verifica statica profilo circolare [%]","Statické využití sloupků v %","Statische Ausnutzung Steher in %_DE","Oszlopok statikai kihasználtsága %-ban","Statické využitie stĺpov v %","Statische benutting pijler in %","Statični izkoristek stojal v %","Statiskt utnyttjande av stolpe i %","Statistisk udnyttelse af lukker i %","Statisk utnyttelse av stopper i %","Statičko iskorištenje stupa u %"]
["Statische Berechnung","Static calculation","Calcul statique","calcolo statico","Statický výpočet","Obliczenia statyczne","Statikai számítás","Výpočet statiky","Statische berekening","Statični izračun","Statisk beräkning","Statisk beregning","Statisk beregning","Statički proračun"]
["Stauhöhe (BHW) [mm]:","Design flood (BHW) [mm]:","Hauteur de retenue d’eau [mm] :","Altezza di accumulo (BHW) [mm]:","Výška vzdutí (BHW) [mm]:","Stauhöhe (BHW) [mm]:","Árvízszint (MÁSZ) [mm]:","Výška hladiny (BHW) [mm]:","Stuwhoogte (maatgevende hoogwaterstand) [mm]:","Zajezitvena višina (Visoka voda za dimenzioniranje) [mm]:","Uppdämningshöjd (BHW) [mm]:","Normal vandstandshøjde (BHW) [mm]:","Stablehøyde (BHW) [mm]:","Usporna visina (BHW) [mm]:"]
["Std","hrs","h","ore","hod.","godziny","Óra","hod","Uur","Ure","Tim.","Timer","T","Stan."]
["Steher Nr.","Support no","Nº de poteau","nr. profilo circolare","Sloupek Nr.","Steher Nr._DE","Oszlop ssz.","Stĺp č.","Pijler nr.","Stojalo št.","Stolpe nr","Lukker nr.","Stopper nr.","Br. stupova"]
["Steher VARIO 15° 50 Sonderlänge exkl. Dichtung, (Stangenware)","Steher VARIO 15° 50 Sonderlänge exkl. Dichtung, (Stangenware)","Pied Vario 15° 50, longueur personnalisée, fourni sans joint, percé et ébavuré","Steher VARIO 15° 50 Sonderlänge exkl. Dichtung, (Stangenware)","Steher VARIO 15° 50 Sonderlänge exkl. Dichtung, (Stangenware)","Steher VARIO 15° 50 Sonderlänge exkl. Dichtung, (Stangenware)","Steher VARIO 15° 50 Sonderlänge exkl. Dichtung, (Stangenware)","Steher VARIO 15° 50 Sonderlänge exkl. Dichtung, (Stangenware)","Steher VARIO 15° 50 Sonderlänge exkl. Dichtung, (Stangenware)","Steher VARIO 15° 50 Sonderlänge exkl. Dichtung, (Stangenware)","Steher VARIO 15° 50 Sonderlänge exkl. Dichtung, (Stangenware)","Steher VARIO 15° 50 Sonderlänge exkl. Dichtung, (Stangenware)","Steher VARIO 15° 50 Sonderlänge exkl. Dichtung, (Stangenware)","Steher VARIO 15° 50 Sonderlänge exkl. Dichtung, (Stangenware)"]
["Steher VARIO 15° 50-1350 mm (Anfertigung auf Bestellung)","Steher VARIO 15° 50-1350 mm (Anfertigung auf Bestellung)","Pied Vario 15° 50-1350 mm (Exécution sur commande)","Steher VARIO 15° 50-1350 mm (Anfertigung auf Bestellung)","Steher VARIO 15° 50-1350 mm (Anfertigung auf Bestellung)","Steher VARIO 15° 50-1350 mm (Anfertigung auf Bestellung)","Steher VARIO 15° 50-1350 mm (Anfertigung auf Bestellung)","Steher VARIO 15° 50-1350 mm (Anfertigung auf Bestellung)","Steher VARIO 15° 50-1350 mm (Anfertigung auf Bestellung)","Steher VARIO 15° 50-1350 mm (Anfertigung auf Bestellung)","Steher VARIO 15° 50-1350 mm (Anfertigung auf Bestellung)","Steher VARIO 15° 50-1350 mm (Anfertigung auf Bestellung)","Steher VARIO 15° 50-1350 mm (Anfertigung auf Bestellung)","Steher VARIO 15° 50-1350 mm (Anfertigung auf Bestellung)"]
["Steher VARIO 15° 50-1750 mm (Anfertigung auf Bestellung)","Steher VARIO 15° 50-1750 mm (Anfertigung auf Bestellung)","Pied Vario 15° 50-1750 mm (Exécution sur commande)","Steher VARIO 15° 50-1750 mm (Anfertigung auf Bestellung)","Steher VARIO 15° 50-1750 mm (Anfertigung auf Bestellung)","Steher VARIO 15° 50-1750 mm (Anfertigung auf Bestellung)","Steher VARIO 15° 50-1750 mm (Anfertigung auf Bestellung)","Steher VARIO 15° 50-1750 mm (Anfertigung auf Bestellung)","Steher VARIO 15° 50-1750 mm (Anfertigung auf Bestellung)","Steher VARIO 15° 50-1750 mm (Anfertigung auf Bestellung)","Steher VARIO 15° 50-1750 mm (Anfertigung auf Bestellung)","Steher VARIO 15° 50-1750 mm (Anfertigung auf Bestellung)","Steher VARIO 15° 50-1750 mm (Anfertigung auf Bestellung)","Steher VARIO 15° 50-1750 mm (Anfertigung auf Bestellung)"]
["Steher VARIO 15° 50-2150 mm (Anfertigung auf Bestellung)","Steher VARIO 15° 50-2150 mm (Anfertigung auf Bestellung)","Pied Vario 15° 50-2150 mm (Exécution sur commande)","Steher VARIO 15° 50-2150 mm (Anfertigung auf Bestellung)","Steher VARIO 15° 50-2150 mm (Anfertigung auf Bestellung)","Steher VARIO 15° 50-2150 mm (Anfertigung auf Bestellung)","Steher VARIO 15° 50-2150 mm (Anfertigung auf Bestellung)","Steher VARIO 15° 50-2150 mm (Anfertigung auf Bestellung)","Steher VARIO 15° 50-2150 mm (Anfertigung auf Bestellung)","Steher VARIO 15° 50-2150 mm (Anfertigung auf Bestellung)","Steher VARIO 15° 50-2150 mm (Anfertigung auf Bestellung)","Steher VARIO 15° 50-2150 mm (Anfertigung auf Bestellung)","Steher VARIO 15° 50-2150 mm (Anfertigung auf Bestellung)","Steher VARIO 15° 50-2150 mm (Anfertigung auf Bestellung)"]
["Steher VARIO 15° 50-750 mm (Anfertigung auf Bestellung)","Steher VARIO 15° 50-750 mm (Anfertigung auf Bestellung)","Pied Vario 15° 50-750 mm (Exécution sur commande)","Steher VARIO 15° 50-750 mm (Anfertigung auf Bestellung)","Steher VARIO 15° 50-750 mm (Anfertigung auf Bestellung)","Steher VARIO 15° 50-750 mm (Anfertigung auf Bestellung)","Steher VARIO 15° 50-750 mm (Anfertigung auf Bestellung)","Steher VARIO 15° 50-750 mm (Anfertigung auf Bestellung)","Steher VARIO 15° 50-750 mm (Anfertigung auf Bestellung)","Steher VARIO 15° 50-750 mm (Anfertigung auf Bestellung)","Steher VARIO 15° 50-750 mm (Anfertigung auf Bestellung)","Steher VARIO 15° 50-750 mm (Anfertigung auf Bestellung)","Steher VARIO 15° 50-750 mm (Anfertigung auf Bestellung)","Steher VARIO 15° 50-750 mm (Anfertigung auf Bestellung)"]
["Steher VARIO 15° 80 Sonderlänge exkl. Dichtung, (Stangenware)","Steher VARIO 15° 80 Sonderlänge exkl. Dichtung, (Stangenware)","Pied Vario 15° 80, longueur personnalisée, fourni sans joint, percé et ébavuré","Steher VARIO 15° 80 Sonderlänge exkl. Dichtung, (Stangenware)","Steher VARIO 15° 80 Sonderlänge exkl. Dichtung, (Stangenware)","Steher VARIO 15° 80 Sonderlänge exkl. Dichtung, (Stangenware)","Steher VARIO 15° 80 Sonderlänge exkl. Dichtung, (Stangenware)","Steher VARIO 15° 80 Sonderlänge exkl. Dichtung, (Stangenware)","Steher VARIO 15° 80 Sonderlänge exkl. Dichtung, (Stangenware)","Steher VARIO 15° 80 Sonderlänge exkl. Dichtung, (Stangenware)","Steher VARIO 15° 80 Sonderlänge exkl. Dichtung, (Stangenware)","Steher VARIO 15° 80 Sonderlänge exkl. Dichtung, (Stangenware)","Steher VARIO 15° 80 Sonderlänge exkl. Dichtung, (Stangenware)","Steher VARIO 15° 80 Sonderlänge exkl. Dichtung, (Stangenware)"]
["Steher VARIO 15° 80-1350 mm (Anfertigung auf Bestellung)","Steher VARIO 15° 80-1350 mm (Anfertigung auf Bestellung)","Pied Vario 15° 80-1350 mm (Exécution sur commande)","Steher VARIO 15° 80-1350 mm (Anfertigung auf Bestellung)","Steher VARIO 15° 80-1350 mm (Anfertigung auf Bestellung)","Steher VARIO 15° 80-1350 mm (Anfertigung auf Bestellung)","Steher VARIO 15° 80-1350 mm (Anfertigung auf Bestellung)","Steher VARIO 15° 80-1350 mm (Anfertigung auf Bestellung)","Steher VARIO 15° 80-1350 mm (Anfertigung auf Bestellung)","Steher VARIO 15° 80-1350 mm (Anfertigung auf Bestellung)","Steher VARIO 15° 80-1350 mm (Anfertigung auf Bestellung)","Steher VARIO 15° 80-1350 mm (Anfertigung auf Bestellung)","Steher VARIO 15° 80-1350 mm (Anfertigung auf Bestellung)","Steher VARIO 15° 80-1350 mm (Anfertigung auf Bestellung)"]
["Steher VARIO 15° 80-1750 mm (Anfertigung auf Bestellung)","Steher VARIO 15° 80-1750 mm (Anfertigung auf Bestellung)","Pied Vario 15° 80-1750 mm (Exécution sur commande)","Steher VARIO 15° 80-1750 mm (Anfertigung auf Bestellung)","Steher VARIO 15° 80-1750 mm (Anfertigung auf Bestellung)","Steher VARIO 15° 80-1750 mm (Anfertigung auf Bestellung)","Steher VARIO 15° 80-1750 mm (Anfertigung auf Bestellung)","Steher VARIO 15° 80-1750 mm (Anfertigung auf Bestellung)","Steher VARIO 15° 80-1750 mm (Anfertigung auf Bestellung)","Steher VARIO 15° 80-1750 mm (Anfertigung auf Bestellung)","Steher VARIO 15° 80-1750 mm (Anfertigung auf Bestellung)","Steher VARIO 15° 80-1750 mm (Anfertigung auf Bestellung)","Steher VARIO 15° 80-1750 mm (Anfertigung auf Bestellung)","Steher VARIO 15° 80-1750 mm (Anfertigung auf Bestellung)"]
["Steher VARIO 15° 80-2150 mm (Anfertigung auf Bestellung)","Steher VARIO 15° 80-2150 mm (Anfertigung auf Bestellung)","Pied Vario 15° 80-2150 mm (Exécution sur commande)","Steher VARIO 15° 80-2150 mm (Anfertigung auf Bestellung)","Steher VARIO 15° 80-2150 mm (Anfertigung auf Bestellung)","Steher VARIO 15° 80-2150 mm (Anfertigung auf Bestellung)","Steher VARIO 15° 80-2150 mm (Anfertigung auf Bestellung)","Steher VARIO 15° 80-2150 mm (Anfertigung auf Bestellung)","Steher VARIO 15° 80-2150 mm (Anfertigung auf Bestellung)","Steher VARIO 15° 80-2150 mm (Anfertigung auf Bestellung)","Steher VARIO 15° 80-2150 mm (Anfertigung auf Bestellung)","Steher VARIO 15° 80-2150 mm (Anfertigung auf Bestellung)","Steher VARIO 15° 80-2150 mm (Anfertigung auf Bestellung)","Steher VARIO 15° 80-2150 mm (Anfertigung auf Bestellung)"]
["Steher VARIO 15° 80-750 mm (Anfertigung auf Bestellung)","Steher VARIO 15° 80-750 mm (Anfertigung auf Bestellung)","Pied Vario 15° 80-750 mm (Exécution sur commande)","Steher VARIO 15° 80-750 mm (Anfertigung auf Bestellung)","Steher VARIO 15° 80-750 mm (Anfertigung auf Bestellung)","Steher VARIO 15° 80-750 mm (Anfertigung auf Bestellung)","Steher VARIO 15° 80-750 mm (Anfertigung auf Bestellung)","Steher VARIO 15° 80-750 mm (Anfertigung auf Bestellung)","Steher VARIO 15° 80-750 mm (Anfertigung auf Bestellung)","Steher VARIO 15° 80-750 mm (Anfertigung auf Bestellung)","Steher VARIO 15° 80-750 mm (Anfertigung auf Bestellung)","Steher VARIO 15° 80-750 mm (Anfertigung auf Bestellung)","Steher VARIO 15° 80-750 mm (Anfertigung auf Bestellung)","Steher VARIO 15° 80-750 mm (Anfertigung auf Bestellung)"]
["Steher VARIO 30° 50 Sonderlänge exkl. Dichtung, (Stangenware)","Steher VARIO 30° 50 Sonderlänge exkl. Dichtung, (Stangenware)","Pied Vario 30° 50, longueur personnalisée, fourni sans joint, percé et ébavuré","Steher VARIO 30° 50 Sonderlänge exkl. Dichtung, (Stangenware)","Steher VARIO 30° 50 Sonderlänge exkl. Dichtung, (Stangenware)","Steher VARIO 30° 50 Sonderlänge exkl. Dichtung, (Stangenware)","Steher VARIO 30° 50 Sonderlänge exkl. Dichtung, (Stangenware)","Steher VARIO 30° 50 Sonderlänge exkl. Dichtung, (Stangenware)","Steher VARIO 30° 50 Sonderlänge exkl. Dichtung, (Stangenware)","Steher VARIO 30° 50 Sonderlänge exkl. Dichtung, (Stangenware)","Steher VARIO 30° 50 Sonderlänge exkl. Dichtung, (Stangenware)","Steher VARIO 30° 50 Sonderlänge exkl. Dichtung, (Stangenware)","Steher VARIO 30° 50 Sonderlänge exkl. Dichtung, (Stangenware)","Steher VARIO 30° 50 Sonderlänge exkl. Dichtung, (Stangenware)"]
["Steher VARIO 30° 50-1350 mm (Anfertigung auf Bestellung)","Steher VARIO 30° 50-1350 mm (Anfertigung auf Bestellung)","Pied Vario 30° 50-1350 mm (Exécution sur commande)","Steher VARIO 30° 50-1350 mm (Anfertigung auf Bestellung)","Steher VARIO 30° 50-1350 mm (Anfertigung auf Bestellung)","Steher VARIO 30° 50-1350 mm (Anfertigung auf Bestellung)","Steher VARIO 30° 50-1350 mm (Anfertigung auf Bestellung)","Steher VARIO 30° 50-1350 mm (Anfertigung auf Bestellung)","Steher VARIO 30° 50-1350 mm (Anfertigung auf Bestellung)","Steher VARIO 30° 50-1350 mm (Anfertigung auf Bestellung)","Steher VARIO 30° 50-1350 mm (Anfertigung auf Bestellung)","Steher VARIO 30° 50-1350 mm (Anfertigung auf Bestellung)","Steher VARIO 30° 50-1350 mm (Anfertigung auf Bestellung)","Steher VARIO 30° 50-1350 mm (Anfertigung auf Bestellung)"]
["Steher VARIO 30° 50-1750 mm (Anfertigung auf Bestellung)","Steher VARIO 30° 50-1750 mm (Anfertigung auf Bestellung)","Pied Vario 30° 50-1750 mm (Exécution sur commande)","Steher VARIO 30° 50-1750 mm (Anfertigung auf Bestellung)","Steher VARIO 30° 50-1750 mm (Anfertigung auf Bestellung)","Steher VARIO 30° 50-1750 mm (Anfertigung auf Bestellung)","Steher VARIO 30° 50-1750 mm (Anfertigung auf Bestellung)","Steher VARIO 30° 50-1750 mm (Anfertigung auf Bestellung)","Steher VARIO 30° 50-1750 mm (Anfertigung auf Bestellung)","Steher VARIO 30° 50-1750 mm (Anfertigung auf Bestellung)","Steher VARIO 30° 50-1750 mm (Anfertigung auf Bestellung)","Steher VARIO 30° 50-1750 mm (Anfertigung auf Bestellung)","Steher VARIO 30° 50-1750 mm (Anfertigung auf Bestellung)","Steher VARIO 30° 50-1750 mm (Anfertigung auf Bestellung)"]
["Steher VARIO 30° 50-2150 mm (Anfertigung auf Bestellung)","Steher VARIO 30° 50-2150 mm (Anfertigung auf Bestellung)","Pied Vario 30° 50-2150 mm (Exécution sur commande)","Steher VARIO 30° 50-2150 mm (Anfertigung auf Bestellung)","Steher VARIO 30° 50-2150 mm (Anfertigung auf Bestellung)","Steher VARIO 30° 50-2150 mm (Anfertigung auf Bestellung)","Steher VARIO 30° 50-2150 mm (Anfertigung auf Bestellung)","Steher VARIO 30° 50-2150 mm (Anfertigung auf Bestellung)","Steher VARIO 30° 50-2150 mm (Anfertigung auf Bestellung)","Steher VARIO 30° 50-2150 mm (Anfertigung auf Bestellung)","Steher VARIO 30° 50-2150 mm (Anfertigung auf Bestellung)","Steher VARIO 30° 50-2150 mm (Anfertigung auf Bestellung)","Steher VARIO 30° 50-2150 mm (Anfertigung auf Bestellung)","Steher VARIO 30° 50-2150 mm (Anfertigung auf Bestellung)"]
["Steher VARIO 30° 50-750 mm (Anfertigung auf Bestellung)","Steher VARIO 30° 50-750 mm (Anfertigung auf Bestellung)","Pied Vario 30° 50-750 mm (Exécution sur commande)","Steher VARIO 30° 50-750 mm (Anfertigung auf Bestellung)","Steher VARIO 30° 50-750 mm (Anfertigung auf Bestellung)","Steher VARIO 30° 50-750 mm (Anfertigung auf Bestellung)","Steher VARIO 30° 50-750 mm (Anfertigung auf Bestellung)","Steher VARIO 30° 50-750 mm (Anfertigung auf Bestellung)","Steher VARIO 30° 50-750 mm (Anfertigung auf Bestellung)","Steher VARIO 30° 50-750 mm (Anfertigung auf Bestellung)","Steher VARIO 30° 50-750 mm (Anfertigung auf Bestellung)","Steher VARIO 30° 50-750 mm (Anfertigung auf Bestellung)","Steher VARIO 30° 50-750 mm (Anfertigung auf Bestellung)","Steher VARIO 30° 50-750 mm (Anfertigung auf Bestellung)"]
["Steher VARIO 30° 80 Sonderlänge exkl. Dichtung, (Stangenware)","Steher VARIO 30° 80 Sonderlänge exkl. Dichtung, (Stangenware)","Pied Vario 30° 80, longueur personnalisée, fourni sans joint, percé et ébavuré","Steher VARIO 30° 80 Sonderlänge exkl. Dichtung, (Stangenware)","Steher VARIO 30° 80 Sonderlänge exkl. Dichtung, (Stangenware)","Steher VARIO 30° 80 Sonderlänge exkl. Dichtung, (Stangenware)","Steher VARIO 30° 80 Sonderlänge exkl. Dichtung, (Stangenware)","Steher VARIO 30° 80 Sonderlänge exkl. Dichtung, (Stangenware)","Steher VARIO 30° 80 Sonderlänge exkl. Dichtung, (Stangenware)","Steher VARIO 30° 80 Sonderlänge exkl. Dichtung, (Stangenware)","Steher VARIO 30° 80 Sonderlänge exkl. Dichtung, (Stangenware)","Steher VARIO 30° 80 Sonderlänge exkl. Dichtung, (Stangenware)","Steher VARIO 30° 80 Sonderlänge exkl. Dichtung, (Stangenware)","Steher VARIO 30° 80 Sonderlänge exkl. Dichtung, (Stangenware)"]
["Steher VARIO 30° 80-1350 mm (Anfertigung auf Bestellung)","Steher VARIO 30° 80-1350 mm (Anfertigung auf Bestellung)","Pied Vario 30° 80-1350 mm (Exécution sur commande)","Steher VARIO 30° 80-1350 mm (Anfertigung auf Bestellung)","Steher VARIO 30° 80-1350 mm (Anfertigung auf Bestellung)","Steher VARIO 30° 80-1350 mm (Anfertigung auf Bestellung)","Steher VARIO 30° 80-1350 mm (Anfertigung auf Bestellung)","Steher VARIO 30° 80-1350 mm (Anfertigung auf Bestellung)","Steher VARIO 30° 80-1350 mm (Anfertigung auf Bestellung)","Steher VARIO 30° 80-1350 mm (Anfertigung auf Bestellung)","Steher VARIO 30° 80-1350 mm (Anfertigung auf Bestellung)","Steher VARIO 30° 80-1350 mm (Anfertigung auf Bestellung)","Steher VARIO 30° 80-1350 mm (Anfertigung auf Bestellung)","Steher VARIO 30° 80-1350 mm (Anfertigung auf Bestellung)"]
["Steher VARIO 30° 80-1750 mm (Anfertigung auf Bestellung)","Steher VARIO 30° 80-1750 mm (Anfertigung auf Bestellung)","Pied Vario 30° 80-1750 mm (Exécution sur commande)","Steher VARIO 30° 80-1750 mm (Anfertigung auf Bestellung)","Steher VARIO 30° 80-1750 mm (Anfertigung auf Bestellung)","Steher VARIO 30° 80-1750 mm (Anfertigung auf Bestellung)","Steher VARIO 30° 80-1750 mm (Anfertigung auf Bestellung)","Steher VARIO 30° 80-1750 mm (Anfertigung auf Bestellung)","Steher VARIO 30° 80-1750 mm (Anfertigung auf Bestellung)","Steher VARIO 30° 80-1750 mm (Anfertigung auf Bestellung)","Steher VARIO 30° 80-1750 mm (Anfertigung auf Bestellung)","Steher VARIO 30° 80-1750 mm (Anfertigung auf Bestellung)","Steher VARIO 30° 80-1750 mm (Anfertigung auf Bestellung)","Steher VARIO 30° 80-1750 mm (Anfertigung auf Bestellung)"]
["Steher VARIO 30° 80-2150 mm (Anfertigung auf Bestellung)","Steher VARIO 30° 80-2150 mm (Anfertigung auf Bestellung)","Pied Vario 30° 80-2150 mm (Exécution sur commande)","Steher VARIO 30° 80-2150 mm (Anfertigung auf Bestellung)","Steher VARIO 30° 80-2150 mm (Anfertigung auf Bestellung)","Steher VARIO 30° 80-2150 mm (Anfertigung auf Bestellung)","Steher VARIO 30° 80-2150 mm (Anfertigung auf Bestellung)","Steher VARIO 30° 80-2150 mm (Anfertigung auf Bestellung)","Steher VARIO 30° 80-2150 mm (Anfertigung auf Bestellung)","Steher VARIO 30° 80-2150 mm (Anfertigung auf Bestellung)","Steher VARIO 30° 80-2150 mm (Anfertigung auf Bestellung)","Steher VARIO 30° 80-2150 mm (Anfertigung auf Bestellung)","Steher VARIO 30° 80-2150 mm (Anfertigung auf Bestellung)","Steher VARIO 30° 80-2150 mm (Anfertigung auf Bestellung)"]
["Steher VARIO 30° 80-750 mm (Anfertigung auf Bestellung)","Steher VARIO 30° 80-750 mm (Anfertigung auf Bestellung)","Pied Vario 30° 80-750 mm (Exécution sur commande)","Steher VARIO 30° 80-750 mm (Anfertigung auf Bestellung)","Steher VARIO 30° 80-750 mm (Anfertigung auf Bestellung)","Steher VARIO 30° 80-750 mm (Anfertigung auf Bestellung)","Steher VARIO 30° 80-750 mm (Anfertigung auf Bestellung)","Steher VARIO 30° 80-750 mm (Anfertigung auf Bestellung)","Steher VARIO 30° 80-750 mm (Anfertigung auf Bestellung)","Steher VARIO 30° 80-750 mm (Anfertigung auf Bestellung)","Steher VARIO 30° 80-750 mm (Anfertigung auf Bestellung)","Steher VARIO 30° 80-750 mm (Anfertigung auf Bestellung)","Steher VARIO 30° 80-750 mm (Anfertigung auf Bestellung)","Steher VARIO 30° 80-750 mm (Anfertigung auf Bestellung)"]
["Steher VARIO 45° 50 Sonderlänge exkl. Dichtung, (Stangenware)","Steher VARIO 45° 50 Sonderlänge exkl. Dichtung, (Stangenware)","Pied Vario 45° 50, longueur personnalisée, fourni sans joint, percé et ébavuré","Steher VARIO 45° 50 Sonderlänge exkl. Dichtung, (Stangenware)","Steher VARIO 45° 50 Sonderlänge exkl. Dichtung, (Stangenware)","Steher VARIO 45° 50 Sonderlänge exkl. Dichtung, (Stangenware)","Steher VARIO 45° 50 Sonderlänge exkl. Dichtung, (Stangenware)","Steher VARIO 45° 50 Sonderlänge exkl. Dichtung, (Stangenware)","Steher VARIO 45° 50 Sonderlänge exkl. Dichtung, (Stangenware)","Steher VARIO 45° 50 Sonderlänge exkl. Dichtung, (Stangenware)","Steher VARIO 45° 50 Sonderlänge exkl. Dichtung, (Stangenware)","Steher VARIO 45° 50 Sonderlänge exkl. Dichtung, (Stangenware)","Steher VARIO 45° 50 Sonderlänge exkl. Dichtung, (Stangenware)","Steher VARIO 45° 50 Sonderlänge exkl. Dichtung, (Stangenware)"]
["Steher VARIO 45° 50-1350 mm (Anfertigung auf Bestellung)","Steher VARIO 45° 50-1350 mm (Anfertigung auf Bestellung)","Pied Vario 45° 50-1350 mm (Exécution sur commande)","Steher VARIO 45° 50-1350 mm (Anfertigung auf Bestellung)","Steher VARIO 45° 50-1350 mm (Anfertigung auf Bestellung)","Steher VARIO 45° 50-1350 mm (Anfertigung auf Bestellung)","Steher VARIO 45° 50-1350 mm (Anfertigung auf Bestellung)","Steher VARIO 45° 50-1350 mm (Anfertigung auf Bestellung)","Steher VARIO 45° 50-1350 mm (Anfertigung auf Bestellung)","Steher VARIO 45° 50-1350 mm (Anfertigung auf Bestellung)","Steher VARIO 45° 50-1350 mm (Anfertigung auf Bestellung)","Steher VARIO 45° 50-1350 mm (Anfertigung auf Bestellung)","Steher VARIO 45° 50-1350 mm (Anfertigung auf Bestellung)","Steher VARIO 45° 50-1350 mm (Anfertigung auf Bestellung)"]
["Steher VARIO 45° 50-1750 mm (Anfertigung auf Bestellung)","Steher VARIO 45° 50-1750 mm (Anfertigung auf Bestellung)","Pied Vario 45° 50-1750 mm (Exécution sur commande)","Steher VARIO 45° 50-1750 mm (Anfertigung auf Bestellung)","Steher VARIO 45° 50-1750 mm (Anfertigung auf Bestellung)","Steher VARIO 45° 50-1750 mm (Anfertigung auf Bestellung)","Steher VARIO 45° 50-1750 mm (Anfertigung auf Bestellung)","Steher VARIO 45° 50-1750 mm (Anfertigung auf Bestellung)","Steher VARIO 45° 50-1750 mm (Anfertigung auf Bestellung)","Steher VARIO 45° 50-1750 mm (Anfertigung auf Bestellung)","Steher VARIO 45° 50-1750 mm (Anfertigung auf Bestellung)","Steher VARIO 45° 50-1750 mm (Anfertigung auf Bestellung)","Steher VARIO 45° 50-1750 mm (Anfertigung auf Bestellung)","Steher VARIO 45° 50-1750 mm (Anfertigung auf Bestellung)"]
["Steher VARIO 45° 50-2150 mm (Anfertigung auf Bestellung)","Steher VARIO 45° 50-2150 mm (Anfertigung auf Bestellung)","Pied Vario 45° 50-2150 mm (Exécution sur commande)","Steher VARIO 45° 50-2150 mm (Anfertigung auf Bestellung)","Steher VARIO 45° 50-2150 mm (Anfertigung auf Bestellung)","Steher VARIO 45° 50-2150 mm (Anfertigung auf Bestellung)","Steher VARIO 45° 50-2150 mm (Anfertigung auf Bestellung)","Steher VARIO 45° 50-2150 mm (Anfertigung auf Bestellung)","Steher VARIO 45° 50-2150 mm (Anfertigung auf Bestellung)","Steher VARIO 45° 50-2150 mm (Anfertigung auf Bestellung)","Steher VARIO 45° 50-2150 mm (Anfertigung auf Bestellung)","Steher VARIO 45° 50-2150 mm (Anfertigung auf Bestellung)","Steher VARIO 45° 50-2150 mm (Anfertigung auf Bestellung)","Steher VARIO 45° 50-2150 mm (Anfertigung auf Bestellung)"]
["Steher VARIO 45° 50-750 mm (Anfertigung auf Bestellung)","Steher VARIO 45° 50-750 mm (Anfertigung auf Bestellung)","Pied Vario 45° 50-750 mm (Exécution sur commande)","Steher VARIO 45° 50-750 mm (Anfertigung auf Bestellung)","Steher VARIO 45° 50-750 mm (Anfertigung auf Bestellung)","Steher VARIO 45° 50-750 mm (Anfertigung auf Bestellung)","Steher VARIO 45° 50-750 mm (Anfertigung auf Bestellung)","Steher VARIO 45° 50-750 mm (Anfertigung auf Bestellung)","Steher VARIO 45° 50-750 mm (Anfertigung auf Bestellung)","Steher VARIO 45° 50-750 mm (Anfertigung auf Bestellung)","Steher VARIO 45° 50-750 mm (Anfertigung auf Bestellung)","Steher VARIO 45° 50-750 mm (Anfertigung auf Bestellung)","Steher VARIO 45° 50-750 mm (Anfertigung auf Bestellung)","Steher VARIO 45° 50-750 mm (Anfertigung auf Bestellung)"]
["Steher VARIO 45° 80 Sonderlänge exkl. Dichtung, (Stangenware)","Steher VARIO 45° 80 Sonderlänge exkl. Dichtung, (Stangenware)","Pied Vario 45° 80, longueur personnalisée, fourni sans joint, percé et ébavuré","Steher VARIO 45° 80 Sonderlänge exkl. Dichtung, (Stangenware)","Steher VARIO 45° 80 Sonderlänge exkl. Dichtung, (Stangenware)","Steher VARIO 45° 80 Sonderlänge exkl. Dichtung, (Stangenware)","Steher VARIO 45° 80 Sonderlänge exkl. Dichtung, (Stangenware)","Steher VARIO 45° 80 Sonderlänge exkl. Dichtung, (Stangenware)","Steher VARIO 45° 80 Sonderlänge exkl. Dichtung, (Stangenware)","Steher VARIO 45° 80 Sonderlänge exkl. Dichtung, (Stangenware)","Steher VARIO 45° 80 Sonderlänge exkl. Dichtung, (Stangenware)","Steher VARIO 45° 80 Sonderlänge exkl. Dichtung, (Stangenware)","Steher VARIO 45° 80 Sonderlänge exkl. Dichtung, (Stangenware)","Steher VARIO 45° 80 Sonderlänge exkl. Dichtung, (Stangenware)"]
["Steher VARIO 45° 80-1350 mm (Anfertigung auf Bestellung)","Steher VARIO 45° 80-1350 mm (Anfertigung auf Bestellung)","Pied Vario 45° 80-1350 mm (Exécution sur commande)","Steher VARIO 45° 80-1350 mm (Anfertigung auf Bestellung)","Steher VARIO 45° 80-1350 mm (Anfertigung auf Bestellung)","Steher VARIO 45° 80-1350 mm (Anfertigung auf Bestellung)","Steher VARIO 45° 80-1350 mm (Anfertigung auf Bestellung)","Steher VARIO 45° 80-1350 mm (Anfertigung auf Bestellung)","Steher VARIO 45° 80-1350 mm (Anfertigung auf Bestellung)","Steher VARIO 45° 80-1350 mm (Anfertigung auf Bestellung)","Steher VARIO 45° 80-1350 mm (Anfertigung auf Bestellung)","Steher VARIO 45° 80-1350 mm (Anfertigung auf Bestellung)","Steher VARIO 45° 80-1350 mm (Anfertigung auf Bestellung)","Steher VARIO 45° 80-1350 mm (Anfertigung auf Bestellung)"]
["Steher VARIO 45° 80-1750 mm (Anfertigung auf Bestellung)","Steher VARIO 45° 80-1750 mm (Anfertigung auf Bestellung)","Pied Vario 45° 80-1750 mm (Exécution sur commande)","Steher VARIO 45° 80-1750 mm (Anfertigung auf Bestellung)","Steher VARIO 45° 80-1750 mm (Anfertigung auf Bestellung)","Steher VARIO 45° 80-1750 mm (Anfertigung auf Bestellung)","Steher VARIO 45° 80-1750 mm (Anfertigung auf Bestellung)","Steher VARIO 45° 80-1750 mm (Anfertigung auf Bestellung)","Steher VARIO 45° 80-1750 mm (Anfertigung auf Bestellung)","Steher VARIO 45° 80-1750 mm (Anfertigung auf Bestellung)","Steher VARIO 45° 80-1750 mm (Anfertigung auf Bestellung)","Steher VARIO 45° 80-1750 mm (Anfertigung auf Bestellung)","Steher VARIO 45° 80-1750 mm (Anfertigung auf Bestellung)","Steher VARIO 45° 80-1750 mm (Anfertigung auf Bestellung)"]
["Steher VARIO 45° 80-2150 mm (Anfertigung auf Bestellung)","Steher VARIO 45° 80-2150 mm (Anfertigung auf Bestellung)","Pied Vario 45° 80-2150 mm (Exécution sur commande)","Steher VARIO 45° 80-2150 mm (Anfertigung auf Bestellung)","Steher VARIO 45° 80-2150 mm (Anfertigung auf Bestellung)","Steher VARIO 45° 80-2150 mm (Anfertigung auf Bestellung)","Steher VARIO 45° 80-2150 mm (Anfertigung auf Bestellung)","Steher VARIO 45° 80-2150 mm (Anfertigung auf Bestellung)","Steher VARIO 45° 80-2150 mm (Anfertigung auf Bestellung)","Steher VARIO 45° 80-2150 mm (Anfertigung auf Bestellung)","Steher VARIO 45° 80-2150 mm (Anfertigung auf Bestellung)","Steher VARIO 45° 80-2150 mm (Anfertigung auf Bestellung)","Steher VARIO 45° 80-2150 mm (Anfertigung auf Bestellung)","Steher VARIO 45° 80-2150 mm (Anfertigung auf Bestellung)"]
["Steher VARIO 45° 80-750 mm (Anfertigung auf Bestellung)","Steher VARIO 45° 80-750 mm (Anfertigung auf Bestellung)","Pied Vario 45° 80-750 mm (Exécution sur commande)","Steher VARIO 45° 80-750 mm (Anfertigung auf Bestellung)","Steher VARIO 45° 80-750 mm (Anfertigung auf Bestellung)","Steher VARIO 45° 80-750 mm (Anfertigung auf Bestellung)","Steher VARIO 45° 80-750 mm (Anfertigung auf Bestellung)","Steher VARIO 45° 80-750 mm (Anfertigung auf Bestellung)","Steher VARIO 45° 80-750 mm (Anfertigung auf Bestellung)","Steher VARIO 45° 80-750 mm (Anfertigung auf Bestellung)","Steher VARIO 45° 80-750 mm (Anfertigung auf Bestellung)","Steher VARIO 45° 80-750 mm (Anfertigung auf Bestellung)","Steher VARIO 45° 80-750 mm (Anfertigung auf Bestellung)","Steher VARIO 45° 80-750 mm (Anfertigung auf Bestellung)"]
["Steher VARIO 60° 50 Sonderlänge exkl. Dichtung, (Stangenware)","Steher VARIO 60° 50 Sonderlänge exkl. Dichtung, (Stangenware)","Pied Vario 60° 50, longueur personnalisée, fourni sans joint, percé et ébavuré","Steher VARIO 60° 50 Sonderlänge exkl. Dichtung, (Stangenware)","Steher VARIO 60° 50 Sonderlänge exkl. Dichtung, (Stangenware)","Steher VARIO 60° 50 Sonderlänge exkl. Dichtung, (Stangenware)","Steher VARIO 60° 50 Sonderlänge exkl. Dichtung, (Stangenware)","Steher VARIO 60° 50 Sonderlänge exkl. Dichtung, (Stangenware)","Steher VARIO 60° 50 Sonderlänge exkl. Dichtung, (Stangenware)","Steher VARIO 60° 50 Sonderlänge exkl. Dichtung, (Stangenware)","Steher VARIO 60° 50 Sonderlänge exkl. Dichtung, (Stangenware)","Steher VARIO 60° 50 Sonderlänge exkl. Dichtung, (Stangenware)","Steher VARIO 60° 50 Sonderlänge exkl. Dichtung, (Stangenware)","Steher VARIO 60° 50 Sonderlänge exkl. Dichtung, (Stangenware)"]
["Steher VARIO 60° 50-1350 mm (Anfertigung auf Bestellung)","Steher VARIO 60° 50-1350 mm (Anfertigung auf Bestellung)","Pied Vario 60° 50-1350 mm (Exécution sur commande)","Steher VARIO 60° 50-1350 mm (Anfertigung auf Bestellung)","Steher VARIO 60° 50-1350 mm (Anfertigung auf Bestellung)","Steher VARIO 60° 50-1350 mm (Anfertigung auf Bestellung)","Steher VARIO 60° 50-1350 mm (Anfertigung auf Bestellung)","Steher VARIO 60° 50-1350 mm (Anfertigung auf Bestellung)","Steher VARIO 60° 50-1350 mm (Anfertigung auf Bestellung)","Steher VARIO 60° 50-1350 mm (Anfertigung auf Bestellung)","Steher VARIO 60° 50-1350 mm (Anfertigung auf Bestellung)","Steher VARIO 60° 50-1350 mm (Anfertigung auf Bestellung)","Steher VARIO 60° 50-1350 mm (Anfertigung auf Bestellung)","Steher VARIO 60° 50-1350 mm (Anfertigung auf Bestellung)"]
["Steher VARIO 60° 50-1750 mm (Anfertigung auf Bestellung)","Steher VARIO 60° 50-1750 mm (Anfertigung auf Bestellung)","Pied Vario 60° 50-1750 mm (Exécution sur commande)","Steher VARIO 60° 50-1750 mm (Anfertigung auf Bestellung)","Steher VARIO 60° 50-1750 mm (Anfertigung auf Bestellung)","Steher VARIO 60° 50-1750 mm (Anfertigung auf Bestellung)","Steher VARIO 60° 50-1750 mm (Anfertigung auf Bestellung)","Steher VARIO 60° 50-1750 mm (Anfertigung auf Bestellung)","Steher VARIO 60° 50-1750 mm (Anfertigung auf Bestellung)","Steher VARIO 60° 50-1750 mm (Anfertigung auf Bestellung)","Steher VARIO 60° 50-1750 mm (Anfertigung auf Bestellung)","Steher VARIO 60° 50-1750 mm (Anfertigung auf Bestellung)","Steher VARIO 60° 50-1750 mm (Anfertigung auf Bestellung)","Steher VARIO 60° 50-1750 mm (Anfertigung auf Bestellung)"]
["Steher VARIO 60° 50-2150 mm (Anfertigung auf Bestellung)","Steher VARIO 60° 50-2150 mm (Anfertigung auf Bestellung)","Pied Vario 60° 50-2150 mm (Exécution sur commande)","Steher VARIO 60° 50-2150 mm (Anfertigung auf Bestellung)","Steher VARIO 60° 50-2150 mm (Anfertigung auf Bestellung)","Steher VARIO 60° 50-2150 mm (Anfertigung auf Bestellung)","Steher VARIO 60° 50-2150 mm (Anfertigung auf Bestellung)","Steher VARIO 60° 50-2150 mm (Anfertigung auf Bestellung)","Steher VARIO 60° 50-2150 mm (Anfertigung auf Bestellung)","Steher VARIO 60° 50-2150 mm (Anfertigung auf Bestellung)","Steher VARIO 60° 50-2150 mm (Anfertigung auf Bestellung)","Steher VARIO 60° 50-2150 mm (Anfertigung auf Bestellung)","Steher VARIO 60° 50-2150 mm (Anfertigung auf Bestellung)","Steher VARIO 60° 50-2150 mm (Anfertigung auf Bestellung)"]
["Steher VARIO 60° 50-750 mm (Anfertigung auf Bestellung)","Steher VARIO 60° 50-750 mm (Anfertigung auf Bestellung)","Pied Vario 60° 50-750 mm (Exécution sur commande)","Steher VARIO 60° 50-750 mm (Anfertigung auf Bestellung)","Steher VARIO 60° 50-750 mm (Anfertigung auf Bestellung)","Steher VARIO 60° 50-750 mm (Anfertigung auf Bestellung)","Steher VARIO 60° 50-750 mm (Anfertigung auf Bestellung)","Steher VARIO 60° 50-750 mm (Anfertigung auf Bestellung)","Steher VARIO 60° 50-750 mm (Anfertigung auf Bestellung)","Steher VARIO 60° 50-750 mm (Anfertigung auf Bestellung)","Steher VARIO 60° 50-750 mm (Anfertigung auf Bestellung)","Steher VARIO 60° 50-750 mm (Anfertigung auf Bestellung)","Steher VARIO 60° 50-750 mm (Anfertigung auf Bestellung)","Steher VARIO 60° 50-750 mm (Anfertigung auf Bestellung)"]
["Steher VARIO 60° 80 Sonderlänge exkl. Dichtung, (Stangenware)","Steher VARIO 60° 80 Sonderlänge exkl. Dichtung, (Stangenware)","Pied Vario 60° 80, longueur personnalisée, fourni sans joint, percé et ébavuré","Steher VARIO 60° 80 Sonderlänge exkl. Dichtung, (Stangenware)","Steher VARIO 60° 80 Sonderlänge exkl. Dichtung, (Stangenware)","Steher VARIO 60° 80 Sonderlänge exkl. Dichtung, (Stangenware)","Steher VARIO 60° 80 Sonderlänge exkl. Dichtung, (Stangenware)","Steher VARIO 60° 80 Sonderlänge exkl. Dichtung, (Stangenware)","Steher VARIO 60° 80 Sonderlänge exkl. Dichtung, (Stangenware)","Steher VARIO 60° 80 Sonderlänge exkl. Dichtung, (Stangenware)","Steher VARIO 60° 80 Sonderlänge exkl. Dichtung, (Stangenware)","Steher VARIO 60° 80 Sonderlänge exkl. Dichtung, (Stangenware)","Steher VARIO 60° 80 Sonderlänge exkl. Dichtung, (Stangenware)","Steher VARIO 60° 80 Sonderlänge exkl. Dichtung, (Stangenware)"]
["Steher VARIO 60° 80-1350 mm (Anfertigung auf Bestellung)","Steher VARIO 60° 80-1350 mm (Anfertigung auf Bestellung)","Pied Vario 60° 80-1350 mm (Exécution sur commande)","Steher VARIO 60° 80-1350 mm (Anfertigung auf Bestellung)","Steher VARIO 60° 80-1350 mm (Anfertigung auf Bestellung)","Steher VARIO 60° 80-1350 mm (Anfertigung auf Bestellung)","Steher VARIO 60° 80-1350 mm (Anfertigung auf Bestellung)","Steher VARIO 60° 80-1350 mm (Anfertigung auf Bestellung)","Steher VARIO 60° 80-1350 mm (Anfertigung auf Bestellung)","Steher VARIO 60° 80-1350 mm (Anfertigung auf Bestellung)","Steher VARIO 60° 80-1350 mm (Anfertigung auf Bestellung)","Steher VARIO 60° 80-1350 mm (Anfertigung auf Bestellung)","Steher VARIO 60° 80-1350 mm (Anfertigung auf Bestellung)","Steher VARIO 60° 80-1350 mm (Anfertigung auf Bestellung)"]
["Steher VARIO 60° 80-1750 mm (Anfertigung auf Bestellung)","Steher VARIO 60° 80-1750 mm (Anfertigung auf Bestellung)","Pied Vario 60° 80-1750 mm (Exécution sur commande)","Steher VARIO 60° 80-1750 mm (Anfertigung auf Bestellung)","Steher VARIO 60° 80-1750 mm (Anfertigung auf Bestellung)","Steher VARIO 60° 80-1750 mm (Anfertigung auf Bestellung)","Steher VARIO 60° 80-1750 mm (Anfertigung auf Bestellung)","Steher VARIO 60° 80-1750 mm (Anfertigung auf Bestellung)","Steher VARIO 60° 80-1750 mm (Anfertigung auf Bestellung)","Steher VARIO 60° 80-1750 mm (Anfertigung auf Bestellung)","Steher VARIO 60° 80-1750 mm (Anfertigung auf Bestellung)","Steher VARIO 60° 80-1750 mm (Anfertigung auf Bestellung)","Steher VARIO 60° 80-1750 mm (Anfertigung auf Bestellung)","Steher VARIO 60° 80-1750 mm (Anfertigung auf Bestellung)"]
["Steher VARIO 60° 80-2150 mm (Anfertigung auf Bestellung)","Steher VARIO 60° 80-2150 mm (Anfertigung auf Bestellung)","Pied Vario 60° 80-2150 mm (Exécution sur commande)","Steher VARIO 60° 80-2150 mm (Anfertigung auf Bestellung)","Steher VARIO 60° 80-2150 mm (Anfertigung auf Bestellung)","Steher VARIO 60° 80-2150 mm (Anfertigung auf Bestellung)","Steher VARIO 60° 80-2150 mm (Anfertigung auf Bestellung)","Steher VARIO 60° 80-2150 mm (Anfertigung auf Bestellung)","Steher VARIO 60° 80-2150 mm (Anfertigung auf Bestellung)","Steher VARIO 60° 80-2150 mm (Anfertigung auf Bestellung)","Steher VARIO 60° 80-2150 mm (Anfertigung auf Bestellung)","Steher VARIO 60° 80-2150 mm (Anfertigung auf Bestellung)","Steher VARIO 60° 80-2150 mm (Anfertigung auf Bestellung)","Steher VARIO 60° 80-2150 mm (Anfertigung auf Bestellung)"]
["Steher VARIO 60° 80-750 mm (Anfertigung auf Bestellung)","Steher VARIO 60° 80-750 mm (Anfertigung auf Bestellung)","Pied Vario 60° 80-750 mm (Exécution sur commande)","Steher VARIO 60° 80-750 mm (Anfertigung auf Bestellung)","Steher VARIO 60° 80-750 mm (Anfertigung auf Bestellung)","Steher VARIO 60° 80-750 mm (Anfertigung auf Bestellung)","Steher VARIO 60° 80-750 mm (Anfertigung auf Bestellung)","Steher VARIO 60° 80-750 mm (Anfertigung auf Bestellung)","Steher VARIO 60° 80-750 mm (Anfertigung auf Bestellung)","Steher VARIO 60° 80-750 mm (Anfertigung auf Bestellung)","Steher VARIO 60° 80-750 mm (Anfertigung auf Bestellung)","Steher VARIO 60° 80-750 mm (Anfertigung auf Bestellung)","Steher VARIO 60° 80-750 mm (Anfertigung auf Bestellung)","Steher VARIO 60° 80-750 mm (Anfertigung auf Bestellung)"]
["Steher VARIO 75° 50 Sonderlänge exkl. Dichtung, (Stangenware)","Steher VARIO 75° 50 Sonderlänge exkl. Dichtung, (Stangenware)","Pied Vario 75° 50, longueur personnalisée, fourni sans joint, percé et ébavuré","Steher VARIO 75° 50 Sonderlänge exkl. Dichtung, (Stangenware)","Steher VARIO 75° 50 Sonderlänge exkl. Dichtung, (Stangenware)","Steher VARIO 75° 50 Sonderlänge exkl. Dichtung, (Stangenware)","Steher VARIO 75° 50 Sonderlänge exkl. Dichtung, (Stangenware)","Steher VARIO 75° 50 Sonderlänge exkl. Dichtung, (Stangenware)","Steher VARIO 75° 50 Sonderlänge exkl. Dichtung, (Stangenware)","Steher VARIO 75° 50 Sonderlänge exkl. Dichtung, (Stangenware)","Steher VARIO 75° 50 Sonderlänge exkl. Dichtung, (Stangenware)","Steher VARIO 75° 50 Sonderlänge exkl. Dichtung, (Stangenware)","Steher VARIO 75° 50 Sonderlänge exkl. Dichtung, (Stangenware)","Steher VARIO 75° 50 Sonderlänge exkl. Dichtung, (Stangenware)"]
["Steher VARIO 75° 50-1350 mm (Anfertigung auf Bestellung)","Steher VARIO 75° 50-1350 mm (Anfertigung auf Bestellung)","Pied Vario 75° 50-1350 mm (Exécution sur commande)","Steher VARIO 75° 50-1350 mm (Anfertigung auf Bestellung)","Steher VARIO 75° 50-1350 mm (Anfertigung auf Bestellung)","Steher VARIO 75° 50-1350 mm (Anfertigung auf Bestellung)","Steher VARIO 75° 50-1350 mm (Anfertigung auf Bestellung)","Steher VARIO 75° 50-1350 mm (Anfertigung auf Bestellung)","Steher VARIO 75° 50-1350 mm (Anfertigung auf Bestellung)","Steher VARIO 75° 50-1350 mm (Anfertigung auf Bestellung)","Steher VARIO 75° 50-1350 mm (Anfertigung auf Bestellung)","Steher VARIO 75° 50-1350 mm (Anfertigung auf Bestellung)","Steher VARIO 75° 50-1350 mm (Anfertigung auf Bestellung)","Steher VARIO 75° 50-1350 mm (Anfertigung auf Bestellung)"]
["Steher VARIO 75° 50-1750 mm (Anfertigung auf Bestellung)","Steher VARIO 75° 50-1750 mm (Anfertigung auf Bestellung)","Pied Vario 75° 50-1750 mm (Exécution sur commande)","Steher VARIO 75° 50-1750 mm (Anfertigung auf Bestellung)","Steher VARIO 75° 50-1750 mm (Anfertigung auf Bestellung)","Steher VARIO 75° 50-1750 mm (Anfertigung auf Bestellung)","Steher VARIO 75° 50-1750 mm (Anfertigung auf Bestellung)","Steher VARIO 75° 50-1750 mm (Anfertigung auf Bestellung)","Steher VARIO 75° 50-1750 mm (Anfertigung auf Bestellung)","Steher VARIO 75° 50-1750 mm (Anfertigung auf Bestellung)","Steher VARIO 75° 50-1750 mm (Anfertigung auf Bestellung)","Steher VARIO 75° 50-1750 mm (Anfertigung auf Bestellung)","Steher VARIO 75° 50-1750 mm (Anfertigung auf Bestellung)","Steher VARIO 75° 50-1750 mm (Anfertigung auf Bestellung)"]
["Steher VARIO 75° 50-2150 mm (Anfertigung auf Bestellung)","Steher VARIO 75° 50-2150 mm (Anfertigung auf Bestellung)","Pied Vario 75° 50-2150 mm (Exécution sur commande)","Steher VARIO 75° 50-2150 mm (Anfertigung auf Bestellung)","Steher VARIO 75° 50-2150 mm (Anfertigung auf Bestellung)","Steher VARIO 75° 50-2150 mm (Anfertigung auf Bestellung)","Steher VARIO 75° 50-2150 mm (Anfertigung auf Bestellung)","Steher VARIO 75° 50-2150 mm (Anfertigung auf Bestellung)","Steher VARIO 75° 50-2150 mm (Anfertigung auf Bestellung)","Steher VARIO 75° 50-2150 mm (Anfertigung auf Bestellung)","Steher VARIO 75° 50-2150 mm (Anfertigung auf Bestellung)","Steher VARIO 75° 50-2150 mm (Anfertigung auf Bestellung)","Steher VARIO 75° 50-2150 mm (Anfertigung auf Bestellung)","Steher VARIO 75° 50-2150 mm (Anfertigung auf Bestellung)"]
["Steher VARIO 75° 50-750 mm (Anfertigung auf Bestellung)","Steher VARIO 75° 50-750 mm (Anfertigung auf Bestellung)","Pied Vario 75° 50-750 mm (Exécution sur commande)","Steher VARIO 75° 50-750 mm (Anfertigung auf Bestellung)","Steher VARIO 75° 50-750 mm (Anfertigung auf Bestellung)","Steher VARIO 75° 50-750 mm (Anfertigung auf Bestellung)","Steher VARIO 75° 50-750 mm (Anfertigung auf Bestellung)","Steher VARIO 75° 50-750 mm (Anfertigung auf Bestellung)","Steher VARIO 75° 50-750 mm (Anfertigung auf Bestellung)","Steher VARIO 75° 50-750 mm (Anfertigung auf Bestellung)","Steher VARIO 75° 50-750 mm (Anfertigung auf Bestellung)","Steher VARIO 75° 50-750 mm (Anfertigung auf Bestellung)","Steher VARIO 75° 50-750 mm (Anfertigung auf Bestellung)","Steher VARIO 75° 50-750 mm (Anfertigung auf Bestellung)"]
["Stk","pcs","pc.","pezzo","ks","szt.","Db.","ks","Stuks","Kos","St.","Stk.","Stk.","Kom"]
["Straße:","Street:","Adresse :","via:","ulice:","ulica:","Utca:","Ulica:","Straatnaam:","Cesta:","Gata:","Gade:","Gate/vei:","Ulica:"]
["Streckgrenze Rp 0,2:","Yield Strength Rp 0.2:","Limite d’élasticité Rp 0,2 :","Snervamento Rp 0,2:","Mez kluzu Rp 0,2:","Streckgrenze Rp 0,2:","Folyáshatár Rp 0,2:","Medza klzu Rp 0,2:","Rekgrens Rp 0,2:","Meja raztezanja Rp 0,2:","Resttöjningsgräns Rp 0,2:","Strækgrænse Rp 0,2:","Strekkgrense Rp 0,2:","Granica rastezanja Rp 0,2:"]
["Stück","Quantity","Pièce(s)","pezzo","kusy","sztuk","Darab","Kus","Stuks","Kos","Styck","Stykke","Stykk","Komada"]
["Stützweite / Durchbiegung HD:","Span / Deflection HD:","Distance entre appuis / flèche HD :","Campata / Freccia HD:","Rozpětí / Průhyb HD:","Stützweite / Durchbiegung HD:","Fesztáv / kihajlás HD:","Rozpätie/prehyb HD:","Overspanning / doorbuiging HD:","Oporna širina/upogibanje HD:","Hållarbredd/nedböjning HD:","Støttevidde/nedbøjning HD:","Støttebredde/nedbøyning HD:","Razmak potpornja / progib HD:"]
["Stützweite / Durchbiegung HD+HS:","Span / Deflection HD + HS:","Distance entre appuis / flèche HD + HS :","Campata / Freccia HD+HS:","Rozpětí / Průhyb HD+HS:","Stützweite / Durchbiegung HD+HS:","Fesztáv / kihajlás HD+HS:","Rozpätie/prehyb HD+HS:","Overspanning / doorbuiging HD+HS:","Oporna širina/upogibanje HD+HS:","Hållarbredd/nedböjning HD+HS:","Støttevidde/nedbøjning HD+HS:","Støttebredde/nedbøyning HD+HS:","Razmak potpornja / progib HD+HS:"]
["Stützweite / Durchbiegung HS:","Span / Deflection HS:","Distance entre appuis / flèche HS :","Campata / Freccia HS:","Rozpětí / Průhyb HS:","Stützweite / Durchbiegung HS:","Fesztáv / kihajlás HS:","Rozpätie/prehyb HS:","Overspanning / doorbuiging HS:","Oporna širina/upogibanje HS:","Hållarbredd/nedböjning HS:","Støttevidde/nedbøjning HS:","Støttebredde/nedbøyning HS:","Razmak potpornja / progib HS:"]
["Stützweite / Durchbiegung:","Span / Deflection:","Distance entre appuis / flèche :","Campata / Freccia:","Rozpětí / Průhyb:","Stützweite / Durchbiegung:","Fesztáv / kihajlás:","Rozpätie/prehyb:","Overspanning / doorbuiging:","Oporna širina/upogibanje:","Hållarbredd/nedböjning:","Støttevidde/nedbøjning:","Støttebredde/nedbøyning:","Razmak potpornja / progib:"]
["Summe","Total","Somme","somma","Suma","suma","Összesen","Suma","Totaal","Vsota","Summa","Sum","Sum","Zbroj"]
["System 25:","System 25:","Système 25 :","sistema 25:","Systém 25:","System 25:","25-s rendszer","Systém 25:","Systeem 25:","Sistem 25:","System 25:","System 25:","System 25:","Sustav 25:"]
["System 50 + 80:","System 50 + 80:","Système 50 + 80 :","sistema 50 + 80:","Systém 50 + 80:","System 50 + 80:","50 + 80-s rendszer","Systém 50 + 80:","Systeem 50 + 80:","Sistem 50 + 80:","System 50 + 80:","System 50 + 80:","System 50 + 80:","Sustav 50 + 80:"]
["System 50:","System 50:","Système 50 :","sistema 50:","Systém 50:","System 50:","50-s rendszer","Systém 50:","Systeem 50:","Sistem 50:","System 50:","System 50:","System 50:","Sustav 50:"]
["System 80:","System 80:","Système 80 :","sistema 80:","Systém 80:","System 80:","80-s rendszer","Systém 80:","Systeem 80:","Sistem 80:","System 80:","System 80:","System 80:","Sustav 80:"]
["t","t","t","t","t","t","t","d","t","t","t","t","t","t"]
["Tage)","days to go)","jours), ","giorni)","dny)","Tage)","napig)","dní)","dagen)","dni)","dagar)","dage)","dager)","dana)"]
["Teilsicherheit Last:","Partial safety load:","Sécurité partielle (charge) :","Carico sicurezza parziale:","součinitel bezpečnosti zatížení:","Teilsicherheit Last:","Teher részbiztonsági tényező::","Koeficient bezpečnosti zaťaženia:","Partiële factor belasting:","Varnost delov obremenitev:","Delsäkerhet last:","Delsikkerhed last:","Delsikkerhet last:","Djelomična sigurnost opterećenje:"]
["Teilsicherheit Material:","Partial safety material:","Sécurité partielle (matériau) :","Materiale sicurezza parziale:","součinitel bezpečnosti materiálu:","Teilsicherheit Material:","Alapanyag részbiztonsági tényező:","Koeficient bezpečnosti materiálu:","Partiële factor materiaal:","Varnost delov material:","Delsäkerhet material:","Delsikkerhed materiale:","Delsikkerhet material:","Djelomična sigurnost materijal:"]
["Telefon:","Phone:","Téléphone :","nr. telefono:","Telefon:","Telefon:","Telefon:","Telefón:","Telefoonnummer:","Telefon:","Telefon:","Telefon:","Telefon:","Telefon:"]
["Tragsicherheit","Load safety","Coefficient de sécurité","stato limite ultimo","Únosnost","bezpieczeństwo nośności","Teherbírási biztonság","Bezpečnosť záťaže","Constructieve veiligheid","Nosilna zanesljivost","Strukturell säkerhet","Strukturel sikkerhed","Bæresikkerhet","Strukturalna sigurnost"]
["Tragsicherheitsauslastung","Load safety","Coefficient de sécurité","stato limite ultimo","Únosnost","bezpieczeństwo nośności","Teherbírási biztonság","Bezpečnosť záťaže","Constructieve veiligheid","Nosilna zanesljivost","Strukturell säkerhet","Strukturel sikkerhed","Bæresikkerhet","Strukturalna sigurnost"]
["Treibgut","Flotsam","Débris flottants","Detriti","Plovoucí předmět","Treibgut","Uszadék","Plávajúci predmet","Drijfmateriaal","Naplavine","Flytande skräp","Drivende genstande","Drivgods","Naplavine"]
["U-Profil 25 exkl. Dichtung Vor Laibung, gebohrt und entgratet","U profile 25 excl. seal in front of soffit, drilled and deburred","Profil en U 25, fourni sans joint, monté en applique, percé et ébavuré","profilo a U 25 esclusa guarnizione, davanti a intradosso, forato e sbavato","U-Profil 25, bez těsnění, před ostění, vrtaný, bez otřepů","U-Profil 25 bez uszczelki, przed otworem, nawiercona i okrawana","U-Profil 25 tömítés nélkül,  falsík előtt, furatolt és sorjázott","U-profil 25 bez tesnenia, pred ostením, navŕtaný a odhrotovaný","U-profiel 25 excl. afdichting, op de dag, geboord en afgebraamd","U-profil 25, brez tesnila pred špaleto, z izvrtinami in posnetimi robovi","U-profil 25 exkl. tätning framför öppning, borrad och avgradad","U-profil 25 ekskl. tætning foran pladeunderside, forboret og afgratet","U-profil 25 ekskl. tetning før åpning, boret og avgradet","U profil 25 bez brtve ispred otvora, bušen i s obrađenim rubovima"]
["U-Profil 25 exkl. Dichtung, gebohrt und entgratet","U profile 25 excl. seal, drilled and deburred","Profil en U 25, fourni sans joint, percé et ébavuré","profilo a U 25 esclusa guarnizione, forato e sbavato","U-Profil 25, bez těsnění, vrtaný, bez otřepů","U-Profil 25 bez uszczelki, nawiercona i okrawana","U-Profil 25 tömítés nélkül, furatolt és sorjázott","U-profil 25 bez tesnenia, navŕtaný a odhrotovaný","U-profiel 25 excl. afdichting, geboord en afgebraamd","U-profil 25, brez tesnila, z izvrtinami in posnetimi robovi","U-profil 25 exkl. tätning, borrad och avgradad","U-profil 25 ekskl. tætning, forboret og afgratet","U-profil 25 ekskl. tetning, boret og avgradet","U profil 25 bez brtve, bušen i s obrađenim rubovima"]
["U-Profil 25 Sonderlänge exkl. Dichtung Vor Laibung, (Stangenware)","U profile 25 special length excl. seal in front of soffit, drilled and deburred","Profil en U 25, longueur personnalisée, fourni sans joint, monté en applique, percé et ébavuré","profilo a U 25 lunghezza fuori standard, esclusa guarnizione, davanti a intradosso, forato e sbavato","U-Profil 25, bez těsnění, před ostění, zvláštní délka, vrtaný, bez otřepů","U-Profil 25 długość specjalna bez uszczelki, przed otworem, nawiercona i okrawana","U-Profil 25 tömítés nélkül, egyedi hosszméretben, falsík előtt, furatolt és sorjázott","U-profil 25, neštandardná dĺžka, bez tesnenia, pred ostením, navŕtaný a odhrotovaný","U-profiel 25 aangepaste lengte excl. afdichting, op de dag, geboord en afgebraamd","U-profil 25, posebna dolžina, brez tesnila pred špaleto, z izvrtinami in posnetimi robovi","U-profil 25 speciallängd exkl. tätning framför öppning, borrad och avgradad","U-profil 25 speciallængde ekskl. tætning foran pladeunderside, forboret og afgratet","U-profil 25 spesiallengde ekskl. tetning før åpning, boret og avgradet","U profil 25 posebna duljina bez brtve ispred otvora, bušen i s obrađenim rubovima"]
["U-Profil 25 Sonderlänge exkl. Dichtung, (Stangenware)","U profile 25 special length excl. seal, drilled and deburred","Profil en U 25, longueur personnalisée, fourni sans joint, percé et ébavuré","profilo a U 25 lunghezza fuori standard, esclusa guarnizione, forato e sbavato","U-Profil 25, bez těsnění, zvláštní délka, vrtaný, bez otřepů","U-Profil 25 długość specjalna bez uszczelki, nawiercona i okrawana","U-Profil 25 tömítés nélkül, egyedi hosszméretben, furatolt és sorjázott","U-profil 25, neštandardná dĺžka, bez tesnenia, navŕtaný a odhrotovaný","U-profiel 25 aangepaste lengte excl. afdichting, geboord en afgebraamd","U-profil 25, posebna dolžina, brez tesnila, z izvrtinami in posnetimi robovi","U-profil 25 speciallängd exkl. tätning, borrad och avgradad","U-profil 25 speciallængde ekskl. tætning, forboret og afgratet","U-profil 25 spesiallengde ekskl. tetning, boret og avgradet","U profil 25 posebna duljina bez brtve, bušen i s obrađenim rubovima"]
["U-Profil 50 exkl. Dichtung, gebohrt und entgratet","U profile 50 excl. seal, drilled and deburred","Profil en U 50, fourni sans joint, percé et ébavuré","profilo a U 50 esclusa guarnizione, forato e sbavato","U-Profil 50, bez těsnění, vrtaný, bez otřepů","U-Profil 50 bez uszczelki, nawiercona i okrawana","U-Profil 50 tömítés nélkül, furatolt és sorjázott","U-profil 50 bez tesnenia, navŕtaný a odhrotovaný","U-profiel 50 excl. afdichting, geboord en afgebraamd","U-profil 50 brez tesnila, z izvrtinami in posnetimi robovi","U-profil 50 exkl. tätning, borrad och avgradad","U-profil 50 ekskl. tætning, forboret og afgratet","U-profil 50 ekskl. tetning, boret og avgradet","U profil 50 bez brtve, bušen i s obrađenim rubovima"]
["U-Profil 50 Sonderlänge exkl. Dichtung, (Stangenware)","U profile 50 special length excl. seal, drilled and deburred","Profil en U 50, longueur personnalisée, fourni sans joint, percé et ébavuré","profilo a U 50 lunghezza fuori standard, esclusa guarnizione, forato e sbavato","U-Profil 50, bez těsnění, zvláštní délka, vrtaný, bez otřepů","U-Profil 50 długość specjalna bez uszczelki, nawiercona i okrawana","U-Profil 50 tömítés nélkül, egyedi hosszméretben, furatolt és sorjázott","U-profil 50, neštandardná dĺžka, bez tesnenia, navŕtaný a odhrotovaný","U-profiel 50 aangepaste lengte excl. afdichting, geboord en afgebraamd","U-profil 50, posebna dolžina, brez tesnila, z izvrtinami in posnetimi robovi","U-profil 50 speciallängd exkl. tätning, borrad och avgradad","U-profil 50 speciallængde ekskl. tætning, forboret og afgratet","U-profil 50 spesiallengde ekskl. tetning, boret og avgradet","U profil 50 posebna duljina bez brtve, bušen i s obrađenim rubovima"]
["U-Profil 80 exkl. Dichtung, gebohrt und entgratet","U profile 80 excl. seal, drilled and deburred","Profil en U 80, fourni sans joint, percé et ébavuré","profilo a U 80 esclusa guarnizione, forato e sbavato","U-Profil 80, bez těsnění, vrtaný, bez otřepů","U-Profil 80 bez uszczelki, nawiercona i okrawana","U-Profil 80 tömítés nélkül, furatolt és sorjázott","U-profil 80 bez tesnenia, navŕtaný a odhrotovaný","U-profiel 80 excl. afdichting, geboord en afgebraamd","U-profil 80, brez tesnila, z izvrtinami in posnetimi robovi","U-profil 80 exkl. tätning, borrad och avgradad","U-profil 80 ekskl. tætning, forboret og afgratet","U-profil 80 ekskl. tetning, boret og avgradet","U profil 80 bez brtve, bušen i s obrađenim rubovima"]
["U-Profil 80 Sonderlänge exkl. Dichtung, (Stangenware)","U profile 80 special length excl. seal, drilled and deburred","Profil en U 80, longueur personnalisée, fourni sans joint, percé et ébavuré","profilo a U 80 lunghezza fuori standard, esclusa guarnizione, forato e sbavato","U-Profil 80 bez těsnění, zvláštní délka, vrtaný, bez otřepů","U-Profil 80 długość specjalna bez uszczelki, nawiercona i okrawana","U-Profil 80 tömítés nélkül, egyedi hosszméretben, furatolt és sorjázott","U-profil 80, neštandardná dĺžka, bez tesnenia, navŕtaný a odhrotovaný","U-profiel 80 aangepaste lengte excl. afdichting, geboord en afgebraamd","U-profil 80, posebna dolžina brez tesnila, z izvrtinami in posnetimi robovi","U-profil 80 speciallängd exkl. tätning, borrad och avgradad","U-profil 80 speciallængde ekskl. tætning, forboret og afgratet","U-profil 80 spesiallengde ekskl. tetning, boret og avgradet","U profil 80 posebna duljina bez brtve, bušen i s obrađenim rubovima"]
["Verankerung aufgeschweißt 300mm","Welded fixing 300 mm","Système d’ancrage, soudé, 300 mm","saldatura ancoraggio 300mm","Přivařené kotevní trny 300mm","Verankerung aufgeschweißt 300mm","Lehorgonyzó elem, felhegesztett 300mm","Privarené ukotvenie 300 mm","Verankering vastgelast 300 mm","Navarjeno sidro 300 mm","Påsvetsade montageöron","Påsvejset forankring 300 mm","Forankring påsveiset 300 mm","Navareno usidrenje 300mm"]
["verliert die Excel seine Funktionsfähigkeit","the excel file will lose its functionality","Le fichier Excel ne sera plus valable.","Excel perde la sua funzionalità","ztratí excelová tabulka platnost","verliert die Excel seine Funktionsfähigkeit","az Excel táblázat elveszíti hatását","stratí excelová tabuľka funkčnosť","kan de Excel niet meer worden gebruikt","Excel izgubi svojo funkcijo","förlorar Excel sin funktion","mister Excel sin funktion","fungerer ikke Excel som det skal","Excel gubi svoju funkcionalnost"]
["Version:","Version:","Version :","Versione:","Verze:","Version:","Verziószám:","Verzia:","Versie:","Različica:","Version:","Version:","Versjon:","Verzija:"]
["Volleinstau","Complete flood","Hauteur totale du système de protection anti-crues","linea di massima piena","plné zaplavení","Volleinstau_DE","Teljes elárasztás","Plné zaplavenie","Volledige stuwing","Popolna zajezitev","Invändigt öppning","Fuldt reservoir","Full oppdemming","Potpuno zadržavanje"]
["Vor der Leibung","In front of the soffit","Monté en applique","davanti alla spalletta","Před ostěním","před ostěním","Falsík előtt","Pred ostením","Op de dag","Pred špaleto","Framför öppning","Foran pladeunderside","Før åpningen","Ispred otvora"]
["Vorannahmen für den statischen Nachweis (bei Bedarf änderbar):","Presumptions for static proof (changeable if necessary):","Hypothèses pour la vérification statique (peuvent être modifiées si nécessaire) :","Presupposti per la verifica statica (modificabile se necessario):","Předpoklady statického výpočtu (dle potřeby lze změnit):","Założenia do weryfikacji statycznej (wrazie potrzeby można je zmienić): ","A statikai számításhoz szükséges előre beállított értékek (igény esetén módosíthatóak):","Predpoklady evidencie o statike (podľa potreby možno zmeniť):","Aannames voor de statische berekening (indien nodig aanpasbaar):","predpostavke za statično dokazilo (po potrebi se lahko spremenijo):","Antaganden för det statiska underlaget (kan ändras vid behov):","Forudsætninger for de statiske data (kan ændres hvis nødvendigt):","Forutsetning for statisk dokumentasjon (kan endres ved behov):","Pretpostavke za statički atest (može se promijeniti po potrebi):"]
["VS = Volleinstau","VS = Full reservoir","VS = hauteur totale du système de protection anti-crues","VS = Massima piena","VS = plné zaplavení","VS = Volleinstau","TÁ = teljes elárasztás","VS = plné zaplavenie","VS = Volledige stuwing","VS = popolna zajezitev","VS = Full infiltration","VS = fuldt reservoir","VS = Fullinnstabling","VS = maks. visina zadržavanja"]
["Wandprofil","Side sections","Parties latérales (batardeaux)","profilo laterale","Boční díly","Części boczne","Oldalsó elemek","Bočné diely","Zijdelen","Stranski deli","Sidodelar","Sidevanger","Sidedeler","Bočni dijelovi"]
["Wichte Wasser: gw","Heavy water: gw","Poids spécifique de l’eau : gw","peso specifico acqua: gw","specifická hmotnost vody: gw","ciężar właściwy wody: gw","Víz fajsúlya: gw","Špecifická hmotnosť vody: gw","Soortelijk gewicht water: gw","Gostota vode: gw","Vattnets densitet: gw","Vægt af vand: gw","Volumvekt vann: gw","Specifična težina vode: gw"]
["Winkelabdeckung VO","Angular cover plate VO","Profil de protection VO","Coperchio ad angolo VO","úhlový VO","Osłona kątowa VO","Élhajlított takaróelem VO","Uhlový kryt VO","Hoekafdekking VO","Kotni pokrov VO","Täckplåt i vinkel VO","Kantafdækning VO","Vinkeltildekking VO","Kutni pokrov VO"]
["Zubehör","Accessories","Accessoires","accessori","Příslušenství","Osprzęt","Kiegészítők","Príslušenstvo","Toebehoren","Dodatna oprema","Tillbehör","Tilbehør","Tilbehør","Pribor"]
["zusätzlicher Randabstand:","zusätzlicher Randabstand:","Marge supplémentaire :","zusätzlicher Randabstand:","zusätzlicher Randabstand:","zusätzlicher Randabstand:","zusätzlicher Randabstand:","zusätzlicher Randabstand:","zusätzlicher Randabstand:","zusätzlicher Randabstand:","zusätzlicher Randabstand:","zusätzlicher Randabstand:","zusätzlicher Randabstand:","zusätzlicher Randabstand:"]
["Zwischensumme","Subtotal","Somme intermédiaire","subtotale","Mezisoučet","Suma częściowa","Áthozott érték","Predbežná suma","Subtotaal","Vmesna vsota","Mellansumma","Subtotal","Subtotal","Međuzbroj"]
["Edelstahl (verriegelbar)","Stainless steel","Acier inoxydable","acciaio inox","Nerez","Stal nierdzewna","Rozsdamentes acél","Ušľachtilá oceľ","Rvs","Nerjavno jeklo","Rostfritt stål","Rustfrit stål","Rustfritt stål","Nehrđajući čelik"]